{"text_format":"1","workbook":"xlsx","n_sheets":14,"sheets":["Main","Polar","Detail 1","Detail 2","ORC","Feuil5","Feuil3","Help","New polar","Empty","View Polar","Polar 0-360","STW","COS"],"not_rendered":{"charts":8,"images":1,"macros":1,"external_links":0,"defined_names":44,"comments":1,"pivot_tables":0},"unopened":[{"sheet":"Polar","index":1,"reason":"not_a_worksheet"}],"bounds":{"document_bytes":16777216,"sheet_cells":100000,"rows_first":2000,"rows_last":500,"rows_between":2000,"halvings":0,"cell_chars":16384,"cell_head_chars":4096},"cells_cut":0,"cells_raw":0,"read":"whole","date_system":"1900"}

{"sheet":"Main","index":0,"n_rows":138,"n_cols":39,"rows_kept":138,"cut":false,"hidden":false,"merged":[[9,13,10,18]]}
[]
[null,null,"Rang","N° de voile","Nom","Type","YEAR","LOA","IMSL","BMAX","DRAFT","DSPL","CREW","GPH","TMF","WL","NSP","UpAngl","DwnA","DA(%)",null,0,"V@UA",52,60,75,90,110,120,135,150,180]
[null,null,3127,{"$f":"D52","v":"GRE-1773"},{"$f":"E52","v":"TOLMI"},"FIRST 32",1980,9.7850000000000001,7.9820000000000002,3.32,1.772,3800,{"$f":"+M52","v":400},{"$f":"N52","v":702.2},0.88870000000000005,1167.2,1028.3,44.2,147.6,0.35,null,{"$f":"V52","v":2.9397354238118569},{"$f":"W52","v":4.1005606451356531},4.5500505561172897,4.8589553246052102,5.1450621695012142,5.1165434906196703,4.9362402303578774,4.7923322683706067,4.3662825955124314,3.7453183520599249,3.2435354536444723]
[null,null,3128,{"$f":"D53","v":"ITA-10972"},"PIERROT","FIRST 32",1981,9.7850000000000001,8.2520000000000007,3.32,1.798,4221,{"$f":"+M53","v":400},{"$f":"N53","v":721.6},0.86639999999999995,1212.9000000000001,1051.3,{"$f":"IF($B4=1,#REF!,R53)","v":44.3},{"$f":"S53","v":147.5},0.43,null,{"$f":"V53","v":2.8719585161547667},4.0128373265609065,4.4471896232242125,4.7455839704719214,5.0139275766016711,4.9785645138984922,4.6929996089166988,4.5471769609700639,4.1218227616212504,3.5457500246232643,3.0706243602865912]
[null,null,null,{"$f":"D54","v":{"$error":"#REF!"}},{"$error":"#REF!"},{"$error":"#REF!"},{"$error":"#REF!"},{"$error":"#REF!"},{"$error":"#REF!"},{"$error":"#REF!"},{"$error":"#REF!"},{"$error":"#REF!"},{"$error":"#REF!"},{"$f":"N54","v":{"$error":"#REF!"}},{"$error":"#REF!"},{"$error":"#REF!"},{"$error":"#REF!"},{"$f":"IF($B5=1,#REF!,R54)","v":{"$error":"#REF!"}},{"$f":"S54","v":0},{"$error":"#REF!"},null,{"$f":"V54","v":{"$error":"#REF!"}},{"$error":"#REF!"},{"$error":"#REF!"},{"$error":"#REF!"},{"$error":"#REF!"},{"$error":"#REF!"},{"$error":"#REF!"},{"$error":"#REF!"},{"$error":"#REF!"},{"$error":"#REF!"},{"$error":"#REF!"}]
[null,null,null,{"$f":"D55","v":{"$error":"#REF!"}},{"$error":"#REF!"},{"$error":"#REF!"},{"$error":"#REF!"},{"$error":"#REF!"},{"$error":"#REF!"},{"$error":"#REF!"},{"$error":"#REF!"},{"$error":"#REF!"},{"$error":"#REF!"},{"$f":"N55","v":{"$error":"#REF!"}},{"$error":"#REF!"},{"$error":"#REF!"},{"$error":"#REF!"},{"$f":"IF($B6=1,#REF!,R55)","v":{"$error":"#REF!"}},{"$f":"S55","v":0},{"$error":"#REF!"},null,{"$f":"V55","v":{"$error":"#REF!"}},{"$error":"#REF!"},{"$error":"#REF!"},{"$error":"#REF!"},{"$error":"#REF!"},{"$error":"#REF!"},{"$error":"#REF!"},{"$error":"#REF!"},{"$error":"#REF!"},{"$error":"#REF!"},{"$error":"#REF!"}]
[null,null,null,{"$f":"D56","v":{"$error":"#REF!"}},{"$error":"#REF!"},{"$error":"#REF!"},{"$error":"#REF!"},{"$error":"#REF!"},{"$error":"#REF!"},{"$error":"#REF!"},{"$error":"#REF!"},{"$error":"#REF!"},{"$error":"#REF!"},{"$f":"N56","v":{"$error":"#REF!"}},{"$error":"#REF!"},{"$error":"#REF!"},{"$error":"#REF!"},{"$f":"IF($B7=1,#REF!,R56)","v":{"$error":"#REF!"}},{"$f":"S56","v":0},{"$error":"#REF!"},null,{"$f":"V56","v":{"$error":"#REF!"}},{"$error":"#REF!"},{"$error":"#REF!"},{"$error":"#REF!"},{"$error":"#REF!"},{"$error":"#REF!"},{"$error":"#REF!"},{"$error":"#REF!"},{"$error":"#REF!"},{"$error":"#REF!"},{"$error":"#REF!"}]
[null,null,null,{"$f":"D57","v":{"$error":"#REF!"}},{"$error":"#REF!"},{"$error":"#REF!"},{"$error":"#REF!"},{"$error":"#REF!"},{"$error":"#REF!"},{"$error":"#REF!"},{"$error":"#REF!"},{"$error":"#REF!"},{"$error":"#REF!"},{"$f":"N57","v":{"$error":"#REF!"}},{"$error":"#REF!"},{"$error":"#REF!"},{"$error":"#REF!"},{"$f":"IF($B8=1,#REF!,R57)","v":{"$error":"#REF!"}},{"$f":"S57","v":0},{"$error":"#REF!"},null,{"$f":"V57","v":{"$error":"#REF!"}},{"$error":"#REF!"},{"$error":"#REF!"},{"$error":"#REF!"},{"$error":"#REF!"},{"$error":"#REF!"},{"$error":"#REF!"},{"$error":"#REF!"},{"$error":"#REF!"},{"$error":"#REF!"},{"$error":"#REF!"}]
["Wind:1..7, (C8=kn)",1,{"$f":"IF(B9=7,20,B9*2+4)","v":6},"Knots","Vent Réel"]
["Favoris","Klasse","Rijnr.",null,null,null,null,null,null,null,null,null,null,{"$f":"CONCATENATE(C9,\" Nœuds\")","v":"6 Nœuds"}]
[{"$f":"OFFSET(ORC!$D$6,(C11-6),1)","v":"Salona 34"},null,6763]
[{"$f":"OFFSET(ORC!$D$6,(C12-6),1)","v":"GIB'SEA 90 Ir M/Hd"},null,3937]
[{"$f":"OFFSET(ORC!$D$6,(C13-6),1)","v":"GIB'SEA 90 Plus"},null,3938]
[{"$f":"OFFSET(ORC!$D$6,(C14-6),1)","v":"Gibsea plus"},null,3942]
[{"$f":"OFFSET(ORC!$D$6,(C15-6),1)","v":"GIBSEA-31"},null,3943]
[{"$f":"OFFSET(ORC!$D$6,(C16-6),1)","v":"SAGITTA-35 Short M"},null,6757]
[null,null,4]
[null,null,5]
[null,null,6]
[{"$f":"OFFSET(ORC!$D$6,(C20-6),1)","v":747},null,7]
[{"$f":"OFFSET(ORC!$D$6,(C21-6),1)","v":747},null,8]
[{"$f":"OFFSET(ORC!$D$6,(C22-6),1)","v":747},null,9]
[{"$f":"OFFSET(ORC!$D$6,(C23-6),1)","v":"1/2 TON"},null,10]
[{"$f":"OFFSET(ORC!$D$6,(C24-6),1)","v":"1/2 TON ONE OFF"},null,11]
[{"$f":"OFFSET(ORC!$D$6,(C25-6),1)","v":"1/2 TON ONE OFF"},null,12]
[{"$f":"OFFSET(ORC!$D$6,(C26-6),1)","v":"1/2 Tonner"},null,13]
[{"$f":"OFFSET(ORC!$D$6,(C27-6),1)","v":"1/4 Ton"},null,14]
[{"$f":"OFFSET(ORC!$D$6,(C28-6),1)","v":"1/4 Ton"},null,15]
[{"$f":"OFFSET(ORC!$D$6,(C29-6),1)","v":"1/4 TON ONE OFF"},null,16]
[{"$f":"OFFSET(ORC!$D$6,(C30-6),1)","v":"11m OD"},null,17]
[{"$f":"OFFSET(ORC!$D$6,(C31-6),1)","v":"11m OD"},null,18]
[{"$f":"OFFSET(ORC!$D$6,(C32-6),1)","v":"11m OD"},null,19]
[{"$f":"OFFSET(ORC!$D$6,(C33-6),1)","v":"11m OD"},null,20]
[{"$f":"OFFSET(ORC!$D$6,(C34-6),1)","v":"11m OD"},null,21]
[{"$f":"OFFSET(ORC!$D$6,(C35-6),1)","v":"11m OD"},null,22,null,"Opmerkingen:"]
[{"$f":"OFFSET(ORC!$D$6,(C36-6),1)","v":"11m OD"},null,23]
[]
[]
[]
[1]
[2]
[3]
[4]
[5]
[6]
[7]
[]
[]
[null,null,"ORC"]
[null,null,null,"Données ORC"]
[null,null,null,"N° de voile","NOM","TYPE","YEAR","LOA","IMSL","BMAX","DRAFT","DSPL","CREW","GPH","TMF","WL","NSP","UpAngl","DwnA","DA(%)",null,0,"V@UA",52,60,75,90,110,120,135,150,180]
[null,null,null,{"$f":"OFFSET(ORC!$C$6,($C3-6),0)","v":"GRE-1773"},{"$f":"OFFSET(ORC!$D$6,($C3-6),0)","v":"TOLMI"},{"$f":"OFFSET(ORC!$E$6,($C3-6),0)","v":"FIRST 32"},{"$f":"OFFSET(ORC!$H$6,($C3-6),0)","v":1980},{"$f":"OFFSET(ORC!$P$6,($C3-6),0)","v":9.7850000000000001},{"$f":"OFFSET(ORC!$Q$6,($C3-6),0)","v":7.9820000000000002},{"$f":"OFFSET(ORC!$S$6,($C3-6),0)","v":3.32},{"$f":"OFFSET(ORC!$R$6,($C3-6),0)","v":1.772},{"$f":"OFFSET(ORC!$T$6,($C3-6),0)","v":3800},{"$f":"OFFSET(ORC!$M$6,($C3-6),0)","v":400},{"$f":"OFFSET(ORC!$W$6,($C3-6),0)","v":702.2},{"$f":"OFFSET(ORC!$X$6,($C3-6),0)","v":0.88870000000000005},{"$f":"OFFSET(ORC!$AB$6,($C3-6),($B$9-1))","v":1167.2},{"$f":"OFFSET(ORC!$AW$6,($C3-6),($B$9-1))","v":1028.3},{"$f":"OFFSET(ORC!$BK$6,($C3-6),($B$9-1))","v":44.2},{"$f":"OFFSET(ORC!$BR$6,($C3-6),($B$9-1))","v":147.6},{"$f":"OFFSET(ORC!$V$6,($C3-6),0)","v":0.35},null,{"$f":"3600/OFFSET(ORC!$BY$6,($C3-6),($B$9-1))","v":2.9397354238118569},{"$f":"(3600/OFFSET(ORC!$BY$6,($C3-6),($B$9-1)))/COS(R52/180*PI())","v":4.1005606451356531},{"$f":"3600/OFFSET(ORC!$CF$6,($C3-6),($B$9-1))","v":4.5500505561172897},{"$f":"3600/OFFSET(ORC!$CM$6,($C3-6),($B$9-1))","v":4.8589553246052102},{"$f":"3600/OFFSET(ORC!$CT$6,($C3-6),($B$9-1))","v":5.1450621695012142},{"$f":"3600/OFFSET(ORC!$DA$6,($C3-6),($B$9-1))","v":5.1165434906196703},{"$f":"3600/OFFSET(ORC!$DH$6,($C3-6),($B$9-1))","v":4.9362402303578774},{"$f":"3600/OFFSET(ORC!$DO$6,($C3-6),($B$9-1))","v":4.7923322683706067},{"$f":"3600/OFFSET(ORC!$DV$6,($C3-6),($B$9-1))","v":4.3662825955124314},{"$f":"3600/OFFSET(ORC!$EC$6,($C3-6),($B$9-1))","v":3.7453183520599249},{"$f":"3600/OFFSET(ORC!$EJ$6,($C3-6),($B$9-1))","v":3.2435354536444723}]
[null,null,null,{"$f":"OFFSET(ORC!$C$6,($C4-6),0)","v":"ITA-10972"},{"$f":"OFFSET(ORC!$D$6,($C4-6),0)","v":"PIERROT"},{"$f":"OFFSET(ORC!$E$6,($C4-6),0)","v":"FIRST 32"},{"$f":"OFFSET(ORC!$H$6,($C4-6),0)","v":1981},{"$f":"OFFSET(ORC!$P$6,($C4-6),0)","v":9.7850000000000001},{"$f":"OFFSET(ORC!$Q$6,($C4-6),0)","v":8.2520000000000007},{"$f":"OFFSET(ORC!$S$6,($C4-6),0)","v":3.32},{"$f":"OFFSET(ORC!$R$6,($C4-6),0)","v":1.798},{"$f":"OFFSET(ORC!$T$6,($C4-6),0)","v":4221},{"$f":"OFFSET(ORC!$M$6,($C4-6),0)","v":400},{"$f":"OFFSET(ORC!$W$6,($C4-6),0)","v":721.6},{"$f":"OFFSET(ORC!$X$6,($C4-6),0)","v":0.86639999999999995},{"$f":"OFFSET(ORC!$AB$6,($C4-6),($B$9-1))","v":1212.9000000000001},{"$f":"OFFSET(ORC!$AW$6,($C4-6),($B$9-1))","v":1051.3},{"$f":"OFFSET(ORC!$BK$6,($C4-6),($B$9-1))","v":44.3},{"$f":"OFFSET(ORC!$BR$6,($C4-1),($B$9-1))","v":147.5},{"$f":"OFFSET(ORC!$V$6,($C4-6),0)","v":0.43},null,{"$f":"3600/OFFSET(ORC!$BY$6,($C4-6),($B$9-1))","v":2.8719585161547667},{"$f":"(3600/OFFSET(ORC!$BY$6,($C4-6),($B$9-1)))/COS(R53/180*PI())","v":4.0128373265609065},{"$f":"3600/OFFSET(ORC!$CF$6,($C4-6),($B$9-1))","v":4.4471896232242125},{"$f":"3600/OFFSET(ORC!$CM$6,($C4-6),($B$9-1))","v":4.7455839704719214},{"$f":"3600/OFFSET(ORC!$CT$6,($C4-6),($B$9-1))","v":5.0139275766016711},{"$f":"3600/OFFSET(ORC!$DA$6,($C4-6),($B$9-1))","v":4.9785645138984922},{"$f":"3600/OFFSET(ORC!$DH$6,($C4-6),($B$9-1))","v":4.6929996089166988},{"$f":"3600/OFFSET(ORC!$DO$6,($C4-6),($B$9-1))","v":4.5471769609700639},{"$f":"3600/OFFSET(ORC!$DV$6,($C4-6),($B$9-1))","v":4.1218227616212504},{"$f":"3600/OFFSET(ORC!$EC$6,($C4-6),($B$9-1))","v":3.5457500246232643},{"$f":"3600/OFFSET(ORC!$EJ$6,($C4-6),($B$9-1))","v":3.0706243602865912}]
[null,null,null,{"$f":"OFFSET(ORC!$C$6,($C5-6),0)","v":{"$error":"#REF!"}},{"$f":"OFFSET(ORC!$D$6,($C5-6),0)","v":{"$error":"#REF!"}},{"$f":"OFFSET(ORC!$E$6,($C5-6),0)","v":{"$error":"#REF!"}},{"$f":"OFFSET(ORC!$H$6,($C5-6),0)","v":{"$error":"#REF!"}},{"$f":"OFFSET(ORC!$P$6,($C5-6),0)","v":{"$error":"#REF!"}},{"$f":"OFFSET(ORC!$Q$6,($C5-6),0)","v":{"$error":"#REF!"}},{"$f":"OFFSET(ORC!$S$6,($C5-6),0)","v":{"$error":"#REF!"}},{"$f":"OFFSET(ORC!$R$6,($C5-6),0)","v":{"$error":"#REF!"}},{"$f":"OFFSET(ORC!$T$6,($C5-6),0)","v":{"$error":"#REF!"}},{"$f":"OFFSET(ORC!$M$6,($C5-6),0)","v":{"$error":"#REF!"}},{"$f":"OFFSET(ORC!$W$6,($C5-6),0)","v":{"$error":"#REF!"}},{"$f":"OFFSET(ORC!$X$6,($C5-6),0)","v":{"$error":"#REF!"}},{"$f":"OFFSET(ORC!$AB$6,($C5-6),($B$9-1))","v":{"$error":"#REF!"}},{"$f":"OFFSET(ORC!$AW$6,($C5-6),($B$9-1))","v":{"$error":"#REF!"}},{"$f":"OFFSET(ORC!$BK$6,($C5-6),($B$9-1))","v":{"$error":"#REF!"}},{"$f":"OFFSET(ORC!$BR$6,($C5-1),($B$9-1))","v":0},{"$f":"OFFSET(ORC!$V$6,($C5-6),0)","v":{"$error":"#REF!"}},null,{"$f":"3600/OFFSET(ORC!$BY$6,($C5-6),($B$9-1))","v":{"$error":"#REF!"}},{"$f":"(3600/OFFSET(ORC!$BY$6,($C5-6),($B$9-1)))/COS(R54/180*PI())","v":{"$error":"#REF!"}},{"$f":"3600/OFFSET(ORC!$CF$6,($C5-6),($B$9-1))","v":{"$error":"#REF!"}},{"$f":"3600/OFFSET(ORC!$CM$6,($C5-6),($B$9-1))","v":{"$error":"#REF!"}},{"$f":"3600/OFFSET(ORC!$CT$6,($C5-6),($B$9-1))","v":{"$error":"#REF!"}},{"$f":"3600/OFFSET(ORC!$DA$6,($C5-6),($B$9-1))","v":{"$error":"#REF!"}},{"$f":"3600/OFFSET(ORC!$DH$6,($C5-6),($B$9-1))","v":{"$error":"#REF!"}},{"$f":"3600/OFFSET(ORC!$DO$6,($C5-6),($B$9-1))","v":{"$error":"#REF!"}},{"$f":"3600/OFFSET(ORC!$DV$6,($C5-6),($B$9-1))","v":{"$error":"#REF!"}},{"$f":"3600/OFFSET(ORC!$EC$6,($C5-6),($B$9-1))","v":{"$error":"#REF!"}},{"$f":"3600/OFFSET(ORC!$EJ$6,($C5-6),($B$9-1))","v":{"$error":"#REF!"}}]
[null,null,null,{"$f":"OFFSET(ORC!$C$6,($C6-6),0)","v":{"$error":"#REF!"}},{"$f":"OFFSET(ORC!$D$6,($C6-6),0)","v":{"$error":"#REF!"}},{"$f":"OFFSET(ORC!$E$6,($C6-6),0)","v":{"$error":"#REF!"}},{"$f":"OFFSET(ORC!$H$6,($C6-6),0)","v":{"$error":"#REF!"}},{"$f":"OFFSET(ORC!$P$6,($C6-6),0)","v":{"$error":"#REF!"}},{"$f":"OFFSET(ORC!$Q$6,($C6-6),0)","v":{"$error":"#REF!"}},{"$f":"OFFSET(ORC!$S$6,($C6-6),0)","v":{"$error":"#REF!"}},{"$f":"OFFSET(ORC!$R$6,($C6-6),0)","v":{"$error":"#REF!"}},{"$f":"OFFSET(ORC!$T$6,($C6-6),0)","v":{"$error":"#REF!"}},{"$f":"OFFSET(ORC!$M$6,($C6-6),0)","v":{"$error":"#REF!"}},{"$f":"OFFSET(ORC!$W$6,($C6-6),0)","v":{"$error":"#REF!"}},{"$f":"OFFSET(ORC!$X$6,($C6-6),0)","v":{"$error":"#REF!"}},{"$f":"OFFSET(ORC!$AB$6,($C6-6),($B$9-1))","v":{"$error":"#REF!"}},{"$f":"OFFSET(ORC!$AW$6,($C6-6),($B$9-1))","v":{"$error":"#REF!"}},{"$f":"OFFSET(ORC!$BK$6,($C6-6),($B$9-1))","v":{"$error":"#REF!"}},{"$f":"OFFSET(ORC!$BR$6,($C6-1),($B$9-1))","v":0},{"$f":"OFFSET(ORC!$V$6,($C6-6),0)","v":{"$error":"#REF!"}},null,{"$f":"3600/OFFSET(ORC!$BY$6,($C6-6),($B$9-1))","v":{"$error":"#REF!"}},{"$f":"(3600/OFFSET(ORC!$BY$6,($C6-6),($B$9-1)))/COS(R55/180*PI())","v":{"$error":"#REF!"}},{"$f":"3600/OFFSET(ORC!$CF$6,($C6-6),($B$9-1))","v":{"$error":"#REF!"}},{"$f":"3600/OFFSET(ORC!$CM$6,($C6-6),($B$9-1))","v":{"$error":"#REF!"}},{"$f":"3600/OFFSET(ORC!$CT$6,($C6-6),($B$9-1))","v":{"$error":"#REF!"}},{"$f":"3600/OFFSET(ORC!$DA$6,($C6-6),($B$9-1))","v":{"$error":"#REF!"}},{"$f":"3600/OFFSET(ORC!$DH$6,($C6-6),($B$9-1))","v":{"$error":"#REF!"}},{"$f":"3600/OFFSET(ORC!$DO$6,($C6-6),($B$9-1))","v":{"$error":"#REF!"}},{"$f":"3600/OFFSET(ORC!$DV$6,($C6-6),($B$9-1))","v":{"$error":"#REF!"}},{"$f":"3600/OFFSET(ORC!$EC$6,($C6-6),($B$9-1))","v":{"$error":"#REF!"}},{"$f":"3600/OFFSET(ORC!$EJ$6,($C6-6),($B$9-1))","v":{"$error":"#REF!"}}]
[null,null,null,{"$f":"OFFSET(ORC!$C$6,($C7-6),0)","v":{"$error":"#REF!"}},{"$f":"OFFSET(ORC!$D$6,($C7-6),0)","v":{"$error":"#REF!"}},{"$f":"OFFSET(ORC!$E$6,($C7-6),0)","v":{"$error":"#REF!"}},{"$f":"OFFSET(ORC!$H$6,($C7-6),0)","v":{"$error":"#REF!"}},{"$f":"OFFSET(ORC!$P$6,($C7-6),0)","v":{"$error":"#REF!"}},{"$f":"OFFSET(ORC!$Q$6,($C7-6),0)","v":{"$error":"#REF!"}},{"$f":"OFFSET(ORC!$S$6,($C7-6),0)","v":{"$error":"#REF!"}},{"$f":"OFFSET(ORC!$R$6,($C7-6),0)","v":{"$error":"#REF!"}},{"$f":"OFFSET(ORC!$T$6,($C7-6),0)","v":{"$error":"#REF!"}},{"$f":"OFFSET(ORC!$M$6,($C7-6),0)","v":{"$error":"#REF!"}},{"$f":"OFFSET(ORC!$W$6,($C7-6),0)","v":{"$error":"#REF!"}},{"$f":"OFFSET(ORC!$X$6,($C7-6),0)","v":{"$error":"#REF!"}},{"$f":"OFFSET(ORC!$AB$6,($C7-6),($B$9-1))","v":{"$error":"#REF!"}},{"$f":"OFFSET(ORC!$AW$6,($C7-6),($B$9-1))","v":{"$error":"#REF!"}},{"$f":"OFFSET(ORC!$BK$6,($C7-6),($B$9-1))","v":{"$error":"#REF!"}},{"$f":"OFFSET(ORC!$BR$6,($C7-1),($B$9-1))","v":0},{"$f":"OFFSET(ORC!$V$6,($C7-6),0)","v":{"$error":"#REF!"}},null,{"$f":"3600/OFFSET(ORC!$BY$6,($C7-6),($B$9-1))","v":{"$error":"#REF!"}},{"$f":"(3600/OFFSET(ORC!$BY$6,($C7-6),($B$9-1)))/COS(R56/180*PI())","v":{"$error":"#REF!"}},{"$f":"3600/OFFSET(ORC!$CF$6,($C7-6),($B$9-1))","v":{"$error":"#REF!"}},{"$f":"3600/OFFSET(ORC!$CM$6,($C7-6),($B$9-1))","v":{"$error":"#REF!"}},{"$f":"3600/OFFSET(ORC!$CT$6,($C7-6),($B$9-1))","v":{"$error":"#REF!"}},{"$f":"3600/OFFSET(ORC!$DA$6,($C7-6),($B$9-1))","v":{"$error":"#REF!"}},{"$f":"3600/OFFSET(ORC!$DH$6,($C7-6),($B$9-1))","v":{"$error":"#REF!"}},{"$f":"3600/OFFSET(ORC!$DO$6,($C7-6),($B$9-1))","v":{"$error":"#REF!"}},{"$f":"3600/OFFSET(ORC!$DV$6,($C7-6),($B$9-1))","v":{"$error":"#REF!"}},{"$f":"3600/OFFSET(ORC!$EC$6,($C7-6),($B$9-1))","v":{"$error":"#REF!"}},{"$f":"3600/OFFSET(ORC!$EJ$6,($C7-6),($B$9-1))","v":{"$error":"#REF!"}}]
[null,null,null,{"$f":"OFFSET(ORC!$C$6,($C8-6),0)","v":{"$error":"#REF!"}},{"$f":"OFFSET(ORC!$D$6,($C8-6),0)","v":{"$error":"#REF!"}},{"$f":"OFFSET(ORC!$E$6,($C8-6),0)","v":{"$error":"#REF!"}},{"$f":"OFFSET(ORC!$H$6,($C8-6),0)","v":{"$error":"#REF!"}},{"$f":"OFFSET(ORC!$P$6,($C8-6),0)","v":{"$error":"#REF!"}},{"$f":"OFFSET(ORC!$Q$6,($C8-6),0)","v":{"$error":"#REF!"}},{"$f":"OFFSET(ORC!$S$6,($C8-6),0)","v":{"$error":"#REF!"}},{"$f":"OFFSET(ORC!$R$6,($C8-6),0)","v":{"$error":"#REF!"}},{"$f":"OFFSET(ORC!$T$6,($C8-6),0)","v":{"$error":"#REF!"}},{"$f":"OFFSET(ORC!$M$6,($C8-6),0)","v":{"$error":"#REF!"}},{"$f":"OFFSET(ORC!$W$6,($C8-6),0)","v":{"$error":"#REF!"}},{"$f":"OFFSET(ORC!$X$6,($C8-6),0)","v":{"$error":"#REF!"}},{"$f":"OFFSET(ORC!$AB$6,($C8-6),($B$9-1))","v":{"$error":"#REF!"}},{"$f":"OFFSET(ORC!$AW$6,($C8-6),($B$9-1))","v":{"$error":"#REF!"}},{"$f":"OFFSET(ORC!$BK$6,($C8-6),($B$9-1))","v":{"$error":"#REF!"}},{"$f":"OFFSET(ORC!$BR$6,($C8-1),($B$9-1))","v":0},{"$f":"OFFSET(ORC!$V$6,($C8-6),0)","v":{"$error":"#REF!"}},null,{"$f":"3600/OFFSET(ORC!$BY$6,($C8-6),($B$9-1))","v":{"$error":"#REF!"}},{"$f":"(3600/OFFSET(ORC!$BY$6,($C8-6),($B$9-1)))/COS(R57/180*PI())","v":{"$error":"#REF!"}},{"$f":"3600/OFFSET(ORC!$CF$6,($C8-6),($B$9-1))","v":{"$error":"#REF!"}},{"$f":"3600/OFFSET(ORC!$CM$6,($C8-6),($B$9-1))","v":{"$error":"#REF!"}},{"$f":"3600/OFFSET(ORC!$CT$6,($C8-6),($B$9-1))","v":{"$error":"#REF!"}},{"$f":"3600/OFFSET(ORC!$DA$6,($C8-6),($B$9-1))","v":{"$error":"#REF!"}},{"$f":"3600/OFFSET(ORC!$DH$6,($C8-6),($B$9-1))","v":{"$error":"#REF!"}},{"$f":"3600/OFFSET(ORC!$DO$6,($C8-6),($B$9-1))","v":{"$error":"#REF!"}},{"$f":"3600/OFFSET(ORC!$DV$6,($C8-6),($B$9-1))","v":{"$error":"#REF!"}},{"$f":"3600/OFFSET(ORC!$EC$6,($C8-6),($B$9-1))","v":{"$error":"#REF!"}},{"$f":"3600/OFFSET(ORC!$EJ$6,($C8-6),($B$9-1))","v":{"$error":"#REF!"}}]
[]
[]
[null,null,null,null,"Table de données pour le graphe polaire"]
[null,null,null,null,"True Wind",null,null,null,null,null,null,null,null,null,"Apparent Wind"]
[null,null,null,"UpAngl","V@UA",52,60,75,90,110,120,135,150,"VMG180",150,135,120,110,90,75,60,52,"V@UA"]
[null,null,null,{"$f":"R3","v":44.2},{"$f":"W3*SIN(D63/180*PI())","v":2.8587677839273771},{"$f":"X3*SIN(F$62/180*PI())","v":3.5854887676746694},4.2079787469617749,4.9697484273840864,5.1165434906196703,4.6385485188938302,4.1502814877848495,3.0874280318636398,1.8726591760299622,0,{"$f":"-AE3*SIN((O$62/180*PI())-ATAN((AE3*SIN(O$62/180*PI())/($C$9+AE3*COS(O$62/180*PI())))))","v":-3.3717260864329472},{"$f":"-AD3*SIN((P$62/180*PI())-ATAN((AD3*SIN(P$62/180*PI())/($C$9+AD3*COS(P$62/180*PI())))))","v":-4.3644296433224854},{"$f":"-AC3*SIN((Q$62/180*PI())-ATAN((AC3*SIN(Q$62/180*PI())/($C$9+AC3*COS(Q$62/180*PI())))))","v":-4.5303921447618292},{"$f":"-AB3*SIN((R$62/180*PI())-ATAN((AB3*SIN(R$62/180*PI())/($C$9+AB3*COS(R$62/180*PI())))))","v":-4.3946426417703544},{"$f":"-AA3*SIN((S$62/180*PI())-ATAN((AA3*SIN(S$62/180*PI())/($C$9+AA3*COS(S$62/180*PI())))))","v":-3.8931935338419139},{"$f":"-Z3*SIN((T$62/180*PI())-ATAN((Z3*SIN(T$62/180*PI())/($C$9+Z3*COS(T$62/180*PI())))))","v":-3.366553005135378},{"$f":"-Y3*SIN((U$62/180*PI())-ATAN((Y3*SIN(U$62/180*PI())/($C$9+Y3*COS(U$62/180*PI())))))","v":-2.679836911171158},{"$f":"-X3*SIN((V$62/180*PI())-ATAN((X3*SIN(V$62/180*PI())/($C$9+X3*COS(V$62/180*PI())))))","v":-2.263660947462927},{"$f":"-W3*SIN((D63/180*PI())-ATAN((W3*SIN(D63/180*PI())/($C$9+W3*COS(D63/180*PI())))))","v":-1.827524962163442}]
[null,null,null,null,{"$f":"V3","v":2.9397354238118569},{"$f":"X3*COS(F$62/180*PI())","v":2.8012908381855026},2.4294776623026055,1.3316400777034079,3.1342626760027233E-16,-1.6882935910769332,-2.3961661341853024,-3.0874280318636393,-3.2435408381439652,{"$f":"-AF3","v":-3.2435354536444723},{"$f":"AE3*COS((O$62/180*PI())-ATAN((AE3*SIN(O$62/180*PI())/($C$9+AE3*COS(O$62/180*PI())))))","v":-1.6306050276950672},{"$f":"AD3*COS((P$62/180*PI())-ATAN((AD3*SIN(P$62/180*PI())/($C$9+AD3*COS(P$62/180*PI())))))","v":0.12719116464100444},{"$f":"AC3*COS((Q$62/180*PI())-ATAN((AC3*SIN(Q$62/180*PI())/($C$9+AC3*COS(Q$62/180*PI())))))","v":1.5626885758673972},{"$f":"AB3*COS((R$62/180*PI())-ATAN((AB3*SIN(R$62/180*PI())/($C$9+AB3*COS(R$62/180*PI())))))","v":2.2480177185550096},{"$f":"AA3*COS((S$62/180*PI())-ATAN((AA3*SIN(S$62/180*PI())/($C$9+AA3*COS(S$62/180*PI())))))","v":3.3199490055502405},{"$f":"Z3*COS((T$62/180*PI())-ATAN((Z3*SIN(T$62/180*PI())/($C$9+Z3*COS(T$62/180*PI())))))","v":3.8907564292366716},{"$f":"Y3*COS((U$62/180*PI())-ATAN((Y3*SIN(U$62/180*PI())/($C$9+Y3*COS(U$62/180*PI())))))","v":4.0531371770560574},{"$f":"X3*COS((V$62/180*PI())-ATAN((X3*SIN(V$62/180*PI())/($C$9+X3*COS(V$62/180*PI())))))","v":3.9469987557832473},{"$f":"W3*COS((D63/180*PI())-ATAN((W3*SIN(D63/180*PI())/($C$9+W3*COS(D63/180*PI())))))","v":3.6707969321531304}]
[null,null,null,{"$f":"R4","v":44.3},{"$f":"W4*SIN(D65/180*PI())","v":2.8026269268182293},{"$f":"X4*SIN(F$62/180*PI())","v":3.5044332464289054},4.1097962742209049,4.843082137382515,4.9785645138984922,4.4099771018501759,3.9379707637033965,2.9145688255914486,1.7728750123116319,0,{"$f":"-AE4*SIN((O$62/180*PI())-ATAN((AE4*SIN(O$62/180*PI())/($C$9+AE4*COS(O$62/180*PI())))))","v":-3.1066666031709715},{"$f":"-AD4*SIN((P$62/180*PI())-ATAN((AD4*SIN(P$62/180*PI())/($C$9+AD4*COS(P$62/180*PI())))))","v":-4.1201524960917002},{"$f":"-AC4*SIN((Q$62/180*PI())-ATAN((AC4*SIN(Q$62/180*PI())/($C$9+AC4*COS(Q$62/180*PI())))))","v":-4.3580899674687048},{"$f":"-AB4*SIN((R$62/180*PI())-ATAN((AB4*SIN(R$62/180*PI())/($C$9+AB4*COS(R$62/180*PI())))))","v":-4.2498995683770087},{"$f":"-AA4*SIN((S$62/180*PI())-ATAN((AA4*SIN(S$62/180*PI())/($C$9+AA4*COS(S$62/180*PI())))))","v":-3.8313624012817775},{"$f":"-Z4*SIN((T$62/180*PI())-ATAN((Z4*SIN(T$62/180*PI())/($C$9+Z4*COS(T$62/180*PI())))))","v":-3.3177358278069593},{"$f":"-Y4*SIN((U$62/180*PI())-ATAN((Y4*SIN(U$62/180*PI())/($C$9+Y4*COS(U$62/180*PI())))))","v":-2.6437885479401175},{"$f":"-X4*SIN((V$62/180*PI())-ATAN((X4*SIN(V$62/180*PI())/($C$9+X4*COS(V$62/180*PI())))))","v":-2.2334240156397085},{"$f":"-W4*SIN((D65/180*PI())-ATAN((W4*SIN(D65/180*PI())/($C$9+W4*COS(D65/180*PI())))))","v":-1.8073486889363246}]
[null,null,null,null,{"$f":"V4","v":2.8719585161547667},{"$f":"X4*COS(F$62/180*PI())","v":2.7379633244871773},2.3727919852359611,1.2976999475892403,3.0497403109328111E-16,-1.6051003988689965,-2.273588480485031,-2.9145688255914481,-3.070709596793046,{"$f":"-AF4","v":-3.0706243602865912},{"$f":"AE4*COS((O$62/180*PI())-ATAN((AE4*SIN(O$62/180*PI())/($C$9+AE4*COS(O$62/180*PI())))))","v":-1.7090833373062935},{"$f":"AD4*COS((P$62/180*PI())-ATAN((AD4*SIN(P$62/180*PI())/($C$9+AD4*COS(P$62/180*PI())))))","v":-0.11732982216114655},{"$f":"AC4*COS((Q$62/180*PI())-ATAN((AC4*SIN(Q$62/180*PI())/($C$9+AC4*COS(Q$62/180*PI())))))","v":1.2976402235695241},{"$f":"AB4*COS((R$62/180*PI())-ATAN((AB4*SIN(R$62/180*PI())/($C$9+AB4*COS(R$62/180*PI())))))","v":1.990627787408084},{"$f":"AA4*COS((S$62/180*PI())-ATAN((AA4*SIN(S$62/180*PI())/($C$9+AA4*COS(S$62/180*PI())))))","v":3.1791141484843952},{"$f":"Z4*COS((T$62/180*PI())-ATAN((Z4*SIN(T$62/180*PI())/($C$9+Z4*COS(T$62/180*PI())))))","v":3.7592683756673684},{"$f":"Y4*COS((U$62/180*PI())-ATAN((Y4*SIN(U$62/180*PI())/($C$9+Y4*COS(U$62/180*PI())))))","v":3.9409325463119425},{"$f":"X4*COS((V$62/180*PI())-ATAN((X4*SIN(V$62/180*PI())/($C$9+X4*COS(V$62/180*PI())))))","v":3.8456875472764178},{"$f":"W4*COS((D65/180*PI())-ATAN((W4*SIN(D65/180*PI())/($C$9+W4*COS(D65/180*PI())))))","v":3.5827858052136796}]
[null,null,null,{"$f":"R5","v":{"$error":"#REF!"}},{"$f":"W5*SIN(D67/180*PI())","v":{"$error":"#REF!"}},{"$f":"X5*SIN(F$62/180*PI())","v":{"$error":"#REF!"}},{"$error":"#REF!"},{"$error":"#REF!"},{"$error":"#REF!"},{"$error":"#REF!"},{"$error":"#REF!"},{"$error":"#REF!"},{"$error":"#REF!"},0,{"$f":"-AE5*SIN((O$62/180*PI())-ATAN((AE5*SIN(O$62/180*PI())/($C$9+AE5*COS(O$62/180*PI())))))","v":{"$error":"#REF!"}},{"$f":"-AD5*SIN((P$62/180*PI())-ATAN((AD5*SIN(P$62/180*PI())/($C$9+AD5*COS(P$62/180*PI())))))","v":{"$error":"#REF!"}},{"$f":"-AC5*SIN((Q$62/180*PI())-ATAN((AC5*SIN(Q$62/180*PI())/($C$9+AC5*COS(Q$62/180*PI())))))","v":{"$error":"#REF!"}},{"$f":"-AB5*SIN((R$62/180*PI())-ATAN((AB5*SIN(R$62/180*PI())/($C$9+AB5*COS(R$62/180*PI())))))","v":{"$error":"#REF!"}},{"$f":"-AA5*SIN((S$62/180*PI())-ATAN((AA5*SIN(S$62/180*PI())/($C$9+AA5*COS(S$62/180*PI())))))","v":{"$error":"#REF!"}},{"$f":"-Z5*SIN((T$62/180*PI())-ATAN((Z5*SIN(T$62/180*PI())/($C$9+Z5*COS(T$62/180*PI())))))","v":{"$error":"#REF!"}},{"$f":"-Y5*SIN((U$62/180*PI())-ATAN((Y5*SIN(U$62/180*PI())/($C$9+Y5*COS(U$62/180*PI())))))","v":{"$error":"#REF!"}},{"$f":"-X5*SIN((V$62/180*PI())-ATAN((X5*SIN(V$62/180*PI())/($C$9+X5*COS(V$62/180*PI())))))","v":{"$error":"#REF!"}},{"$f":"-W5*SIN((D67/180*PI())-ATAN((W5*SIN(D67/180*PI())/($C$9+W5*COS(D67/180*PI())))))","v":{"$error":"#REF!"}}]
[null,null,null,null,{"$f":"V5","v":{"$error":"#REF!"}},{"$f":"X5*COS(F$62/180*PI())","v":{"$error":"#REF!"}},{"$error":"#REF!"},{"$error":"#REF!"},{"$error":"#REF!"},{"$error":"#REF!"},{"$error":"#REF!"},{"$error":"#REF!"},{"$error":"#REF!"},{"$f":"-AF5","v":{"$error":"#REF!"}},{"$f":"AE5*COS((O$62/180*PI())-ATAN((AE5*SIN(O$62/180*PI())/($C$9+AE5*COS(O$62/180*PI())))))","v":{"$error":"#REF!"}},{"$f":"AD5*COS((P$62/180*PI())-ATAN((AD5*SIN(P$62/180*PI())/($C$9+AD5*COS(P$62/180*PI())))))","v":{"$error":"#REF!"}},{"$f":"AC5*COS((Q$62/180*PI())-ATAN((AC5*SIN(Q$62/180*PI())/($C$9+AC5*COS(Q$62/180*PI())))))","v":{"$error":"#REF!"}},{"$f":"AB5*COS((R$62/180*PI())-ATAN((AB5*SIN(R$62/180*PI())/($C$9+AB5*COS(R$62/180*PI())))))","v":{"$error":"#REF!"}},{"$f":"AA5*COS((S$62/180*PI())-ATAN((AA5*SIN(S$62/180*PI())/($C$9+AA5*COS(S$62/180*PI())))))","v":{"$error":"#REF!"}},{"$f":"Z5*COS((T$62/180*PI())-ATAN((Z5*SIN(T$62/180*PI())/($C$9+Z5*COS(T$62/180*PI())))))","v":{"$error":"#REF!"}},{"$f":"Y5*COS((U$62/180*PI())-ATAN((Y5*SIN(U$62/180*PI())/($C$9+Y5*COS(U$62/180*PI())))))","v":{"$error":"#REF!"}},{"$f":"X5*COS((V$62/180*PI())-ATAN((X5*SIN(V$62/180*PI())/($C$9+X5*COS(V$62/180*PI())))))","v":{"$error":"#REF!"}},{"$f":"W5*COS((D67/180*PI())-ATAN((W5*SIN(D67/180*PI())/($C$9+W5*COS(D67/180*PI())))))","v":{"$error":"#REF!"}}]
[null,null,null,{"$f":"R6","v":{"$error":"#REF!"}},{"$f":"W6*SIN(D69/180*PI())","v":{"$error":"#REF!"}},{"$f":"X6*SIN(F$62/180*PI())","v":{"$error":"#REF!"}},{"$error":"#REF!"},{"$error":"#REF!"},{"$error":"#REF!"},{"$error":"#REF!"},{"$error":"#REF!"},{"$error":"#REF!"},{"$error":"#REF!"},0,{"$f":"-AE6*SIN((O$62/180*PI())-ATAN((AE6*SIN(O$62/180*PI())/($C$9+AE6*COS(O$62/180*PI())))))","v":{"$error":"#REF!"}},{"$f":"-AD6*SIN((P$62/180*PI())-ATAN((AD6*SIN(P$62/180*PI())/($C$9+AD6*COS(P$62/180*PI())))))","v":{"$error":"#REF!"}},{"$f":"-AC6*SIN((Q$62/180*PI())-ATAN((AC6*SIN(Q$62/180*PI())/($C$9+AC6*COS(Q$62/180*PI())))))","v":{"$error":"#REF!"}},{"$f":"-AB6*SIN((R$62/180*PI())-ATAN((AB6*SIN(R$62/180*PI())/($C$9+AB6*COS(R$62/180*PI())))))","v":{"$error":"#REF!"}},{"$f":"-AA6*SIN((S$62/180*PI())-ATAN((AA6*SIN(S$62/180*PI())/($C$9+AA6*COS(S$62/180*PI())))))","v":{"$error":"#REF!"}},{"$f":"-Z6*SIN((T$62/180*PI())-ATAN((Z6*SIN(T$62/180*PI())/($C$9+Z6*COS(T$62/180*PI())))))","v":{"$error":"#REF!"}},{"$f":"-Y6*SIN((U$62/180*PI())-ATAN((Y6*SIN(U$62/180*PI())/($C$9+Y6*COS(U$62/180*PI())))))","v":{"$error":"#REF!"}},{"$f":"-X6*SIN((V$62/180*PI())-ATAN((X6*SIN(V$62/180*PI())/($C$9+X6*COS(V$62/180*PI())))))","v":{"$error":"#REF!"}},{"$f":"-W6*SIN((D69/180*PI())-ATAN((W6*SIN(D69/180*PI())/($C$9+W6*COS(D69/180*PI())))))","v":{"$error":"#REF!"}}]
[null,null,null,null,{"$f":"V6","v":{"$error":"#REF!"}},{"$f":"X6*COS(F$62/180*PI())","v":{"$error":"#REF!"}},{"$error":"#REF!"},{"$error":"#REF!"},{"$error":"#REF!"},{"$error":"#REF!"},{"$error":"#REF!"},{"$error":"#REF!"},{"$error":"#REF!"},{"$f":"-AF6","v":{"$error":"#REF!"}},{"$f":"AE6*COS((O$62/180*PI())-ATAN((AE6*SIN(O$62/180*PI())/($C$9+AE6*COS(O$62/180*PI())))))","v":{"$error":"#REF!"}},{"$f":"AD6*COS((P$62/180*PI())-ATAN((AD6*SIN(P$62/180*PI())/($C$9+AD6*COS(P$62/180*PI())))))","v":{"$error":"#REF!"}},{"$f":"AC6*COS((Q$62/180*PI())-ATAN((AC6*SIN(Q$62/180*PI())/($C$9+AC6*COS(Q$62/180*PI())))))","v":{"$error":"#REF!"}},{"$f":"AB6*COS((R$62/180*PI())-ATAN((AB6*SIN(R$62/180*PI())/($C$9+AB6*COS(R$62/180*PI())))))","v":{"$error":"#REF!"}},{"$f":"AA6*COS((S$62/180*PI())-ATAN((AA6*SIN(S$62/180*PI())/($C$9+AA6*COS(S$62/180*PI())))))","v":{"$error":"#REF!"}},{"$f":"Z6*COS((T$62/180*PI())-ATAN((Z6*SIN(T$62/180*PI())/($C$9+Z6*COS(T$62/180*PI())))))","v":{"$error":"#REF!"}},{"$f":"Y6*COS((U$62/180*PI())-ATAN((Y6*SIN(U$62/180*PI())/($C$9+Y6*COS(U$62/180*PI())))))","v":{"$error":"#REF!"}},{"$f":"X6*COS((V$62/180*PI())-ATAN((X6*SIN(V$62/180*PI())/($C$9+X6*COS(V$62/180*PI())))))","v":{"$error":"#REF!"}},{"$f":"W6*COS((D69/180*PI())-ATAN((W6*SIN(D69/180*PI())/($C$9+W6*COS(D69/180*PI())))))","v":{"$error":"#REF!"}}]
[null,null,null,{"$f":"R7","v":{"$error":"#REF!"}},{"$f":"W7*SIN(D71/180*PI())","v":{"$error":"#REF!"}},{"$f":"X7*SIN(F$62/180*PI())","v":{"$error":"#REF!"}},{"$error":"#REF!"},{"$error":"#REF!"},{"$error":"#REF!"},{"$error":"#REF!"},{"$error":"#REF!"},{"$error":"#REF!"},{"$error":"#REF!"},0,{"$f":"-AE7*SIN((O$62/180*PI())-ATAN((AE7*SIN(O$62/180*PI())/($C$9+AE7*COS(O$62/180*PI())))))","v":{"$error":"#REF!"}},{"$f":"-AD7*SIN((P$62/180*PI())-ATAN((AD7*SIN(P$62/180*PI())/($C$9+AD7*COS(P$62/180*PI())))))","v":{"$error":"#REF!"}},{"$f":"-AC7*SIN((Q$62/180*PI())-ATAN((AC7*SIN(Q$62/180*PI())/($C$9+AC7*COS(Q$62/180*PI())))))","v":{"$error":"#REF!"}},{"$f":"-AB7*SIN((R$62/180*PI())-ATAN((AB7*SIN(R$62/180*PI())/($C$9+AB7*COS(R$62/180*PI())))))","v":{"$error":"#REF!"}},{"$f":"-AA7*SIN((S$62/180*PI())-ATAN((AA7*SIN(S$62/180*PI())/($C$9+AA7*COS(S$62/180*PI())))))","v":{"$error":"#REF!"}},{"$f":"-Z7*SIN((T$62/180*PI())-ATAN((Z7*SIN(T$62/180*PI())/($C$9+Z7*COS(T$62/180*PI())))))","v":{"$error":"#REF!"}},{"$f":"-Y7*SIN((U$62/180*PI())-ATAN((Y7*SIN(U$62/180*PI())/($C$9+Y7*COS(U$62/180*PI())))))","v":{"$error":"#REF!"}},{"$f":"-X7*SIN((V$62/180*PI())-ATAN((X7*SIN(V$62/180*PI())/($C$9+X7*COS(V$62/180*PI())))))","v":{"$error":"#REF!"}},{"$f":"-W7*SIN((D71/180*PI())-ATAN((W7*SIN(D71/180*PI())/($C$9+W7*COS(D71/180*PI())))))","v":{"$error":"#REF!"}}]
[null,null,null,null,{"$f":"V7","v":{"$error":"#REF!"}},{"$f":"X7*COS(F$62/180*PI())","v":{"$error":"#REF!"}},{"$error":"#REF!"},{"$error":"#REF!"},{"$error":"#REF!"},{"$error":"#REF!"},{"$error":"#REF!"},{"$error":"#REF!"},{"$error":"#REF!"},{"$f":"-AF7","v":{"$error":"#REF!"}},{"$f":"AE7*COS((O$62/180*PI())-ATAN((AE7*SIN(O$62/180*PI())/($C$9+AE7*COS(O$62/180*PI())))))","v":{"$error":"#REF!"}},{"$f":"AD7*COS((P$62/180*PI())-ATAN((AD7*SIN(P$62/180*PI())/($C$9+AD7*COS(P$62/180*PI())))))","v":{"$error":"#REF!"}},{"$f":"AC7*COS((Q$62/180*PI())-ATAN((AC7*SIN(Q$62/180*PI())/($C$9+AC7*COS(Q$62/180*PI())))))","v":{"$error":"#REF!"}},{"$f":"AB7*COS((R$62/180*PI())-ATAN((AB7*SIN(R$62/180*PI())/($C$9+AB7*COS(R$62/180*PI())))))","v":{"$error":"#REF!"}},{"$f":"AA7*COS((S$62/180*PI())-ATAN((AA7*SIN(S$62/180*PI())/($C$9+AA7*COS(S$62/180*PI())))))","v":{"$error":"#REF!"}},{"$f":"Z7*COS((T$62/180*PI())-ATAN((Z7*SIN(T$62/180*PI())/($C$9+Z7*COS(T$62/180*PI())))))","v":{"$error":"#REF!"}},{"$f":"Y7*COS((U$62/180*PI())-ATAN((Y7*SIN(U$62/180*PI())/($C$9+Y7*COS(U$62/180*PI())))))","v":{"$error":"#REF!"}},{"$f":"X7*COS((V$62/180*PI())-ATAN((X7*SIN(V$62/180*PI())/($C$9+X7*COS(V$62/180*PI())))))","v":{"$error":"#REF!"}},{"$f":"W7*COS((D71/180*PI())-ATAN((W7*SIN(D71/180*PI())/($C$9+W7*COS(D71/180*PI())))))","v":{"$error":"#REF!"}}]
[null,null,null,{"$f":"R8","v":{"$error":"#REF!"}},{"$f":"W8*SIN(D73/180*PI())","v":{"$error":"#REF!"}},{"$f":"X8*SIN(F$62/180*PI())","v":{"$error":"#REF!"}},{"$error":"#REF!"},{"$error":"#REF!"},{"$error":"#REF!"},{"$error":"#REF!"},{"$error":"#REF!"},{"$error":"#REF!"},{"$error":"#REF!"},0,{"$f":"-AE8*SIN((O$62/180*PI())-ATAN((AE8*SIN(O$62/180*PI())/($C$9+AE8*COS(O$62/180*PI())))))","v":{"$error":"#REF!"}},{"$f":"-AD8*SIN((P$62/180*PI())-ATAN((AD8*SIN(P$62/180*PI())/($C$9+AD8*COS(P$62/180*PI())))))","v":{"$error":"#REF!"}},{"$f":"-AC8*SIN((Q$62/180*PI())-ATAN((AC8*SIN(Q$62/180*PI())/($C$9+AC8*COS(Q$62/180*PI())))))","v":{"$error":"#REF!"}},{"$f":"-AB8*SIN((R$62/180*PI())-ATAN((AB8*SIN(R$62/180*PI())/($C$9+AB8*COS(R$62/180*PI())))))","v":{"$error":"#REF!"}},{"$f":"-AA8*SIN((S$62/180*PI())-ATAN((AA8*SIN(S$62/180*PI())/($C$9+AA8*COS(S$62/180*PI())))))","v":{"$error":"#REF!"}},{"$f":"-Z8*SIN((T$62/180*PI())-ATAN((Z8*SIN(T$62/180*PI())/($C$9+Z8*COS(T$62/180*PI())))))","v":{"$error":"#REF!"}},{"$f":"-Y8*SIN((U$62/180*PI())-ATAN((Y8*SIN(U$62/180*PI())/($C$9+Y8*COS(U$62/180*PI())))))","v":{"$error":"#REF!"}},{"$f":"-X8*SIN((V$62/180*PI())-ATAN((X8*SIN(V$62/180*PI())/($C$9+X8*COS(V$62/180*PI())))))","v":{"$error":"#REF!"}},{"$f":"-W8*SIN((D73/180*PI())-ATAN((W8*SIN(D73/180*PI())/($C$9+W8*COS(D73/180*PI())))))","v":{"$error":"#REF!"}}]
[null,null,null,null,{"$f":"V8","v":{"$error":"#REF!"}},{"$f":"X8*COS(F$62/180*PI())","v":{"$error":"#REF!"}},{"$error":"#REF!"},{"$error":"#REF!"},{"$error":"#REF!"},{"$error":"#REF!"},{"$error":"#REF!"},{"$error":"#REF!"},{"$error":"#REF!"},{"$f":"-AF8","v":{"$error":"#REF!"}},{"$f":"AE8*COS((O$62/180*PI())-ATAN((AE8*SIN(O$62/180*PI())/($C$9+AE8*COS(O$62/180*PI())))))","v":{"$error":"#REF!"}},{"$f":"AD8*COS((P$62/180*PI())-ATAN((AD8*SIN(P$62/180*PI())/($C$9+AD8*COS(P$62/180*PI())))))","v":{"$error":"#REF!"}},{"$f":"AC8*COS((Q$62/180*PI())-ATAN((AC8*SIN(Q$62/180*PI())/($C$9+AC8*COS(Q$62/180*PI())))))","v":{"$error":"#REF!"}},{"$f":"AB8*COS((R$62/180*PI())-ATAN((AB8*SIN(R$62/180*PI())/($C$9+AB8*COS(R$62/180*PI())))))","v":{"$error":"#REF!"}},{"$f":"AA8*COS((S$62/180*PI())-ATAN((AA8*SIN(S$62/180*PI())/($C$9+AA8*COS(S$62/180*PI())))))","v":{"$error":"#REF!"}},{"$f":"Z8*COS((T$62/180*PI())-ATAN((Z8*SIN(T$62/180*PI())/($C$9+Z8*COS(T$62/180*PI())))))","v":{"$error":"#REF!"}},{"$f":"Y8*COS((U$62/180*PI())-ATAN((Y8*SIN(U$62/180*PI())/($C$9+Y8*COS(U$62/180*PI())))))","v":{"$error":"#REF!"}},{"$f":"X8*COS((V$62/180*PI())-ATAN((X8*SIN(V$62/180*PI())/($C$9+X8*COS(V$62/180*PI())))))","v":{"$error":"#REF!"}},{"$f":"W8*COS((D73/180*PI())-ATAN((W8*SIN(D73/180*PI())/($C$9+W8*COS(D73/180*PI())))))","v":{"$error":"#REF!"}}]
[]
[]
[null,null,null,"données bateau N°1",null,null,null,null,null,null,null,null,null,null,null,null,null,null,"vent apparent",null,null,null,null,null,null,null,null,null,null,"AWA"]
[null,null,"Wind(kn)","Up Angle",0,"V@UA",52,60,75,90,110,120,135,150,180,"V@DA","DA",null,"UA",52,60,75,90,110,120,135,150,"DA",null,"UA",52,60,75,90,110,120,135,150,"DA"]
[null,"Wind=1",6,{"$f":"OFFSET(ORC!$BK$6,($C$3-6),(0))","v":44.2},{"$f":"3600/OFFSET(ORC!$BY$6,($C$3-6),(0))","v":2.9397354238118569},{"$f":"3600/OFFSET(ORC!$BY$6,($C$3-6),(0))/COS(D79/180*PI())","v":4.1005606451356531},{"$f":"3600/OFFSET(ORC!$CF$6,($C$3-6),(0))","v":4.5500505561172897},{"$f":"3600/OFFSET(ORC!$CM$6,($C$3-6),(0))","v":4.8589553246052102},{"$f":"3600/OFFSET(ORC!$CT$6,($C$3-6),(0))","v":5.1450621695012142},{"$f":"3600/OFFSET(ORC!$DA$6,($C$3-6),(0))","v":5.1165434906196703},{"$f":"3600/OFFSET(ORC!$DH$6,($C$3-6),(0))","v":4.9362402303578774},{"$f":"3600/OFFSET(ORC!$DO$6,($C$3-6),(0))","v":4.7923322683706067},{"$f":"3600/OFFSET(ORC!$DV$6,($C$3-6),(0))","v":4.3662825955124314},{"$f":"3600/OFFSET(ORC!$EC$6,($C$3-6),(0))","v":3.7453183520599249},{"$f":"3600/OFFSET(ORC!$EJ$6,($C$3-6),(0))","v":3.2435354536444723},{"$f":"Main!O79/COS((180-Main!Q79)/180*PI())","v":3.8415588963446301},{"$f":"OFFSET(ORC!$BR$6,($C$3-6),(0))","v":147.6},null,{"$f":"SQRT(SUMSQ(($C79*SIN(D79/180*PI())),(F79+$C79*COS(D79/180*PI()))))","v":9.3857031004702911},{"$f":"SQRT(SUMSQ(($C79*SIN(G$78/180*PI())),(G79+$C79*COS(G$78/180*PI()))))","v":9.50360195512466},9.4214212725119459,8.8572764245265283,7.8853672895688582,6.3330043832986878,5.4965857548338617,4.2444419328706928,3.3324044623288587,{"$f":"SQRT(SUMSQ(($C79*SIN(Q79/180*PI())),(P79+$C79*COS(Q79/180*PI()))))","v":3.4402251830877173},null,{"$f":"DEGREES(ACOS((F79+$C79*COS(D79/180*PI()))/S79))","v":26.466651732328042},{"$f":"DEGREES(ACOS((G79+$C79*COS(G$78/180*PI()))/T79))","v":29.834895420256277},33.471719644791136,40.868637899511199,49.543873349796392,62.908623158368421,70.968919111611243,88.330720051440181,115.80893805188975,{"$f":"DEGREES(ACOS((P79+$C79*COS(Q79/180*PI()))/AB79))","v":110.84919283097385}]
[null,"Wind=2",8,{"$f":"OFFSET(ORC!$BK$6,($C$3-6),(1))","v":42.8},{"$f":"3600/OFFSET(ORC!$BY$6,($C$3-6),(1))","v":3.5460992907801416},{"$f":"3600/OFFSET(ORC!$BY$6,($C$3-6),(1))/COS(D80/180*PI())","v":4.8329766339587774},{"$f":"3600/OFFSET(ORC!$CF$6,($C$3-6),(1))","v":5.4306833609895913},{"$f":"3600/OFFSET(ORC!$CM$6,($C$3-6),(1))","v":5.7831325301204819},{"$f":"3600/OFFSET(ORC!$CT$6,($C$3-6),(1))","v":6.0831361946603586},{"$f":"3600/OFFSET(ORC!$DA$6,($C$3-6),(1))","v":6.0504201680672267},{"$f":"3600/OFFSET(ORC!$DH$6,($C$3-6),(1))","v":6.0130282278269576},{"$f":"3600/OFFSET(ORC!$DO$6,($C$3-6),(1))","v":5.8574682720468596},{"$f":"3600/OFFSET(ORC!$DV$6,($C$3-6),(1))","v":5.3715308863025957},{"$f":"3600/OFFSET(ORC!$EC$6,($C$3-6),(1))","v":4.7306176084099869},{"$f":"3600/OFFSET(ORC!$EJ$6,($C$3-6),(1))","v":4.0988272799726744},{"$f":"Main!O80/COS((180-Main!Q80)/180*PI())","v":4.6773890617466343},{"$f":"OFFSET(ORC!$BR$6,($C$3-6),(1))","v":151.19999999999999},null,{"$f":"SQRT(SUMSQ(($C80*SIN(D80/180*PI())),(F80+$C80*COS(D80/180*PI()))))","v":12.003968168771266},12.123849316458156,11.98789731779104,11.233674820862323,10.030333205340421,8.2006877789488559,7.1728786677080185,5.664045323051532,4.5639218404164277,{"$f":"SQRT(SUMSQ(($C80*SIN(Q80/180*PI())),(P80+$C80*COS(Q80/180*PI()))))","v":4.505189447224641},null,26.924186917073648,31.330505296461151,35.305302175534294,43.46243015574948,52.899691614265222,66.447798774287236,74.991807426424813,92.887467435497712,118.78423540624102,{"$f":"DEGREES(ACOS((P80+$C80*COS(Q80/180*PI()))/AB80))","v":121.18891733466958}]
[null,"Wind=3",10,{"$f":"OFFSET(ORC!$BK$6,($C$3-6),(2))","v":43},{"$f":"3600/OFFSET(ORC!$BY$6,($C$3-6),(2))","v":4.0124832813196614},{"$f":"3600/OFFSET(ORC!$BY$6,($C$3-6),(2))/COS(D81/180*PI())","v":5.4863785777473737},{"$f":"3600/OFFSET(ORC!$CF$6,($C$3-6),(2))","v":6.1037639877924725},{"$f":"3600/OFFSET(ORC!$CM$6,($C$3-6),(2))","v":6.3750664069417384},{"$f":"3600/OFFSET(ORC!$CT$6,($C$3-6),(2))","v":6.5765436609426384},{"$f":"3600/OFFSET(ORC!$DA$6,($C$3-6),(2))","v":6.5633546034639929},{"$f":"3600/OFFSET(ORC!$DH$6,($C$3-6),(2))","v":6.6212985102078346},{"$f":"3600/OFFSET(ORC!$DO$6,($C$3-6),(2))","v":6.5395095367847409},{"$f":"3600/OFFSET(ORC!$DV$6,($C$3-6),(2))","v":6.2229904926534143},{"$f":"3600/OFFSET(ORC!$EC$6,($C$3-6),(2))","v":5.5822608156303302},{"$f":"3600/OFFSET(ORC!$EJ$6,($C$3-6),(2))","v":4.846526655896608},{"$f":"Main!O81/COS((180-Main!Q81)/180*PI())","v":5.4589351987316626},{"$f":"OFFSET(ORC!$BR$6,($C$3-6),(2))","v":152.6},null,14.503448401147862,14.574394726847185,14.296577764008225,13.315165095945638,11.961505910662419,9.9271972203645724,8.7960269220740326,7.1217438271368563,5.8714599782333243,5.733187628712261,null,28.049348489599005,32.730052597798249,37.283344697245766,46.504868385930372,56.721689600814663,71.188403580413308,79.919986780978348,96.839172329753296,121.61639599109563,126.61182149658289]
[null,"Wind=4",12,{"$f":"OFFSET(ORC!$BK$6,($C$3-6),(3))","v":41.9},{"$f":"3600/OFFSET(ORC!$BY$6,($C$3-6),(3))","v":4.3988269794721413},{"$f":"3600/OFFSET(ORC!$BY$6,($C$3-6),(3))/COS(D82/180*PI())","v":5.9099271020928619},{"$f":"3600/OFFSET(ORC!$CF$6,($C$3-6),(3))","v":6.4806480648064806},{"$f":"3600/OFFSET(ORC!$CM$6,($C$3-6),(3))","v":6.6740823136818692},{"$f":"3600/OFFSET(ORC!$CT$6,($C$3-6),(3))","v":6.8467097755800692},{"$f":"3600/OFFSET(ORC!$DA$6,($C$3-6),(3))","v":6.8873158599579103},{"$f":"3600/OFFSET(ORC!$DH$6,($C$3-6),(3))","v":6.972690296339338},{"$f":"3600/OFFSET(ORC!$DO$6,($C$3-6),(3))","v":6.9044879171461453},{"$f":"3600/OFFSET(ORC!$DV$6,($C$3-6),(3))","v":6.6877206018948545},{"$f":"3600/OFFSET(ORC!$EC$6,($C$3-6),(3))","v":6.2959076600209869},{"$f":"3600/OFFSET(ORC!$EJ$6,($C$3-6),(3))","v":5.532503457814661},{"$f":"Main!O82/COS((180-Main!Q82)/180*PI())","v":5.9669971932369759},{"$f":"OFFSET(ORC!$BR$6,($C$3-6),(3))","v":158},null,16.867100695121941,16.785590478364565,16.390008007746172,15.277658459988467,13.836008085962792,11.635428532726987,10.431591364325167,8.6735935303811047,7.2650168547973619,6.8428775026699187,null,28.367525549889102,34.28765285273689,39.350556063104726,49.349441107015814,60.146633131920979,75.727900810974901,85.025831238142729,101.96096357868056,124.32263777321162,138.93398238458127]
[null,"Wind=5",14,{"$f":"OFFSET(ORC!$BK$6,($C$3-6),(4))","v":40.9},{"$f":"3600/OFFSET(ORC!$BY$6,($C$3-6),(4))","v":4.6142014867982564},{"$f":"3600/OFFSET(ORC!$BY$6,($C$3-6),(4))/COS(D83/180*PI())","v":6.1046243419104824},{"$f":"3600/OFFSET(ORC!$CF$6,($C$3-6),(4))","v":6.6679014632339326},{"$f":"3600/OFFSET(ORC!$CM$6,($C$3-6),(4))","v":6.8636796949475691},{"$f":"3600/OFFSET(ORC!$CT$6,($C$3-6),(4))","v":7.0740813519355479},{"$f":"3600/OFFSET(ORC!$DA$6,($C$3-6),(4))","v":7.0615927814829345},{"$f":"3600/OFFSET(ORC!$DH$6,($C$3-6),(4))","v":7.3260073260073266},{"$f":"3600/OFFSET(ORC!$DO$6,($C$3-6),(4))","v":7.2449184946669352},{"$f":"3600/OFFSET(ORC!$DV$6,($C$3-6),(4))","v":7.0107108081791623},{"$f":"3600/OFFSET(ORC!$EC$6,($C$3-6),(4))","v":6.7014147431124345},{"$f":"3600/OFFSET(ORC!$EJ$6,($C$3-6),(4))","v":6.1485909479077714},{"$f":"Main!O83/COS((180-Main!Q83)/180*PI())","v":6.1485909479077714},{"$f":"OFFSET(ORC!$BR$6,($C$3-6),(4))","v":180},null,19.038489435514499,18.852206008434592,18.417426928974134,17.242622260764065,15.680117748648826,13.39822395777243,12.126829143227424,10.312374786666917,8.854845459517545,7.8514090520922286,null,28.781144686313752,35.816519153261929,41.171025377885009,51.653695655891944,63.233646393289355,79.081786103982395,88.84275187984835,106.26783968822359,127.76515324302702,180]
[null,"Wind=6",16,{"$f":"OFFSET(ORC!$BK$6,($C$3-6),(5))","v":40.200000000000003},{"$f":"3600/OFFSET(ORC!$BY$6,($C$3-6),(5))","v":4.7200734233643633},{"$f":"3600/OFFSET(ORC!$BY$6,($C$3-6),(5))/COS(D84/180*PI())","v":6.1797564355001198},{"$f":"3600/OFFSET(ORC!$CF$6,($C$3-6),(5))","v":6.7529544175576808},{"$f":"3600/OFFSET(ORC!$CM$6,($C$3-6),(5))","v":6.9848661233993017},{"$f":"3600/OFFSET(ORC!$CT$6,($C$3-6),(5))","v":7.2815533980582527},{"$f":"3600/OFFSET(ORC!$DA$6,($C$3-6),(5))","v":7.3022312373225153},{"$f":"3600/OFFSET(ORC!$DH$6,($C$3-6),(5))","v":7.6433121019108281},{"$f":"3600/OFFSET(ORC!$DO$6,($C$3-6),(5))","v":7.6109936575052854},{"$f":"3600/OFFSET(ORC!$DV$6,($C$3-6),(5))","v":7.3499387505104119},{"$f":"3600/OFFSET(ORC!$EC$6,($C$3-6),(5))","v":7.0011668611435232},{"$f":"3600/OFFSET(ORC!$EJ$6,($C$3-6),(5))","v":6.5946143982414362},{"$f":"Main!O84/COS((180-Main!Q84)/180*PI())","v":6.5946143982414362},{"$f":"OFFSET(ORC!$BR$6,($C$3-6),(5))","v":180},null,21.100515139440667,20.848104890139709,20.409463803250688,19.217917946643549,17.587568934998625,15.191013312768474,13.86186588935635,11.987971914336487,10.535383712294708,9.4053856017585638,null,29.303428789608667,37.211822591096777,42.759356406896572,53.531879740264209,65.468544097149632,81.783568990786122,91.608105887769696,109.30796334147198,130.59343580482835,180]
[null,"Wind=7",20,{"$f":"OFFSET(ORC!$BK$6,($C$3-6),(6))","v":40.200000000000003},{"$f":"3600/OFFSET(ORC!$BY$6,($C$3-6),(6))","v":4.7574996696180785},{"$f":"3600/OFFSET(ORC!$BY$6,($C$3-6),(6))/COS(D85/180*PI())","v":6.2287567508338064},{"$f":"3600/OFFSET(ORC!$CF$6,($C$3-6),(6))","v":6.8027210884353737},{"$f":"3600/OFFSET(ORC!$CM$6,($C$3-6),(6))","v":7.0671378091872796},{"$f":"3600/OFFSET(ORC!$CT$6,($C$3-6),(6))","v":7.5408462505236704},{"$f":"3600/OFFSET(ORC!$DA$6,($C$3-6),(6))","v":7.7386070507308684},{"$f":"3600/OFFSET(ORC!$DH$6,($C$3-6),(6))","v":7.9365079365079358},{"$f":"3600/OFFSET(ORC!$DO$6,($C$3-6),(6))","v":8.2549873882137117},{"$f":"3600/OFFSET(ORC!$DV$6,($C$3-6),(6))","v":8.0572963294538944},{"$f":"3600/OFFSET(ORC!$EC$6,($C$3-6),(6))","v":7.6449352304098541},{"$f":"3600/OFFSET(ORC!$EJ$6,($C$3-6),(6))","v":7.1899340922708213},{"$f":"Main!O85/COS((180-Main!Q85)/180*PI())","v":7.1899340922708213},{"$f":"OFFSET(ORC!$BR$6,($C$3-6),(6))","v":180},null,25.081814078048279,24.775067028535904,24.316397615555431,23.128617494503544,21.444953697446437,18.825789092313329,17.408189711032367,15.395625003135732,13.914622161032574,12.810065907729179,null,30.976189860133154,39.503999837692703,45.422151149275102,56.643405103942229,68.847033302479801,86.662146195046731,95.753042759923275,113.28042639843366,134.05534529843558,180]
[]
[null,null,null,"Bateau N°1"]
[null,null,null,null,"True Wind",null,null,null,null,null,null,null,null,null,"vent apparent"]
[null,null,null,null,"V@UA",52,60,75,90,110,120,135,150,"VMG180",150,135,120,110,90,75,60,52,"V@UA"]
[null,null,null,null,{"$f":"F79*SIN(D79/180*PI())","v":2.8587677839273771},{"$f":"G79*SIN(G$78/180*PI())","v":3.5854887676746694},{"$f":"H79*SIN(H$78/180*PI())","v":4.2079787469617749},4.9697484273840864,5.1165434906196703,4.6385485188938302,4.1502814877848495,3.0874280318636398,1.8726591760299622,0,{"$f":"-N79*SIN((O$89/180*PI())-ATAN((N79*SIN(O$89/180*PI())/(C79+N79*COS(O$89/180*PI())))))","v":-3.3717260864329472},{"$f":"-M79*SIN((P$89/180*PI())-ATAN((M79*SIN(P$89/180*PI())/(C79+M79*COS(P$89/180*PI())))))","v":-4.3644296433224854},{"$f":"-L79*SIN((Q$89/180*PI())-ATAN((L79*SIN(Q$89/180*PI())/(C79+L79*COS(Q$89/180*PI())))))","v":-4.5303921447618292},{"$f":"-K79*SIN((R$89/180*PI())-ATAN((K79*SIN(R$89/180*PI())/(C79+K79*COS(R$89/180*PI())))))","v":-4.3946426417703544},{"$f":"-J79*SIN((S$89/180*PI())-ATAN((J79*SIN(S$89/180*PI())/(C79+J79*COS(S$89/180*PI())))))","v":-3.8931935338419139},{"$f":"-I79*SIN((T$89/180*PI())-ATAN((I79*SIN(T$89/180*PI())/(C79+I79*COS(T$89/180*PI())))))","v":-3.366553005135378},{"$f":"-H79*SIN((U$89/180*PI())-ATAN((H79*SIN(U$89/180*PI())/(C79+H79*COS(U$89/180*PI())))))","v":-2.679836911171158},{"$f":"-G79*SIN((V$89/180*PI())-ATAN((G79*SIN(V$89/180*PI())/(C79+G79*COS(V$89/180*PI())))))","v":-2.263660947462927},{"$f":"-F79*SIN((D79/180*PI())-ATAN((F79*SIN(D79/180*PI())/(C79+F79*COS(D79/180*PI())))))","v":-1.827524962163442}]
[null,null,null,null,{"$f":"E79","v":2.9397354238118569},{"$f":"G79*COS(G$78/180*PI())","v":2.8012908381855026},{"$f":"H79*COS(H$78/180*PI())","v":2.4294776623026055},1.3316400777034079,3.1342626760027233E-16,-1.6882935910769332,-2.3961661341853024,-3.0874280318636393,-3.2435408381439652,{"$f":"-O79","v":-3.2435354536444723},{"$f":"N79*COS((O$89/180*PI())-ATAN((N79*SIN(O$89/180*PI())/(C79+N79*COS(O$89/180*PI())))))","v":-1.6306050276950672},{"$f":"M79*COS((P$89/180*PI())-ATAN((M79*SIN(P$89/180*PI())/(C79+M79*COS(P$89/180*PI())))))","v":0.12719116464100444},{"$f":"L79*COS((Q$89/180*PI())-ATAN((L79*SIN(Q$89/180*PI())/(C79+L79*COS(Q$89/180*PI())))))","v":1.5626885758673972},{"$f":"K79*COS((R$89/180*PI())-ATAN((K79*SIN(R$89/180*PI())/(C79+K79*COS(R$89/180*PI())))))","v":2.2480177185550096},{"$f":"J79*COS((S$89/180*PI())-ATAN((J79*SIN(S$89/180*PI())/(C79+J79*COS(S$89/180*PI())))))","v":3.3199490055502405},{"$f":"I79*COS((T$89/180*PI())-ATAN((I79*SIN(T$89/180*PI())/(C79+I79*COS(T$89/180*PI())))))","v":3.8907564292366716},{"$f":"H79*COS((U$89/180*PI())-ATAN((H79*SIN(U$89/180*PI())/(C79+H79*COS(U$89/180*PI())))))","v":4.0531371770560574},{"$f":"G79*COS((V$89/180*PI())-ATAN((G79*SIN(V$89/180*PI())/(C79+G79*COS(V$89/180*PI())))))","v":3.9469987557832473},{"$f":"F79*COS((D79/180*PI())-ATAN((F79*SIN(D79/180*PI())/(C79+F79*COS(D79/180*PI())))))","v":3.6707969321531304}]
[null,null,null,null,{"$f":"F80*SIN(D80/180*PI())","v":3.2837239476423856},{"$f":"G80*SIN(G$78/180*PI())","v":4.279436887892893},5.0083396845365122,5.8758583552562458,6.0504201680672267,5.65039825426636,5.0727163254539205,3.7982459150575516,2.365308804204993,0,{"$f":"-N80*SIN((O$89/180*PI())-ATAN((N80*SIN(O$89/180*PI())/(C80+N80*COS(O$89/180*PI())))))","v":-4.1460987052997824},{"$f":"-M80*SIN((P$89/180*PI())-ATAN((M80*SIN(P$89/180*PI())/(C80+M80*COS(P$89/180*PI())))))","v":-5.364711189155849},{"$f":"-L80*SIN((Q$89/180*PI())-ATAN((L80*SIN(Q$89/180*PI())/(C80+L80*COS(Q$89/180*PI())))))","v":-5.6576630504470282},{"$f":"-K80*SIN((R$89/180*PI())-ATAN((K80*SIN(R$89/180*PI())/(C80+K80*COS(R$89/180*PI())))))","v":-5.5121213308678012},{"$f":"-J80*SIN((S$89/180*PI())-ATAN((J80*SIN(S$89/180*PI())/(C80+J80*COS(S$89/180*PI())))))","v":-4.8256982448765058},{"$f":"-I80*SIN((T$89/180*PI())-ATAN((I80*SIN(T$89/180*PI())/(C80+I80*COS(T$89/180*PI())))))","v":-4.1844603472723279},{"$f":"-H80*SIN((U$89/180*PI())-ATAN((H80*SIN(U$89/180*PI())/(C80+H80*COS(U$89/180*PI())))))","v":-3.342263986264693},{"$f":"-G80*SIN((V$89/180*PI())-ATAN((G80*SIN(V$89/180*PI())/(C80+G80*COS(V$89/180*PI())))))","v":-2.8238139727345812},{"$f":"-F80*SIN((D80/180*PI())-ATAN((F80*SIN(D80/180*PI())/(C80+F80*COS(D80/180*PI())))))","v":-2.1884256282419043}]
[null,null,null,null,{"$f":"E80","v":3.5460992907801416},{"$f":"G80*COS(G$78/180*PI())","v":3.3434625300533565},2.8915662650602414,1.5744315011305758,3.7063314602277581E-16,-2.0565767763026677,-2.9287341360234285,-3.7982459150575507,-4.0968350244730347,{"$f":"-O80","v":-4.0988272799726744},{"$f":"N80*COS((O$89/180*PI())-ATAN((N80*SIN(O$89/180*PI())/(C80+N80*COS(O$89/180*PI())))))","v":-2.2778517254005135},{"$f":"M80*COS((P$89/180*PI())-ATAN((M80*SIN(P$89/180*PI())/(C80+M80*COS(P$89/180*PI())))))","v":-0.27058809923716276},{"$f":"L80*COS((Q$89/180*PI())-ATAN((L80*SIN(Q$89/180*PI())/(C80+L80*COS(Q$89/180*PI())))))","v":1.5168333348268872},{"$f":"K80*COS((R$89/180*PI())-ATAN((K80*SIN(R$89/180*PI())/(C80+K80*COS(R$89/180*PI())))))","v":2.4027124052695075},{"$f":"J80*COS((S$89/180*PI())-ATAN((J80*SIN(S$89/180*PI())/(C80+J80*COS(S$89/180*PI())))))","v":3.6496877482259293},{"$f":"I80*COS((T$89/180*PI())-ATAN((I80*SIN(T$89/180*PI())/(C80+I80*COS(T$89/180*PI())))))","v":4.4152958638003472},{"$f":"H80*COS((U$89/180*PI())-ATAN((H80*SIN(U$89/180*PI())/(C80+H80*COS(U$89/180*PI())))))","v":4.7195225719404892},{"$f":"G80*COS((V$89/180*PI())-ATAN((G80*SIN(V$89/180*PI())/(C80+G80*COS(V$89/180*PI())))))","v":4.6387925600007325},{"$f":"F80*COS((D80/180*PI())-ATAN((F80*SIN(D80/180*PI())/(C80+F80*COS(D80/180*PI())))))","v":4.3091131818560457}]
[null,null,null,null,{"$f":"F81*SIN(D81/180*PI())","v":3.7417011927057318},{"$f":"G81*SIN(G$78/180*PI())","v":4.8098316598579167},5.5209694592243288,6.3524533698221521,6.5633546034639929,6.2219853500630311,5.6633813871461927,4.4003187766146441,2.7911304078151646,0,{"$f":"-N81*SIN((O$89/180*PI())-ATAN((N81*SIN(O$89/180*PI())/(C81+N81*COS(O$89/180*PI())))))","v":-4.7537246581982053},{"$f":"-M81*SIN((P$89/180*PI())-ATAN((M81*SIN(P$89/180*PI())/(C81+M81*COS(P$89/180*PI())))))","v":-6.178709714111827},{"$f":"-L81*SIN((Q$89/180*PI())-ATAN((L81*SIN(Q$89/180*PI())/(C81+L81*COS(Q$89/180*PI())))))","v":-6.438567591162867},{"$f":"-K81*SIN((R$89/180*PI())-ATAN((K81*SIN(R$89/180*PI())/(C81+K81*COS(R$89/180*PI())))))","v":-6.267615331847443},{"$f":"-J81*SIN((S$89/180*PI())-ATAN((J81*SIN(S$89/180*PI())/(C81+J81*COS(S$89/180*PI())))))","v":-5.4870637965521176},{"$f":"-I81*SIN((T$89/180*PI())-ATAN((I81*SIN(T$89/180*PI())/(C81+I81*COS(T$89/180*PI())))))","v":-4.7708408600629548},{"$f":"-H81*SIN((U$89/180*PI())-ATAN((H81*SIN(U$89/180*PI())/(C81+H81*COS(U$89/180*PI())))))","v":-3.8617419849409163},{"$f":"-G81*SIN((V$89/180*PI())-ATAN((G81*SIN(V$89/180*PI())/(C81+G81*COS(V$89/180*PI())))))","v":-3.3001930783429563},{"$f":"-F81*SIN((D81/180*PI())-ATAN((F81*SIN(D81/180*PI())/(C81+F81*COS(D81/180*PI())))))","v":-2.5798700345013108}]
[null,null,null,null,{"$f":"E81","v":4.0124832813196614},{"$f":"G81*COS(G$78/180*PI())","v":3.7578523417639369},3.1875332034708701,1.7021347504002096,4.0205418757256449E-16,-2.2646174654633202,-3.2697547683923691,-4.4003187766146432,-4.8343796768863072,{"$f":"-O81","v":-4.846526655896608},{"$f":"N81*COS((O$89/180*PI())-ATAN((N81*SIN(O$89/180*PI())/(C81+N81*COS(O$89/180*PI())))))","v":-2.9263864556411812},{"$f":"M81*COS((P$89/180*PI())-ATAN((M81*SIN(P$89/180*PI())/(C81+M81*COS(P$89/180*PI())))))","v":-0.74105124006031164},{"$f":"L81*COS((Q$89/180*PI())-ATAN((L81*SIN(Q$89/180*PI())/(C81+L81*COS(Q$89/180*PI())))))","v":1.144566448803116},{"$f":"K81*COS((R$89/180*PI())-ATAN((K81*SIN(R$89/180*PI())/(C81+K81*COS(R$89/180*PI())))))","v":2.1350859498557342},{"$f":"J81*COS((S$89/180*PI())-ATAN((J81*SIN(S$89/180*PI())/(C81+J81*COS(S$89/180*PI())))))","v":3.6013545428600962},{"$f":"I81*COS((T$89/180*PI())-ATAN((I81*SIN(T$89/180*PI())/(C81+I81*COS(T$89/180*PI())))))","v":4.5265885622882234},{"$f":"H81*COS((U$89/180*PI())-ATAN((H81*SIN(U$89/180*PI())/(C81+H81*COS(U$89/180*PI())))))","v":5.072319048981603},{"$f":"G81*COS((V$89/180*PI())-ATAN((G81*SIN(V$89/180*PI())/(C81+G81*COS(V$89/180*PI())))))","v":5.1346529059255319},{"$f":"F81*COS((D81/180*PI())-ATAN((F81*SIN(D81/180*PI())/(C81+F81*COS(D81/180*PI())))))","v":4.8419645293462761}]
[null,null,null,null,{"$f":"F82*SIN(D82/180*PI())","v":3.946841719238273},{"$f":"G82*SIN(G$78/180*PI())","v":5.1068203654080984},5.7799248305969213,6.6134137973386196,6.8873158599579103,6.5521856184955851,5.9794619363712691,4.7289325882808315,3.147953830010493,0,{"$f":"-N82*SIN((O$89/180*PI())-ATAN((N82*SIN(O$89/180*PI())/(C82+N82*COS(O$89/180*PI())))))","v":-5.1996363828366583},{"$f":"-M82*SIN((P$89/180*PI())-ATAN((M82*SIN(P$89/180*PI())/(C82+M82*COS(P$89/180*PI())))))","v":-6.5425236795569086},{"$f":"-L82*SIN((Q$89/180*PI())-ATAN((L82*SIN(Q$89/180*PI())/(C82+L82*COS(Q$89/180*PI())))))","v":-6.878484857242781},{"$f":"-K82*SIN((R$89/180*PI())-ATAN((K82*SIN(R$89/180*PI())/(C82+K82*COS(R$89/180*PI())))))","v":-6.7574844536920082},{"$f":"-J82*SIN((S$89/180*PI())-ATAN((J82*SIN(S$89/180*PI())/(C82+J82*COS(S$89/180*PI())))))","v":-5.9733840719090461},{"$f":"-I82*SIN((T$89/180*PI())-ATAN((I82*SIN(T$89/180*PI())/(C82+I82*COS(T$89/180*PI())))))","v":-5.1945764971711084},{"$f":"-H82*SIN((U$89/180*PI())-ATAN((H82*SIN(U$89/180*PI())/(C82+H82*COS(U$89/180*PI())))))","v":-4.2317915851159364},{"$f":"-G82*SIN((V$89/180*PI())-ATAN((G82*SIN(V$89/180*PI())/(C82+G82*COS(V$89/180*PI())))))","v":-3.6508602103622834},{"$f":"-F82*SIN((D82/180*PI())-ATAN((F82*SIN(D82/180*PI())/(C82+F82*COS(D82/180*PI())))))","v":-2.8079574247491541}]
[null,null,null,null,{"$f":"E82","v":4.3988269794721413},{"$f":"G82*COS(G$78/180*PI())","v":3.9898853486451302},3.3370411568409355,1.7720588862097275,4.2189921921475336E-16,-2.38480053451948,-3.4522439585730713,-4.7289325882808306,-5.4524159734592157,{"$f":"-O82","v":-5.532503457814661},{"$f":"N82*COS((O$89/180*PI())-ATAN((N82*SIN(O$89/180*PI())/(C82+N82*COS(O$89/180*PI())))))","v":-3.5499626406192291},{"$f":"M82*COS((P$89/180*PI())-ATAN((M82*SIN(P$89/180*PI())/(C82+M82*COS(P$89/180*PI())))))","v":-1.3859981065809615},{"$f":"L82*COS((Q$89/180*PI())-ATAN((L82*SIN(Q$89/180*PI())/(C82+L82*COS(Q$89/180*PI())))))","v":0.59866473647515717},{"$f":"K82*COS((R$89/180*PI())-ATAN((K82*SIN(R$89/180*PI())/(C82+K82*COS(R$89/180*PI())))))","v":1.7189571916646407},{"$f":"J82*COS((S$89/180*PI())-ATAN((J82*SIN(S$89/180*PI())/(C82+J82*COS(S$89/180*PI())))))","v":3.4283819046732624},{"$f":"I82*COS((T$89/180*PI())-ATAN((I82*SIN(T$89/180*PI())/(C82+I82*COS(T$89/180*PI())))))","v":4.4602477247414427},{"$f":"H82*COS((U$89/180*PI())-ATAN((H82*SIN(U$89/180*PI())/(C82+H82*COS(U$89/180*PI())))))","v":5.1609412620124901},{"$f":"G82*COS((V$89/180*PI())-ATAN((G82*SIN(V$89/180*PI())/(C82+G82*COS(V$89/180*PI())))))","v":5.3544391923219603},{"$f":"F82*COS((D82/180*PI())-ATAN((F82*SIN(D82/180*PI())/(C82+F82*COS(D82/180*PI())))))","v":5.2002512874713878}]
[null,null,null,null,{"$f":"F83*SIN(D83/180*PI())","v":3.9969467090611488},{"$f":"G83*SIN(G$78/180*PI())","v":5.2543780570183349},5.9441209792640208,6.8330378751044334,7.0615927814829345,6.8841950240725902,6.2742834647292804,4.9573211534013071,3.3507073715562168,0,{"$f":"-N83*SIN((O$89/180*PI())-ATAN((N83*SIN(O$89/180*PI())/(C83+N83*COS(O$89/180*PI())))))","v":-5.2976535182063946},{"$f":"-M83*SIN((P$89/180*PI())-ATAN((M83*SIN(P$89/180*PI())/(C83+M83*COS(P$89/180*PI())))))","v":-6.7300207356069155},{"$f":"-L83*SIN((Q$89/180*PI())-ATAN((L83*SIN(Q$89/180*PI())/(C83+L83*COS(Q$89/180*PI())))))","v":-7.2434407600495208},{"$f":"-K83*SIN((R$89/180*PI())-ATAN((K83*SIN(R$89/180*PI())/(C83+K83*COS(R$89/180*PI())))))","v":-7.1933959785099795},{"$f":"-J83*SIN((S$89/180*PI())-ATAN((J83*SIN(S$89/180*PI())/(C83+J83*COS(S$89/180*PI())))))","v":-6.3049462080270517},{"$f":"-I83*SIN((T$89/180*PI())-ATAN((I83*SIN(T$89/180*PI())/(C83+I83*COS(T$89/180*PI())))))","v":-5.5480267910956957},{"$f":"-H83*SIN((U$89/180*PI())-ATAN((H83*SIN(U$89/180*PI())/(C83+H83*COS(U$89/180*PI())))))","v":-4.518421277338093},{"$f":"-G83*SIN((V$89/180*PI())-ATAN((G83*SIN(V$89/180*PI())/(C83+G83*COS(V$89/180*PI())))))","v":-3.9019992018623664},{"$f":"-F83*SIN((D83/180*PI())-ATAN((F83*SIN(D83/180*PI())/(C83+F83*COS(D83/180*PI())))))","v":-2.9391645863706564}]
[null,null,null,null,{"$f":"E83","v":4.6142014867982564},{"$f":"G83*COS(G$78/180*PI())","v":4.1051700521807186},3.4318398474737855,1.8309069804855074,4.3257497427138409E-16,-2.505642075645925,-3.6224592473334658,-4.9573211534013062,-5.8035954088309367,{"$f":"-O83","v":-6.1485909479077714},{"$f":"N83*COS((O$89/180*PI())-ATAN((N83*SIN(O$89/180*PI())/(C83+N83*COS(O$89/180*PI())))))","v":-4.1041231414566619},{"$f":"M83*COS((P$89/180*PI())-ATAN((M83*SIN(P$89/180*PI())/(C83+M83*COS(P$89/180*PI())))))","v":-1.9638958562564035},{"$f":"L83*COS((Q$89/180*PI())-ATAN((L83*SIN(Q$89/180*PI())/(C83+L83*COS(Q$89/180*PI())))))","v":0.14632139290009447},{"$f":"K83*COS((R$89/180*PI())-ATAN((K83*SIN(R$89/180*PI())/(C83+K83*COS(R$89/180*PI())))))","v":1.3876013970407648},{"$f":"J83*COS((S$89/180*PI())-ATAN((J83*SIN(S$89/180*PI())/(C83+J83*COS(S$89/180*PI())))))","v":3.1802116164458596},{"$f":"I83*COS((T$89/180*PI())-ATAN((I83*SIN(T$89/180*PI())/(C83+I83*COS(T$89/180*PI())))))","v":4.3888524353282445},{"$f":"H83*COS((U$89/180*PI())-ATAN((H83*SIN(U$89/180*PI())/(C83+H83*COS(U$89/180*PI())))))","v":5.1666205700954997},{"$f":"G83*COS((V$89/180*PI())-ATAN((G83*SIN(V$89/180*PI())/(C83+G83*COS(V$89/180*PI())))))","v":5.4069688506651001},{"$f":"F83*COS((D83/180*PI())-ATAN((F83*SIN(D83/180*PI())/(C83+F83*COS(D83/180*PI())))))","v":5.3504906214356263}]
[null,null,null,null,{"$f":"F84*SIN(D84/180*PI())","v":3.9887712995551103},{"$f":"G84*SIN(G$78/180*PI())","v":5.3214006996514698},6.0490715048971264,7.0334404826873911,7.3022312373225153,7.1823639805292361,6.5913138554418165,5.1971915317916926,3.5005834305717611,0,{"$f":"-N84*SIN((O$89/180*PI())-ATAN((N84*SIN(O$89/180*PI())/(C84+N84*COS(O$89/180*PI())))))","v":-5.3163070675618336},{"$f":"-M84*SIN((P$89/180*PI())-ATAN((M84*SIN(P$89/180*PI())/(C84+M84*COS(P$89/180*PI())))))","v":-6.9365414853217535},{"$f":"-L84*SIN((Q$89/180*PI())-ATAN((L84*SIN(Q$89/180*PI())/(C84+L84*COS(Q$89/180*PI())))))","v":-7.6079961044815692},{"$f":"-K84*SIN((R$89/180*PI())-ATAN((K84*SIN(R$89/180*PI())/(C84+K84*COS(R$89/180*PI())))))","v":-7.5648557026723244},{"$f":"-J84*SIN((S$89/180*PI())-ATAN((J84*SIN(S$89/180*PI())/(C84+J84*COS(S$89/180*PI())))))","v":-6.643084114067717},{"$f":"-I84*SIN((T$89/180*PI())-ATAN((I84*SIN(T$89/180*PI())/(C84+I84*COS(T$89/180*PI())))))","v":-5.8557356751880993},{"$f":"-H84*SIN((U$89/180*PI())-ATAN((H84*SIN(U$89/180*PI())/(C84+H84*COS(U$89/180*PI())))))","v":-4.7421698586191523},{"$f":"-G84*SIN((V$89/180*PI())-ATAN((G84*SIN(V$89/180*PI())/(C84+G84*COS(V$89/180*PI())))))","v":-4.0839400819924094},{"$f":"-F84*SIN((D84/180*PI())-ATAN((F84*SIN(D84/180*PI())/(C84+F84*COS(D84/180*PI())))))","v":-3.0245868582416762}]
[null,null,null,null,{"$f":"E84","v":4.7200734233643633},{"$f":"G84*COS(G$78/180*PI())","v":4.157533879520483},3.4924330616996517,1.884604697348452,4.4731586588955702E-16,-2.6141667005783598,-3.8054968287526409,-5.1971915317916917,-6.0631883578840506,{"$f":"-O84","v":-6.5946143982414362},{"$f":"N84*COS((O$89/180*PI())-ATAN((N84*SIN(O$89/180*PI())/(C84+N84*COS(O$89/180*PI())))))","v":-4.5555698415199775},{"$f":"M84*COS((P$89/180*PI())-ATAN((M84*SIN(P$89/180*PI())/(C84+M84*COS(P$89/180*PI())))))","v":-2.4302246518922557},{"$f":"L84*COS((Q$89/180*PI())-ATAN((L84*SIN(Q$89/180*PI())/(C84+L84*COS(Q$89/180*PI())))))","v":-0.21358775428132862},{"$f":"K84*COS((R$89/180*PI())-ATAN((K84*SIN(R$89/180*PI())/(C84+K84*COS(R$89/180*PI())))))","v":1.0923269130450572},{"$f":"J84*COS((S$89/180*PI())-ATAN((J84*SIN(S$89/180*PI())/(C84+J84*COS(S$89/180*PI())))))","v":3.0318335206191405},{"$f":"I84*COS((T$89/180*PI())-ATAN((I84*SIN(T$89/180*PI())/(C84+I84*COS(T$89/180*PI())))))","v":4.3279763852293671},{"$f":"H84*COS((U$89/180*PI())-ATAN((H84*SIN(U$89/180*PI())/(C84+H84*COS(U$89/180*PI())))))","v":5.1283700913462944},{"$f":"G84*COS((V$89/180*PI())-ATAN((G84*SIN(V$89/180*PI())/(C84+G84*COS(V$89/180*PI())))))","v":5.3780876501138977},{"$f":"F84*COS((D84/180*PI())-ATAN((F84*SIN(D84/180*PI())/(C84+F84*COS(D84/180*PI())))))","v":5.3889947057922498}]
[null,null,null,null,{"$f":"F85*SIN(D85/180*PI())","v":4.0203989297881364},{"$f":"G85*SIN(G$78/180*PI())","v":5.360617371474298},6.1203208748016866,7.2838981454558986,7.7386070507308684,7.4578779427453048,7.1490287861132291,5.6973688725863276,3.8224676152049266,0,{"$f":"-N85*SIN((O$89/180*PI())-ATAN((N85*SIN(O$89/180*PI())/(C85+N85*COS(O$89/180*PI())))))","v":-5.4941737849118431},{"$f":"-M85*SIN((P$89/180*PI())-ATAN((M85*SIN(P$89/180*PI())/(C85+M85*COS(P$89/180*PI())))))","v":-7.4012829897141632},{"$f":"-L85*SIN((Q$89/180*PI())-ATAN((L85*SIN(Q$89/180*PI())/(C85+L85*COS(Q$89/180*PI())))))","v":-8.2134086367206365},{"$f":"-K85*SIN((R$89/180*PI())-ATAN((K85*SIN(R$89/180*PI())/(C85+K85*COS(R$89/180*PI())))))","v":-7.9230441881348783},{"$f":"-J85*SIN((S$89/180*PI())-ATAN((J85*SIN(S$89/180*PI())/(C85+J85*COS(S$89/180*PI())))))","v":-7.217182335676803},{"$f":"-I85*SIN((T$89/180*PI())-ATAN((I85*SIN(T$89/180*PI())/(C85+I85*COS(T$89/180*PI())))))","v":-6.2986022810804823},{"$f":"-H85*SIN((U$89/180*PI())-ATAN((H85*SIN(U$89/180*PI())/(C85+H85*COS(U$89/180*PI())))))","v":-5.0339042579945792},{"$f":"-G85*SIN((V$89/180*PI())-ATAN((G85*SIN(V$89/180*PI())/(C85+G85*COS(V$89/180*PI())))))","v":-4.3274291571441106},{"$f":"-F85*SIN((D85/180*PI())-ATAN((F85*SIN(D85/180*PI())/(C85+F85*COS(D85/180*PI())))))","v":-3.2058278697686449}]
[null,null,null,null,{"$f":"E85","v":4.7574996696180785},{"$f":"G85*COS(G$78/180*PI())","v":4.1881733015350902},3.5335689045936407,1.9517146258254603,4.7404712356739379E-16,-2.7144455819497515,-4.1274936941068541,-5.6973688725863267,-6.6207081198215745,{"$f":"-O85","v":-7.1899340922708213},{"$f":"N85*COS((O$89/180*PI())-ATAN((N85*SIN(O$89/180*PI())/(C85+N85*COS(O$89/180*PI())))))","v":-5.3159278680536328},{"$f":"M85*COS((P$89/180*PI())-ATAN((M85*SIN(P$89/180*PI())/(C85+M85*COS(P$89/180*PI())))))","v":-3.1844990574341474},{"$f":"L85*COS((Q$89/180*PI())-ATAN((L85*SIN(Q$89/180*PI())/(C85+L85*COS(Q$89/180*PI())))))","v":-0.82748736897326536},{"$f":"K85*COS((R$89/180*PI())-ATAN((K85*SIN(R$89/180*PI())/(C85+K85*COS(R$89/180*PI())))))","v":0.46209200286910501},{"$f":"J85*COS((S$89/180*PI())-ATAN((J85*SIN(S$89/180*PI())/(C85+J85*COS(S$89/180*PI())))))","v":2.7925469054639405},{"$f":"I85*COS((T$89/180*PI())-ATAN((I85*SIN(T$89/180*PI())/(C85+I85*COS(T$89/180*PI())))))","v":4.1463202335088196},{"$f":"H85*COS((U$89/180*PI())-ATAN((H85*SIN(U$89/180*PI())/(C85+H85*COS(U$89/180*PI())))))","v":4.9602665992251289},{"$f":"G85*COS((V$89/180*PI())-ATAN((G85*SIN(V$89/180*PI())/(C85+G85*COS(V$89/180*PI())))))","v":5.2488447392680966},{"$f":"F85*COS((D85/180*PI())-ATAN((F85*SIN(D85/180*PI())/(C85+F85*COS(D85/180*PI())))))","v":5.340419302870548}]
[]
[]
[null,null,null,null,null,"Hulptabel voor TN berekening"]
[null,null,null,null,null,null,"CR6","CR8","CR10","CR12","CR14","CR16","CR20",null,"WL6","WL8","WL10","WL12","WL14","WL16","WL20"]
[null,null,null,null,null,null,{"$f":"IF($B$3=1,(0.242*OFFSET(#REF!,($C$3-1),(0))+0.0455*OFFSET(#REF!,($C$3-1),(0))+0.0657*OFFSET(#REF!,($C$3-1),(0))+0.0859*OFFSET(#REF!,($C$3-1),(0))+0.1002*OFFSET(#REF!,($C$3-1),(0))+0.0859*OFFSET(#REF!,($C$3-1),(0))+0.0716*OFFSET(#REF!,($C$3-1),(0))+0.0859*OFFSET(#REF!,($C$3-1),(0))+0.1301*OFFSET(#REF!,($C$3-1),(0))+0.0872*OFFSET(#REF!,($C$3-1),(0))),(0))","v":0},{"$f":"IF($B$3=1,(0.242*OFFSET(#REF!,($C$3-1),(0))+0.0455*OFFSET(#REF!,($C$3-1),(0))+0.0657*OFFSET(#REF!,($C$3-1),(0))+0.0859*OFFSET(#REF!,($C$3-1),(0))+0.1002*OFFSET(#REF!,($C$3-1),(0))+0.0859*OFFSET(#REF!,($C$3-1),(0))+0.0716*OFFSET(#REF!,($C$3-1),(0))+0.0859*OFFSET(#REF!,($C$3-1),(0))+0.1301*OFFSET(#REF!,($C$3-1),(0))+0.0872*OFFSET(#REF!,($C$3-1),(0))),(0))","v":0},{"$f":"IF($B$3=1,(0.242*OFFSET(#REF!,($C$3-1),(0))+0.0455*OFFSET(#REF!,($C$3-1),(0))+0.0657*OFFSET(#REF!,($C$3-1),(0))+0.0859*OFFSET(#REF!,($C$3-1),(0))+0.1002*OFFSET(#REF!,($C$3-1),(0))+0.0859*OFFSET(#REF!,($C$3-1),(0))+0.0716*OFFSET(#REF!,($C$3-1),(0))+0.0859*OFFSET(#REF!,($C$3-1),(0))+0.1301*OFFSET(#REF!,($C$3-1),(0))+0.0872*OFFSET(#REF!,($C$3-1),(0))),(0))","v":0},{"$f":"IF($B$3=1,(0.242*OFFSET(#REF!,($C$3-1),(0))+0.0455*OFFSET(#REF!,($C$3-1),(0))+0.0657*OFFSET(#REF!,($C$3-1),(0))+0.0859*OFFSET(#REF!,($C$3-1),(0))+0.1002*OFFSET(#REF!,($C$3-1),(0))+0.0859*OFFSET(#REF!,($C$3-1),(0))+0.0716*OFFSET(#REF!,($C$3-1),(0))+0.0859*OFFSET(#REF!,($C$3-1),(0))+0.1301*OFFSET(#REF!,($C$3-1),(0))+0.0872*OFFSET(#REF!,($C$3-1),(0))),(0))","v":0},{"$f":"IF($B$3=1,(0.242*OFFSET(#REF!,($C$3-1),(0))+0.0455*OFFSET(#REF!,($C$3-1),(0))+0.0657*OFFSET(#REF!,($C$3-1),(0))+0.0859*OFFSET(#REF!,($C$3-1),(0))+0.1002*OFFSET(#REF!,($C$3-1),(0))+0.0859*OFFSET(#REF!,($C$3-1),(0))+0.0716*OFFSET(#REF!,($C$3-1),(0))+0.0859*OFFSET(#REF!,($C$3-1),(0))+0.1301*OFFSET(#REF!,($C$3-1),(0))+0.0872*OFFSET(#REF!,($C$3-1),(0))),(0))","v":0},{"$f":"IF($B$3=1,(0.242*OFFSET(#REF!,($C$3-1),(0))+0.0455*OFFSET(#REF!,($C$3-1),(0))+0.0657*OFFSET(#REF!,($C$3-1),(0))+0.0859*OFFSET(#REF!,($C$3-1),(0))+0.1002*OFFSET(#REF!,($C$3-1),(0))+0.0859*OFFSET(#REF!,($C$3-1),(0))+0.0716*OFFSET(#REF!,($C$3-1),(0))+0.0859*OFFSET(#REF!,($C$3-1),(0))+0.1301*OFFSET(#REF!,($C$3-1),(0))+0.0872*OFFSET(#REF!,($C$3-1),(0))),(0))","v":0},{"$f":"IF($B$3=1,(0.242*OFFSET(#REF!,($C$3-1),(0))+0.0455*OFFSET(#REF!,($C$3-1),(0))+0.0657*OFFSET(#REF!,($C$3-1),(0))+0.0859*OFFSET(#REF!,($C$3-1),(0))+0.1002*OFFSET(#REF!,($C$3-1),(0))+0.0859*OFFSET(#REF!,($C$3-1),(0))+0.0716*OFFSET(#REF!,($C$3-1),(0))+0.0859*OFFSET(#REF!,($C$3-1),(0))+0.1301*OFFSET(#REF!,($C$3-1),(0))+0.0872*OFFSET(#REF!,($C$3-1),(0))),(0))","v":0},null,{"$f":"IF($B$3=1,(0.5*OFFSET(#REF!,($C$3-1),(0))+0.5*OFFSET(#REF!,($C$3-1),(0))),(0))","v":0},{"$f":"IF($B$3=1,(0.5*OFFSET(#REF!,($C$3-1),(0))+0.5*OFFSET(#REF!,($C$3-1),(0))),(0))","v":0},{"$f":"IF($B$3=1,(0.5*OFFSET(#REF!,($C$3-1),(0))+0.5*OFFSET(#REF!,($C$3-1),(0))),(0))","v":0},{"$f":"IF($B$3=1,(0.5*OFFSET(#REF!,($C$3-1),(0))+0.5*OFFSET(#REF!,($C$3-1),(0))),(0))","v":0},{"$f":"IF($B$3=1,(0.5*OFFSET(#REF!,($C$3-1),(0))+0.5*OFFSET(#REF!,($C$3-1),(0))),(0))","v":0},{"$f":"IF($B$3=1,(0.5*OFFSET(#REF!,($C$3-1),(0))+0.5*OFFSET(#REF!,($C$3-1),(0))),(0))","v":0},{"$f":"IF($B$3=1,(0.5*OFFSET(#REF!,($C$3-1),(0))+0.5*OFFSET(#REF!,($C$3-1),(0))),(0))","v":0}]
[]
[null,null,null,null,null,null,"CR-L",null,"CR-M",null,"CR-H",null,null,null,"WL-L",null,"WL-M",null,"WL-H"]
[null,null,null,null,"             Tripple Numbers voor IMS boot op 1 =>",null,{"$f":"IF($B$3=1,(675/(G108/2+H108/2)),(0))","v":0},null,{"$f":"IF($B$3=1,(675/(H108/12+I108/3+J108/3+K108/4)),(0))","v":0},null,{"$f":"IF($B$3=1,(675/(K108/4+3*L108/8+3*M108/8)),(0))","v":0},null,null,null,{"$f":"IF($B$3=1,(675/(O108/2+P108/2)),(0))","v":0},null,{"$f":"IF($B$3=1,(675/(P108/12+Q108/3+R108/3+S108/4)),(0))","v":0},null,{"$f":"IF($B$3=1,(675/(S108/4+3*T108/8+3*U108/8)),(0))","v":0}]
[null,null,null,"données bateau N°2",null,null,null,null,null,null,null,null,null,null,null,null,null,null,"vent apparent",null,null,null,null,null,null,null,null,null,null,"AWA"]
[null,null,"Wind(kn)","Up Angle",0,"V@UA",52,60,75,90,110,120,135,150,180,"V@DA","DA",null,"UA",52,60,75,90,110,120,135,150,"DA",null,"UA",52,60,75,90,110,120,135,150,"DA"]
[null,"Wind=1",6,{"$f":"OFFSET(ORC!$BK$6,($C$4-6),(0))","v":44.3},{"$f":"3600/OFFSET(ORC!$BY$6,($C$4-6),(0))","v":2.8719585161547667},{"$f":"3600/OFFSET(ORC!$BY$6,($C$4-6),(0))/COS(D114/180*PI())","v":4.0128373265609065},{"$f":"3600/OFFSET(ORC!$CF$6,($C$4-6),(0))","v":4.4471896232242125},{"$f":"3600/OFFSET(ORC!$CM$6,($C$4-6),(0))","v":4.7455839704719214},{"$f":"3600/OFFSET(ORC!$CT$6,($C$4-6),(0))","v":5.0139275766016711},{"$f":"3600/OFFSET(ORC!$DA$6,($C$4-6),(0))","v":4.9785645138984922},{"$f":"3600/OFFSET(ORC!$DH$6,($C$4-6),(0))","v":4.6929996089166988},{"$f":"3600/OFFSET(ORC!$DO$6,($C$4-6),(0))","v":4.5471769609700639},{"$f":"3600/OFFSET(ORC!$DV$6,($C$4-6),(0))","v":4.1218227616212504},{"$f":"3600/OFFSET(ORC!$EC$6,($C$4-6),(0))","v":3.5457500246232643},{"$f":"3600/OFFSET(ORC!$EJ$6,($C$4-6),(0))","v":3.0706243602865912},{"$f":"Main!O114/COS((180-Main!Q114)/180*PI())","v":3.6168748675962212},{"$f":"OFFSET(ORC!$BR$6,($C$4-6),(0))","v":148.1},null,{"$f":"SQRT(SUMSQ(($C114*SIN(D114/180*PI())),(F114+$C114*COS(D114/180*PI()))))","v":9.3041047717283192},{"$f":"SQRT(SUMSQ(($C114*SIN(G$78/180*PI())),(G114+$C114*COS(G$78/180*PI()))))","v":9.4145130218593494},{"$f":"SQRT(SUMSQ(($C114*SIN(H$78/180*PI())),(H114+$C114*COS(H$78/180*PI()))))","v":9.3270612222517109},{"$f":"SQRT(SUMSQ(($C114*SIN(I$78/180*PI())),(I114+$C114*COS(I$78/180*PI()))))","v":8.7585312190159819},{"$f":"SQRT(SUMSQ(($C114*SIN(J$78/180*PI())),(J114+$C114*COS(J$78/180*PI()))))","v":7.7965444024291513},{"$f":"SQRT(SUMSQ(($C114*SIN(K$78/180*PI())),(K114+$C114*COS(K$78/180*PI()))))","v":6.2259971524940747},{"$f":"SQRT(SUMSQ(($C114*SIN(L$78/180*PI())),(L114+$C114*COS(L$78/180*PI()))))","v":5.4216009211815441},{"$f":"SQRT(SUMSQ(($C114*SIN(M$78/180*PI())),(M114+$C114*COS(M$78/180*PI()))))","v":4.2443606080447092},{"$f":"SQRT(SUMSQ(($C114*SIN(N$78/180*PI())),(N114+$C114*COS(N$78/180*PI()))))","v":3.4240076044891206},{"$f":"SQRT(SUMSQ(($C114*SIN(Q114/180*PI())),(P114+$C114*COS(Q114/180*PI()))))","v":3.4977552064731587},null,{"$f":"DEGREES(ACOS((F114+$C114*COS(D114/180*PI()))/S114))","v":26.768818809174441},{"$f":"DEGREES(ACOS((G114+$C114*COS(G$78/180*PI()))/T114))","v":30.146334082815997},{"$f":"DEGREES(ACOS((H114+$C114*COS(H$78/180*PI()))/U114))","v":33.855824547590828},{"$f":"DEGREES(ACOS((I114+$C114*COS(I$78/180*PI()))/V114))","v":41.429957748176641},{"$f":"DEGREES(ACOS((J114+$C114*COS(J$78/180*PI()))/W114))","v":50.315444259690238},{"$f":"DEGREES(ACOS((K114+$C114*COS(K$78/180*PI()))/X114))","v":64.901886608800154},{"$f":"DEGREES(ACOS((L114+$C114*COS(L$78/180*PI()))/Y114))","v":73.41887131409311},{"$f":"DEGREES(ACOS((M114+$C114*COS(M$78/180*PI()))/Z114))","v":91.631174409727038},{"$f":"DEGREES(ACOS((N114+$C114*COS(N$78/180*PI()))/AA114))","v":118.81669378289348},{"$f":"DEGREES(ACOS((P114+$C114*COS(Q114/180*PI()))/AB114))","v":114.9772292931888}]
[null,"Wind=2",8,{"$f":"OFFSET(ORC!$BK$6,($C$4-6),(1))","v":42.6},{"$f":"3600/OFFSET(ORC!$BY$6,($C$4-6),(1))","v":3.4769171334749851},{"$f":"3600/OFFSET(ORC!$BY$6,($C$4-6),(1))/COS(D115/180*PI())","v":4.7234491133225003},{"$f":"3600/OFFSET(ORC!$CF$6,($C$4-6),(1))","v":5.3034767236299354},{"$f":"3600/OFFSET(ORC!$CM$6,($C$4-6),(1))","v":5.6355666875391366},{"$f":"3600/OFFSET(ORC!$CT$6,($C$4-6),(1))","v":5.9484467944481159},{"$f":"3600/OFFSET(ORC!$DA$6,($C$4-6),(1))","v":5.9016393442622954},{"$f":"3600/OFFSET(ORC!$DH$6,($C$4-6),(1))","v":5.7233704292527818},{"$f":"3600/OFFSET(ORC!$DO$6,($C$4-6),(1))","v":5.5581287633163496},{"$f":"3600/OFFSET(ORC!$DV$6,($C$4-6),(1))","v":5.1020408163265305},{"$f":"3600/OFFSET(ORC!$EC$6,($C$4-6),(1))","v":4.5186393874733275},{"$f":"3600/OFFSET(ORC!$EJ$6,($C$4-6),(1))","v":3.9185806030260149},{"$f":"Main!O115/COS((180-Main!Q115)/180*PI())","v":4.4505183323664435},{"$f":"OFFSET(ORC!$BR$6,($C$4-6),(1))","v":151.69999999999999},null,{"$f":"SQRT(SUMSQ(($C115*SIN(D115/180*PI())),(F115+$C115*COS(D115/180*PI()))))","v":11.913926542569703},12.015373744602755,11.867777609561697,11.136299222510837,9.9412950338346118,8.0893041405390544,7.1012509632510348,5.6839966524991272,4.6696892736604667,{"$f":"SQRT(SUMSQ(($C115*SIN(Q115/180*PI())),(P115+$C115*COS(Q115/180*PI()))))","v":4.5945428258221241},null,27.033459815559738,31.645917806973671,35.717039669752666,43.939115815156669,53.583621480113941,68.32884833998007,77.325260169591118,95.60154518647758,121.06437966788637,{"$f":"DEGREES(ACOS((P115+$C115*COS(Q115/180*PI()))/AB115))","v":124.36275946585859}]
[null,"Wind=3",10,{"$f":"OFFSET(ORC!$BK$6,($C$4-6),(2))","v":42.6},{"$f":"3600/OFFSET(ORC!$BY$6,($C$4-6),(2))","v":3.9262733122477917},{"$f":"3600/OFFSET(ORC!$BY$6,($C$4-6),(2))/COS(D116/180*PI())","v":5.3339068730877068},{"$f":"3600/OFFSET(ORC!$CF$6,($C$4-6),(2))","v":5.9920106524633825},{"$f":"3600/OFFSET(ORC!$CM$6,($C$4-6),(2))","v":6.2717770034843205},{"$f":"3600/OFFSET(ORC!$CT$6,($C$4-6),(2))","v":6.4783156379341369},{"$f":"3600/OFFSET(ORC!$DA$6,($C$4-6),(2))","v":6.4481461579795818},{"$f":"3600/OFFSET(ORC!$DH$6,($C$4-6),(2))","v":6.4400715563506266},{"$f":"3600/OFFSET(ORC!$DO$6,($C$4-6),(2))","v":6.340260655160268},{"$f":"3600/OFFSET(ORC!$DV$6,($C$4-6),(2))","v":5.9622391520370988},{"$f":"3600/OFFSET(ORC!$EC$6,($C$4-6),(2))","v":5.333333333333333},{"$f":"3600/OFFSET(ORC!$EJ$6,($C$4-6),(2))","v":4.6409694469511402},{"$f":"Main!O116/COS((180-Main!Q116)/180*PI())","v":5.1207432103454558},{"$f":"OFFSET(ORC!$BR$6,($C$4-6),(2))","v":155},null,14.386661488188569,14.480510834514366,14.214533295760292,13.247747085839116,11.89868013162245,9.8702501344345031,8.7633497376157852,7.1574786759624232,6.0056974094691391,5.7795001589476813,null,28.066014919823818,32.969131977324281,37.535545079050408,46.813056101729259,57.185485648175259,72.184263601141581,81.202697550293664,98.912092236950855,123.63916434485466,133.00982868436162]
[null,"Wind=4",12,{"$f":"OFFSET(ORC!$BK$6,($C$4-6),(3))","v":42.5},{"$f":"3600/OFFSET(ORC!$BY$6,($C$4-6),(3))","v":4.3206913106096971},{"$f":"3600/OFFSET(ORC!$BY$6,($C$4-6),(3))/COS(D117/180*PI())","v":5.8603338186189671},{"$f":"3600/OFFSET(ORC!$CF$6,($C$4-6),(3))","v":6.3909107047754308},{"$f":"3600/OFFSET(ORC!$CM$6,($C$4-6),(3))","v":6.5921992309100892},{"$f":"3600/OFFSET(ORC!$CT$6,($C$4-6),(3))","v":6.7631035130565476},{"$f":"3600/OFFSET(ORC!$DA$6,($C$4-6),(3))","v":6.7681895093062607},{"$f":"3600/OFFSET(ORC!$DH$6,($C$4-6),(3))","v":6.8078668683812413},{"$f":"3600/OFFSET(ORC!$DO$6,($C$4-6),(3))","v":6.7403108032203702},{"$f":"3600/OFFSET(ORC!$DV$6,($C$4-6),(3))","v":6.5064160491595882},{"$f":"3600/OFFSET(ORC!$EC$6,($C$4-6),(3))","v":6.0738991057870759},{"$f":"3600/OFFSET(ORC!$EJ$6,($C$4-6),(3))","v":5.3144375553587251},{"$f":"Main!O117/COS((180-Main!Q117)/180*PI())","v":5.7733943883363841},{"$f":"OFFSET(ORC!$BR$6,($C$4-6),(3))","v":157},null,16.794049658146239,16.71152416605533,16.326771924386421,15.223325818119017,13.77709654585767,11.595895344820221,10.418640030510931,8.7129735437908877,7.392471043706319,7.0558898400318482,null,28.864209048880191,34.460976288451313,39.53275671865989,49.588179014673827,60.576315247841904,76.517189180067305,85.925335795137926,103.1274028391192,125.74385960467991,138.35455763586157]
[null,"Wind=5",14,{"$f":"OFFSET(ORC!$BK$6,($C$4-6),(4))","v":40.799999999999997},{"$f":"3600/OFFSET(ORC!$BY$6,($C$4-6),(4))","v":4.5615813482007095},{"$f":"3600/OFFSET(ORC!$BY$6,($C$4-6),(4))/COS(D118/180*PI())","v":6.0259063968037232},{"$f":"3600/OFFSET(ORC!$CF$6,($C$4-6),(4))","v":6.6018705299834961},{"$f":"3600/OFFSET(ORC!$CM$6,($C$4-6),(4))","v":6.7911714770797964},{"$f":"3600/OFFSET(ORC!$CT$6,($C$4-6),(4))","v":6.9821567106283942},{"$f":"3600/OFFSET(ORC!$DA$6,($C$4-6),(4))","v":7.0189120686293629},{"$f":"3600/OFFSET(ORC!$DH$6,($C$4-6),(4))","v":7.1132187314759925},{"$f":"3600/OFFSET(ORC!$DO$6,($C$4-6),(4))","v":7.0408761979268526},{"$f":"3600/OFFSET(ORC!$DV$6,($C$4-6),(4))","v":6.83371298405467},{"$f":"3600/OFFSET(ORC!$EC$6,($C$4-6),(4))","v":6.5347612996914144},{"$f":"3600/OFFSET(ORC!$EJ$6,($C$4-6),(4))","v":5.9592782651878826},{"$f":"Main!O118/COS((180-Main!Q118)/180*PI())","v":5.9592782651878826},{"$f":"OFFSET(ORC!$BR$6,($C$4-6),(4))","v":180},null,18.974610026365756,18.798701559039287,18.362908558020415,17.185742231413837,15.660942711955464,13.359554116830617,12.124424558038084,10.363349795342438,8.957877261625077,8.0407217348121165,null,28.823435512945554,35.934290739187226,41.31996100309285,51.894052258258071,63.37306333140122,79.977900264162159,89.806833054280858,107.2072692258527,128.60783681566036,180]
[null,"Wind=6",16,{"$f":"OFFSET(ORC!$BK$6,($C$4-6),(5))","v":40.200000000000003},{"$f":"3600/OFFSET(ORC!$BY$6,($C$4-6),(5))","v":4.6710782405605293},{"$f":"3600/OFFSET(ORC!$BY$6,($C$4-6),(5))/COS(D119/180*PI())","v":6.1156094892382784},{"$f":"3600/OFFSET(ORC!$CF$6,($C$4-6),(5))","v":6.6976744186046515},{"$f":"3600/OFFSET(ORC!$CM$6,($C$4-6),(5))","v":6.9164265129682994},{"$f":"3600/OFFSET(ORC!$CT$6,($C$4-6),(5))","v":7.1727435744172148},{"$f":"3600/OFFSET(ORC!$DA$6,($C$4-6),(5))","v":7.1741729772817857},{"$f":"3600/OFFSET(ORC!$DH$6,($C$4-6),(5))","v":7.4318744838976061},{"$f":"3600/OFFSET(ORC!$DO$6,($C$4-6),(5))","v":7.3424434019987759},{"$f":"3600/OFFSET(ORC!$DV$6,($C$4-6),(5))","v":7.123070834982193},{"$f":"3600/OFFSET(ORC!$EC$6,($C$4-6),(5))","v":6.8350104423770643},{"$f":"3600/OFFSET(ORC!$EJ$6,($C$4-6),(5))","v":6.4389196923627257},{"$f":"Main!O119/COS((180-Main!Q119)/180*PI())","v":6.4389196923627257},{"$f":"OFFSET(ORC!$BR$6,($C$4-6),(5))","v":180},null,21.044599856561735,20.804106475874448,20.359267666514519,19.153443944904854,17.534787079059733,15.162240385485751,13.871999880319168,12.064884750007225,10.644247368603807,9.5610803076372743,null,29.388906486077154,37.303894536821431,42.890120168548663,53.793639450080747,65.849212734439931,82.574383003547396,92.716936371826691,110.32480797692826,131.27259970912766,180]
[null,"Wind=7",20,{"$f":"OFFSET(ORC!$BK$6,($C$4-6),(6))","v":40},{"$f":"3600/OFFSET(ORC!$BY$6,($C$4-6),(6))","v":4.7169811320754711},{"$f":"3600/OFFSET(ORC!$BY$6,($C$4-6),(6))/COS(D120/180*PI())","v":6.1575815534541434},{"$f":"3600/OFFSET(ORC!$CF$6,($C$4-6),(6))","v":6.7516879219804942},{"$f":"3600/OFFSET(ORC!$CM$6,($C$4-6),(6))","v":6.9943656498931412},{"$f":"3600/OFFSET(ORC!$CT$6,($C$4-6),(6))","v":7.4257425742574252},{"$f":"3600/OFFSET(ORC!$DA$6,($C$4-6),(6))","v":7.5885328836424959},{"$f":"3600/OFFSET(ORC!$DH$6,($C$4-6),(6))","v":7.9138272147724775},{"$f":"3600/OFFSET(ORC!$DO$6,($C$4-6),(6))","v":8.0071174377224192},{"$f":"3600/OFFSET(ORC!$DV$6,($C$4-6),(6))","v":7.7569489334195216},{"$f":"3600/OFFSET(ORC!$EC$6,($C$4-6),(6))","v":7.3906795319236291},{"$f":"3600/OFFSET(ORC!$EJ$6,($C$4-6),(6))","v":7.0161761839797308},{"$f":"Main!O120/COS((180-Main!Q120)/180*PI())","v":7.0161761839797308},{"$f":"OFFSET(ORC!$BR$6,($C$4-6),(6))","v":180},null,25.031880789714098,24.735712152174123,24.265375823223259,23.065528324081306,21.391255954855094,18.824482156363061,17.434780781731387,15.516784752974123,14.092604262824278,12.983823816020269,null,30.902264202286133,39.579196429327432,45.544545843941876,56.88222679982551,69.221920208223011,86.731062057043999,96.563539965772833,114.29921793138469,134.79826662021799,180]
[]
[null,null,null,"Bateau N°2"]
[null,null,null,null,"True Wind",null,null,null,null,null,null,null,null,null,"vent apparent"]
[null,null,null,null,"V@UA",52,60,75,90,110,120,135,150,"VMG180",150,135,120,110,90,75,60,52,"V@UA"]
[null,null,null,null,{"$f":"F114*SIN(D114/180*PI())","v":2.8026269268182293},{"$f":"G114*SIN(G$78/180*PI())","v":3.5044332464289054},{"$f":"H114*SIN(H$78/180*PI())","v":4.1097962742209049},{"$f":"I114*SIN(I$78/180*PI())","v":4.843082137382515},{"$f":"J114*SIN(J$78/180*PI())","v":4.9785645138984922},{"$f":"K114*SIN(K$78/180*PI())","v":4.4099771018501759},{"$f":"L114*SIN(L$78/180*PI())","v":3.9379707637033965},{"$f":"M114*SIN(M$78/180*PI())","v":2.9145688255914486},{"$f":"N114*SIN(N$78/180*PI())","v":1.7728750123116319},0,{"$f":"-N114*SIN((O$89/180*PI())-ATAN((N114*SIN(O$89/180*PI())/(C114+N114*COS(O$89/180*PI())))))","v":-3.1066666031709715},{"$f":"-M114*SIN((P$89/180*PI())-ATAN((M114*SIN(P$89/180*PI())/(C114+M114*COS(P$89/180*PI())))))","v":-4.1201524960917002},{"$f":"-L114*SIN((Q$89/180*PI())-ATAN((L114*SIN(Q$89/180*PI())/(C114+L114*COS(Q$89/180*PI())))))","v":-4.3580899674687048},{"$f":"-K114*SIN((R$89/180*PI())-ATAN((K114*SIN(R$89/180*PI())/(C114+K114*COS(R$89/180*PI())))))","v":-4.2498995683770087},{"$f":"-J114*SIN((S$89/180*PI())-ATAN((J114*SIN(S$89/180*PI())/(C114+J114*COS(S$89/180*PI())))))","v":-3.8313624012817775},{"$f":"-I114*SIN((T$89/180*PI())-ATAN((I114*SIN(T$89/180*PI())/(C114+I114*COS(T$89/180*PI())))))","v":-3.3177358278069593},{"$f":"-H114*SIN((U$89/180*PI())-ATAN((H114*SIN(U$89/180*PI())/(C114+H114*COS(U$89/180*PI())))))","v":-2.6437885479401175},{"$f":"-G114*SIN((V$89/180*PI())-ATAN((G114*SIN(V$89/180*PI())/(C114+G114*COS(V$89/180*PI())))))","v":-2.2334240156397085},{"$f":"-F114*SIN((D114/180*PI())-ATAN((F114*SIN(D114/180*PI())/(C114+F114*COS(D114/180*PI())))))","v":-1.8073486889363246}]
[null,null,null,null,{"$f":"E114","v":2.8719585161547667},{"$f":"G114*COS(G$78/180*PI())","v":2.7379633244871773},{"$f":"H114*COS(H$78/180*PI())","v":2.3727919852359611},{"$f":"I114*COS(I$78/180*PI())","v":1.2976999475892403},{"$f":"J114*COS(J$78/180*PI())","v":3.0497403109328111E-16},{"$f":"K114*COS(K$78/180*PI())","v":-1.6051003988689965},{"$f":"L114*COS(L$78/180*PI())","v":-2.273588480485031},{"$f":"M114*COS(M$78/180*PI())","v":-2.9145688255914481},{"$f":"N114*COS(N$78/180*PI())","v":-3.070709596793046},{"$f":"-O114","v":-3.0706243602865912},{"$f":"N114*COS((O$89/180*PI())-ATAN((N114*SIN(O$89/180*PI())/(C114+N114*COS(O$89/180*PI())))))","v":-1.7090833373062935},{"$f":"M114*COS((P$89/180*PI())-ATAN((M114*SIN(P$89/180*PI())/(C114+M114*COS(P$89/180*PI())))))","v":-0.11732982216114655},{"$f":"L114*COS((Q$89/180*PI())-ATAN((L114*SIN(Q$89/180*PI())/(C114+L114*COS(Q$89/180*PI())))))","v":1.2976402235695241},{"$f":"K114*COS((R$89/180*PI())-ATAN((K114*SIN(R$89/180*PI())/(C114+K114*COS(R$89/180*PI())))))","v":1.990627787408084},{"$f":"J114*COS((S$89/180*PI())-ATAN((J114*SIN(S$89/180*PI())/(C114+J114*COS(S$89/180*PI())))))","v":3.1791141484843952},{"$f":"I114*COS((T$89/180*PI())-ATAN((I114*SIN(T$89/180*PI())/(C114+I114*COS(T$89/180*PI())))))","v":3.7592683756673684},{"$f":"H114*COS((U$89/180*PI())-ATAN((H114*SIN(U$89/180*PI())/(C114+H114*COS(U$89/180*PI())))))","v":3.9409325463119425},{"$f":"G114*COS((V$89/180*PI())-ATAN((G114*SIN(V$89/180*PI())/(C114+G114*COS(V$89/180*PI())))))","v":3.8456875472764178},{"$f":"F114*COS((D114/180*PI())-ATAN((F114*SIN(D114/180*PI())/(C114+F114*COS(D114/180*PI())))))","v":3.5827858052136796}]
[null,null,null,null,{"$f":"F115*SIN(D115/180*PI())","v":3.1971891988268708},{"$f":"G115*SIN(G$78/180*PI())","v":4.1791966897233337},{"$f":"H115*SIN(H$78/180*PI())","v":4.880543916130212},{"$f":"I115*SIN(I$78/180*PI())","v":5.7457583850638558},{"$f":"J115*SIN(J$78/180*PI())","v":5.9016393442622954},{"$f":"K115*SIN(K$78/180*PI())","v":5.3782089583931159},{"$f":"L115*SIN(L$78/180*PI())","v":4.8134807065369447},{"$f":"M115*SIN(M$78/180*PI())","v":3.6076876591150384},{"$f":"N115*SIN(N$78/180*PI())","v":2.2593196937366633},0,{"$f":"-N115*SIN((O$89/180*PI())-ATAN((N115*SIN(O$89/180*PI())/(C115+N115*COS(O$89/180*PI())))))","v":-3.8706124734772898},{"$f":"-M115*SIN((P$89/180*PI())-ATAN((M115*SIN(P$89/180*PI())/(C115+M115*COS(P$89/180*PI())))))","v":-5.0776773874823711},{"$f":"-L115*SIN((Q$89/180*PI())-ATAN((L115*SIN(Q$89/180*PI())/(C115+L115*COS(Q$89/180*PI())))))","v":-5.4226847989986009},{"$f":"-K115*SIN((R$89/180*PI())-ATAN((K115*SIN(R$89/180*PI())/(C115+K115*COS(R$89/180*PI())))))","v":-5.3188347130533025},{"$f":"-J115*SIN((S$89/180*PI())-ATAN((J115*SIN(S$89/180*PI())/(C115+J115*COS(S$89/180*PI())))))","v":-4.749191588561783},{"$f":"-I115*SIN((T$89/180*PI())-ATAN((I115*SIN(T$89/180*PI())/(C115+I115*COS(T$89/180*PI())))))","v":-4.1275890816219594},{"$f":"-H115*SIN((U$89/180*PI())-ATAN((H115*SIN(U$89/180*PI())/(C115+H115*COS(U$89/180*PI())))))","v":-3.2899463247090361},{"$f":"-G115*SIN((V$89/180*PI())-ATAN((G115*SIN(V$89/180*PI())/(C115+G115*COS(V$89/180*PI())))))","v":-2.7825662545707206},{"$f":"-F115*SIN((D115/180*PI())-ATAN((F115*SIN(D115/180*PI())/(C115+F115*COS(D115/180*PI())))))","v":-2.1468584264997643}]
[null,null,null,null,{"$f":"E115","v":3.4769171334749851},{"$f":"G115*COS(G$78/180*PI())","v":3.2651463040252944},{"$f":"H115*COS(H$78/180*PI())","v":2.8177833437695687},{"$f":"I115*COS(I$78/180*PI())","v":1.5395713191822118},{"$f":"J115*COS(J$78/180*PI())","v":3.6151921620254361E-16},{"$f":"K115*COS(K$78/180*PI())","v":-1.9575079745189305},{"$f":"L115*COS(L$78/180*PI())","v":-2.7790643816581735},{"$f":"M115*COS(M$78/180*PI())","v":-3.607687659115038},{"$f":"N115*COS(N$78/180*PI())","v":-3.9132565000928574},{"$f":"-O115","v":-3.9185806030260149},{"$f":"N115*COS((O$89/180*PI())-ATAN((N115*SIN(O$89/180*PI())/(C115+N115*COS(O$89/180*PI())))))","v":-2.3316219663974995},{"$f":"M115*COS((P$89/180*PI())-ATAN((M115*SIN(P$89/180*PI())/(C115+M115*COS(P$89/180*PI())))))","v":-0.49800887553546086},{"$f":"L115*COS((Q$89/180*PI())-ATAN((L115*SIN(Q$89/180*PI())/(C115+L115*COS(Q$89/180*PI())))))","v":1.219542914502822},{"$f":"K115*COS((R$89/180*PI())-ATAN((K115*SIN(R$89/180*PI())/(C115+K115*COS(R$89/180*PI())))))","v":2.1135198995193702},{"$f":"J115*COS((S$89/180*PI())-ATAN((J115*SIN(S$89/180*PI())/(C115+J115*COS(S$89/180*PI())))))","v":3.5035019915619721},{"$f":"I115*COS((T$89/180*PI())-ATAN((I115*SIN(T$89/180*PI())/(C115+I115*COS(T$89/180*PI())))))","v":4.2833430448255312},{"$f":"H115*COS((U$89/180*PI())-ATAN((H115*SIN(U$89/180*PI())/(C115+H115*COS(U$89/180*PI())))))","v":4.5755726494324556},{"$f":"G115*COS((V$89/180*PI())-ATAN((G115*SIN(V$89/180*PI())/(C115+G115*COS(V$89/180*PI())))))","v":4.5148854245715677},{"$f":"F115*COS((D115/180*PI())-ATAN((F115*SIN(D115/180*PI())/(C115+F115*COS(D115/180*PI())))))","v":4.2073709632874152}]
[null,null,null,null,{"$f":"F116*SIN(D116/180*PI())","v":3.6103933869182496},{"$f":"G116*SIN(G$78/180*PI())","v":4.7217688298671758},{"$f":"H116*SIN(H$78/180*PI())","v":5.4315182118884646},{"$f":"I116*SIN(I$78/180*PI())","v":6.2575723855329235},{"$f":"J116*SIN(J$78/180*PI())","v":6.4481461579795818},{"$f":"K116*SIN(K$78/180*PI())","v":6.0516877188359048},{"$f":"L116*SIN(L$78/180*PI())","v":5.4908267939837607},{"$f":"M116*SIN(M$78/180*PI())","v":4.2159397354613635},{"$f":"N116*SIN(N$78/180*PI())","v":2.6666666666666661},0,{"$f":"-N116*SIN((O$89/180*PI())-ATAN((N116*SIN(O$89/180*PI())/(C116+N116*COS(O$89/180*PI())))))","v":-4.4402281447982261},{"$f":"-M116*SIN((P$89/180*PI())-ATAN((M116*SIN(P$89/180*PI())/(C116+M116*COS(P$89/180*PI())))))","v":-5.890258184938947},{"$f":"-L116*SIN((Q$89/180*PI())-ATAN((L116*SIN(Q$89/180*PI())/(C116+L116*COS(Q$89/180*PI())))))","v":-6.2656711855455764},{"$f":"-K116*SIN((R$89/180*PI())-ATAN((K116*SIN(R$89/180*PI())/(C116+K116*COS(R$89/180*PI())))))","v":-6.1312404816604227},{"$f":"-J116*SIN((S$89/180*PI())-ATAN((J116*SIN(S$89/180*PI())/(C116+J116*COS(S$89/180*PI())))))","v":-5.4192112794449425},{"$f":"-I116*SIN((T$89/180*PI())-ATAN((I116*SIN(T$89/180*PI())/(C116+I116*COS(T$89/180*PI())))))","v":-4.7234992825473068},{"$f":"-H116*SIN((U$89/180*PI())-ATAN((H116*SIN(U$89/180*PI())/(C116+H116*COS(U$89/180*PI())))))","v":-3.8211020361171486},{"$f":"-G116*SIN((V$89/180*PI())-ATAN((G116*SIN(V$89/180*PI())/(C116+G116*COS(V$89/180*PI())))))","v":-3.2607750402097802},{"$f":"-F116*SIN((D116/180*PI())-ATAN((F116*SIN(D116/180*PI())/(C116+F116*COS(D116/180*PI())))))","v":-2.5095421824461353}]
[null,null,null,null,{"$f":"E116","v":3.9262733122477917},{"$f":"G116*COS(G$78/180*PI())","v":3.6890501184626663},{"$f":"H116*COS(H$78/180*PI())","v":3.1358885017421612},{"$f":"I116*COS(I$78/180*PI())","v":1.6767114672828407},{"$f":"J116*COS(J$78/180*PI())","v":3.9499681512368194E-16},{"$f":"K116*COS(K$78/180*PI())","v":-2.2026341967306036},{"$f":"L116*COS(L$78/180*PI())","v":-3.1701303275801327},{"$f":"M116*COS(M$78/180*PI())","v":-4.2159397354613635},{"$f":"N116*COS(N$78/180*PI())","v":-4.6188021535170058},{"$f":"-O116","v":-4.6409694469511402},{"$f":"N116*COS((O$89/180*PI())-ATAN((N116*SIN(O$89/180*PI())/(C116+N116*COS(O$89/180*PI())))))","v":-2.9544573895363841},{"$f":"M116*COS((P$89/180*PI())-ATAN((M116*SIN(P$89/180*PI())/(C116+M116*COS(P$89/180*PI())))))","v":-0.92366347813681859},{"$f":"L116*COS((Q$89/180*PI())-ATAN((L116*SIN(Q$89/180*PI())/(C116+L116*COS(Q$89/180*PI())))))","v":0.96967508475633246},{"$f":"K116*COS((R$89/180*PI())-ATAN((K116*SIN(R$89/180*PI())/(C116+K116*COS(R$89/180*PI())))))","v":1.9703836699904045},{"$f":"J116*COS((S$89/180*PI())-ATAN((J116*SIN(S$89/180*PI())/(C116+J116*COS(S$89/180*PI())))))","v":3.4943866390832525},{"$f":"I116*COS((T$89/180*PI())-ATAN((I116*SIN(T$89/180*PI())/(C116+I116*COS(T$89/180*PI())))))","v":4.4336359833072745},{"$f":"H116*COS((U$89/180*PI())-ATAN((H116*SIN(U$89/180*PI())/(C116+H116*COS(U$89/180*PI())))))","v":4.9733656623071818},{"$f":"G116*COS((V$89/180*PI())-ATAN((G116*SIN(V$89/180*PI())/(C116+G116*COS(V$89/180*PI())))))","v":5.0270804445900366},{"$f":"F116*COS((D116/180*PI())-ATAN((F116*SIN(D116/180*PI())/(C116+F116*COS(D116/180*PI())))))","v":4.7066719202952489}]
[null,null,null,null,{"$f":"F117*SIN(D117/180*PI())","v":3.9591841412178623},{"$f":"G117*SIN(G$78/180*PI())","v":5.0361063607033536},{"$f":"H117*SIN(H$78/180*PI())","v":5.7090120007763758},{"$f":"I117*SIN(I$78/180*PI())","v":6.5326563491276461},{"$f":"J117*SIN(J$78/180*PI())","v":6.7681895093062607},{"$f":"K117*SIN(K$78/180*PI())","v":6.3973022595107238},{"$f":"L117*SIN(L$78/180*PI())","v":5.8372803849915353},{"$f":"M117*SIN(M$78/180*PI())","v":4.6007309095817304},{"$f":"N117*SIN(N$78/180*PI())","v":3.0369495528935375},0,{"$f":"-N117*SIN((O$89/180*PI())-ATAN((N117*SIN(O$89/180*PI())/(C117+N117*COS(O$89/180*PI())))))","v":-4.9297987667802952},{"$f":"-M117*SIN((P$89/180*PI())-ATAN((M117*SIN(P$89/180*PI())/(C117+M117*COS(P$89/180*PI())))))","v":-6.3363868417027502},{"$f":"-L117*SIN((Q$89/180*PI())-ATAN((L117*SIN(Q$89/180*PI())/(C117+L117*COS(Q$89/180*PI())))))","v":-6.723273326918398},{"$f":"-K117*SIN((R$89/180*PI())-ATAN((K117*SIN(R$89/180*PI())/(C117+K117*COS(R$89/180*PI())))))","v":-6.6202414588382847},{"$f":"-J117*SIN((S$89/180*PI())-ATAN((J117*SIN(S$89/180*PI())/(C117+J117*COS(S$89/180*PI())))))","v":-5.8951662159974374},{"$f":"-I117*SIN((T$89/180*PI())-ATAN((I117*SIN(T$89/180*PI())/(C117+I117*COS(T$89/180*PI())))))","v":-5.14945795196925},{"$f":"-H117*SIN((U$89/180*PI())-ATAN((H117*SIN(U$89/180*PI())/(C117+H117*COS(U$89/180*PI())))))","v":-4.1960618012302593},{"$f":"-G117*SIN((V$89/180*PI())-ATAN((G117*SIN(V$89/180*PI())/(C117+G117*COS(V$89/180*PI())))))","v":-3.6162635872072713},{"$f":"-F117*SIN((D117/180*PI())-ATAN((F117*SIN(D117/180*PI())/(C117+F117*COS(D117/180*PI())))))","v":-2.8289906640575349}]
[null,null,null,null,{"$f":"E117","v":4.3206913106096971},{"$f":"G117*COS(G$78/180*PI())","v":3.9346375131765843},{"$f":"H117*COS(H$78/180*PI())","v":3.2960996154550455},{"$f":"I117*COS(I$78/180*PI())","v":1.7504199931787991},{"$f":"J117*COS(J$78/180*PI())","v":4.1460184599276482E-16},{"$f":"K117*COS(K$78/180*PI())","v":-2.3284276020658234},{"$f":"L117*COS(L$78/180*PI())","v":-3.3701554016101838},{"$f":"M117*COS(M$78/180*PI())","v":-4.6007309095817295},{"$f":"N117*COS(N$78/180*PI())","v":-5.2601509256351937},{"$f":"-O117","v":-5.3144375553587251},{"$f":"N117*COS((O$89/180*PI())-ATAN((N117*SIN(O$89/180*PI())/(C117+N117*COS(O$89/180*PI())))))","v":-3.5481452149443546},{"$f":"M117*COS((P$89/180*PI())-ATAN((M117*SIN(P$89/180*PI())/(C117+M117*COS(P$89/180*PI())))))","v":-1.4777183754212828},{"$f":"L117*COS((Q$89/180*PI())-ATAN((L117*SIN(Q$89/180*PI())/(C117+L117*COS(Q$89/180*PI())))))","v":0.4789420586635173},{"$f":"K117*COS((R$89/180*PI())-ATAN((K117*SIN(R$89/180*PI())/(C117+K117*COS(R$89/180*PI())))))","v":1.5872789056374914},{"$f":"J117*COS((S$89/180*PI())-ATAN((J117*SIN(S$89/180*PI())/(C117+J117*COS(S$89/180*PI())))))","v":3.3249668448942131},{"$f":"I117*COS((T$89/180*PI())-ATAN((I117*SIN(T$89/180*PI())/(C117+I117*COS(T$89/180*PI())))))","v":4.384364484075026},{"$f":"H117*COS((U$89/180*PI())-ATAN((H117*SIN(U$89/180*PI())/(C117+H117*COS(U$89/180*PI())))))","v":5.0843048748346957},{"$f":"G117*COS((V$89/180*PI())-ATAN((G117*SIN(V$89/180*PI())/(C117+G117*COS(V$89/180*PI())))))","v":5.2693811120711311},{"$f":"F117*COS((D117/180*PI())-ATAN((F117*SIN(D117/180*PI())/(C117+F117*COS(D117/180*PI())))))","v":5.1322825612318415}]
[null,null,null,null,{"$f":"F118*SIN(D118/180*PI())","v":3.9374513973873282},{"$f":"G118*SIN(G$78/180*PI())","v":5.202344971546303},{"$f":"H118*SIN(H$78/180*PI())","v":5.8813270206073929},{"$f":"I118*SIN(I$78/180*PI())","v":6.7442454899934949},{"$f":"J118*SIN(J$78/180*PI())","v":7.0189120686293629},{"$f":"K118*SIN(K$78/180*PI())","v":6.68423915200409},{"$f":"L118*SIN(L$78/180*PI())","v":6.097577652305846},{"$f":"M118*SIN(M$78/180*PI())","v":4.8321647917076147},{"$f":"N118*SIN(N$78/180*PI())","v":3.2673806498457068},0,{"$f":"-N118*SIN((O$89/180*PI())-ATAN((N118*SIN(O$89/180*PI())/(C118+N118*COS(O$89/180*PI())))))","v":-5.1064920585372544},{"$f":"-M118*SIN((P$89/180*PI())-ATAN((M118*SIN(P$89/180*PI())/(C118+M118*COS(P$89/180*PI())))))","v":-6.5278417133338893},{"$f":"-L118*SIN((Q$89/180*PI())-ATAN((L118*SIN(Q$89/180*PI())/(C118+L118*COS(Q$89/180*PI())))))","v":-7.0408361834943349},{"$f":"-K118*SIN((R$89/180*PI())-ATAN((K118*SIN(R$89/180*PI())/(C118+K118*COS(R$89/180*PI())))))","v":-7.0046760026342669},{"$f":"-J118*SIN((S$89/180*PI())-ATAN((J118*SIN(S$89/180*PI())/(C118+J118*COS(S$89/180*PI())))))","v":-6.2745117435233571},{"$f":"-I118*SIN((T$89/180*PI())-ATAN((I118*SIN(T$89/180*PI())/(C118+I118*COS(T$89/180*PI())))))","v":-5.4940563863060579},{"$f":"-H118*SIN((U$89/180*PI())-ATAN((H118*SIN(U$89/180*PI())/(C118+H118*COS(U$89/180*PI())))))","v":-4.4839616789650831},{"$f":"-G118*SIN((V$89/180*PI())-ATAN((G118*SIN(V$89/180*PI())/(C118+G118*COS(V$89/180*PI())))))","v":-3.8743542671236697},{"$f":"-F118*SIN((D118/180*PI())-ATAN((F118*SIN(D118/180*PI())/(C118+F118*COS(D118/180*PI())))))","v":-2.9051621870924254}]
[null,null,null,null,{"$f":"E118","v":4.5615813482007095},{"$f":"G118*COS(G$78/180*PI())","v":4.0645173503986252},{"$f":"H118*COS(H$78/180*PI())","v":3.3955857385398991},{"$f":"I118*COS(I$78/180*PI())","v":1.8071151326009982},{"$f":"J118*COS(J$78/180*PI())","v":4.2996046380103649E-16},{"$f":"K118*COS(K$78/180*PI())","v":-2.4328640900462504},{"$f":"L118*COS(L$78/180*PI())","v":-3.5204380989634245},{"$f":"M118*COS(M$78/180*PI())","v":-4.8321647917076138},{"$f":"N118*COS(N$78/180*PI())","v":-5.6592692932001807},{"$f":"-O118","v":-5.9592782651878826},{"$f":"N118*COS((O$89/180*PI())-ATAN((N118*SIN(O$89/180*PI())/(C118+N118*COS(O$89/180*PI())))))","v":-4.0776027393605396},{"$f":"M118*COS((P$89/180*PI())-ATAN((M118*SIN(P$89/180*PI())/(C118+M118*COS(P$89/180*PI())))))","v":-2.0216121571892698},{"$f":"L118*COS((Q$89/180*PI())-ATAN((L118*SIN(Q$89/180*PI())/(C118+L118*COS(Q$89/180*PI())))))","v":2.3737559474864944E-2},{"$f":"K118*COS((R$89/180*PI())-ATAN((K118*SIN(R$89/180*PI())/(C118+K118*COS(R$89/180*PI())))))","v":1.237899357759163},{"$f":"J118*COS((S$89/180*PI())-ATAN((J118*SIN(S$89/180*PI())/(C118+J118*COS(S$89/180*PI())))))","v":3.1457318715266256},{"$f":"I118*COS((T$89/180*PI())-ATAN((I118*SIN(T$89/180*PI())/(C118+I118*COS(T$89/180*PI())))))","v":4.308811524755142},{"$f":"H118*COS((U$89/180*PI())-ATAN((H118*SIN(U$89/180*PI())/(C118+H118*COS(U$89/180*PI())))))","v":5.1004017187545942},{"$f":"G118*COS((V$89/180*PI())-ATAN((G118*SIN(V$89/180*PI())/(C118+G118*COS(V$89/180*PI())))))","v":5.3454722436362134},{"$f":"F118*COS((D118/180*PI())-ATAN((F118*SIN(D118/180*PI())/(C118+F118*COS(D118/180*PI())))))","v":5.2793541811218141}]
[null,null,null,null,{"$f":"F119*SIN(D119/180*PI())","v":3.9473671599463898},{"$f":"G119*SIN(G$78/180*PI())","v":5.2778394660171148},{"$f":"H119*SIN(H$78/180*PI())","v":5.989801063638768},{"$f":"I119*SIN(I$78/180*PI())","v":6.9283382638785538},{"$f":"J119*SIN(J$78/180*PI())","v":7.1741729772817857},{"$f":"K119*SIN(K$78/180*PI())","v":6.9836776111256622},{"$f":"L119*SIN(L$78/180*PI())","v":6.3587425119803775},{"$f":"M119*SIN(M$78/180*PI())","v":5.036771690288032},{"$f":"N119*SIN(N$78/180*PI())","v":3.4175052211885317},0,{"$f":"-N119*SIN((O$89/180*PI())-ATAN((N119*SIN(O$89/180*PI())/(C119+N119*COS(O$89/180*PI())))))","v":-5.1370549410849353},{"$f":"-M119*SIN((P$89/180*PI())-ATAN((M119*SIN(P$89/180*PI())/(C119+M119*COS(P$89/180*PI())))))","v":-6.6795786876091174},{"$f":"-L119*SIN((Q$89/180*PI())-ATAN((L119*SIN(Q$89/180*PI())/(C119+L119*COS(Q$89/180*PI())))))","v":-7.3341898118114184},{"$f":"-K119*SIN((R$89/180*PI())-ATAN((K119*SIN(R$89/180*PI())/(C119+K119*COS(R$89/180*PI())))))","v":-7.3695469097676378},{"$f":"-J119*SIN((S$89/180*PI())-ATAN((J119*SIN(S$89/180*PI())/(C119+J119*COS(S$89/180*PI())))))","v":-6.5462310502525796},{"$f":"-I119*SIN((T$89/180*PI())-ATAN((I119*SIN(T$89/180*PI())/(C119+I119*COS(T$89/180*PI())))))","v":-5.7876490797648827},{"$f":"-H119*SIN((U$89/180*PI())-ATAN((H119*SIN(U$89/180*PI())/(C119+H119*COS(U$89/180*PI())))))","v":-4.7072821374535927},{"$f":"-G119*SIN((V$89/180*PI())-ATAN((G119*SIN(V$89/180*PI())/(C119+G119*COS(V$89/180*PI())))))","v":-4.0590751424100464},{"$f":"-F119*SIN((D119/180*PI())-ATAN((F119*SIN(D119/180*PI())/(C119+F119*COS(D119/180*PI())))))","v":-3.0011439984424091}]
[null,null,null,null,{"$f":"E119","v":4.6710782405605293},{"$f":"G119*COS(G$78/180*PI())","v":4.1235001138090608},{"$f":"H119*COS(H$78/180*PI())","v":3.4582132564841506},{"$f":"I119*COS(I$78/180*PI())","v":1.8564426426959049},{"$f":"J119*COS(J$78/180*PI())","v":4.394713469181977E-16},{"$f":"K119*COS(K$78/180*PI())","v":-2.5418507761610396},{"$f":"L119*COS(L$78/180*PI())","v":-3.6712217009993862},{"$f":"M119*COS(M$78/180*PI())","v":-5.0367716902880311},{"$f":"N119*COS(N$78/180*PI())","v":-5.9192926782304518},{"$f":"-O119","v":-6.4389196923627257},{"$f":"N119*COS((O$89/180*PI())-ATAN((N119*SIN(O$89/180*PI())/(C119+N119*COS(O$89/180*PI())))))","v":-4.5086621385593277},{"$f":"M119*COS((P$89/180*PI())-ATAN((M119*SIN(P$89/180*PI())/(C119+M119*COS(P$89/180*PI())))))","v":-2.4741395830090065},{"$f":"L119*COS((Q$89/180*PI())-ATAN((L119*SIN(Q$89/180*PI())/(C119+L119*COS(Q$89/180*PI())))))","v":-0.34804441652891221},{"$f":"K119*COS((R$89/180*PI())-ATAN((K119*SIN(R$89/180*PI())/(C119+K119*COS(R$89/180*PI())))))","v":0.96048773502974094},{"$f":"J119*COS((S$89/180*PI())-ATAN((J119*SIN(S$89/180*PI())/(C119+J119*COS(S$89/180*PI())))))","v":2.9352371189853139},{"$f":"I119*COS((T$89/180*PI())-ATAN((I119*SIN(T$89/180*PI())/(C119+I119*COS(T$89/180*PI())))))","v":4.2369055351565423},{"$f":"H119*COS((U$89/180*PI())-ATAN((H119*SIN(U$89/180*PI())/(C119+H119*COS(U$89/180*PI())))))","v":5.0673909053576249},{"$f":"G119*COS((V$89/180*PI())-ATAN((G119*SIN(V$89/180*PI())/(C119+G119*COS(V$89/180*PI())))))","v":5.3275464902617244},{"$f":"F119*COS((D119/180*PI())-ATAN((F119*SIN(D119/180*PI())/(C119+F119*COS(D119/180*PI())))))","v":5.3285846268473946}]
[null,null,null,null,{"$f":"F120*SIN(D120/180*PI())","v":3.9580171281947161},{"$f":"G120*SIN(G$78/180*PI())","v":5.3204026875172516},{"$f":"H120*SIN(H$78/180*PI())","v":6.057298336164715},{"$f":"I120*SIN(I$78/180*PI())","v":7.1727165318495167},{"$f":"J120*SIN(J$78/180*PI())","v":7.5885328836424959},{"$f":"K120*SIN(K$78/180*PI())","v":7.4365650358963959},{"$f":"L120*SIN(L$78/180*PI())","v":6.9343671121529784},{"$f":"M120*SIN(M$78/180*PI())","v":5.4849911921387013},{"$f":"N120*SIN(N$78/180*PI())","v":3.6953397659618141},0,{"$f":"-N120*SIN((O$89/180*PI())-ATAN((N120*SIN(O$89/180*PI())/(C120+N120*COS(O$89/180*PI())))))","v":-5.2443674668563167},{"$f":"-M120*SIN((P$89/180*PI())-ATAN((M120*SIN(P$89/180*PI())/(C120+M120*COS(P$89/180*PI())))))","v":-7.0697522450163337},{"$f":"-L120*SIN((Q$89/180*PI())-ATAN((L120*SIN(Q$89/180*PI())/(C120+L120*COS(Q$89/180*PI())))))","v":-7.9546364235551357},{"$f":"-K120*SIN((R$89/180*PI())-ATAN((K120*SIN(R$89/180*PI())/(C120+K120*COS(R$89/180*PI())))))","v":-7.9009504475348189},{"$f":"-J120*SIN((S$89/180*PI())-ATAN((J120*SIN(S$89/180*PI())/(C120+J120*COS(S$89/180*PI())))))","v":-7.094985820054343},{"$f":"-I120*SIN((T$89/180*PI())-ATAN((I120*SIN(T$89/180*PI())/(C120+I120*COS(T$89/180*PI())))))","v":-6.2194253095524568},{"$f":"-H120*SIN((U$89/180*PI())-ATAN((H120*SIN(U$89/180*PI())/(C120+H120*COS(U$89/180*PI())))))","v":-4.9925444223843893},{"$f":"-G120*SIN((V$89/180*PI())-ATAN((G120*SIN(V$89/180*PI())/(C120+G120*COS(V$89/180*PI())))))","v":-4.301798674552912},{"$f":"-F120*SIN((D120/180*PI())-ATAN((F120*SIN(D120/180*PI())/(C120+F120*COS(D120/180*PI())))))","v":-3.162380934493036}]
[null,null,null,null,{"$f":"E120","v":4.7169811320754711},{"$f":"G120*COS(G$78/180*PI())","v":4.1567541469849392},{"$f":"H120*COS(H$78/180*PI())","v":3.4971828249465715},{"$f":"I120*COS(I$78/180*PI())","v":1.921923602246441},{"$f":"J120*COS(J$78/180*PI())","v":4.6485396687089292E-16},{"$f":"K120*COS(K$78/180*PI())","v":-2.7066883182510604},{"$f":"L120*COS(L$78/180*PI())","v":-4.0035587188612078},{"$f":"M120*COS(M$78/180*PI())","v":-5.4849911921387005},{"$f":"N120*COS(N$78/180*PI())","v":-6.4005162258755472},{"$f":"-O120","v":-7.0161761839797308},{"$f":"N120*COS((O$89/180*PI())-ATAN((N120*SIN(O$89/180*PI())/(C120+N120*COS(O$89/180*PI())))))","v":-5.2075669766383159},{"$f":"M120*COS((P$89/180*PI())-ATAN((M120*SIN(P$89/180*PI())/(C120+M120*COS(P$89/180*PI())))))","v":-3.1919993655645937},{"$f":"L120*COS((Q$89/180*PI())-ATAN((L120*SIN(Q$89/180*PI())/(C120+L120*COS(Q$89/180*PI())))))","v":-0.91525353346949723},{"$f":"K120*COS((R$89/180*PI())-ATAN((K120*SIN(R$89/180*PI())/(C120+K120*COS(R$89/180*PI())))))","v":0.45126844657348886},{"$f":"J120*COS((S$89/180*PI())-ATAN((J120*SIN(S$89/180*PI())/(C120+J120*COS(S$89/180*PI())))))","v":2.692026660222981},{"$f":"I120*COS((T$89/180*PI())-ATAN((I120*SIN(T$89/180*PI())/(C120+I120*COS(T$89/180*PI())))))","v":4.0571420480478153},{"$f":"H120*COS((U$89/180*PI())-ATAN((H120*SIN(U$89/180*PI())/(C120+H120*COS(U$89/180*PI())))))","v":4.8985356010672856},{"$f":"G120*COS((V$89/180*PI())-ATAN((G120*SIN(V$89/180*PI())/(C120+G120*COS(V$89/180*PI())))))","v":5.2038272415052456},{"$f":"F120*COS((D120/180*PI())-ATAN((F120*SIN(D120/180*PI())/(C120+F120*COS(D120/180*PI())))))","v":5.2834796689864998}]

{"sheet":"Detail 1","index":2,"n_rows":46,"n_cols":15,"rows_kept":46,"cut":false,"hidden":false,"merged":[[41,0,43,0],[23,0,25,0],[26,0,28,0],[29,0,31,0],[32,0,34,0],[35,0,37,0],[38,0,40,0]]}
[]
["N° de Voile",null,{"$f":"Main!$D$3","v":"GRE-1773"},null,null,null,"GPH:",{"$f":"Main!$N$3","v":702.2}]
["Nom",null,{"$f":"Main!$E$3","v":"TOLMI"},null,null,null,"TMF:",{"$f":"Main!$O$3","v":0.88870000000000005}]
["Type:",null,{"$f":"Main!$F$3","v":"FIRST 32"},null,null,null,"DSPL:",{"$f":"Main!L3","v":3800}]
["GV:",{"$f":"OFFSET(ORC!$A$6,(Main!$C3-6),164)","v":20},"GENOA:",{"$f":"OFFSET(ORC!$A$6,(Main!$C3-6),165)","v":30.5},null,"SPI:",{"$f":"OFFSET(ORC!$A$6,(Main!$C3-6),166)","v":62.4},"ASYM:",{"$f":"OFFSET(ORC!$A$6,(Main!$C3-6),167)","v":0}]
[]
[]
[]
[]
[]
["VENT REEL","ANGLE OPTIMAL",null,null,null,"                VITESSE",null,null,null,null,null,null,null,null,"ANGLE OPTIMAL"]
[null,"UA","VMG","V@UA",52,60,75,90,110,120,135,150,"V@DA","VMG","DA"]
[6,{"$f":"Main!D79","v":44.2},{"$f":"Main!E79","v":2.9397354238118569},{"$f":"Main!F79","v":4.1005606451356531},{"$f":"Main!G79","v":4.5500505561172897},{"$f":"Main!H79","v":4.8589553246052102},{"$f":"Main!I79","v":5.1450621695012142},{"$f":"Main!J79","v":5.1165434906196703},{"$f":"Main!K79","v":4.9362402303578774},{"$f":"Main!L79","v":4.7923322683706067},{"$f":"Main!M79","v":4.3662825955124314},{"$f":"Main!N79","v":3.7453183520599249},{"$f":"Main!P79","v":3.8415588963446301},{"$f":"Main!O79","v":3.2435354536444723},{"$f":"Main!Q79","v":147.6}]
[8,{"$f":"Main!D80","v":42.8},{"$f":"Main!E80","v":3.5460992907801416},{"$f":"Main!F80","v":4.8329766339587774},{"$f":"Main!G80","v":5.4306833609895913},{"$f":"Main!H80","v":5.7831325301204819},{"$f":"Main!I80","v":6.0831361946603586},{"$f":"Main!J80","v":6.0504201680672267},{"$f":"Main!K80","v":6.0130282278269576},{"$f":"Main!L80","v":5.8574682720468596},{"$f":"Main!M80","v":5.3715308863025957},{"$f":"Main!N80","v":4.7306176084099869},{"$f":"Main!P80","v":4.6773890617466343},{"$f":"Main!O80","v":4.0988272799726744},{"$f":"Main!Q80","v":151.19999999999999}]
[10,{"$f":"Main!D81","v":43},{"$f":"Main!E81","v":4.0124832813196614},{"$f":"Main!F81","v":5.4863785777473737},{"$f":"Main!G81","v":6.1037639877924725},{"$f":"Main!H81","v":6.3750664069417384},{"$f":"Main!I81","v":6.5765436609426384},{"$f":"Main!J81","v":6.5633546034639929},{"$f":"Main!K81","v":6.6212985102078346},{"$f":"Main!L81","v":6.5395095367847409},{"$f":"Main!M81","v":6.2229904926534143},{"$f":"Main!N81","v":5.5822608156303302},{"$f":"Main!P81","v":5.4589351987316626},{"$f":"Main!O81","v":4.846526655896608},{"$f":"Main!Q81","v":152.6}]
[12,{"$f":"Main!D82","v":41.9},{"$f":"Main!E82","v":4.3988269794721413},{"$f":"Main!F82","v":5.9099271020928619},{"$f":"Main!G82","v":6.4806480648064806},{"$f":"Main!H82","v":6.6740823136818692},{"$f":"Main!I82","v":6.8467097755800692},{"$f":"Main!J82","v":6.8873158599579103},{"$f":"Main!K82","v":6.972690296339338},{"$f":"Main!L82","v":6.9044879171461453},{"$f":"Main!M82","v":6.6877206018948545},{"$f":"Main!N82","v":6.2959076600209869},{"$f":"Main!P82","v":5.9669971932369759},{"$f":"Main!O82","v":5.532503457814661},{"$f":"Main!Q82","v":158}]
[14,{"$f":"Main!D83","v":40.9},{"$f":"Main!E83","v":4.6142014867982564},{"$f":"Main!F83","v":6.1046243419104824},{"$f":"Main!G83","v":6.6679014632339326},{"$f":"Main!H83","v":6.8636796949475691},{"$f":"Main!I83","v":7.0740813519355479},{"$f":"Main!J83","v":7.0615927814829345},{"$f":"Main!K83","v":7.3260073260073266},{"$f":"Main!L83","v":7.2449184946669352},{"$f":"Main!M83","v":7.0107108081791623},{"$f":"Main!N83","v":6.7014147431124345},{"$f":"Main!P83","v":6.1485909479077714},{"$f":"Main!O83","v":6.1485909479077714},{"$f":"Main!Q83","v":180}]
[16,{"$f":"Main!D84","v":40.200000000000003},{"$f":"Main!E84","v":4.7200734233643633},{"$f":"Main!F84","v":6.1797564355001198},{"$f":"Main!G84","v":6.7529544175576808},{"$f":"Main!H84","v":6.9848661233993017},{"$f":"Main!I84","v":7.2815533980582527},{"$f":"Main!J84","v":7.3022312373225153},{"$f":"Main!K84","v":7.6433121019108281},{"$f":"Main!L84","v":7.6109936575052854},{"$f":"Main!M84","v":7.3499387505104119},{"$f":"Main!N84","v":7.0011668611435232},{"$f":"Main!P84","v":6.5946143982414362},{"$f":"Main!O84","v":6.5946143982414362},{"$f":"Main!Q84","v":180}]
[20,{"$f":"Main!D85","v":40.200000000000003},{"$f":"Main!E85","v":4.7574996696180785},{"$f":"Main!F85","v":6.2287567508338064},{"$f":"Main!G85","v":6.8027210884353737},{"$f":"Main!H85","v":7.0671378091872796},{"$f":"Main!I85","v":7.5408462505236704},{"$f":"Main!J85","v":7.7386070507308684},{"$f":"Main!K85","v":7.9365079365079358},{"$f":"Main!L85","v":8.2549873882137117},{"$f":"Main!M85","v":8.0572963294538944},{"$f":"Main!N85","v":7.6449352304098541},{"$f":"Main!P85","v":7.1899340922708213},{"$f":"Main!O85","v":7.1899340922708213},{"$f":"Main!Q85","v":180}]
["Snelheden in knopen",null,null,"UA=Up Angle, VMG=resulterende snelheid recht tegen de wind (bijUA), V@UA=snelheid bij optimale opkruishoek"]
["Hoeken in graden",null,null,"DA=Down Angle, VMG=resulterende snelheid recht voor de wind (bijDA), V@DA=snelheid bij afkruis opkruishoek"]
["Vent réel","ANGLE OPTIMAL",null," vitesse du bateau en vent réel / vitesse du vent apparent et l'angle",null,null,null,null,null,null,null,null,"Optimale afkruis  hoek / VMG"]
[null,"UA/VMG","V@UA",52,60,75,90,110,120,135,150,"V@DA","DA/VMG","TWA"]
[6,{"$f":"Main!D79","v":44.2},{"$f":"Main!F79","v":4.1005606451356531},{"$f":"Main!G79","v":4.5500505561172897},{"$f":"Main!H79","v":4.8589553246052102},{"$f":"Main!I79","v":5.1450621695012142},{"$f":"Main!J79","v":5.1165434906196703},{"$f":"Main!K79","v":4.9362402303578774},{"$f":"Main!L79","v":4.7923322683706067},{"$f":"Main!M79","v":4.3662825955124314},{"$f":"Main!N79","v":3.7453183520599249},{"$f":"Main!P79","v":3.8415588963446301},{"$f":"Main!Q79","v":147.6},"SPEED"]
[null,{"$f":"Main!E79","v":2.9397354238118569},{"$f":"Main!S79","v":9.3857031004702911},{"$f":"Main!T79","v":9.50360195512466},{"$f":"Main!U79","v":9.4214212725119459},{"$f":"Main!V79","v":8.8572764245265283},{"$f":"Main!W79","v":7.8853672895688582},{"$f":"Main!X79","v":6.3330043832986878},{"$f":"Main!Y79","v":5.4965857548338617},{"$f":"Main!Z79","v":4.2444419328706928},{"$f":"Main!AA79","v":3.3324044623288587},{"$f":"Main!AB79","v":3.4402251830877173},{"$f":"Main!O79","v":3.2435354536444723},"AWS"]
[null,null,{"$f":"Main!AD79","v":26.466651732328042},{"$f":"Main!AE79","v":29.834895420256277},{"$f":"Main!AF79","v":33.471719644791136},{"$f":"Main!AG79","v":40.868637899511199},{"$f":"Main!AH79","v":49.543873349796392},{"$f":"Main!AI79","v":62.908623158368421},{"$f":"Main!AJ79","v":70.968919111611243},{"$f":"Main!AK79","v":88.330720051440181},{"$f":"Main!AL79","v":115.80893805188975},{"$f":"Main!AM79","v":110.84919283097385},null,"AWA"]
[8,{"$f":"Main!D80","v":42.8},{"$f":"Main!F80","v":4.8329766339587774},{"$f":"Main!G80","v":5.4306833609895913},{"$f":"Main!H80","v":5.7831325301204819},{"$f":"Main!I80","v":6.0831361946603586},{"$f":"Main!J80","v":6.0504201680672267},{"$f":"Main!K80","v":6.0130282278269576},{"$f":"Main!L80","v":5.8574682720468596},{"$f":"Main!M80","v":5.3715308863025957},{"$f":"Main!N80","v":4.7306176084099869},{"$f":"Main!P80","v":4.6773890617466343},{"$f":"Main!Q80","v":151.19999999999999},"SPEED"]
[null,{"$f":"Main!E80","v":3.5460992907801416},{"$f":"Main!S80","v":12.003968168771266},{"$f":"Main!T80","v":12.123849316458156},{"$f":"Main!U80","v":11.98789731779104},{"$f":"Main!V80","v":11.233674820862323},{"$f":"Main!W80","v":10.030333205340421},{"$f":"Main!X80","v":8.2006877789488559},{"$f":"Main!Y80","v":7.1728786677080185},{"$f":"Main!Z80","v":5.664045323051532},{"$f":"Main!AA80","v":4.5639218404164277},{"$f":"Main!AB80","v":4.505189447224641},{"$f":"Main!O80","v":4.0988272799726744},"AWS"]
[null,null,{"$f":"Main!AD80","v":26.924186917073648},{"$f":"Main!AE80","v":31.330505296461151},{"$f":"Main!AF80","v":35.305302175534294},{"$f":"Main!AG80","v":43.46243015574948},{"$f":"Main!AH80","v":52.899691614265222},{"$f":"Main!AI80","v":66.447798774287236},{"$f":"Main!AJ80","v":74.991807426424813},{"$f":"Main!AK80","v":92.887467435497712},{"$f":"Main!AL80","v":118.78423540624102},{"$f":"Main!AM80","v":121.18891733466958},null,"AWA"]
[10,{"$f":"Main!D81","v":43},{"$f":"Main!F81","v":5.4863785777473737},{"$f":"Main!G81","v":6.1037639877924725},{"$f":"Main!H81","v":6.3750664069417384},{"$f":"Main!I81","v":6.5765436609426384},{"$f":"Main!J81","v":6.5633546034639929},{"$f":"Main!K81","v":6.6212985102078346},{"$f":"Main!L81","v":6.5395095367847409},{"$f":"Main!M81","v":6.2229904926534143},{"$f":"Main!N81","v":5.5822608156303302},{"$f":"Main!P81","v":5.4589351987316626},{"$f":"Main!Q81","v":152.6},"SPEED"]
[null,{"$f":"Main!E81","v":4.0124832813196614},{"$f":"Main!S81","v":14.503448401147862},{"$f":"Main!T81","v":14.574394726847185},{"$f":"Main!U81","v":14.296577764008225},{"$f":"Main!V81","v":13.315165095945638},{"$f":"Main!W81","v":11.961505910662419},{"$f":"Main!X81","v":9.9271972203645724},{"$f":"Main!Y81","v":8.7960269220740326},{"$f":"Main!Z81","v":7.1217438271368563},{"$f":"Main!AA81","v":5.8714599782333243},{"$f":"Main!AB81","v":5.733187628712261},{"$f":"Main!O81","v":4.846526655896608},"AWS"]
[null,null,{"$f":"Main!AD81","v":28.049348489599005},{"$f":"Main!AE81","v":32.730052597798249},{"$f":"Main!AF81","v":37.283344697245766},{"$f":"Main!AG81","v":46.504868385930372},{"$f":"Main!AH81","v":56.721689600814663},{"$f":"Main!AI81","v":71.188403580413308},{"$f":"Main!AJ81","v":79.919986780978348},{"$f":"Main!AK81","v":96.839172329753296},{"$f":"Main!AL81","v":121.61639599109563},{"$f":"Main!AM81","v":126.61182149658289},null,"AWA"]
[12,{"$f":"Main!D82","v":41.9},{"$f":"Main!F82","v":5.9099271020928619},{"$f":"Main!G82","v":6.4806480648064806},{"$f":"Main!H82","v":6.6740823136818692},{"$f":"Main!I82","v":6.8467097755800692},{"$f":"Main!J82","v":6.8873158599579103},{"$f":"Main!K82","v":6.972690296339338},{"$f":"Main!L82","v":6.9044879171461453},{"$f":"Main!M82","v":6.6877206018948545},{"$f":"Main!N82","v":6.2959076600209869},{"$f":"Main!P82","v":5.9669971932369759},{"$f":"Main!Q82","v":158},"SPEED"]
[null,{"$f":"Main!E82","v":4.3988269794721413},{"$f":"Main!S82","v":16.867100695121941},{"$f":"Main!T82","v":16.785590478364565},{"$f":"Main!U82","v":16.390008007746172},{"$f":"Main!V82","v":15.277658459988467},{"$f":"Main!W82","v":13.836008085962792},{"$f":"Main!X82","v":11.635428532726987},{"$f":"Main!Y82","v":10.431591364325167},{"$f":"Main!Z82","v":8.6735935303811047},{"$f":"Main!AA82","v":7.2650168547973619},{"$f":"Main!AB82","v":6.8428775026699187},{"$f":"Main!O82","v":5.532503457814661},"AWS"]
[null,null,{"$f":"Main!AD82","v":28.367525549889102},{"$f":"Main!AE82","v":34.28765285273689},{"$f":"Main!AF82","v":39.350556063104726},{"$f":"Main!AG82","v":49.349441107015814},{"$f":"Main!AH82","v":60.146633131920979},{"$f":"Main!AI82","v":75.727900810974901},{"$f":"Main!AJ82","v":85.025831238142729},{"$f":"Main!AK82","v":101.96096357868056},{"$f":"Main!AL82","v":124.32263777321162},{"$f":"Main!AM82","v":138.93398238458127},null,"AWA"]
[14,{"$f":"Main!D83","v":40.9},{"$f":"Main!F83","v":6.1046243419104824},{"$f":"Main!G83","v":6.6679014632339326},{"$f":"Main!H83","v":6.8636796949475691},{"$f":"Main!I83","v":7.0740813519355479},{"$f":"Main!J83","v":7.0615927814829345},{"$f":"Main!K83","v":7.3260073260073266},{"$f":"Main!L83","v":7.2449184946669352},{"$f":"Main!M83","v":7.0107108081791623},{"$f":"Main!N83","v":6.7014147431124345},{"$f":"Main!P83","v":6.1485909479077714},{"$f":"Main!Q83","v":180},"SPEED"]
[null,{"$f":"Main!E83","v":4.6142014867982564},{"$f":"Main!S83","v":19.038489435514499},{"$f":"Main!T83","v":18.852206008434592},{"$f":"Main!U83","v":18.417426928974134},{"$f":"Main!V83","v":17.242622260764065},{"$f":"Main!W83","v":15.680117748648826},{"$f":"Main!X83","v":13.39822395777243},{"$f":"Main!Y83","v":12.126829143227424},{"$f":"Main!Z83","v":10.312374786666917},{"$f":"Main!AA83","v":8.854845459517545},{"$f":"Main!AB83","v":7.8514090520922286},{"$f":"Main!O83","v":6.1485909479077714},"AWS"]
[null,null,{"$f":"Main!AD83","v":28.781144686313752},{"$f":"Main!AE83","v":35.816519153261929},{"$f":"Main!AF83","v":41.171025377885009},{"$f":"Main!AG83","v":51.653695655891944},{"$f":"Main!AH83","v":63.233646393289355},{"$f":"Main!AI83","v":79.081786103982395},{"$f":"Main!AJ83","v":88.84275187984835},{"$f":"Main!AK83","v":106.26783968822359},{"$f":"Main!AL83","v":127.76515324302702},{"$f":"Main!AM83","v":180},null,"AWA"]
[16,{"$f":"Main!D84","v":40.200000000000003},{"$f":"Main!F84","v":6.1797564355001198},{"$f":"Main!G84","v":6.7529544175576808},{"$f":"Main!H84","v":6.9848661233993017},{"$f":"Main!I84","v":7.2815533980582527},{"$f":"Main!J84","v":7.3022312373225153},{"$f":"Main!K84","v":7.6433121019108281},{"$f":"Main!L84","v":7.6109936575052854},{"$f":"Main!M84","v":7.3499387505104119},{"$f":"Main!N84","v":7.0011668611435232},{"$f":"Main!P84","v":6.5946143982414362},{"$f":"Main!Q84","v":180},"SPEED"]
[null,{"$f":"Main!E84","v":4.7200734233643633},{"$f":"Main!S84","v":21.100515139440667},{"$f":"Main!T84","v":20.848104890139709},{"$f":"Main!U84","v":20.409463803250688},{"$f":"Main!V84","v":19.217917946643549},{"$f":"Main!W84","v":17.587568934998625},{"$f":"Main!X84","v":15.191013312768474},{"$f":"Main!Y84","v":13.86186588935635},{"$f":"Main!Z84","v":11.987971914336487},{"$f":"Main!AA84","v":10.535383712294708},{"$f":"Main!AB84","v":9.4053856017585638},{"$f":"Main!O84","v":6.5946143982414362},"AWS"]
[null,null,{"$f":"Main!AD84","v":29.303428789608667},{"$f":"Main!AE84","v":37.211822591096777},{"$f":"Main!AF84","v":42.759356406896572},{"$f":"Main!AG84","v":53.531879740264209},{"$f":"Main!AH84","v":65.468544097149632},{"$f":"Main!AI84","v":81.783568990786122},{"$f":"Main!AJ84","v":91.608105887769696},{"$f":"Main!AK84","v":109.30796334147198},{"$f":"Main!AL84","v":130.59343580482835},{"$f":"Main!AM84","v":180},null,"AWA"]
[20,{"$f":"Main!D85","v":40.200000000000003},{"$f":"Main!F85","v":6.2287567508338064},{"$f":"Main!G85","v":6.8027210884353737},{"$f":"Main!H85","v":7.0671378091872796},{"$f":"Main!I85","v":7.5408462505236704},{"$f":"Main!J85","v":7.7386070507308684},{"$f":"Main!K85","v":7.9365079365079358},{"$f":"Main!L85","v":8.2549873882137117},{"$f":"Main!M85","v":8.0572963294538944},{"$f":"Main!N85","v":7.6449352304098541},{"$f":"Main!P85","v":7.1899340922708213},{"$f":"Main!Q85","v":180},"SPEED"]
[null,{"$f":"Main!E85","v":4.7574996696180785},{"$f":"Main!S85","v":25.081814078048279},{"$f":"Main!T85","v":24.775067028535904},{"$f":"Main!U85","v":24.316397615555431},{"$f":"Main!V85","v":23.128617494503544},{"$f":"Main!W85","v":21.444953697446437},{"$f":"Main!X85","v":18.825789092313329},{"$f":"Main!Y85","v":17.408189711032367},{"$f":"Main!Z85","v":15.395625003135732},{"$f":"Main!AA85","v":13.914622161032574},{"$f":"Main!AB85","v":12.810065907729179},{"$f":"Main!O85","v":7.1899340922708213},"AWS"]
[null,null,{"$f":"Main!AD85","v":30.976189860133154},{"$f":"Main!AE85","v":39.503999837692703},{"$f":"Main!AF85","v":45.422151149275102},{"$f":"Main!AG85","v":56.643405103942229},{"$f":"Main!AH85","v":68.847033302479801},{"$f":"Main!AI85","v":86.662146195046731},{"$f":"Main!AJ85","v":95.753042759923275},{"$f":"Main!AK85","v":113.28042639843366},{"$f":"Main!AL85","v":134.05534529843558},{"$f":"Main!AM85","v":180},null,"AWA"]
["Snelheden in knopen",null,null,"UA=Up Angle, VMG=resulterende snelheid recht tegen de wind (bijUA), V@UA=snelheid bij optimale opkruishoek"]
["Hoeken in graden",null,null,"DA=Down Angle, VMG=resulterende snelheid recht voor de wind (bijDA), V@DA=snelheid bij afkruis opkruishoek"]

{"sheet":"Detail 2","index":3,"n_rows":46,"n_cols":15,"rows_kept":46,"cut":false,"hidden":false,"merged":[[41,0,43,0],[23,0,25,0],[26,0,28,0],[29,0,31,0],[32,0,34,0],[35,0,37,0],[38,0,40,0]]}
[]
["N° de Voile",null,{"$f":"Main!$D$4","v":"ITA-10972"},null,null,null,"GPH:",{"$f":"Main!$N$4","v":721.6}]
["Nom",null,{"$f":"Main!$E$4","v":"PIERROT"},null,null,null,"TMF:",{"$f":"Main!$O$4","v":0.86639999999999995}]
["Type:",null,{"$f":"Main!$F$4","v":"FIRST 32"},null,null,null,"DSPL:",{"$f":"Main!L4","v":4221}]
["GV:",{"$f":"OFFSET(ORC!$A$6,(Main!$C4-6),164)","v":19.399999999999999},"GENOA:",{"$f":"OFFSET(ORC!$A$6,(Main!$C4-6),165)","v":30.7},null,"SPI:",{"$f":"OFFSET(ORC!$A$6,(Main!$C4-6),166)","v":49.9},"ASYM:",{"$f":"OFFSET(ORC!$A$6,(Main!$C4-6),167)","v":0}]
[]
[]
[]
[]
[]
["VENT REEL","ANGLE OPTIMAL",null,null,null,"                VITESSE",null,null,null,null,null,null,null,null,"ANGLE OPTIMAL"]
[null,"UA","VMG","V@UA",52,60,75,90,110,120,135,150,"V@DA","VMG","DA"]
[6,{"$f":"Main!D114","v":44.3},{"$f":"Main!E114","v":2.8719585161547667},{"$f":"Main!F114","v":4.0128373265609065},{"$f":"Main!G114","v":4.4471896232242125},{"$f":"Main!H114","v":4.7455839704719214},{"$f":"Main!I114","v":5.0139275766016711},{"$f":"Main!J114","v":4.9785645138984922},{"$f":"Main!K114","v":4.6929996089166988},{"$f":"Main!L114","v":4.5471769609700639},{"$f":"Main!M114","v":4.1218227616212504},{"$f":"Main!N114","v":3.5457500246232643},{"$f":"Main!P114","v":3.6168748675962212},{"$f":"Main!O114","v":3.0706243602865912},{"$f":"Main!Q114","v":148.1}]
[8,{"$f":"Main!D115","v":42.6},{"$f":"Main!E115","v":3.4769171334749851},{"$f":"Main!F115","v":4.7234491133225003},{"$f":"Main!G115","v":5.3034767236299354},{"$f":"Main!H115","v":5.6355666875391366},{"$f":"Main!I115","v":5.9484467944481159},{"$f":"Main!J115","v":5.9016393442622954},{"$f":"Main!K115","v":5.7233704292527818},{"$f":"Main!L115","v":5.5581287633163496},{"$f":"Main!M115","v":5.1020408163265305},{"$f":"Main!N115","v":4.5186393874733275},{"$f":"Main!P115","v":4.4505183323664435},{"$f":"Main!O115","v":3.9185806030260149},{"$f":"Main!Q115","v":151.69999999999999}]
[10,{"$f":"Main!D116","v":42.6},{"$f":"Main!E116","v":3.9262733122477917},{"$f":"Main!F116","v":5.3339068730877068},{"$f":"Main!G116","v":5.9920106524633825},{"$f":"Main!H116","v":6.2717770034843205},{"$f":"Main!I116","v":6.4783156379341369},{"$f":"Main!J116","v":6.4481461579795818},{"$f":"Main!K116","v":6.4400715563506266},{"$f":"Main!L116","v":6.340260655160268},{"$f":"Main!M116","v":5.9622391520370988},{"$f":"Main!N116","v":5.333333333333333},{"$f":"Main!P116","v":5.1207432103454558},{"$f":"Main!O116","v":4.6409694469511402},{"$f":"Main!Q116","v":155}]
[12,{"$f":"Main!D117","v":42.5},{"$f":"Main!E117","v":4.3206913106096971},{"$f":"Main!F117","v":5.8603338186189671},{"$f":"Main!G117","v":6.3909107047754308},{"$f":"Main!H117","v":6.5921992309100892},{"$f":"Main!I117","v":6.7631035130565476},{"$f":"Main!J117","v":6.7681895093062607},{"$f":"Main!K117","v":6.8078668683812413},{"$f":"Main!L117","v":6.7403108032203702},{"$f":"Main!M117","v":6.5064160491595882},{"$f":"Main!N117","v":6.0738991057870759},{"$f":"Main!P117","v":5.7733943883363841},{"$f":"Main!O117","v":5.3144375553587251},{"$f":"Main!Q117","v":157}]
[14,{"$f":"Main!D118","v":40.799999999999997},{"$f":"Main!E118","v":4.5615813482007095},{"$f":"Main!F118","v":6.0259063968037232},{"$f":"Main!G118","v":6.6018705299834961},{"$f":"Main!H118","v":6.7911714770797964},{"$f":"Main!I118","v":6.9821567106283942},{"$f":"Main!J118","v":7.0189120686293629},{"$f":"Main!K118","v":7.1132187314759925},{"$f":"Main!L118","v":7.0408761979268526},{"$f":"Main!M118","v":6.83371298405467},{"$f":"Main!N118","v":6.5347612996914144},{"$f":"Main!P118","v":5.9592782651878826},{"$f":"Main!O118","v":5.9592782651878826},{"$f":"Main!Q118","v":180}]
[16,{"$f":"Main!D119","v":40.200000000000003},{"$f":"Main!E119","v":4.6710782405605293},{"$f":"Main!F119","v":6.1156094892382784},{"$f":"Main!G119","v":6.6976744186046515},{"$f":"Main!H119","v":6.9164265129682994},{"$f":"Main!I119","v":7.1727435744172148},{"$f":"Main!J119","v":7.1741729772817857},{"$f":"Main!K119","v":7.4318744838976061},{"$f":"Main!L119","v":7.3424434019987759},{"$f":"Main!M119","v":7.123070834982193},{"$f":"Main!N119","v":6.8350104423770643},{"$f":"Main!P119","v":6.4389196923627257},{"$f":"Main!O119","v":6.4389196923627257},{"$f":"Main!Q119","v":180}]
[20,{"$f":"Main!D120","v":40},{"$f":"Main!E120","v":4.7169811320754711},{"$f":"Main!F120","v":6.1575815534541434},{"$f":"Main!G120","v":6.7516879219804942},{"$f":"Main!H120","v":6.9943656498931412},{"$f":"Main!I120","v":7.4257425742574252},{"$f":"Main!J120","v":7.5885328836424959},{"$f":"Main!K120","v":7.9138272147724775},{"$f":"Main!L120","v":8.0071174377224192},{"$f":"Main!M120","v":7.7569489334195216},{"$f":"Main!N120","v":7.3906795319236291},{"$f":"Main!P120","v":7.0161761839797308},{"$f":"Main!O120","v":7.0161761839797308},{"$f":"Main!Q120","v":180}]
["Snelheden in knopen",null,null,"UA=Up Angle, VMG=resulterende snelheid recht tegen de wind (bijUA), V@UA=snelheid bij optimale opkruishoek"]
["Hoeken in graden",null,null,"DA=Down Angle, VMG=resulterende snelheid recht voor de wind (bijDA), V@DA=snelheid bij afkruis opkruishoek"]
["Vent réel","ANGLE OPTIMAL",null," vitesse du bateau en vent réel / vitesse du vent apparent et l'angle",null,null,null,null,null,null,null,null,"Optimale afkruis  hoek / VMG"]
[null,"UA/VMG","V@UA",52,60,75,90,110,120,135,150,"V@DA","DA/VMG","TWA"]
[6,{"$f":"Main!D114","v":44.3},{"$f":"Main!F114","v":4.0128373265609065},{"$f":"Main!G114","v":4.4471896232242125},{"$f":"Main!H114","v":4.7455839704719214},{"$f":"Main!I114","v":5.0139275766016711},{"$f":"Main!J114","v":4.9785645138984922},{"$f":"Main!K114","v":4.6929996089166988},{"$f":"Main!L114","v":4.5471769609700639},{"$f":"Main!M114","v":4.1218227616212504},{"$f":"Main!N114","v":3.5457500246232643},{"$f":"Main!P114","v":3.6168748675962212},{"$f":"Main!Q114","v":148.1},"SPEED"]
[null,{"$f":"Main!E114","v":2.8719585161547667},{"$f":"Main!S114","v":9.3041047717283192},{"$f":"Main!T114","v":9.4145130218593494},{"$f":"Main!U114","v":9.3270612222517109},{"$f":"Main!V114","v":8.7585312190159819},{"$f":"Main!W114","v":7.7965444024291513},{"$f":"Main!X114","v":6.2259971524940747},{"$f":"Main!Y114","v":5.4216009211815441},{"$f":"Main!Z79114","v":0},{"$f":"Main!AA114","v":3.4240076044891206},{"$f":"Main!AB114","v":3.4977552064731587},{"$f":"Main!O114","v":3.0706243602865912},"AWS"]
[null,null,{"$f":"Main!AD114","v":26.768818809174441},{"$f":"Main!AE114","v":30.146334082815997},{"$f":"Main!AF114","v":33.855824547590828},{"$f":"Main!AG114","v":41.429957748176641},{"$f":"Main!AH114","v":50.315444259690238},{"$f":"Main!AI114","v":64.901886608800154},{"$f":"Main!AJ114","v":73.41887131409311},{"$f":"Main!AK114","v":91.631174409727038},{"$f":"Main!AL114","v":118.81669378289348},{"$f":"Main!AM114","v":114.9772292931888},null,"AWA"]
[8,{"$f":"Main!D115","v":42.6},{"$f":"Main!F115","v":4.7234491133225003},{"$f":"Main!G115","v":5.3034767236299354},{"$f":"Main!H115","v":5.6355666875391366},{"$f":"Main!I115","v":5.9484467944481159},{"$f":"Main!J115","v":5.9016393442622954},{"$f":"Main!K115","v":5.7233704292527818},{"$f":"Main!L115","v":5.5581287633163496},{"$f":"Main!M115","v":5.1020408163265305},{"$f":"Main!N115","v":4.5186393874733275},{"$f":"Main!O115","v":3.9185806030260149},{"$f":"Main!Q115","v":151.69999999999999},"SPEED"]
[null,{"$f":"Main!E115","v":3.4769171334749851},{"$f":"Main!S115","v":11.913926542569703},{"$f":"Main!T115","v":12.015373744602755},{"$f":"Main!U115","v":11.867777609561697},{"$f":"Main!V115","v":11.136299222510837},{"$f":"Main!W115","v":9.9412950338346118},{"$f":"Main!X115","v":8.0893041405390544},{"$f":"Main!Y115","v":7.1012509632510348},{"$f":"Main!Z115","v":5.6839966524991272},{"$f":"Main!AA115","v":4.6696892736604667},{"$f":"Main!AB115","v":4.5945428258221241},{"$f":"Main!O115","v":3.9185806030260149},"AWS"]
[null,null,{"$f":"Main!AD115","v":27.033459815559738},{"$f":"Main!AE115","v":31.645917806973671},{"$f":"Main!AF115","v":35.717039669752666},{"$f":"Main!AG115","v":43.939115815156669},{"$f":"Main!AH115","v":53.583621480113941},{"$f":"Main!AI115","v":68.32884833998007},{"$f":"Main!AJ115","v":77.325260169591118},{"$f":"Main!AK115","v":95.60154518647758},{"$f":"Main!AL115","v":121.06437966788637},{"$f":"Main!AM115","v":124.36275946585859},null,"AWA"]
[10,{"$f":"Main!D116","v":42.6},{"$f":"Main!F116","v":5.3339068730877068},{"$f":"Main!G116","v":5.9920106524633825},{"$f":"Main!H116","v":6.2717770034843205},{"$f":"Main!I116","v":6.4783156379341369},{"$f":"Main!J116","v":6.4481461579795818},{"$f":"Main!K116","v":6.4400715563506266},{"$f":"Main!L116","v":6.340260655160268},{"$f":"Main!M116","v":5.9622391520370988},{"$f":"Main!N116","v":5.333333333333333},{"$f":"Main!O116","v":4.6409694469511402},{"$f":"Main!Q116","v":155},"SPEED"]
[null,{"$f":"Main!E116","v":3.9262733122477917},{"$f":"Main!S116","v":14.386661488188569},{"$f":"Main!T116","v":14.480510834514366},{"$f":"Main!U116","v":14.214533295760292},{"$f":"Main!V116","v":13.247747085839116},{"$f":"Main!W116","v":11.89868013162245},{"$f":"Main!X116","v":9.8702501344345031},{"$f":"Main!Y116","v":8.7633497376157852},{"$f":"Main!Z116","v":7.1574786759624232},{"$f":"Main!AA116","v":6.0056974094691391},{"$f":"Main!AB116","v":5.7795001589476813},{"$f":"Main!O116","v":4.6409694469511402},"AWS"]
[null,null,{"$f":"Main!AD116","v":28.066014919823818},{"$f":"Main!AE116","v":32.969131977324281},{"$f":"Main!AF116","v":37.535545079050408},{"$f":"Main!AG116","v":46.813056101729259},{"$f":"Main!AH116","v":57.185485648175259},{"$f":"Main!AI116","v":72.184263601141581},{"$f":"Main!AJ116","v":81.202697550293664},{"$f":"Main!AK116","v":98.912092236950855},{"$f":"Main!AL116","v":123.63916434485466},{"$f":"Main!AM116","v":133.00982868436162},null,"AWA"]
[12,{"$f":"Main!D117","v":42.5},{"$f":"Main!F117","v":5.8603338186189671},{"$f":"Main!G117","v":6.3909107047754308},{"$f":"Main!H117","v":6.5921992309100892},{"$f":"Main!I117","v":6.7631035130565476},{"$f":"Main!J117","v":6.7681895093062607},{"$f":"Main!K117","v":6.8078668683812413},{"$f":"Main!L117","v":6.7403108032203702},{"$f":"Main!M117","v":6.5064160491595882},{"$f":"Main!N117","v":6.0738991057870759},{"$f":"Main!O117","v":5.3144375553587251},{"$f":"Main!Q117","v":157},"SPEED"]
[null,{"$f":"Main!E117","v":4.3206913106096971},{"$f":"Main!S117","v":16.794049658146239},{"$f":"Main!T117","v":16.71152416605533},{"$f":"Main!U117","v":16.326771924386421},{"$f":"Main!V117","v":15.223325818119017},{"$f":"Main!W117","v":13.77709654585767},{"$f":"Main!X117","v":11.595895344820221},{"$f":"Main!Y117","v":10.418640030510931},{"$f":"Main!Z117","v":8.7129735437908877},{"$f":"Main!AA117","v":7.392471043706319},{"$f":"Main!AB117","v":7.0558898400318482},{"$f":"Main!O117","v":5.3144375553587251},"AWS"]
[null,null,{"$f":"Main!AD117","v":28.864209048880191},{"$f":"Main!AE117","v":34.460976288451313},{"$f":"Main!AF117","v":39.53275671865989},{"$f":"Main!AG117","v":49.588179014673827},{"$f":"Main!AH117","v":60.576315247841904},{"$f":"Main!AI117","v":76.517189180067305},{"$f":"Main!AJ117","v":85.925335795137926},{"$f":"Main!AK117","v":103.1274028391192},{"$f":"Main!AL117","v":125.74385960467991},{"$f":"Main!AM117","v":138.35455763586157},null,"AWA"]
[14,{"$f":"Main!D118","v":40.799999999999997},{"$f":"Main!F118","v":6.0259063968037232},{"$f":"Main!G118","v":6.6018705299834961},{"$f":"Main!H118","v":6.7911714770797964},{"$f":"Main!I118","v":6.9821567106283942},{"$f":"Main!J118","v":7.0189120686293629},{"$f":"Main!K118","v":7.1132187314759925},{"$f":"Main!L118","v":7.0408761979268526},{"$f":"Main!M118","v":6.83371298405467},{"$f":"Main!N118","v":6.5347612996914144},{"$f":"Main!O118","v":5.9592782651878826},{"$f":"Main!Q118","v":180},"SPEED"]
[null,{"$f":"Main!E118","v":4.5615813482007095},{"$f":"Main!S118","v":18.974610026365756},{"$f":"Main!T118","v":18.798701559039287},{"$f":"Main!U118","v":18.362908558020415},{"$f":"Main!V118","v":17.185742231413837},{"$f":"Main!W118","v":15.660942711955464},{"$f":"Main!X118","v":13.359554116830617},{"$f":"Main!Y118","v":12.124424558038084},{"$f":"Main!Z118","v":10.363349795342438},{"$f":"Main!AA118","v":8.957877261625077},{"$f":"Main!AB118","v":8.0407217348121165},{"$f":"Main!O118","v":5.9592782651878826},"AWS"]
[null,null,{"$f":"Main!AD118","v":28.823435512945554},{"$f":"Main!AE118","v":35.934290739187226},{"$f":"Main!AF118","v":41.31996100309285},{"$f":"Main!AG118","v":51.894052258258071},{"$f":"Main!AH118","v":63.37306333140122},{"$f":"Main!AI118","v":79.977900264162159},{"$f":"Main!AJ118","v":89.806833054280858},{"$f":"Main!AK118","v":107.2072692258527},{"$f":"Main!AL118","v":128.60783681566036},{"$f":"Main!AM118","v":180},null,"AWA"]
[16,{"$f":"Main!D119","v":40.200000000000003},{"$f":"Main!F119","v":6.1156094892382784},{"$f":"Main!G119","v":6.6976744186046515},{"$f":"Main!H119","v":6.9164265129682994},{"$f":"Main!I119","v":7.1727435744172148},{"$f":"Main!J119","v":7.1741729772817857},{"$f":"Main!K119","v":7.4318744838976061},{"$f":"Main!L119","v":7.3424434019987759},{"$f":"Main!M119","v":7.123070834982193},{"$f":"Main!N119","v":6.8350104423770643},{"$f":"Main!O119","v":6.4389196923627257},{"$f":"Main!Q119","v":180},"SPEED"]
[null,{"$f":"Main!E119","v":4.6710782405605293},{"$f":"Main!S119","v":21.044599856561735},{"$f":"Main!T119","v":20.804106475874448},{"$f":"Main!U119","v":20.359267666514519},{"$f":"Main!V119","v":19.153443944904854},{"$f":"Main!W119","v":17.534787079059733},{"$f":"Main!X119","v":15.162240385485751},{"$f":"Main!Y119","v":13.871999880319168},{"$f":"Main!Z119","v":12.064884750007225},{"$f":"Main!AA119","v":10.644247368603807},{"$f":"Main!AB119","v":9.5610803076372743},{"$f":"Main!O119","v":6.4389196923627257},"AWS"]
[null,null,{"$f":"Main!AD119","v":29.388906486077154},{"$f":"Main!AE119","v":37.303894536821431},{"$f":"Main!AF119","v":42.890120168548663},{"$f":"Main!AG119","v":53.793639450080747},{"$f":"Main!AH119","v":65.849212734439931},{"$f":"Main!AI119","v":82.574383003547396},{"$f":"Main!AJ119","v":92.716936371826691},{"$f":"Main!AK119","v":110.32480797692826},{"$f":"Main!AL119","v":131.27259970912766},{"$f":"Main!AM119","v":180},null,"AWA"]
[20,{"$f":"Main!D120","v":40},{"$f":"Main!F120","v":6.1575815534541434},{"$f":"Main!G120","v":6.7516879219804942},{"$f":"Main!H120","v":6.9943656498931412},{"$f":"Main!I120","v":7.4257425742574252},{"$f":"Main!J120","v":7.5885328836424959},{"$f":"Main!K120","v":7.9138272147724775},{"$f":"Main!L120","v":8.0071174377224192},{"$f":"Main!M120","v":7.7569489334195216},{"$f":"Main!N120","v":7.3906795319236291},{"$f":"Main!O120","v":7.0161761839797308},{"$f":"Main!Q120","v":180},"SPEED"]
[null,{"$f":"Main!E120","v":4.7169811320754711},{"$f":"Main!S120","v":25.031880789714098},{"$f":"Main!T120","v":24.735712152174123},{"$f":"Main!U120","v":24.265375823223259},{"$f":"Main!V120","v":23.065528324081306},{"$f":"Main!W120","v":21.391255954855094},{"$f":"Main!X120","v":18.824482156363061},{"$f":"Main!Y120","v":17.434780781731387},{"$f":"Main!Z120","v":15.516784752974123},{"$f":"Main!AA120","v":14.092604262824278},{"$f":"Main!AB120","v":12.983823816020269},{"$f":"Main!O120","v":7.0161761839797308},"AWS"]
[null,null,{"$f":"Main!AD120","v":30.902264202286133},{"$f":"Main!AE120","v":39.579196429327432},{"$f":"Main!AF120","v":45.544545843941876},{"$f":"Main!AG120","v":56.88222679982551},{"$f":"Main!AH120","v":69.221920208223011},{"$f":"Main!AI120","v":86.731062057043999},{"$f":"Main!AJ120","v":96.563539965772833},{"$f":"Main!AK120","v":114.29921793138469},{"$f":"Main!AL120","v":134.79826662021799},{"$f":"Main!AM120","v":180},null,"AWA"]
["Snelheden in knopen",null,null,"UA=Up Angle, VMG=resulterende snelheid recht tegen de wind (bijUA), V@UA=snelheid bij optimale opkruishoek"]
["Hoeken in graden",null,null,"DA=Down Angle, VMG=resulterende snelheid recht voor de wind (bijDA), V@DA=snelheid bij afkruis opkruishoek"]

{"sheet":"ORC","index":4,"n_rows":9011,"n_cols":169,"rows_kept":562,"cut":true,"hidden":false,"merged":[],"bounds":{"rows_first":250,"rows_last":62,"rows_between":250,"halvings":3}}
[null,null,"SAILNUMB","NAME","TYPE","BUILDER","DESIGNER","YEAR","CLUB","OWNER","C_Type","D","CREW","DD-MM-yyYY","HH:MM:SS","LOA","IMSL","DRAFT","BMAX","DSPL","INDEX","DA","GPH","TMF","ILCGA","PLT-O","PLD-O","WL6","WL8","WL10","WL12","WL14","WL16","WL20","OL6","OL8","OL10","OL12","OL14","OL16","OL20","CR6","CR8","CR10","CR12","CR14","CR16","CR20","NSP6","NSP8","NSP10","NSP12","NSP14","NSP16","NSP20","OC6","OC8","OC10","OC12","OC14","OC16","OC20","UA6","UA8","UA10","UA12","UA14","UA16","UA20","DA6","DA8","DA10","DA12","DA14","DA16","DA20","UP6","UP8","UP10","UP12","UP14","UP16","UP20","R526","R528","R5210","R5212","R5214","R5216","R5220","R606","R608","R6010","R6012","R6014","R6016","R6020","R756","R758","R7510","R7512","R7514","R7516","R7520","R906","R908","R9010","R9012","R9014","R9016","R9020","R1106","R1108","R11010","R11012","R11014","R11016","R11020","R1206","R1208","R12010","R12012","R12014","R12016","R12020","R1356","R1358","R13510","R13512","R13514","R13516","R13520","R1506","R1508","R15010","R15012","R15014","R15016","R15020","D6","D8","D10","D12","D14","D16","D20","OTNLOW","OTNMED","OTNHIG","ITNLOW","ITNMED","ITNHIG","DH_TOD","DH_TOT","PLT-I","PLD-I","TMF-OF","PLT2H","PLD2H","OSN","ReferenceNo","CDL","DSPS","WSS","MAIN","GENOA","SYM","ASYM"]
[null,null,null,null,"FIRST 32"]
[]
[]
[]
["NATCERTN.","FILE_ID","SAILNUMB","NAME","TYPE","BUILDER","DESIGNER","YEAR","CLUB","OWNER","C_Type","D","CREW","DD-MM-yyYY","HH:MM:SS","LOA","IMSL","DRAFT","BMAX","DSPL","INDEX","DA","GPH","TMF","ILCGA","PLT-O","PLD-O","WL6","WL8","WL10","WL12","WL14","WL16","WL20","OL6","OL8","OL10","OL12","OL14","OL16","OL20","CR6","CR8","CR10","CR12","CR14","CR16","CR20","NSP6","NSP8","NSP10","NSP12","NSP14","NSP16","NSP20","OC6","OC8","OC10","OC12","OC14","OC16","OC20","UA6","UA8","UA10","UA12","UA14","UA16","UA20","DA6","DA8","DA10","DA12","DA14","DA16","DA20","UP6","UP8","UP10","UP12","UP14","UP16","UP20","R526","R528","R5210","R5212","R5214","R5216","R5220","R606","R608","R6010","R6012","R6014","R6016","R6020","R756","R758","R7510","R7512","R7514","R7516","R7520","R906","R908","R9010","R9012","R9014","R9016","R9020","R1106","R1108","R11010","R11012","R11014","R11016","R11020","R1206","R1208","R12010","R12012","R12014","R12016","R12020","R1356","R1358","R13510","R13512","R13514","R13516","R13520","R1506","R1508","R15010","R15012","R15014","R15016","R15020","D6","D8","D10","D12","D14","D16","D20","OTNLOW","OTNMED","OTNHIG","ITNLOW","ITNMED","ITNHIG","DH_TOD","DH_TOT","PLT-I","PLD-I","TMF-OF","PLT2H","PLD2H","OSN","ReferenceNo","CDL","DSPS","WSS","MAIN","GENOA","SYM","ASYM"]
["FRA16125a","F15747","FRA-15747","PIL POIL",747,"EMBARCACIONES PCG","ECHENIQUE Inigo",1999,"56740 LOCMARIAQUER","LEFRANC Pierre","CLUB","S",380,"15/4/2016","08:49:28",7.49,6.9020000000000001,1.77,2.44,1240,97.3,0,658,0.92730000000000001,727.9,0.66100000000000003,51.3,1037.7,847.5,751.8,714.7,679.1,657.5,592.1,995.6,819.8,735.2,692.6,662.6,637.70000000000005,582.20000000000005,888.2,726.1,640.4,589.9,556,529.70000000000005,484.2,955.1,772.5,674.4,616.79999999999995,579.9,554,516.6,1086.0999999999999,848.9,716.1,633.4,576.1,531.29999999999995,458.5,42.7,41.7,38.700000000000003,37.299999999999997,36.6,36.4,36.9,144.69999999999999,148,150.80000000000001,174,177.4,177.6,137,1084.5,901.1,810.1,781.3,767.6,759.1,759,710.8,609.5,574.6,562.5,555.6,551.6,541.1,669.7,591.1,558.79999999999995,542.6,533.5,527.9,513.1,638.70000000000005,577.1,542,510.3,494.7,486,474,634.20000000000005,566.29999999999995,538,505.5,470.6,448.6,435,634.5,564.29999999999995,513.5,476.9,452.5,430.8,391.1,653,574,526.20000000000005,474.7,431,407.6,358.3,727.4,605.29999999999995,556.70000000000005,511.2,464,416.3,308.10000000000002,858.1,687.6,601,562.70000000000005,529.4,489.1,368.3,990.8,793.9,693.4,648.1,590.70000000000005,555.9,425.2,0.91830000000000001,1.1422000000000001,1.2997000000000001,0.71609999999999996,0.92559999999999998,1.0573999999999999,0,0,1.05,396.4,0.93300000000000005,0,0,643.1,"FRA00004056",7.1040000000000001,1732,12.6,23,15.5,0,53.6,7]
["FRA16142a","F15710","FRA-15710","ILLICO",747,"EMBARCACIONES PCG","ECHENIQUE Inigo",1998,"69630 - CHAPONOST","LEONE Salvatore Christian","CLUB","S",364,"19/4/2016","11:21:56",7.47,6.7510000000000003,1.7490000000000001,2.44,1070,96.9,0,648.6,0.93679999999999997,720.5,0.66,43.9,1025.7,834.6,746.4,711.3,677.7,649.5,584.1,982.3,808.3,728.5,688,657.5,630.20000000000005,579.9,876.3,716.2,631.4,580.9,546.70000000000005,519.70000000000005,474.2,942.1,762.2,665.5,608.20000000000005,571.29999999999995,545,506.9,1074.3,839,707.1,624.5,566.6,520.9,447.1,43,41.6,38.6,37.4,36.9,36.700000000000003,37.799999999999997,144.1,147.80000000000001,151,151,177.3,143.69999999999999,137.6,1066.7,883,805.4,780.9,769.2,760.4,764.5,696.6,600.20000000000005,570.4,558.79999999999995,551.9,545.29999999999995,536.9,655.29999999999995,583.1,550.79999999999995,536,527,521.70000000000005,505.9,625.70000000000005,568.70000000000005,527.79999999999995,497.9,484.5,476.4,458.9,625.1,559.20000000000005,527.1,487.6,450.5,434.5,422.4,626,556.6,500,467.7,439.8,418.6,371,644.1,567.6,513.9,457.2,420.2,396,342.5,720.1,599.5,549.1,499,447.4,396.5,294.89999999999998,852.7,680.9,595.70000000000005,557.1,518.29999999999995,466.5,349.6,984.6,786.2,687.3,641.79999999999995,586.1,538.70000000000005,403.7,0.93130000000000002,1.1577,1.3252999999999999,0.72570000000000001,0.93120000000000003,1.0680000000000001,0,0,1.0669999999999999,398.8,0.9466,0,0,633.9,"FRA00004091",7.0330000000000004,1544,11.9,22.4,15.2,0,52.6,8]
["knw26194","FRA15730","FRA 15730","Dynamix",747,"P.CUESTA","ECHENIQUE Inigo",1998,109453,"R.A. Brinkman","CLUB","S",350,"23/3/2016","14:48:00",7.49,6.7080000000000002,1.7370000000000001,2.44,1032,105.9,0,644.6,0.94599999999999995,713.5,0.64900000000000002,32.200000000000003,1027.5999999999999,833.9,741.2,703.6,669.6,638.9,568.5,984.1,806.9,722.7,679.3,647.5,618.79999999999995,564.20000000000005,875.4,713.8,627.4,575.29999999999995,539.5,510.9,462.5,943.5,761.4,662.9,604.1,565.70000000000005,538.20000000000005,497.7,1072.3,835.3,701.8,617.79999999999995,558.6,511.8,436.3,42.9,41.3,38,36.4,35.6,35.5,36.200000000000003,144,147.9,151,149.80000000000001,177.3,143.5,137.69999999999999,1071.5,882.7,795.3,766.9,753.2,744,744.3,700.8,601.5,567.20000000000005,553.1,544.6,537.1,526.4,659.8,584.5,548.4,529.5,518.9,512.4,496.1,630.29999999999995,570.6,528,492.6,476.9,467.9,450.6,624.79999999999995,558.29999999999995,526.29999999999995,487.7,446.7,427.1,412.4,625.20000000000005,555.5,496.9,462.5,434.5,412,362,643,566.79999999999995,511.2,453.5,414.4,389.7,333.7,719,599.20000000000005,547.4,496.1,443.6,392.3,287,851.9,679.9,595.5,554.5,515.79999999999995,462.4,340.1,983.7,785,687.2,640.29999999999995,586,533.9,392.7,0.9304,1.1669,1.3493999999999999,0.72519999999999996,0.9395,1.0884,641.9,0.93469999999999998,1.018,355.6,0.95479999999999998,0.68,64.900000000000006,628.4,"knw00004888",7.1449999999999996,1487,12.1,22.3,15,0,53.4,9]
["ITA104912","I10491","ITA-10491","AMARCORD","1/2 TON","PEZZINI","BRIAND-PHELIPON",1985,"C.N.IL MAESTRALE","MACINA ANTONIO & NICOLA","INTL","R",480,"9/3/2016","09:22:36",8.9109999999999996,6.9669999999999996,1.7649999999999999,3.24,2108,107,0,644.9,0.95960000000000001,703.4,0.68899999999999995,64.099999999999994,1024.7,837.1,736.2,684.2,651.5,629.9,600.6,982,807.1,721.2,676.3,648.9,629.1,593,873.1,712,626.9,577.70000000000005,546.70000000000005,525,493.5,925,748.7,654.5,599.5,565,541.70000000000005,510.9,1068.9000000000001,833.4,701.7,621.1,567.6,528.6,471,42.8,42.4,40.200000000000003,38.799999999999997,38.200000000000003,37.799999999999997,38.299999999999997,145.80000000000001,149,154.69999999999999,170.8,180,180,180,1061.5,883.7,799,766.3,750.4,741.8,739.9,693.5,590.6,554.9,539.4,530.1,524.5,518.4,650.70000000000005,569.6,538.6,519.29999999999995,508.4,502.2,497.6,618.4,553.9,521.9,496.9,480.9,472.4,465,620.79999999999995,554.4,520.5,493.3,471.9,454.4,434.5,633.5,552.9,510.3,478.4,461.7,446.6,417,654,562.5,519.9,483.5,452.1,428.8,393.1,727.9,597.79999999999995,544.9,507.3,475.5,445.4,357.7,855.5,684.6,588.79999999999995,542.1,507,477.1,411,987.8,790.5,673.4,602,552.5,517.9,461.2,0.93320000000000003,1.1701999999999999,1.3097000000000001,0.72509999999999997,0.95599999999999996,1.0812999999999999,643.4,0.93259999999999998,0.97799999999999998,322.7,0.9536,0.71,89.3,629.20000000000005,"ITA00018374",7.28,2607,14.6,29.6,22.6,61.9,0,10]
["nor5719",5719,"NOR 3410","1/2 literen","1/2 TON ONE OFF","BENETEAU","BERRET",1980,null,"Ole Jakob lovsjo","CLUB","C",455,"1/7/2016","13:13:10",9.1199999999999992,7.5259999999999998,1.6839999999999999,3.23,2970,103.6,0.09,697.9,0.88759999999999994,760.5,0.61199999999999999,47.9,1140,928.4,806.7,735.7,692.1,668.8,642.6,1086.8,890,783.6,726.4,694.2,674.2,650.1,958.3,775.1,677.3,620.70000000000005,586.1,563.79999999999995,536.5,989.2,796.9,693.6,633.6,596.70000000000005,572.79999999999995,543.79999999999995,1178.8,911.8,761.6,670,610.4,568.6,509.4,43.3,42.7,42.5,41.4,40.6,40.200000000000003,40.6,148.19999999999999,152.69999999999999,154.30000000000001,165.1,180,180,180,1149.8,964.7,862.3,818,797.2,786.9,784.1,751,632,579,560,551.79999999999995,547.79999999999995,545,706.5,600.1,560.5,542.5,533.5,528.4,525.29999999999995,669.2,578.5,545.9,525,508.8,498.8,491.5,672.9,580.5,546.20000000000005,522.6,503.7,486.4,466.5,720.2,596.29999999999995,549.1,519.79999999999995,492.4,469.6,449.5,748.4,614.1,557.29999999999995,527.79999999999995,501.1,476.3,434.4,833.8,679.5,587.5,548,520.79999999999995,494.9,449.7,978.8,774,653.70000000000005,580.20000000000005,545.6,519.9,473,1130.2,892.1,751.2,653.29999999999995,587,550.70000000000005,501.2,0.84670000000000001,1.0905,1.2202,0.65269999999999995,0.88290000000000002,1.0153000000000001,690.5,0.86899999999999999,0.79,234.5,0.88170000000000004,0.621,61.3,680.5,"nor00001738",7.0949999999999998,3568,17.8,27,24.8,45.8,0,11]
["nor7303",7303,"NOR 9974","Sarpsborg EL Installasjo","1/2 TON ONE OFF","Melander",null,1981,null,"Havard Mathiesen Boe","CLUB","C",416,"17/6/2016","20:47:36",9.51,7.3159999999999998,1.6859999999999999,3.21,2586,109.8,0,674,0.91839999999999999,735,0.64100000000000001,52.7,1089.9000000000001,892.5,775.9,711.1,671.7,649.70000000000005,622.5,1039,853.9,754.9,702.3,672,652.70000000000005,628.29999999999995,920.4,747,654.6,601,567.9,546.29999999999995,519,953.2,770.4,672.3,615,579.6,556.4,527.4,1131.7,878.1,735.4,648.1,591,550.4,492,43.1,42.9,41.6,40.299999999999997,39.4,39,39.700000000000003,147.69999999999999,152.1,153.5,168,180,180,180,1098.3,924.6,827.5,788.6,770.6,761.4,760.8,719.4,609.20000000000005,565.29999999999995,549,540.79999999999995,536.29999999999995,531.29999999999995,676.1,583,548.6,530.5,521.4,515.9,511.6,640.70000000000005,565.1,533.5,509.5,493.7,486.1,479.8,644.1,566.6,533.4,507.2,485.9,470.1,454.2,686.4,577.5,535.20000000000005,501.9,474.3,453.3,431.5,714.5,592.4,543.9,510.8,482.6,457.9,411.7,796.8,649.6,571.79999999999995,534.6,503.5,477.1,429,936.7,745.4,630.70000000000005,566.4,532.4,503.1,455.6,1081.5999999999999,860.5,724.4,633.6,572.79999999999995,537.9,484.1,0.88219999999999998,1.1255999999999999,1.2592000000000001,0.68100000000000005,0.91459999999999997,1.0465,665,0.90229999999999999,0.84599999999999997,255.7,0.91180000000000005,0.65100000000000002,65.2,658.1,"nor00001643",7.2439999999999998,3130,16.7,30.2,24.1,48.5,0,12]
["MNE003/16","GBR5687","GBR 5687","Grimalkin","1/2 Tonner","Nicholson","Holland",1978,"MONTENEGRO","Simon Sarsfield","CLUB","C",360,"25/4/2016","08:56:22",9.14,7.4370000000000003,1.649,3.12,2977,108.5,0.12,731.6,0.85719999999999996,787.4,0.56899999999999995,36.9,1219.5,977.1,840.2,758.5,710.2,684.9,664.9,1150.5,936,816.4,748.5,712.4,692.8,676,1012.1,815.4,709.4,647.9,610.6,586.9,559.5,1012.1,815.4,709.4,647.9,610.6,586.9,559.5,1252.5,961,797.4,698.4,635.20000000000005,592,533.4,43.2,42.2,42.6,40.700000000000003,39.9,39.5,40.5,167.8,169.1,170.6,171.1,173,175.5,176,1173.3,987.3,878.3,821,799,789.8,797.3,767.3,648.70000000000005,592.70000000000005,569.79999999999995,560.29999999999995,555.70000000000005,554.29999999999995,723.5,616,575.1,554.79999999999995,543,537.20000000000005,533.79999999999995,687.5,595.5,561.9,540.5,522.79999999999995,509.7,499.8,691.6,597.9,563.5,541.6,521.6,501.7,478.7,769.7,636.20000000000005,579.9,552.5,529.79999999999995,507.3,467.3,812.5,675,597.1,563.1,539.6,517.1,475.9,930.7,753.5,646.5,588.9,559.9,537.79999999999995,495.5,1098.5999999999999,857,725,634.9,585.5,558.20000000000005,515.9,1265.7,966.9,802,696.1,621.5,580,532.5,0.79969999999999997,1.0444,1.1727000000000001,0.61460000000000004,0.85240000000000005,0.98719999999999997,0,0,0.70299999999999996,187.4,0.84499999999999997,0,0,710.1,"MNE00062676",7.0270000000000001,3572,17.600000000000001,24.4,25.5,0,0,13]
["knw15025","NED_3925","NED 3925","ITCH","1/4 Ton","Broager G.","A.MOHNNAUPT",1979,223145,"B.P.,Aarts","CLUB","R",307,"23/3/2016","14:24:56",8.0839999999999996,6.2320000000000002,1.518,2.85,1435,96.3,0.04,726.7,0.85289999999999999,791.4,0.61,65.3,1164.3,950.4,830.7,765.1,727.8,708.1,679.3,1112,912.7,811.2,759.4,730.4,712.8,685.5,988.3,803.4,705.7,649.9,616.20000000000005,594.29999999999995,566.5,1018.1,824.6,721.9,663,627,603.6,573.6,1212.3,942.6,792,700.6,641,598.5,536.29999999999995,42.9,42.5,41,39.9,39.200000000000003,39.299999999999997,40.1,149,153.1,155.6,180,180,180,180,1172.0999999999999,983,889.5,856.2,841.5,837.6,839,768.9,652.79999999999995,612,598.9,592.20000000000005,588.5,582.5,723.4,627.79999999999995,594.20000000000005,579.1,571,566.5,559.9,687.4,610.1,576.9,552.70000000000005,539.70000000000005,532.9,528.6,691.8,612.4,577.1,548.29999999999995,525.79999999999995,511.2,500.3,741.4,625.9,580.79999999999995,543.79999999999995,512.70000000000005,491.1,469.3,772.2,641,590,554.29999999999995,522.70000000000005,494.3,445.8,861.6,699.7,618.70000000000005,579.1,544.6,515.1,459.1,1001.7,796.1,673,610.79999999999995,575,542.6,488.7,1156.5999999999999,917.7,771.8,673.9,614.1,578.6,519.70000000000005,0.82330000000000003,1.0429999999999999,1.1556,0.63839999999999997,0.85109999999999997,0.96120000000000005,719.7,0.8337,0.84099999999999997,301.89999999999998,0.84550000000000003,0.621,80.7,709.7,"knw00004759",6.157,1867,12.5,19.600000000000001,18.3,31.7,0,14]
["knw5293","NEDI3161","NED 3161","FOOLPROOF","1/4 Ton","Caparros","J.Fauroux",1981,118549,"R.J.H.,Foolen","CLUB","C",375,"23/3/2016","14:27:30",7.8650000000000002,6.39,1.4810000000000001,3,1413,96.9,0,713.6,0.86119999999999997,783.8,0.60399999999999998,49.7,1149.3,942.5,825.1,757.1,721.5,700.9,679,1110.9000000000001,914,811.2,754.7,723.2,703.8,678.2,972.5,790.3,693.3,637,601.9,578.5,547.79999999999995,1036.7,836.6,729.2,666.7,628.29999999999995,603.5,573.20000000000005,1191.4000000000001,927,777.9,685.8,624.20000000000005,579.20000000000005,512.79999999999995,44.5,44,43.3,42.3,41.8,41.8,43.3,147.4,150.6,153.80000000000001,171.8,180,180,180,1231.4000000000001,1032.8,925.4,874.3,854.2,847.8,864.1,793.5,669.8,616.1,593.1,581.70000000000005,576.1,576,741.4,635.20000000000005,594.4,572.29999999999995,556.29999999999995,548.29999999999995,544,698,612.20000000000005,576.5,549.5,527.5,512.6,501,697.1,603.29999999999995,560.4,539.29999999999995,520,499.8,469.2,685.4,596.20000000000005,551.9,513.9,487.3,471.7,441.1,713.9,603.6,559.4,520.6,486.4,453.3,409.5,793.2,646.1,582,543.1,509,476.8,391.6,924.2,738,632.5,577.9,542.1,510.3,445.4,1067.0999999999999,852.2,724.8,639.9,588.9,554,493.9,0.83579999999999999,1.0615000000000001,1.1890000000000001,0.64539999999999997,0.85840000000000005,0.96730000000000005,711.9,0.84279999999999999,0.84499999999999997,298.60000000000002,0.86160000000000003,0.625,76.3,696.4,"knw00004775",6.1120000000000001,1858,12.3,19.5,14.5,53.5,0,15]
["nor5306",5306,"NOR 7946","Rassker","1/4 TON ONE OFF","Hallberg Rassy","Magnus Rassy",1983,null,"Per Magne Tonnesen","CLUB","C",360,"2/9/2016","20:37:40",7.82,6.6550000000000002,1.77,2.77,1705,109.4,0,689.8,0.91059999999999997,741.3,0.65600000000000003,72,1090.3,893.5,780.4,715.8,682,661.7,637.70000000000005,1046,861.1,764.6,711.1,680.7,661.3,639.20000000000005,934.2,761.8,670.6,617.79999999999995,585,563,534.6,998.1,806.6,703.8,644,607,582.79999999999995,553.79999999999995,1137.5999999999999,887.5,747.8,662.6,607,567.29999999999995,510.5,41.8,40.9,39.1,37.1,36,35.5,36.9,147.1,150.5,155.6,175.3,180,180,180,1130,944.7,842.3,792.7,773.3,764.4,774.6,749,638.5,596.6,576,565.1,559.1,555.29999999999995,710.3,617.79999999999995,583.9,561.70000000000005,546.29999999999995,538.5,532.79999999999995,680.4,604.6,573,547,524.5,509.6,498.3,670,592.9,557.79999999999995,539.79999999999995,522.79999999999995,502.4,473.8,672.5,592.9,555,519,493.5,479.5,455.8,697.1,603.29999999999995,564.4,528.5,495.9,467.3,431.8,776.8,641.20000000000005,587.1,552.6,518.9,488.6,425.9,909.8,729.5,628.1,583.29999999999995,551.20000000000005,519.79999999999995,463.7,1050.5,842.3,718.4,638.9,590.6,559,500.8,0.87139999999999995,1.0944,1.2210000000000001,0.68049999999999999,0.90769999999999995,1.0262,677.3,0.88580000000000003,0.88200000000000001,289.7,0.89470000000000005,0.67200000000000004,88.7,670.6,"nor00001957",6.8760000000000003,2174,13.6,21.1,16.600000000000001,50.2,50.2,16]
["nor6392",6392,"NOR 173","NiPa","11m OD","Grimstad Norge","R Holland",1991,null,"Nils S. Parnemann","CLUB","R",423,"20/4/2016","20:40:54",10.3,8.64,1.708,2.5299999999999998,1669,100.3,0.13,600,1.0230999999999999,659.8,0.67400000000000004,19.7,993.8,796.5,694.6,644.4,612.20000000000005,579.6,526.1,956.6,771.2,679.7,631.20000000000005,598.1,569,539.9,828.2,668.5,582.6,531.4,497.4,472,432.7,912.4,726.6,624.9,563.9,524.4,496.8,459.2,1018,785.7,654.6,572.9,516.9,474.2,408.8,44.3,43.9,42.1,40.5,39.5,38.700000000000003,39.299999999999997,143.30000000000001,141.6,152.30000000000001,158.19999999999999,155.9,151,144.6,1078.4000000000001,872.7,774.2,736.9,717.7,695.7,693.6,693.2,565.9,521.4,507.2,498.9,489.1,479.3,643.4,536.6,501.2,485.7,475.8,469.3,452.1,600.4,517.1,479.4,452.1,439,430.9,412.9,586.9,517.29999999999995,479.2,442.1,413.7,397.6,382.5,577.1,497,465.6,441.6,417.5,395.6,338,593.5,503.2,453.9,426.7,404.2,379.9,332.7,662.5,533.9,482,435.2,389.7,352,308.8,787.5,623.79999999999995,533.5,483.4,441.3,400.1,310.60000000000002,909.3,720.3,614.9,551.9,506.7,463.6,358.6,0.98170000000000002,1.2656000000000001,1.4614,0.75409999999999999,1.0139,1.1890000000000001,599,1.0016,0.92900000000000005,243.4,1.0274000000000001,0.69599999999999995,45.1,584,"nor00000582",8.4260000000000002,2327,15.8,29.7,13.2,74.7,0,17]
["nor666945",666945,"NOR 117","NN","11m OD","?","R Holland",1972,null,"Ole Petter Johnsen","CLUB","R",498,"28/4/2016","20:36:18",10.3,8.64,1.708,2.5299999999999998,1669,100.3,0.13,594.5,1.0330999999999999,653.4,0.67300000000000004,14.1,988.7,791.8,685.9,636.20000000000005,604.6,574.20000000000005,517.6,950.7,764.9,670.8,622,589.5,560.9,528,823.1,663.4,577.20000000000005,525.5,491.1,465.1,424.4,907.6,722.1,620.29999999999995,559,519.29999999999995,491.2,451.5,1010.5,778.7,647.70000000000005,565.79999999999995,509.6,466.7,400.8,44,43.8,41.4,39.6,38.700000000000003,38,38.299999999999997,143.30000000000001,141.6,152.30000000000001,158.19999999999999,155.9,150.9,143.69999999999999,1068.8,863.9,757.1,720.6,702.6,685.1,678.5,688.7,562.70000000000005,515.6,500.6,491.8,485,470.5,640.20000000000005,534.9,497,478.7,467.8,461.1,443.9,600.70000000000005,516.9,478.7,447.4,432.4,423.4,408,585.5,513.70000000000005,478.8,441.6,408.8,389.4,372.5,576.20000000000005,495.3,459.2,435.7,411.4,387.1,330.2,592.70000000000005,502.8,450.9,420.2,397,371.5,325,661.9,533.6,481.7,434.9,389.2,344.8,300.39999999999998,786.8,623.29999999999995,533.29999999999995,483.2,441.2,397.7,308.89999999999998,908.6,719.7,614.6,551.70000000000005,506.5,463.3,356.7,0.98599999999999999,1.2789999999999999,1.4837,0.75819999999999999,1.0262,1.2040999999999999,595.70000000000005,1.0072000000000001,0.93,238.7,1.0385,0.70199999999999996,46.7,577.70000000000005,"nor00000785",8.6140000000000008,2327,15.8,29.7,13.2,74.7,0,18]
["nor9935",9935,"NOR 160","Point 2 Point","11m OD","?","R Holland",1972,null,"Anders G. Larsson","CLUB","R",498,"28/4/2016","20:36:26",10.3,8.64,1.708,2.5299999999999998,1669,100.3,0.13,598.4,1.0235000000000001,659.5,0.66700000000000004,13.6,996.5,798.7,692.9,642.29999999999995,610.29999999999995,579.79999999999995,523.6,959.5,772.8,678.4,628.9,596,567.29999999999995,534.70000000000005,828.4,667.8,581,529.1,494.5,468.5,428.1,912.7,726.3,624,562.5,522.6,494.5,454.9,1018.2,784.8,652.70000000000005,570.1,513.29999999999995,470,403.5,44.4,43.7,42.2,40.5,39.6,38.9,39.200000000000003,143.30000000000001,141.6,152.30000000000001,158.19999999999999,156,151,143.69999999999999,1083.3,876.9,770.9,732.7,713.9,696.1,689.7,695.4,568.1,519.20000000000005,504,495.2,488.6,474.9,644.9,537.79999999999995,499.7,481.8,471,464.3,447.2,601.29999999999995,517.29999999999995,479.5,448.7,433.8,424.8,409.7,587.6,515.1,479.1,442.2,409.9,390.7,374,577.79999999999995,496,460.1,436.5,412.3,388.2,331.7,594.1,503.3,451.6,420.8,397.7,372.4,326.2,662.9,534.1,482.1,435.3,389.7,345.4,301,787.8,624,533.6,483.4,441.4,398,309.5,909.7,720.5,614.9,551.9,506.7,463.6,357.4,0.9798,1.2705,1.4729000000000001,0.752,1.0163,1.1919,600.70000000000005,0.99880000000000002,0.92400000000000004,240.2,1.0306,0.69499999999999995,45.4,582.20000000000005,"nor00000786",8.4730000000000008,2327,15.8,29.7,13.2,74.7,0,19]
["nor21770",21770,"NOR 179","Vill Vakker & Vat","11m OD","NN","R Holland",1991,null,"Aage Andersen","CLUB","R",498,"22/8/2016","10:51:16",10.3,8.64,1.708,2.5299999999999998,1669,100.3,0.13,598.4,1.0235000000000001,659.5,0.66700000000000004,13.6,996.5,798.7,692.9,642.29999999999995,610.29999999999995,579.79999999999995,523.6,959.5,772.8,678.4,628.9,596,567.29999999999995,534.70000000000005,828.4,667.8,581,529.1,494.5,468.5,428.1,912.7,726.3,624,562.5,522.6,494.5,454.9,1018.2,784.8,652.70000000000005,570.1,513.29999999999995,470,403.5,44.4,43.7,42.2,40.5,39.6,38.9,39.200000000000003,143.30000000000001,141.6,152.30000000000001,158.19999999999999,156,151,143.69999999999999,1083.3,876.9,770.9,732.7,713.9,696.1,689.7,695.4,568.1,519.20000000000005,504,495.2,488.6,474.9,644.9,537.79999999999995,499.7,481.8,471,464.3,447.2,601.29999999999995,517.29999999999995,479.5,448.7,433.8,424.8,409.7,587.6,515.1,479.1,442.2,409.9,390.7,374,577.79999999999995,496,460.1,436.5,412.3,388.2,331.7,594.1,503.3,451.6,420.8,397.7,372.4,326.2,662.9,534.1,482.1,435.3,389.7,345.4,301,787.8,624,533.6,483.4,441.4,398,309.5,909.7,720.5,614.9,551.9,506.7,463.6,357.4,0.9798,1.2705,1.4729000000000001,0.752,1.0163,1.1919,600.70000000000005,0.99880000000000002,0.92400000000000004,240.2,1.0306,0.69499999999999995,45.4,582.20000000000005,"nor00001900",8.4730000000000008,2327,15.8,29.7,13.2,74.7,0,20]
["AUS281600",2816,"AUS211","Inevitable","11m OD","Pacesetter Yachts","Ron Holland",1972,"2106 Newport Australia","Ronald Palmer","CLUB","R",450,"16/9/2016","11:06:52",10.305,8.6020000000000003,1.704,2.5299999999999998,1625,117,0.12,595,1.0279,656.7,0.65700000000000003,3.7,997.4,798.8,689.5,637.20000000000005,604.6,577.5,516.20000000000005,960.1,771.9,674.6,623.1,590.1,563.20000000000005,523.1,827.2,665.5,577.6,524.5,488.8,461.7,418.8,911.8,724.5,621.29999999999995,558.79999999999995,518,488.8,446.3,1016.4,781.8,648.4,564.6,506.6,462.2,393.1,44.4,43.8,42.1,40.299999999999997,39.200000000000003,38.700000000000003,38.700000000000003,143.30000000000001,141.6,152.30000000000001,158,155.9,150.5,142.19999999999999,1084.2,876.8,764,722.3,702.7,691.9,677.3,696.2,567.9,516.6,498.2,487.6,480.8,464.3,645.6,537.70000000000005,497.6,474.3,461.5,453.8,436.3,602,517.5,478.5,443.9,424.1,413.3,400.6,588.5,510.6,478.2,440.9,405.4,379.4,355.8,578.4,495.8,454.4,430.5,406.3,379,324.39999999999998,594.70000000000005,503.3,450.3,414.7,390.7,364.2,318.5,663.6,534.4,481.8,434.7,388.7,339.9,293.3,788.6,624.29999999999995,533.6,483.4,441.1,396.1,307.5,910.6,720.8,615.1,552.1,506.5,463.1,355,0.97960000000000003,1.2798,1.4958,0.75160000000000005,1.0227999999999999,1.2025999999999999,589.9,1.0169999999999999,0.91600000000000004,233.3,1.0384,0.67800000000000005,26.9,577.79999999999995,"AUS00000386",8.5749999999999993,2282,15.7,29.1,13.7,74,0,21]
["SUISU1493","SUI1493","SUI 149","RUF rot","11m OD","Precision Boats","Ron Holland",1991,"SCSta","Streuli Hans","CLUB","R",498,"16/4/2016","16:43:34",10.305,8.64,1.708,2.5299999999999998,1669,100.3,0.1,596,1.0294000000000001,655.7,0.67200000000000004,14.9,990,793.7,689.6,639.29999999999995,607.4,576,521.20000000000005,951.9,767.1,674.4,625.6,592.5,562.79999999999995,532.4,824.6,664.9,578.70000000000005,527.1,492.6,466.8,426.9,906.8,722.1,620.79999999999995,559.79999999999995,520.20000000000005,492.2,453.2,1013.1,781.1,649.9,567.79999999999995,511.5,468.6,403,44.3,43.5,41.8,40.1,39.200000000000003,38.299999999999997,38.799999999999997,143.30000000000001,141.5,152.30000000000001,158.30000000000001,156.19999999999999,151.30000000000001,143.5,1068.4000000000001,865.3,763.5,726.1,707.2,687.4,683.7,687.2,562.5,516.9,502.2,493.5,485.5,472.7,638.20000000000005,534.4,497.6,480.3,469.7,463,445.6,596.20000000000005,515.20000000000005,477.3,447.5,433.3,424.6,407.6,588.79999999999995,514.5,477.3,440.4,409.2,390.9,374.7,579.1,496.7,459.8,435.9,411.7,388.2,331.9,595.5,504,452.1,420.6,397.4,372.3,326.3,664.5,535,482.9,436.2,390.8,345.6,300.7,789.5,625.29999999999995,534.20000000000005,484.2,442.2,398.4,310.60000000000002,911.7,722,615.70000000000005,552.5,507.6,464.6,358.7,0.98470000000000002,1.2750999999999999,1.4782,0.75690000000000002,1.0213000000000001,1.1982999999999999,0,0,0.92800000000000005,239.5,1.0353000000000001,0,0,579.6,"SUI00002133",8.5500000000000007,2327,15.8,29.4,14.3,74.3,0,22]
["SUISU3111","SUI3111","SUI 311","RUF blau","11m OD","Precision Boats","Ron Holland",1991,"SCSta","Streuli Hans","CLUB","R",498,"16/4/2016","16:43:50",10.305,8.64,1.708,2.5299999999999998,1669,100.3,0.1,596,1.0294000000000001,655.7,0.67200000000000004,14.9,990,793.7,689.6,639.29999999999995,607.4,576,521.20000000000005,951.9,767.1,674.4,625.6,592.5,562.79999999999995,532.4,824.6,664.9,578.70000000000005,527.1,492.6,466.8,426.9,906.8,722.1,620.79999999999995,559.79999999999995,520.20000000000005,492.2,453.2,1013.1,781.1,649.9,567.79999999999995,511.5,468.6,403,44.3,43.5,41.8,40.1,39.200000000000003,38.299999999999997,38.799999999999997,143.30000000000001,141.5,152.30000000000001,158.30000000000001,156.19999999999999,151.30000000000001,143.5,1068.4000000000001,865.3,763.5,726.1,707.2,687.4,683.7,687.2,562.5,516.9,502.2,493.5,485.5,472.7,638.20000000000005,534.4,497.6,480.3,469.7,463,445.6,596.20000000000005,515.20000000000005,477.3,447.5,433.3,424.6,407.6,588.79999999999995,514.5,477.3,440.4,409.2,390.9,374.7,579.1,496.7,459.8,435.9,411.7,388.2,331.9,595.5,504,452.1,420.6,397.4,372.3,326.3,664.5,535,482.9,436.2,390.8,345.6,300.7,789.5,625.29999999999995,534.20000000000005,484.2,442.2,398.4,310.60000000000002,911.7,722,615.70000000000005,552.5,507.6,464.6,358.7,0.98470000000000002,1.2750999999999999,1.4782,0.75690000000000002,1.0213000000000001,1.1982999999999999,0,0,0.92800000000000005,239.5,1.0353000000000001,0,0,579.6,"SUI00002136",8.5500000000000007,2327,15.8,29.4,14.3,74.3,0,23]
["CAN014/16","CAN35019","CAN 35019","The Shadow","1D35","Carroll Marine","Nelson Marek",1998,"CANADA","Peter MCarthy","CLUB","R",1534,"8/3/2016","11:03:04",34.777000000000001,32.587000000000003,7.609,10.8,7057,113.2,0,575.6,1.0672999999999999,632.5,0.72099999999999997,32.5,941.9,765,665.9,614.70000000000005,582.6,558.1,521.4,898.4,730.5,646.70000000000005,602.29999999999995,572.4,547.4,516.29999999999995,790,639.79999999999995,559.20000000000005,511.5,480.4,458,425.1,843.2,677.3,587.29999999999995,533.6,499,474.8,442.2,973,752.9,628.6,551.5,499.7,461.5,404.5,43.6,42.8,40.200000000000003,39.1,37.9,37.299999999999997,37.4,140.5,139.5,149.30000000000001,157.6,180,180,146.69999999999999,973.1,797.7,716,684.2,666.1,650.20000000000005,646.29999999999995,631.1,526.20000000000005,493.3,481.7,475,467.6,459.6,590.29999999999995,504.7,477.1,465.2,457.2,450.6,436.7,554.9,490.2,459.3,437,425.1,417.7,401.7,555.6,490.3,458.8,426,400.8,387.5,375.3,575.70000000000005,489,447.9,422.9,400.6,383.5,336.1,594.29999999999995,496.8,455.9,413.8,386.8,367.6,326.7,661.8,534,480.3,443.4,404.8,365.5,300.7,788.7,634.20000000000005,533.20000000000005,481.1,447.3,412.6,343.4,910.7,732.3,615.70000000000005,545.20000000000005,499.1,466,396.5,1.0286,1.3170999999999999,1.5049999999999999,0.79090000000000005,1.0609,1.2262,0,0,0.98499999999999999,255.4,1.0686,0,0,561.5,"CAN00061676",9.73,9007,248.5,505.6,306.60000000000002,1041.7,0,24]
["GER99754","GER4845","GER 4845","MAGIC LADY","1D35","CARROLL MARINE","NELSON MAREK",1997,null,"STEFAN RAUSCH","CLUB","R",600,"26/4/2016","15:04:52",10.63,9.8089999999999993,2.298,3.29,2869,120,0,554,1.0894999999999999,619.6,0.754,37.5,893.7,729.8,650.6,610.6,579.29999999999995,551.1,500,853.5,702.9,632.79999999999995,592.9,562.20000000000005,537.4,504.9,746.8,611.5,539.5,496.5,467.5,445.5,411,817.6,659.9,574.79999999999995,524,491.1,467.7,434.8,933,726.4,610,537.1,486.6,447.8,387.9,45.8,42.6,40,39.1,38.1,37.799999999999997,38.200000000000003,142.6,144.5,150.30000000000001,151.5,148,145.19999999999999,142.80000000000001,922.6,773.4,712.8,684.7,663.9,654.20000000000005,652.29999999999995,585.70000000000005,513.70000000000005,491.1,480.8,473.2,464.6,458.7,538.9,493,474.1,462.8,454.8,443.8,433.9,499.8,467.5,446.8,431.4,420.9,412.7,395.3,490.2,450,425.1,408.4,392.5,381.9,366.1,508.7,467.9,428.7,391.4,366.8,350.2,322.2,546.79999999999995,477.4,430.7,397.8,361.6,340.7,305.10000000000002,627.5,507,460.4,416.4,372.2,331.5,283,749,594.29999999999995,509.5,464.6,428.4,387.9,301.10000000000002,864.9,686.2,588.4,536.5,494.6,447.9,347.7,1.0922000000000001,1.3535999999999999,1.5468999999999999,0.83150000000000002,1.0782,1.2523,562,1.0677000000000001,1.1160000000000001,320.7,1.0991,0.77400000000000002,63.6,545.9,"GER20014503",9.66,3730,22.4,51.4,28.7,0,120.6,25]
["GRE001101","GBR1035","GBR-1035","NO RESPECT","1D35","Carroll Marine","NELSON/MAREK",1998,"NO VOULIAGMENIS","JOSE ANTONIO SALGUERO SUDREA","INTL","R",700,"30/6/2016","12:41:20",10.63,9.7669999999999995,2.2949999999999999,3.29,2810,111.7,0,567.79999999999995,1.0802,624.9,0.72599999999999998,29.4,931,751,656.9,608,577.6,554,508.7,888,719.4,637.9,594.4,564.9,540.70000000000005,508.4,780.3,631.4,551.5,504.1,473.1,450.4,415.7,838.1,672.1,581.9,528,493,468.4,434.1,960.7,742.7,619.79999999999995,543.6,492,453.5,394.8,43.5,42.7,39.700000000000003,38.5,37.6,37,37.299999999999997,141,140.5,150,158.1,180,180,140.19999999999999,965.1,785.9,707.6,676.9,660.8,648.5,644.70000000000005,625.6,520.5,490.1,478.7,471.8,464.4,456.6,584.70000000000005,500.4,473.3,460.5,452.2,444.8,432.6,550.29999999999995,486.6,452.2,430.1,418.6,411.7,395.3,551.70000000000005,487.2,452.2,416.1,391.8,380.1,368,565.6,483.3,440.2,416.1,393.3,375.5,322.7,584.29999999999995,490.9,445.9,403.5,380.1,360.1,317.8,651.79999999999995,523.70000000000005,473.9,432.6,391,348.7,292.2,776.7,620.20000000000005,525,475.1,437.7,400.3,322.8,896.8,716.2,606.20000000000005,539.1,494.3,459.5,372.8,1.0422,1.3358000000000001,1.5308999999999999,0.80259999999999998,1.0738000000000001,1.2433000000000001,0,0,1.024,272.3,1.0848,0,0,553.1,"GRE01006350",9.7490000000000006,3662,22.3,46.5,25.3,96.7,0,26]
["JPN160250","JC160250","JPN 1088","INDEPENDENCE 7","1D35","CARROLL MARINE","NELSON/MAREK",1998,"MIURA","TAKASHI HIRAMATSU","CLUB","R",643,"29/3/2016","04:07:58",10.63,9.8079999999999998,2.298,3.29,2868,122.1,0,560,1.0942000000000001,616.9,0.73199999999999998,25.9,913.7,739.5,650.6,602,570.5,546.29999999999995,501.4,871.2,708.3,630.70000000000005,587.79999999999995,557.4,532.20000000000005,497.2,768,622.6,544.29999999999995,497.4,466.2,443,407.7,819.6,659.4,572.29999999999995,519.9,485.6,461.2,427.3,946.3,732.6,611.6,536,484.3,445.5,386.7,43.6,42.6,39.299999999999997,38.1,36.799999999999997,36.1,36.5,141.1,140.69999999999999,150.1,158.19999999999999,180,180,139.6,941.3,769.1,697.5,666.4,647.9,633.79999999999995,631,610.20000000000005,512.70000000000005,485.8,474.1,466.4,457,447.9,570.1,494.7,469.3,455.5,446.3,437.8,423.5,537.29999999999995,481.2,447,425,412.9,405.3,386.3,537.70000000000005,481.5,446,410.1,386,373.5,360.3,559.4,481.3,436.8,402.6,381,362.8,315.10000000000002,578.20000000000005,488.8,444.5,400.3,366.5,344.6,306.2,644.70000000000005,520.4,472.4,431.7,390.5,348.3,280.5,767.4,614.79999999999995,522.9,473.9,437,400.5,322,886.1,709.9,603.70000000000005,537.6,493.1,458.8,371.8,1.0591999999999999,1.3513999999999999,1.5572999999999999,0.81659999999999999,1.0855999999999999,1.2605,559.5,1.0723,1.0409999999999999,273.89999999999998,1.0994999999999999,0.75800000000000001,52.9,545.70000000000005,"JPN00016012",9.9250000000000007,3729,22.4,47.4,28.9,97.4,72.7,27]
["KOR","kor6790-","KOR-6790","TEAM HAEMARU","1D35","CARROLL MARINE","NELSON/MAREK",1998,"Seoul","Kim, Cho-Sung","CLUB","R",643,"24/6/2016","09:35:14",10.63,9.8079999999999998,2.298,3.29,2868,122.1,0,559.9,1.0942000000000001,616.9,0.73199999999999998,26.3,914,739.4,650.20000000000005,602.1,570.6,546.29999999999995,501.7,871.3,708.3,630.6,587.9,557.5,532.29999999999995,497.4,767.5,622.4,544.20000000000005,497.4,466.3,443.2,407.8,819.6,659.4,572.29999999999995,519.9,485.6,461.2,427.3,946.5,732.6,611.6,536.1,484.5,445.7,386.8,43.6,42.6,39.299999999999997,38.1,36.799999999999997,36.1,36.5,141.1,144.30000000000001,150.4,158.30000000000001,180,180,139.5,941.3,769.1,697.5,666.4,647.9,633.79999999999995,631,610.20000000000005,512.70000000000005,485.8,474.1,466.4,457,447.9,570.1,494.7,469.3,455.5,446.3,437.8,423.5,537.29999999999995,481.2,447,425,412.9,405.3,386.3,537.70000000000005,481,445.9,410.1,386,373.5,360.2,554.4,479.8,434.4,404.8,381.7,364,315.10000000000002,575.1,488.4,444.7,400.4,367.4,346.7,306.39999999999998,645.1,520.6,472.7,431.9,390.8,348.7,280.8,767.9,614.6,522.4,474.1,437.3,400.7,322.5,886.7,709.7,602.9,537.79999999999995,493.2,458.9,372.4,1.0598000000000001,1.3513999999999999,1.5565,0.8165,1.0857000000000001,1.2602,0,0,1.042,274.7,1.0992,0,0,545.79999999999995,"KOR11001720",9.9250000000000007,3729,22.4,47.4,28.9,96.9,90.8,28]
["USAUS6080","US6080","USA 35008","Deja Vu","1D35","Carroll Marine","Nelson/Marek",1998,"77586 Seabrook USA","Jeff D Kitterman","CLUB","R",696,"28/9/2016","12:21:08",10.63,9.8740000000000006,2.31,3.29,3055,121.3,0,565.4,1.0832999999999999,623.1,0.72,22.9,931.9,750.9,651.79999999999995,606.20000000000005,578.5,551.20000000000005,502.1,889.3,718.7,633.5,589,559.5,534.1,497.4,778.4,629.4,549.20000000000005,501.5,469.9,446.2,409.2,842.7,675.5,584.1,529.29999999999995,493.7,468.7,433.4,958.7,740.1,616.70000000000005,540,487.8,448.4,387.9,43.4,42.5,39.700000000000003,38.200000000000003,37,36.4,36.4,142.80000000000001,144.5,149.1,151.80000000000001,148.19999999999999,145.5,139,970.2,792.3,702.5,667.9,650.1,638.6,632,630,524.20000000000005,487.7,474.8,467,461.6,450,589.4,503.4,472.7,456.9,446.8,440.3,425.9,554.79999999999995,489.3,456.4,428.2,413.6,404.8,392.8,556.29999999999995,483.9,456.5,423.1,392.4,374.1,358.7,551,477.5,434.9,412.2,389.8,369.9,322.8,567.5,484.3,439.7,398.1,374.6,354.2,309.7,649,517.1,468.3,427.1,385.3,342.7,278.3,773.9,614.4,520.6,472.2,439,401.7,322.2,893.6,709.4,601.20000000000005,544.5,506.9,463.8,372.1,1.0435000000000001,1.3420000000000001,1.5451999999999999,0.80230000000000001,1.0772999999999999,1.2508999999999999,0,0,1.0149999999999999,264.10000000000002,1.0903,0,0,550.29999999999995,"USA00000389",9.9350000000000005,3927,22.8,47.2,26.5,0,121.6,29]
["CAN009/16","USA48006","USA 48006","Ha a' Koa","1D48","TPI","Reichel Pugh",1995,"CANADA","Victor (Vic) Bishop","CLUB","R",944,"8/3/2016","11:00:58",14.739000000000001,13.012,3.0510000000000002,4.33,8389,131,0,496,1.2379,545.29999999999995,0.84599999999999997,39.200000000000003,809.5,656.5,576.79999999999995,531.20000000000005,503.6,482,450.3,769.2,627.29999999999995,557.6,518.70000000000005,492.4,471.6,443.3,677.4,550,482,442,416,397.3,369.7,720.7,581.6,506.1,460.7,431.2,410.4,381.5,838.9,649.4,542.79999999999995,477.1,433.3,401.1,353.1,43.9,42.6,40.6,38.6,37.299999999999997,36.299999999999997,36,142,143.69999999999999,147.9,154.9,162.6,180,148.69999999999999,822.7,680.7,617.1,583.70000000000005,564.79999999999995,551.6,540.20000000000005,530.9,448.4,424,412.8,405.1,400.4,389.1,494.3,429.3,410.1,398.7,390.3,384,371.3,463.1,415.4,392.3,376.4,366,359,349.9,461,414.7,388.4,364.6,347.9,337.8,325.60000000000002,496.4,421.2,391.3,372.3,355.7,339,298.7,515.29999999999995,428,393.4,364.7,347.3,332.1,295.60000000000002,576.20000000000005,461.8,415.1,385.7,355.5,325.5,277.39999999999998,689.6,547.5,464.7,418.5,391.6,364,312,796.3,632.20000000000005,536.6,478.7,442.4,412.3,360.3,1.2025999999999999,1.5247999999999999,1.7335,0.92090000000000005,1.2274,1.4196,0,0,1.157,263.3,1.2386999999999999,0,0,484.4,"CAN00061663",13.05,9687,38.9,88.7,68.8,202.8,202.7,30]
["GER80370","GER443","GER  443","UNIVERSITAS","1-TON","FRANKLIN","FARR",1988,null,"ASV ROSTOCK","INTL","R",648,"17/4/2016","13:15:56",12.079000000000001,9.4860000000000007,2.27,3.84,5443,107.9,0,600.5,1.0271999999999999,657.1,0.73099999999999998,61.9,963.3,793.1,695,638.4,602.20000000000005,581.5,552.6,915.2,755.6,672.9,627.70000000000005,600,582,553.79999999999995,815.1,663.7,583.6,537.29999999999995,508.8,489.9,464.9,846.7,686.7,601,551,519.70000000000005,498.9,472.1,1005.2,782,656.6,579.9,529.9,494.8,445.9,42.5,42.5,41,39.700000000000003,38.700000000000003,38.5,38.200000000000003,140.80000000000001,150,150.6,158.69999999999999,180,180,180,963,814,739.3,704.7,685.5,677.3,666.7,632,538.1,504.9,492.8,486.2,481.7,474.9,593.9,516,489.5,477.9,470.8,466.2,459.7,561.4,500.6,475.5,458.3,447.3,440.6,434.5,563.1,501,474.6,453.6,436.2,423.9,412.3,609.1,512.5,476,448.5,430.7,419.7,402.3,630.70000000000005,524.20000000000005,483.4,455.5,429.4,408.3,386.2,701.3,571.6,506.1,475.3,449.4,425.3,381.1,834.4,668.8,564,505.2,476.2,451.6,407.9,963.5,772.2,650.79999999999995,572,518.79999999999995,485.7,438.4,0.99839999999999995,1.2594000000000001,1.4034,0.76859999999999995,1.0209999999999999,1.1721999999999999,596.20000000000005,1.0064,0.96699999999999997,268.60000000000002,1.0204,0.74099999999999999,74.5,588,"GER11001245",9.2330000000000005,6298,26,52,44.6,95.9,0,31]
["GER152487","GER884","GER  884","OROMOCTO","1-TON","DE DOOD","GILGENAST",1971,"SYC / HYC","KAI GRETEN","CLUB","C",400,"1/4/2016","09:09:14",12.000999999999999,9.077,1.952,3.67,7914,128.4,0.36,660.8,0.93579999999999997,721.3,0.64600000000000002,46.8,1072.8,887.4,774.1,700.2,654.5,626.79999999999995,598.4,1035.5,855.8,754.5,693.2,655.9,632.29999999999995,605.5,907.8,734.7,641.5,587,553.29999999999995,531.4,504.8,961.6,773.4,670.7,609.6,571.1,545.79999999999995,514.6,1110.4000000000001,862.1,720.9,633.5,576.5,537,484,44.6,43.8,44.3,43.9,42.5,41.6,41.1,146.9,151.19999999999999,149.80000000000001,157,180,180,180,1138.5,964.3,862,797.3,761.6,741.9,725.7,736.7,628.1,559.5,528.6,515.6,508.3,502.3,693.2,588.9,534.29999999999995,511.5,499.3,492.4,485.9,656.5,558.29999999999995,517.6,498,484.2,472.9,460.2,657.1,558.5,517.5,498,483.1,469.6,447.4,668,552.1,507,483.9,470.7,461.1,445.9,684.6,562.9,511.8,486.6,465.2,448.2,431.7,747.5,611.5,533.1,501,479.1,458.5,423.4,872.1,701.6,594.29999999999995,530.1,501.3,481,443.7,1007.1,810.5,686.2,603.1,547.4,511.7,471.1,0.89170000000000005,1.1515,1.2955000000000001,0.68869999999999998,0.92589999999999995,1.0832999999999999,646.29999999999995,0.9284,0.79200000000000004,202.2,0.93089999999999995,0.65,50.7,644.5,"GER20014039",8.0459999999999994,8703,28.6,34.299999999999997,51.2,121.2,0,32]
["ITA97954","I9795","ITA-9795","ERA ORA","3/4 IOR","MACIANTI","MALETTO-NAVONE-ST.",1978,"C.N.PORTODIMARE","PIERRI ANTONINO","INTL","R",430,"2/11/2016","20:09:12",9.7970000000000006,7.9969999999999999,1.9279999999999999,3.52,3365,101.3,0,654.6,0.94379999999999997,715.2,0.66100000000000003,54.4,1063.5999999999999,867.5,754.5,692.2,653.70000000000005,632.70000000000005,607.20000000000005,1016,832.5,735.3,683.9,654.5,636,613,894.6,725.5,635.6,583.79999999999995,552.1,531.70000000000005,506.5,933.3,752.9,656,599.70000000000005,565,542.5,515.20000000000005,1101,853.5,714.5,629.79999999999995,574.70000000000005,535.9,481.5,44,43.1,42.4,41.1,40.5,40.1,40.5,146.1,150.30000000000001,152.80000000000001,161.69999999999999,180,180,180,1091.2,913.1,814.8,772.7,754.1,745.4,744.3,706.9,597.5,549,531.6,523.9,519.79999999999995,516.9,662.2,567.9,532,514.70000000000005,505.8,500.5,496.7,625.20000000000005,547.6,517.6,496.5,480.7,472.1,465.3,625.79999999999995,547.79999999999995,517,494.4,473.9,458.5,442.2,660.9,555.1,515.6,485.6,460.4,445.9,428.2,683.8,568.1,522.6,493,466,442.5,411.1,759.6,618.29999999999995,547,513.5,485.8,460.3,415.6,897.2,711.8,603.5,543.4,512.70000000000005,486.5,440.8,1036,822,694.2,611.70000000000005,553.29999999999995,519.9,470.1,0.90810000000000002,1.1598999999999999,1.2932999999999999,0.69910000000000005,0.94010000000000005,1.0742,645.4,0.92969999999999997,0.873,258.39999999999998,0.93879999999999997,0.67100000000000004,65.599999999999994,639.1,"ITA00020723",7.7329999999999997,3985,19.600000000000001,33.6,29.6,64,0,33]
["CLU76681","I7668","ITA-7668","MIDA","3/4 TONNER","CROSATO","NORLIN",1977,"C.V.FIUMICINO","MAVIGLIA RICCARDO c/o ANEMOS ASD","CLUB","C",500,"30/3/2016","20:47:32",10.38,8.5730000000000004,2,3.33,5504,119.6,0.41,685.8,0.91020000000000001,741.6,0.60199999999999998,31.2,1132.7,925.6,804,718,667.1,637.1,608.5,1088.3,892.1,779.3,708.2,666.2,641,614,951.6,766.2,665.2,605.4,568,543.70000000000005,514.5,1005.4,804.7,694.3,628.1,586.29999999999995,558.9,525.70000000000005,1164.8,898.8,747.1,653.20000000000005,592.1,550,493.6,44.1,42.5,43.1,42.2,40.700000000000003,39.9,39.1,147.4,151.4,151.19999999999999,156.9,180,180,180,1187.8,992.9,880.6,799.9,760.1,739.7,725.3,770.3,651.6,578.1,543,526.70000000000005,519.20000000000005,513.5,724.9,613,553.9,527.6,512.5,503.3,496.1,687.3,582.4,537.20000000000005,515.20000000000005,498.9,485.5,469,690.4,585.1,536.5,511.9,500.5,485.6,459.6,709.5,583.79999999999995,530.29999999999995,503.9,481.6,465.3,448.7,728.7,598.1,536.5,508.5,486,464.4,434,795.2,654.20000000000005,563,524.70000000000005,501.3,479.9,440.9,933.3,743.7,630.70000000000005,557.79999999999995,524.4,502.7,463.7,1077.5999999999999,858.3,727.5,636,574,534.6,491.7,0.84840000000000004,1.1141000000000001,1.2684,0.65590000000000004,0.89849999999999997,1.0648,667.7,0.89849999999999997,0.71299999999999997,159.9,0.90159999999999996,0.61,38.799999999999997,665.5,"CLU00019021",7.7709999999999999,6241,23.7,24.1,39.5,85.3,0,34]
["HUN010/16","HUN26","HUN 26","Manoken","30 Skerry Cruiser","Style Yacht","Jeno Benacsek",1938,"HUNGARY","Tracon Budapest Kft","CLUB","R",544,"20/4/2016","12:49:46",13.125,9.3450000000000006,1.5349999999999999,2.14,3042,130,0.34,639.6,0.95979999999999999,703.3,0.59199999999999997,-4.7,1119.9000000000001,889,751.9,675.3,632.9,602.6,572.6,1063.8,845.9,726.1,662.8,626.1,600.1,570.20000000000005,905.7,720.2,618.9,559,521.5,496.6,465.9,956.7,757.4,647.5,581.70000000000005,540,512.20000000000005,477.5,1125.2,854,699.7,604.6,542.5,499.1,440.2,44.9,44.2,44.3,42.7,41.6,40.799999999999997,41.2,144.69999999999999,148,145.30000000000001,154,166.1,180,180,1147.9000000000001,931.2,810.4,756,727.1,708.7,704.1,733.7,597.79999999999995,527.6,502.5,490.7,483.7,478.2,679.4,556.1,503.2,480.2,469.8,463.2,456.2,633.1,525.9,486.5,458.8,440.8,431.8,422.7,635.79999999999995,526.6,487,461.1,435.1,412.8,395.6,660.5,530.29999999999995,480.7,446.1,427.7,411.3,385.9,692.2,546,489.2,455.3,422.6,397.1,366.4,795.5,619.29999999999995,518.20000000000005,479.4,448.4,418.4,352.5,945.6,733.4,600.5,518.70000000000005,481.8,453,397.2,1091.9000000000001,846.8,693.4,594.6,538.70000000000005,496.5,441.1,0.88870000000000005,1.2059,1.3904000000000001,0.67200000000000004,0.95340000000000003,1.127,0,0,0.72099999999999997,139.6,0.96650000000000003,0,0,620.79999999999995,"HUN00062631",8.5739999999999998,3764,20.399999999999999,27.2,23.2,59.7,0,35]
["ARG568401","ARG5684","ARG-5684","GANESH 2","32DUE","AST. PIERMARINE","S. CARLINI",2015,null,"CRISTIAN PAGLINI","INTL","C",630,"12/11/2016","10:59:34",9.7620000000000005,9.0960000000000001,2.0249999999999999,3.29,3914,116.4,0,613.5,1.0105,668,0.71299999999999997,57.6,988.2,806.8,701.8,647.9,613.79999999999995,591.70000000000005,564,945.4,774.3,685.3,639.20000000000005,611.1,590,561.29999999999995,836.7,679.4,595.9,547.6,517.5,497.1,469.4,892.3,718.8,625.29999999999995,570.6,536.5,513.79999999999995,484.4,1024.8,796.1,667.8,589.5,538.1,501.6,449.4,43.2,42.2,40.9,39.200000000000003,38.799999999999997,38.299999999999997,38.700000000000003,145,148.9,151.9,159.80000000000001,180,180,180,1022.5,853.2,759.5,723,705.1,691.8,688,667.6,564.4,519.20000000000005,505,498.6,495,487.8,627.9,539.29999999999995,504.6,490.1,483.2,479.3,470,595.6,522.4,493.2,472,458,450.9,445.1,598.20000000000005,523.5,494.2,471.9,449.2,430,414.1,614.4,519.6,483.1,456.2,440.9,425.8,402.8,632.1,529,489.7,458.4,427.4,410.1,383.9,698.9,568.6,510.1,479.8,450,420.5,357.2,826.2,658.6,559.29999999999995,508.7,480.5,452.9,398.3,954,760.5,644.20000000000005,572.79999999999995,522.6,491.6,440,0.9718,1.2354000000000001,1.3835999999999999,0.75209999999999999,1.0065999999999999,1.1501999999999999,0,0,0.95299999999999996,269.8,1.0028999999999999,0,0,598.29999999999995,"ARG00003451",8.8140000000000001,4685,22.4,39.4,28.1,89.9,0,36]
["ARG570501","OjodeB","ARG-5705","OJO DE BALLENA","32DUE","AST. PIERMARINE","S. CARLINI",2015,null,"PATRICIO GUISASOLA","INTL","C",650,"12/11/2016","11:00:48",9.7620000000000005,9.1479999999999997,2.0339999999999998,3.29,4058,119.6,0.01,622.5,0.99809999999999999,676.3,0.68100000000000005,43,1018.9,828.4,716,652.6,616,594.79999999999995,563.70000000000005,973,793.6,697,644.1,613.6,593.5,560.4,855.9,692,604.20000000000005,552.9,520.9,499.2,469.6,912.3,732.2,634.5,576.9,540.9,516.9,485.4,1049.8,811.9,677.8,595.6,541.70000000000005,503.6,449.5,43.4,42.2,41.5,39.6,39.1,38.5,38.299999999999997,145.19999999999999,149.4,150.80000000000001,159.1,180,180,180,1058,878,775,725.4,703.8,693.3,680.9,688.8,579.1,526.1,505,497.2,493.2,486.4,647,550.29999999999995,510.5,491.1,482.1,477.2,470.5,612.70000000000005,530.5,499.1,477.6,459.6,449.3,441.4,614.9,531.20000000000005,494.8,478.1,457.2,436.4,411.4,627,526,488.1,458.2,439.3,425.7,401.5,644.5,535.9,494.4,464.5,433.9,408.8,382.2,710.8,578.29999999999995,515,484.6,456.4,427.9,369.3,848.5,674.4,569.6,513.4,485.2,459.2,407.7,979.7,778.8,657.1,579.9,528.29999999999995,496.2,446.6,0.9476,1.2223999999999999,1.3793,0.73080000000000001,0.99370000000000003,1.1471,0,0,0.879,228.5,0.99070000000000003,0,0,605.70000000000005,"ARG00003466",8.8109999999999999,4837,22.8,36.700000000000003,29,89.7,0,37]
["AUS281800",2818,7058,"Nouvel Amour","335 Grand Large","Dufour Yachts","Umberto Felci",2013,"2303 Hamilton South Australia","Justin Singleton","CLUB","C",500,"16/9/2016","12:02:04",9.99,9.3949999999999996,1.9450000000000001,3.54,5900,112.3,0.41,702,0.88149999999999995,765.7,0.54800000000000004,0.9,1200.8,965.3,836.6,749.6,688,641.6,602.9,1152.8,930.6,806.9,727.2,672.7,636.9,605,989.2,790.3,680.3,613.70000000000005,571.1,542.70000000000005,508.5,1044.8,828.4,707.3,633.20000000000005,585.4,553.79999999999995,516.9,1219.3,932,767,663.8,595.79999999999995,549,488.5,44.7,42.9,42,42.3,41.1,39.6,39,145.80000000000001,147,146.6,146.80000000000001,172.4,173.7,178.6,1272.4000000000001,1038.7,911.9,824.8,757.4,721.6,701.6,816.2,679.8,599.29999999999995,547.20000000000005,520.1,506.1,496.8,761.7,640.6,565.4,526.5,506,493.4,481.7,718.2,606.70000000000005,541.20000000000005,511.6,494.4,481.2,459.8,713,590.20000000000005,525.1,497.2,478.7,467.3,453.4,712.4,589.29999999999995,525.20000000000005,497.5,478,458.6,422.6,742.3,611.29999999999995,536.5,504.1,483.9,465,427.1,830.4,672.4,577.20000000000005,524.9,499.2,480.6,444.5,978,772.4,659.2,583.9,539.6,512.79999999999995,480.7,1129.2,891.9,761.2,674.3,618.70000000000005,561.6,504.2,0.81330000000000002,1.0935999999999999,1.2750999999999999,0.62319999999999998,0.86409999999999998,1.0568,680,0.88239999999999996,0.63300000000000001,111.3,0.88129999999999997,0.55500000000000005,5.9,680.8,"AUS00000388",7.9749999999999996,6743,25.9,29.5,24.9,0,62.6,38]
["HUN030/16","HUN 40-1","HUN 40-1","Gloria","40 Skerry Cruiser","Balatonfured SY","A. Harms",1925,"HUNGARY","Miklos Juhasz","CLUB","R",350,"3/6/2016","10:49:06",13.2,10.577999999999999,1.6910000000000001,2.1,4654,146.30000000000001,0.28999999999999998,641,0.95189999999999997,709.1,0.61299999999999999,13.3,1110.2,880.4,757.4,685.3,642.6,613.9,580.9,1056.3,842.7,733.6,675.4,640.4,616.6,585.79999999999995,899.7,717.9,620.29999999999995,564,529.70000000000005,507.2,478.3,954.5,756.9,649,585.5,546.1,520.20000000000005,488.4,1120.4000000000001,853.5,703,611.29999999999995,552.1,511,454.2,45.2,44.5,44.1,43.5,43,43.1,43,143.69999999999999,147.30000000000001,144.4,153.1,162.1,180,180,1150.7,933.8,839.9,792.1,762,747.1,730.5,733.2,598.6,540.4,514.9,501.4,493.9,485.2,677,554.29999999999995,504.7,487.2,478.2,472.5,465.9,629.20000000000005,517,477.2,462,454,448.6,441.9,631,516.9,473.6,453.5,439,429.3,419.2,641.20000000000005,513.70000000000005,470.8,455.7,442.6,430.6,398.8,671.8,529.79999999999995,472.3,446.5,431.4,418,392,775.9,601.1,501.9,463.7,438,411,367.2,926.4,716.2,584.5,503.8,466.3,441.8,391.7,1069.7,827,675,578.5,523.1,480.8,431.3,0.89959999999999996,1.2007000000000001,1.3576999999999999,0.67820000000000003,0.94420000000000004,1.1089,0,0,0.76500000000000001,174.9,0.96109999999999995,0,0,624.29999999999995,"HUN00063354",8.843,5549,24.9,40,24.2,76.2,0,39]
["HUN025/16","HUN 40-3","HUN 40-3","Addio","40 Skerry Cruiser","Balatonfured SY","Jeno Benacsek",1943,"HUNGARY","Ervin Vasarhelyi","CLUB","C",350,"10/5/2016","08:19:40",15.03,11.927,1.7070000000000001,2.31,5899,111.3,0.42,655.1,0.92300000000000004,731.3,0.57099999999999995,-7.7,1173.4000000000001,917.6,778.9,702.4,657.7,631.20000000000005,594.6,1122,881.9,757.2,692.4,656.4,634.5,604.4,935,739,632.6,571.20000000000005,534.29999999999995,510.9,481.4,1005.7,789.5,670.1,599.20000000000005,555.20000000000005,526.6,491.8,1164.0999999999999,879.1,717.7,619.29999999999995,555.70000000000005,511.6,450.4,46.2,45.6,45.2,44.6,44.2,44.2,44.9,144.1,146.9,143.1,150.19999999999999,155.69999999999999,170.1,180,1258.0999999999999,1000.1,883,830.8,801,789.7,771.4,794.2,635.1,561.70000000000005,531.29999999999995,514.29999999999995,506.4,492.9,727.8,584.6,515.20000000000005,489.8,476.7,469.3,458.8,672.1,540.6,472.9,450.5,441.2,436.1,431.1,665.7,539.4,469.4,439.1,424.6,417.7,411.5,656,517.5,465.9,444.9,431.1,420.2,391,687.3,533.79999999999995,458.7,434.7,421,409.1,386.5,790.6,605.4,496.1,446.3,419.7,394.1,364.3,942.9,723.2,584.4,497.2,450.4,424.5,377.4,1088.8,835.1,674.9,574,514.5,472.8,417.8,0.85870000000000002,1.1866000000000001,1.3492999999999999,0.64559999999999995,0.91879999999999995,1.0814999999999999,0,0,0.71399999999999997,155.69999999999999,0.94289999999999996,0,0,636.29999999999995,"HUN00062895",9.1940000000000008,6982,30,38.200000000000003,25.7,87.7,0,40]
["HUN028/16","HUN 40-4","HUN 40-4","Tabu","40 Skerry Cruiser","Balatonfured SY","Jeno Benacsek",1942,"HUNGARY","Dr Lajos Kollar","CLUB","C",350,"13/5/2016","15:05:10",15.058,12.076000000000001,1.754,2.36,6502,125.2,0.43,645.79999999999995,0.94210000000000005,716.5,0.56499999999999995,-18.2,1170.5,915.3,768.9,687.3,639.9,607.70000000000005,575.20000000000005,1116.4000000000001,875.5,744.2,674.2,635,608.9,581.29999999999995,928.7,731.5,623.4,560,521.5,497.1,468.2,994.9,779.3,659.2,587.20000000000005,542,512.79999999999995,478.5,1156.4000000000001,869.8,706.6,606.70000000000005,542.29999999999995,498.4,440.4,46,45.1,45,44.5,44.1,43.8,44.1,144.30000000000001,147.4,144.4,150.19999999999999,155.9,171.3,180,1240.9000000000001,986.3,852.8,791.8,759.1,738.3,727.9,785.3,629,544.1,507.1,488.8,478.5,473.7,721.3,580.79999999999995,502.7,471.3,458.4,451.5,445.6,668.5,540.1,470.3,442.3,431.1,425.1,419.2,663.7,528.9,469.8,439.9,421.9,409.6,398.2,659,521.6,453.8,434.4,422.4,411.5,389,689.6,540.29999999999995,463.1,430.1,412,399.8,378.7,798.5,613.70000000000005,504.2,451.7,425.3,402.3,357.1,952.7,731.2,593.20000000000005,504.8,455.9,429.7,386.5,1100.0999999999999,844.3,685,582.79999999999995,520.79999999999995,477.1,422.4,0.86080000000000001,1.2064999999999999,1.3893,0.6472,0.93530000000000002,1.1183000000000001,0,0,0.67100000000000004,112.4,0.95899999999999996,0,0,625.70000000000005,"HUN00062977",9.5939999999999994,7609,31.4,39.299999999999997,23.5,79.8,0,41]
["AUS283900",2839,"AUS 29","Antares","5.5 Metre","Mr I, Perdriau","Mr E. B. Fay",1970,"2106  Newport  Australia","Martin Cross","CLUB","R",150,"31/10/2016","13:59:32",9.07,8.0730000000000004,1.35,1.9,2032,98.2,0.25,707.9,0.87549999999999994,771,0.60899999999999999,53.3,1167.3,938.6,817.4,750.2,708.3,675,643.70000000000005,1120.4000000000001,906,799.4,745.3,709.8,678.2,658.2,972.4,785.5,686.7,630.29999999999995,595.79999999999995,573.20000000000005,544.70000000000005,1045.5999999999999,834.9,721.5,655.8,615.5,589.5,559.20000000000005,1197.5,924.9,772.8,680.8,621.4,580.1,523.79999999999995,44.2,42.2,41.8,41.2,40.4,39.799999999999997,40,145.19999999999999,149.6,149.6,158.5,180,180,180,1240.5,1014.4,912.6,869.8,844.8,811.5,803.4,803.9,665.3,603.20000000000005,584.4,575.1,562.4,555.9,753,625.9,575,561.20000000000005,554.4,547.9,538.79999999999995,712,598,554.9,537.6,530.6,526.5,515.20000000000005,679.9,592.70000000000005,556.4,533.29999999999995,515.4,505.9,499.8,676.8,569.4,541.4,526.70000000000005,513.9,502.1,471.4,706,580.70000000000005,538.20000000000005,515,499.4,485,459.6,801.2,641.20000000000005,560.29999999999995,528.6,498.8,465.9,426.8,947.4,747.3,625.4,558.70000000000005,529.1,501.3,439.5,1094,862.9,722.2,630.6,571.79999999999995,538.6,484,0.83689999999999998,1.0750999999999999,1.1990000000000001,0.6411,0.86780000000000002,1.0049999999999999,688.3,0.87170000000000003,0.77100000000000002,226.6,0.86950000000000005,0.60799999999999998,51.2,690.1,"AUS00000462",6.984,2653,15.1,21.7,10.4,47.2,0,42]
["AUS2841",2841,"AUS26","Baragoola","5.5m","Hald & Johansen","Chance & Co",1970,"2106 Newport Australia","Jason Antill","CLUB","R",150,"16/11/2016","11:16:36",9.07,8.0730000000000004,1.35,1.9,2032,98.2,0.25,707.7,0.87580000000000002,770.7,0.60899999999999999,53.4,1166.5,938.2,817.1,750,707.9,674.7,643.4,1119.7,905.6,799.1,745,709.4,677.9,657.8,972.1,785.3,686.5,630.1,595.70000000000005,573,544.6,1045.3,834.7,721.3,655.6,615.4,589.4,559.1,1197,924.6,772.5,680.6,621.29999999999995,580,523.70000000000005,44.2,42.2,41.8,41.2,40.4,39.799999999999997,40.1,145.19999999999999,149.6,149.6,158.5,180,180,180,1239.0999999999999,1013.5,912.1,869.3,844,810.9,802.9,803.2,664.9,603,584.20000000000005,574.9,562.29999999999995,555.79999999999995,752.6,625.70000000000005,574.9,561.1,554.29999999999995,547.9,538.70000000000005,711.9,598,554.9,537.6,530.6,526.5,515.20000000000005,680,592.70000000000005,556.5,533.4,515.5,505.9,499.8,676.9,569.5,541.4,526.70000000000005,513.9,502.1,471.5,706.2,580.79999999999995,538.20000000000005,515,499.4,485,459.6,801.2,641.29999999999995,560.29999999999995,528.6,498.8,465.9,426.8,947.4,747.3,625.4,558.70000000000005,529.1,501.3,439.5,1094,862.9,722.1,630.6,571.79999999999995,538.6,484,0.83720000000000006,1.0753999999999999,1.1993,0.64139999999999997,0.86809999999999998,1.0055000000000001,688.1,0.87190000000000001,0.77200000000000002,226.6,0.86970000000000003,0.60799999999999998,51.3,689.9,"AUS00000481",6.9870000000000001,2653,15.1,21.7,10.4,47.2,0,43]
["ESP190901","GER1909","GER-1909","MYC-ONE","50 ' IOR","SCHUETZ/KNIERIM","JUDEL/VROLIJK",1991,"C.N.P.A.","MEDITERRANEAM YAACHT CLUB","INTL","R",1086,"11/3/2016","06:30:16",15.15,12.223000000000001,2.8969999999999998,4.55,11179,126.8,0,535.4,1.1528,585.5,0.79700000000000004,48,866.4,716.5,623.70000000000005,568.70000000000005,535.1,511.2,482.9,822.6,678.2,599.4,555.1,528,508.6,482.5,729.9,593.4,520.29999999999995,477.4,450.3,431.8,407.5,759.3,614.79999999999995,536.70000000000005,490.4,460.8,440.5,413.2,902,700.4,586.1,515.6,469.3,436.8,392,42.5,42.5,40.6,38.799999999999997,37.5,36.700000000000003,35.9,142.1,147.80000000000001,148.30000000000001,155.30000000000001,167.6,180,180,864.1,726.1,650.4,613.70000000000005,592.79999999999995,580.29999999999995,566.29999999999995,566.4,479.1,446.2,433.6,426.2,420.9,414,531.70000000000005,458.9,433.4,421,412.9,407.4,401.6,500.9,444.9,422,405.8,393.3,385.8,377.5,500.9,445.2,421.5,402.9,386.8,374.2,358.9,544.1,457.1,424.1,400.5,382.2,372,354.4,565,468.7,431.5,408.1,385.5,365.7,341.6,632.29999999999995,517.9,455.2,426.7,404.9,383.7,345.2,752.3,612.29999999999995,517,458,429.5,408.5,369.7,868.7,707,596.9,523.79999999999995,477.3,442.1,399.6,1.1121000000000001,1.4137,1.5941000000000001,0.85289999999999999,1.1422000000000001,1.3325,528,1.1363000000000001,1.0049999999999999,219.2,1.1446000000000001,0.80700000000000005,57.2,524.20000000000005,"ESP00017065",12.032,12418,40.4,91.8,73.3,144.9,160,44]
["nor9490",9490,"NOR 5","Pus","52 KVM KRYSSER","Anker & Jensen","ANKER",1909,null,"Ole Stian Oslebye","CLUB","C",541,"24/5/2016","23:26:04",11.69,9.0039999999999996,1.823,2.2799999999999998,5833,153.6,0.46,684.4,0.90269999999999995,747.7,0.56799999999999995,7.3,1178.5,945.3,809.9,722.2,669.2,635.70000000000005,608,1120.2,904.5,780.8,708.5,666.7,640.9,616.29999999999995,963.4,769.1,662.6,599.6,560.79999999999995,536.20000000000005,508.6,997.2,793.4,681.2,614.20000000000005,572.4,545.4,513.79999999999995,1193.7,910.1,748.3,648.79999999999995,584.5,540.6,483.1,44.2,42.8,43.6,43.5,42.4,41.9,41.4,147.69999999999999,152.1,152.1,155.6,172.8,180,180,1203.3,992.6,870.7,803.2,767.1,746.7,736.4,776.3,647.4,564.70000000000005,528.29999999999995,513.6,505.7,498.6,725.8,604.70000000000005,535.5,506.4,493.9,487.5,481.3,684.1,569.6,517.6,491.8,475,465.8,458.1,687.3,570.9,511.7,494.7,477.3,460.6,439.4,706,573.79999999999995,513.70000000000005,486.5,464.8,454.2,438.4,734.9,596.70000000000005,524.4,493.8,473.2,453.4,425.9,836.8,676.6,565.79999999999995,516.20000000000005,491,471.2,433,999.2,778.6,649,559.29999999999995,515.79999999999995,492,455.1,1153.7,898.1,749,641.29999999999995,571.20000000000005,524.70000000000005,479.6,0.83409999999999995,1.1251,1.2871999999999999,0.63560000000000005,0.89190000000000003,1.0651999999999999,668.9,0.89700000000000002,0.66600000000000004,128.4,0.90300000000000002,0.57399999999999995,14.7,664.4,"nor00001272",7.9580000000000002,6551,26.4,37.6,26.1,56.1,0,45]
["CLU58_6M","I58_6M","ITA-58_6M","BAU BAU","6 METRI S.I.","BAGLIETTO","BAGLIETTO",1938,"R.Y.C.C.SAVOIA","LA SCALA GIUSEPPE","CLUB","R",500,"3/4/2016","18:53:26",11.442,8.2110000000000003,1.5840000000000001,1.88,4292,137.6,0.09,673.6,0.9012,749,0.67600000000000005,83,1070.7,892.9,791.3,728.2,692,669.8,640.9,1025,858.7,773.8,726.2,698.2,678.9,657.8,904,740,654.79999999999995,607.1,578.9,561.1,539.1,939.4,765,673,620.6,589.1,569.1,545.29999999999995,1121.3,877.1,740.6,657.7,604,566.5,513.5,44.5,44.1,42.9,42.4,42.5,42.2,42.9,145.69999999999999,150.1,149.69999999999999,158.5,180,180,180,1111.3,965.3,896.1,856.1,839.1,826.5,812.3,715,623.70000000000005,584.6,565.29999999999995,555.79999999999995,553.1,540.5,664.5,580.4,552.1,538.79999999999995,531.5,528.1,519.1,617.9,543.5,522.70000000000005,513.29999999999995,507.7,504.2,499.3,613.1,538.70000000000005,511,498.5,491.7,487.7,484.6,647.70000000000005,543.79999999999995,519,504.8,488.8,474.3,464.6,669.9,553.1,511.9,495.3,483.5,472.6,456.7,743.1,603.29999999999995,533.20000000000005,503.6,480,456.6,435.6,892.1,709,594.5,531.6,504.2,481.9,439.8,1030.2,820.6,686.5,600.4,544.9,513.20000000000005,469.6,0.9032,1.1184000000000001,1.2215,0.6875,0.89529999999999998,1.0157,686.7,0.87370000000000003,0.91400000000000003,318.89999999999998,0.90269999999999995,0.67400000000000004,96.4,664.7,"CLU00019112",7.1479999999999997,4883,19.600000000000001,37.4,28.1,68.8,0,46]
["GER141080","6KR737","6KR  737","NATASCHA","6.5 KR","MATTHIESSEN&PAULSE","RHODES",1958,"TYC","ROLF MANDERLA","CLUB","C",340,"1/4/2016","09:09:20",11,8.6080000000000005,1.6459999999999999,2.81,6801,141.30000000000001,0.71,740.3,0.83320000000000005,810.1,0.52400000000000002,4.3,1264,1020.9,886.7,790.6,721.2,681.8,648.20000000000005,1226.4000000000001,995.5,866.8,782.9,725.7,691.6,657,1040.4000000000001,832.2,717.4,648.4,604.6,576.1,543.29999999999995,1111.7,883,755.1,676.9,626.6,593.4,554.9,1281,981.3,808.9,700.9,629.70000000000005,580.6,516.70000000000005,46.5,45.3,44.9,45.6,45.6,44.6,43.7,147.1,151.30000000000001,152.1,155.5,174.9,180,180,1403.7,1153.4000000000001,1021.9,926.9,854.7,819.3,794.5,885.9,738.3,654.20000000000005,590.20000000000005,556.29999999999995,541,530.9,816.1,687.8,605.6,557.4,534.70000000000005,521.79999999999995,511.7,760.3,642.70000000000005,568.70000000000005,536.4,518.4,505.3,487.3,747.7,616.1,546.9,526.6,517.5,503.9,479.6,731.8,601.79999999999995,540.1,513.5,495.2,485.4,470.1,753.7,618.5,547.20000000000005,518,497.7,478.6,455.6,828.2,676.5,577.70000000000005,534.4,511.3,492.3,455.7,973.6,769.7,651.6,571.70000000000005,534.20000000000005,512.6,477.2,1124.3,888.4,751.5,654.4,587.6,544.29999999999995,501.9,0.77359999999999995,1.0367,1.2001999999999999,0.59079999999999999,0.81869999999999998,0.99409999999999998,718.8,0.8347,0.60599999999999998,118.3,0.83509999999999995,0.52800000000000002,7.5,718.5,"GER20014040",6.9,7506,27.5,29.9,27,80.400000000000006,0,47]
["HUN035/16","HUN 60-1","HUN 60-1","Daruvar","60-er Seefahrtkreu","Balatonfured SY","Jeno Benacsek",1937,"HUNGARY","Rudolf Barinkay","CLUB","C",647,"7/7/2016","12:23:02",14.15,10.3,1.782,3.01,8826,150.69999999999999,0.48,664.4,0.92620000000000002,728.8,0.55100000000000005,-17.899999999999999,1171,934.6,801.9,707,647.1,606.70000000000005,565.79999999999995,1116.8,898.2,772.8,692.1,641.70000000000005,609.4,572.20000000000005,945.3,751.3,643.29999999999995,577.5,535.29999999999995,507,472.1,975.8,773.4,660.3,591.1,546.29999999999995,516.1,478.2,1177,892.4,728.4,625.9,558.4,511.6,448.9,46.7,45.1,45.5,46,44.4,43.2,41.6,146.69999999999999,151.19999999999999,151.5,153.6,162.80000000000001,180,180,1226.0999999999999,1001.6,880,793.1,740.6,709.6,676.4,773.7,641.29999999999995,558.79999999999995,508.9,485.5,473.1,460.9,713.2,594.29999999999995,519.20000000000005,484.3,465.6,454.3,443.3,662.9,550.79999999999995,493,467.7,451.2,436.6,418.5,659,547.6,491.4,463,449.8,436.8,408.5,687.3,559.4,491,462.3,442.6,424.1,403.5,713.3,580.6,502,468.6,448.6,430.6,396.6,804.8,650,545,490.6,464.3,445.6,411.4,966.4,751.4,626.9,540.70000000000005,491,465.8,431.3,1115.9000000000001,867.7,723.7,620.9,553.5,503.8,455.2,0.84809999999999997,1.1604000000000001,1.3662000000000001,0.6411,0.90900000000000003,1.1223000000000001,0,0,0.626,84.6,0.93059999999999998,0,0,644.70000000000005,"HUN00070066",8.6950000000000003,9692,32.200000000000003,52.4,35.4,73.2,0,48]
["GER142195","6MR15","6MR 15","STEAM","6MR","ABEKING&RASMUSSEN","ANKER",1921,"YCLL","THORSTEN THELEN","CLUB","R",350,"30/6/2016","11:05:54",10.500999999999999,7.4720000000000004,1.506,1.8,3500,184,0.1,664.6,0.9345,722.3,0.65900000000000003,61.4,1076.2,880.7,766.4,699.6,658.2,635.1,605.9,1024.3,841.4,745.4,692.6,660.4,638.9,610.20000000000005,903.7,735,645.6,594.20000000000005,562.6,541.70000000000005,515,936.7,758.4,662.9,607.4,573.1,550.6,522.1,1116.5,866.5,726.3,641,586.1,548.1,496.2,43.5,43.9,42.2,40.4,39.1,38.6,38.200000000000003,146.4,151.1,151.30000000000001,162.80000000000001,180,180,180,1096.7,918.8,826.7,781.5,755.5,739.3,725.8,712.4,599.6,558.6,542.29999999999995,533.4,527.79999999999995,521,665.3,573.5,542.1,526.79999999999995,518.29999999999995,512.6,505.9,624.9,556.5,529.1,510.8,497,488.9,479.7,624.9,557.20000000000005,529.79999999999995,509.3,491.1,475,456.7,654.20000000000005,559.4,524.9,499.6,485.3,474.1,454.7,681.7,570.9,532.29999999999995,506.1,481.1,461.3,441.8,763.7,623.29999999999995,554.29999999999995,524.79999999999995,500.5,476.8,432.8,914.2,728.5,612.6,552.1,524.5,501.5,458.3,1055.7,842.7,706.1,617.70000000000005,560.9,530.9,486,0.9,1.1393,1.2686999999999999,0.68989999999999996,0.92900000000000005,1.0716000000000001,652.1,0.92010000000000003,0.83599999999999997,236.8,0.92310000000000003,0.66300000000000003,65,650,"GER11001591",7.3869999999999996,4013,17,35,22.6,54.5,0,49]
["HUN014/16","HUN6-2","HUN 6-2","Talizman","6mR","Balatonfured SY","SPARKMAN & STEPHENS",1941,"HUNGARY","Elek Straub","CLUB","C",420,"3/5/2016","09:43:52",10.89,8.5489999999999995,1.8029999999999999,1.92,5199,185.4,0.39,684.5,0.91510000000000002,737.6,0.57699999999999996,12.2,1170.8,940.2,801.3,710.6,656.9,623.79999999999995,587.9,1120,902.1,776.7,701.4,656.5,627.4,591.1,962.2,768.8,663,600.1,560.70000000000005,534.4,500.7,1015.7,807.1,691.7,622.20000000000005,578.1,548.70000000000005,512.6,1185,905.4,746.2,648.29999999999995,584.9,541.29999999999995,482.6,44.7,43.1,43.5,42.1,40.200000000000003,38.9,37,146.6,150.69999999999999,148.69999999999999,157.1,180,180,180,1233.8,1009.6,878.1,793.9,747.8,719.4,688.8,792.7,656,574.9,539,521,510.2,498.2,739.5,613,550.20000000000005,523.79999999999995,508,496.2,482.2,694.4,579,533.29999999999995,511.7,495.9,481.7,458,696.1,576.29999999999995,526.1,506,496.4,481.7,452.4,697.1,570,522.5,498.1,476.9,462.1,444.2,720.5,584.9,529.1,503.2,481.8,460.3,428.5,805.3,650.6,554.6,519.1,497,476.5,435.7,959.4,754.1,627.5,550.79999999999995,519,498.2,459.9,1107.8,870.8,724.5,627.20000000000005,566.1,528.20000000000005,487.1,0.83689999999999998,1.1232,1.292,0.63949999999999996,0.9042,1.0911,0,0,0.65300000000000002,112.4,0.90480000000000005,0,0,663.1,"HUN00062813",7.8120000000000003,5858,22.9,35.9,25.2,70.599999999999994,0,50]
["nor8144",8144,"Sk 15","Ambition","7 m S","Anker & Jensen","Johan Anker",1918,null,"Knut Erik Kismul","CLUB","C",515,"26/4/2016","21:23:12",12.41,8.94,1.577,2.2400000000000002,5648,99.6,0.16,694.1,0.8669,778.6,0.59499999999999997,37.1,1147.2,939.4,831.1,762.2,715.8,682.6,653.5,1087.4000000000001,902.8,808,753.3,719.7,694.9,671.3,948.6,769.1,673.8,619.1,585.70000000000005,564.4,540.6,948.6,769.1,673.8,619.1,585.70000000000005,564.4,540.6,1190.2,919.6,766.7,672.4,610.29999999999995,566.6,508,44.9,43.6,43.1,43.1,43.7,44.2,44.8,148.5,158,169.2,171,174.9,179.5,179.7,1127.9000000000001,977.4,915.3,880.7,863.7,843.7,831.2,724,631.20000000000005,592,570.4,559.20000000000005,545.29999999999995,535.70000000000005,674.3,583.1,549.70000000000005,533.29999999999995,526.5,514.20000000000005,506.2,628.4,534.29999999999995,509.5,498.4,491.9,488.7,479.3,625.29999999999995,530.70000000000005,492.2,480,473.6,470.1,467.2,689.7,563.9,508.7,482.7,469.4,454.3,450.2,728.6,597.29999999999995,526.4,495.4,474.5,454,439.5,849.5,684.2,580.29999999999995,522.70000000000005,494.3,474.2,436.6,1010.2,784.8,659,571,520.6,493.7,455.3,1166.5,901.4,746.8,643.70000000000005,567.9,521.4,475.8,0.85770000000000002,1.0932999999999999,1.2177,0.64700000000000002,0.85629999999999995,0.99270000000000003,713.2,0.84130000000000005,0.79,245.8,0.87819999999999998,0.59599999999999997,55.7,683.2,"nor00000708",7.3449999999999998,6329,23,47.1,27.1,0,0,51]
["SUISUI133","SUI133","SUI 133","TALLY HO","7.9m CYD","Farner & Stierlin","J. Sprecher",1995,"SCE","Sprecher Patrik","CLUB","C",347,"19/4/2016","16:06:30",7.94,6.4050000000000002,1.0529999999999999,2.3199999999999998,2226,120.8,0.33,792.3,0.78139999999999998,863.8,0.60899999999999999,114.6,1286.0999999999999,1053.3,921.2,832.6,788.3,764.1,1337.8,1251,1028.7,910,842.7,803.8,791.8,1666.3,1079.9000000000001,874.5,766.5,710.2,691.6,713.5,963.6,1124.5,905.6,789.8,728.8,707.3,726.5,959.1,1323.5,1026.5,860,761.3,705.2,681.4,716,46.6,45.6,46.3,46,45.4,44.7,48,149.5,154.30000000000001,154.5,180,180,180,180,1421.8,1188.4000000000001,1067.5999999999999,992.4,959.8,942.1,2142.3000000000002,899.4,756.4,698.2,640.29999999999995,626.6,620,610.29999999999995,831,699,635.4,611,600.6,595,556.6,770.5,654.6,610.4,587.4,571,561.4,553.79999999999995,763.4,636.29999999999995,607.1,582,562.20000000000005,541.20000000000005,521.1,775.6,679.7,618.79999999999995,560.79999999999995,536.29999999999995,524.1,509,774.8,678,599.79999999999995,567.4,537.6,511.3,516.70000000000005,855.2,703.1,620.9,597.6,577.70000000000005,528.79999999999995,531.20000000000005,996.2,795.7,678.2,612.79999999999995,582.79999999999995,556.20000000000005,542.5,1150.3,918.2,774.9,672.8,616.79999999999995,586.1,533.4,0.751,0.9657,0.91859999999999997,0.57709999999999995,0.77629999999999999,0.68510000000000004,0,0,0.74199999999999999,284,0.78249999999999997,0,0,766.8,"SUI00002141",5.4660000000000002,2677,15.2,27.2,9.9,38.6,0,52]
["HUN020/16","HUN 75-1","HUN 75-1","Nemere II","75 skerry Cruiser","Balatonfured SY","Jeno Benacsek",1943,"HUNGARY","Robert Lang","CLUB","C",962,"5/5/2016","08:25:56",18.55,13.414999999999999,1.9279999999999999,2.83,10639,119.2,0.14000000000000001,553.70000000000005,1.0831,623.20000000000005,0.76300000000000001,46.4,910.5,747.3,657,606.4,578.4,553.70000000000005,523.9,879.3,722.9,646.1,605.9,581.70000000000005,561.70000000000005,539.20000000000005,751.1,611.5,538,495.9,470,452.6,429.4,835.8,669.7,579.5,526.29999999999995,492.8,470.5,442.7,939.9,729.6,611.20000000000005,538.1,489.4,454.3,403.8,46.9,44.6,43.9,43.6,43.8,43.7,44.4,143.30000000000001,144.80000000000001,145.6,152.9,160.30000000000001,180,180,987.9,837.4,770,732.1,712.2,691.2,676.4,621.20000000000005,535.5,494.6,472.4,460.1,449.8,438.6,564.6,492.1,457.2,440.6,431.2,425.9,415,502.7,447.2,422,410.3,403.7,399.6,392.4,476.9,425.3,408.6,395,387.1,381.9,376.9,511.3,437.6,409.6,388.9,377.5,369,353.7,545.29999999999995,456.2,417.3,395.3,381.8,365.5,347,608.6,473.2,416.9,396.7,382,368.7,338.8,721.5,569.20000000000005,471.1,418.5,394.1,370.7,323.10000000000002,833.1,657.2,544,480.7,444.5,416.2,371.4,1.0841000000000001,1.3654999999999999,1.5170999999999999,0.81430000000000002,1.0748,1.2302,0,0,1.05,287,1.0985,0,0,546.20000000000005,"HUN00062845",10.867000000000001,11964,40.799999999999997,73.2,44.6,236.1,0,53]
["HUN021/16","HUN 75-3","HUN 75-3","Lillafured","75 skerry Cruiser","Balatonfured SY","Jeno Benacsek",1943,"HUNGARY","Gal & Partners Law Office","CLUB","C",900,"5/5/2016","20:24:50",18.55,13.17,1.863,2.8,9176,128.19999999999999,7.0000000000000007E-2,541.9,1.1107,607.70000000000005,0.78300000000000003,47.7,888.2,725.5,640,592.5,565.4,541,504.6,858.9,705.8,630.70000000000005,591.4,567,546.29999999999995,522.4,733.5,598,526.70000000000005,485.8,460.3,442.8,418.5,822.2,658.6,569.9,517.4,484.3,462.2,434.4,917,712.2,597.20000000000005,526.29999999999995,478.8,444,393.4,47.3,45,44.4,44,43.9,43.7,43.9,142.69999999999999,139.69999999999999,147,153.80000000000001,160.1,174.8,150.9,974.3,819.1,750.5,713.2,693.4,671.4,659.8,611.20000000000005,521.70000000000005,481.5,461.2,450.2,440.4,432,553.5,479.7,448.1,433.8,425.7,420.5,411.7,491.3,439.9,418.4,407.6,401,396.7,388.5,466.7,421.5,406.1,393.2,383.1,376.4,370,497.5,431.7,406.3,385.7,371.8,362.4,345.1,521.4,446,413.6,390.4,374.4,359.2,337.6,583.20000000000005,465.2,410.5,389.1,371.5,356.5,325.60000000000002,694.6,547.29999999999995,458.5,411.1,384.8,358,304.8,802.1,631.9,529.4,471.8,437.3,410.5,349.5,1.1115999999999999,1.393,1.5508999999999999,0.83660000000000001,1.1017999999999999,1.2653000000000001,0,0,1.093,297,1.1240000000000001,0,0,533.79999999999995,"HUN00062862",10.968999999999999,10456,39.1,73,43,236.1,259.60000000000002,54]
["HUN026/16","HUN75-2","HUN 75-2","Sirocco","75 Skerry Cruiser","Balatonfured SY","Jeno Benacsek",1943,"HUNGARY","Dimenzio Ingatlan Kft.","CLUB","C",750,"11/5/2016","09:06:02",18.55,13.337,1.863,2.91,9992,135.80000000000001,0.09,541.6,1.1127,606.6,0.76200000000000001,34.799999999999997,902,733,640.1,589.1,558.20000000000005,536.29999999999995,498.4,872.4,710.4,630.1,586.70000000000005,559.20000000000005,540.29999999999995,509.7,740.3,600.29999999999995,525.9,482.9,456,437.5,412,830.7,662.6,570.70000000000005,515.9,481.2,457.8,427.3,924.6,714.9,596.70000000000005,523.70000000000005,475,439.4,386.5,47.6,45.7,45,44.5,44.3,43.7,43.7,143.6,144.80000000000001,146.5,153.5,160.30000000000001,180,149.9,990,825.3,747.4,704.6,677.2,660.5,640.5,619.29999999999995,524,477,453.8,440.7,434.1,422.2,559,481.7,443,426.7,417.9,412.7,403.2,494.9,435.6,415,401.6,393.9,388.9,382.6,473.2,418.2,401.1,390.9,377.4,369.3,360.6,508.7,436.1,409,388.7,368.5,357.5,341.5,536.29999999999995,441.5,415,393.8,373.5,362.3,332.8,596.20000000000005,463.2,412.2,389.9,370,355.2,326.39999999999998,704.9,554.9,461.4,412.2,387.6,361.9,308.60000000000002,813.9,640.70000000000005,532.79999999999995,473.7,439.1,412.2,356.3,1.0995999999999999,1.4001999999999999,1.5722,0.82569999999999999,1.1059000000000001,1.2795000000000001,0,0,1.0329999999999999,259.3,1.1256999999999999,0,0,533,"HUN00062945",11.16,11302,39.799999999999997,73.3,45.6,265.89999999999998,234.4,55]
["knw","nedo8770","NED 8770","Muschka","75m2 nationale kru","W von Hacht","W van Hacht",1923,4037794,"RFR van Leeuwen","CLUB","C",612,"11/7/2016","14:49:46",12.5,9.6389999999999993,1.526,3.38,7000,125.6,0.12,626.79999999999995,0.97989999999999999,688.9,0.67400000000000004,44.8,1024.8,845.2,735.8,668.1,626.9,600.9,572.1,976.1,807.1,713.1,659.2,627.1,605.4,578.29999999999995,857.8,695.6,608.70000000000005,558.1,526.79999999999995,506.2,480.3,893.6,721.6,628.70000000000005,574,539.79999999999995,517,487.9,1061.5,822.6,687.2,603.79999999999995,549.29999999999995,511.2,458.8,44.3,44,44.7,43.2,42.1,41.3,40.799999999999997,145.5,151.1,149.1,157.4,180,180,180,1046.8,890.4,799.2,751.4,725.4,708.9,692.5,677.3,574.29999999999995,522.20000000000005,503,493.5,488.3,482.6,634.1,539,501.7,485.7,477.5,472.4,467.1,594.79999999999995,515.29999999999995,486.8,470.3,457.7,449.6,441.3,593.9,514.29999999999995,485.7,468,452.7,438.7,420.6,632.6,524.6,485.4,462.1,442.5,429.2,413.3,653,538,491.6,467.5,445.8,425.4,400.3,722.6,592.5,515.4,483.7,462,441.3,404,868.4,691.8,582.29999999999995,514,484.2,463.5,425.1,1002.7,800,672.4,584.70000000000005,528.4,493,451.7,0.94550000000000001,1.2115,1.3595999999999999,0.72189999999999999,0.97109999999999996,1.1314,618.1,0.97070000000000001,0.84399999999999997,213,0.97709999999999997,0.67900000000000005,51.1,614.1,"knw00005647",8.7680000000000007,7818,28.1,48.5,40.6,96,85.7,56]
["nor7173",7173,"NOR 28","Fenris","8 M","Anker & Jensen","J Anker",1931,null,"Lars Magnus Hesselberg","CLUB","C",616,"22/4/2016","09:08:18",14.44,9.8000000000000007,2.1920000000000002,2.5099999999999998,9227,187.5,0.35,600.29999999999995,1.022,660.5,0.71399999999999997,54.3,977.2,809.3,707.8,644,599.29999999999995,573,543.9,928,767.2,678.9,627.79999999999995,595.79999999999995,574.9,546.29999999999995,812.6,663.2,583.79999999999995,537.4,508.4,489.1,464.9,841.4,681.8,596,545.6,514.20000000000005,493.4,467.7,1017.5,790.1,661.5,582.6,531.29999999999995,496.1,449,43.3,43.8,42.5,40.6,39,38.200000000000003,37.299999999999997,142.69999999999999,145.9,147.69999999999999,156.5,177.1,179.3,179.4,978.4,825.3,739.3,695.1,668.1,652.5,633.29999999999995,637.4,536.20000000000005,496.1,480.9,472.9,467.6,460.8,596.70000000000005,510.6,480.1,467.7,460.7,456,450.3,543.79999999999995,487.7,469,453.5,444.4,438.5,431.5,527.20000000000005,478.7,460.6,451.5,437.9,426.2,413.7,555.79999999999995,495.9,471.4,451,434.2,420.9,408.4,604.6,517.9,482,461.3,442.5,423.4,402.2,706.7,582.9,511.5,481.1,461.9,444.5,410.3,845.3,687.1,585.79999999999995,519.20000000000005,486.6,466.7,432.9,976.1,793.3,676.4,592.9,530.5,493.4,454.5,1.0001,1.2568999999999999,1.4063000000000001,0.75560000000000005,1.0106999999999999,1.1870000000000001,593,1.0118,0.873,205.9,1.0142,0.71899999999999997,58.4,591.6,"nor00000587",9.5150000000000006,10050,30.8,66.7,50.8,0,0,57]
["FRA16104b","F25","FRA-   25","CUTTY-TOU","8 Metres JI","CAMPER & NICHOLSON","CAMPER & NICHOLSON",1929,"33260  -  LA TEST DU BUECH","MINOS Gilles","CLUB","C",617,"13/6/2016","16:48:00",14.6,9.9659999999999993,2.012,2.52,8700,187.3,0.2,607.6,1.0102,668.2,0.68300000000000005,37.5,1009.1,827.1,716.9,647.70000000000005,604.29999999999995,578.1,548.79999999999995,957.6,786.1,691.3,636.29999999999995,602.70000000000005,581.6,552.6,835.2,675.5,589.79999999999995,539.79999999999995,508.9,488.7,463.5,853.9,689.4,600.5,548.29999999999995,515.70000000000005,494.2,467.1,1039.9000000000001,802.1,667.3,584.5,531,494.5,446.2,45,45.2,44.1,42.4,40.9,40.4,39.700000000000003,138.30000000000001,150.69999999999999,147.80000000000001,156.30000000000001,173.8,180,180,1019.7,858.3,769.1,720.9,690.1,675.3,657.2,653.79999999999995,548.1,503.5,484.5,474.4,467.9,461,607.6,513.29999999999995,481,467.2,459.4,454.1,448.3,565.5,491.1,464.5,449.3,440.7,434.8,427.7,562.1,490.1,463.5,445.8,430.8,420,409.3,616.9,508.2,468.6,446.8,435.5,425.6,401.6,640.79999999999995,523.20000000000005,476.1,452.3,432.3,415.8,399.6,717.8,582.29999999999995,503.3,470.2,449.3,430.1,394.2,864.7,687.4,575.70000000000005,503.1,471.4,451.1,415.1,998.4,795.8,664.7,574.4,518.4,481,440.5,0.97060000000000002,1.2524999999999999,1.4083000000000001,0.73519999999999996,1.0002,1.1766000000000001,0,0,0.82899999999999996,184.6,1.008,0,0,595.20000000000005,"FRA00004591",9.2739999999999991,9524,31.7,66.2,53.6,93.5,0,58]
["knw","NEDC3969","NED 3969","8 Modified","8 MOD","--","Jakopin & Jakopin",1995,4108718,"Hans Voorn","CLUB","S",380,"23/3/2016","14:24:32",8.0129999999999999,7.6989999999999998,1.6379999999999999,2.4900000000000002,1125,106.9,0.13,623.1,0.97989999999999999,688.9,0.64,11.5,1023.3,824.4,722.1,676.6,640.9,606.1,538.9,984.3,798.7,704.8,655,620.20000000000005,590.29999999999995,547.6,857.5,694.4,605.9,551.9,514.79999999999995,486.1,440.7,944.8,754.7,650.6,588,547,517.6,474.4,1053.5,814.9,679.4,593.70000000000005,533.6,486.8,413.6,44,42.6,39.9,38.299999999999997,37.5,37.1,37.5,143.19999999999999,146.6,150.6,148.5,145.4,143.80000000000001,141.30000000000001,1102.5999999999999,898,791,753.8,737.2,727.2,720.1,713.6,593.9,549.5,531.9,521.70000000000005,515.29999999999995,499.5,667.2,570.4,531,506.5,493.8,486.3,468.2,628.70000000000005,554,512.5,471.7,450.8,439.4,425.7,599.9,537.5,510,471.4,427.5,400.2,378.1,594.70000000000005,523.20000000000005,474.1,446.2,419.6,392.4,345.5,610.20000000000005,533.20000000000005,474.2,427.2,399.6,375.7,331.6,687.2,566.79999999999995,511.8,458.1,403.7,352.2,292.10000000000002,817.6,650.20000000000005,565.6,519.20000000000005,471.5,420,309.8,944,750.8,653.20000000000005,599.5,544.5,485,357.7,0.94689999999999996,1.214,1.4211,0.73060000000000003,0.97099999999999997,1.1449,618.29999999999995,0.97040000000000004,0.92100000000000004,262.8,0.98939999999999995,0.66600000000000004,38.299999999999997,606.4,"knw00004756",7.774,1738,14.2,24.4,13.4,0,69.8,59]
["knw16122","nedc3995","NED 3995","Pebbles","8M one design","--","--",1995,148538,"J.D. Peerdeman","CLUB","S",405,"23/3/2016","14:24:14",8.0129999999999999,7.7750000000000004,1.673,2.4900000000000002,1471,98.5,0.18,662.6,0.93379999999999996,722.8,0.60799999999999998,18,1101.5999999999999,887,762.3,696.4,658,635.79999999999995,598.4,1048.0999999999999,848.3,742.3,686.2,653,629.70000000000005,590.79999999999995,917.8,739.6,643,585.5,548.29999999999995,522.20000000000005,485.5,969.5,776.4,671.2,608.4,568.1,539.9,500.2,1129,868.9,721.5,630,568.5,523.29999999999995,457.4,43.2,41.9,40.4,38.799999999999997,37.799999999999997,37.4,38,145.1,149.6,151.9,162.9,180,180,180,1134.9000000000001,931.3,816.4,770,750.4,740.7,733.9,737.7,615,563.70000000000005,544,535,529.79999999999995,517.6,691.9,587.4,547.70000000000005,524.6,512.70000000000005,505.6,491.2,654.1,568.79999999999995,533.5,500,475.7,464.6,455.2,657.9,564.5,523.70000000000005,499.8,466.6,436.6,413,664.8,564.4,521.5,476.4,440.7,420.5,389.2,689.6,576.29999999999995,531.70000000000005,488.7,445.4,402.6,362.8,770.8,624.70000000000005,558.5,520.9,480.7,440.3,360.8,925.2,729.7,615.20000000000005,555.9,520.79999999999995,483.8,410.9,1068.3,842.6,708.2,622.79999999999995,565.70000000000005,530.9,462.9,0.88270000000000004,1.1497999999999999,1.3218000000000001,0.67889999999999995,0.93149999999999999,1.0760000000000001,652.20000000000005,0.92,0.81699999999999995,224.5,0.93279999999999996,0.628,39.299999999999997,643.20000000000005,"knw00004754",7.649,2131,15.1,24.1,14.8,43,0,60]
["SUISU9005","SUI9005","SUI 9","FROYA","8mIR",null,"BJARNE AAS",1939,"YCL","ROEL VAN MERKESTEYN","CLUB","R",603,"8/3/2016","15:25:46",14.6,9.5009999999999994,1.91,2.44,8603,187.2,0.28000000000000003,622.4,0.98760000000000003,683.5,0.68300000000000005,47.5,1018.2,840.2,730.2,663.1,620.4,594.9,566.4,974.5,804.2,710.2,656,622.1,599.5,571,849.9,690,604.6,554.79999999999995,523.9,503.5,477.3,875.2,708.7,619,566.1,532.9,510.8,483.7,1053.5,816.8,682.6,600.1,546.4,509.1,458.5,45.4,45,44.7,43,41.4,41,40,145.19999999999999,150.9,149.1,158.5,180,180,180,1055.2,894.4,801,750.3,718.1,698.5,680.3,674.5,569.20000000000005,522.1,501.9,491.1,484.1,476.7,626,532.6,499,483.9,474.7,468.7,461.2,582,510.2,483.8,467,454.6,446.8,437.2,576.79999999999995,509,483.1,465.3,449.6,435.2,416.8,617.6,517.5,482.6,461.4,450.1,439.8,419,639.79999999999995,528.79999999999995,488.8,466,445,429,412.1,715.4,581.5,510,482.1,461.6,441.5,403.4,849.6,679.7,571,509.2,482.8,463.3,426,981.1,786,659.4,575.9,522.70000000000005,491.2,452.5,0.95479999999999998,1.2185999999999999,1.3667,0.72640000000000005,0.97889999999999999,1.143,0,0,0.84199999999999997,206.8,0.98299999999999998,0,0,610.4,"SUI00001913",8.7119999999999997,9408,31.1,67.400000000000006,52.4,110.8,0,61]
["GER149016","8OD71","8OD 71","CAIPIRINHA","8MOD","D+S","J+J",1994,"SVGA","THOMAS WOERN","CLUB","S",400,"18/4/2016","19:38:32",7.9980000000000002,7.7080000000000002,1.643,2.4900000000000002,1075,100,0,615.70000000000005,0.99250000000000005,680.1,0.65700000000000003,17.600000000000001,997.5,807.5,716.8,670.4,634.5,600.1,535.5,960.5,785.5,700.2,652.9,619.6,593.79999999999995,553.9,842.9,684.6,598.9,546.79999999999995,511.1,483.3,438.1,920,739.8,641.70000000000005,582.70000000000005,543.79999999999995,515.4,472.5,1033.9000000000001,802.9,671.8,588.5,529.6,483.3,409.9,44.3,43.4,40.700000000000003,40,39.200000000000003,39.1,39.200000000000003,144.1,147.80000000000001,155.6,153.6,148.30000000000001,145.30000000000001,145.80000000000001,1073.0999999999999,882,798.3,769.4,755.4,745.7,738.9,691.7,583.29999999999995,547.6,534.29999999999995,526.1,520.20000000000005,503.8,645,561.29999999999995,525.79999999999995,507.1,496.1,489.1,469.8,608.29999999999995,544.79999999999995,499,465.2,450.1,440.7,420.9,605.70000000000005,544.79999999999995,500.3,451.8,414.8,398.3,381.1,592.79999999999995,520.4,482.2,451.3,417.4,393.9,331.6,604,526.6,466.5,433.4,405.7,377.1,325.2,672.2,557.79999999999995,496.7,437.6,381.2,347.3,300.3,798.3,634.79999999999995,555.20000000000005,494.9,444.8,393.6,287.60000000000002,921.9,733.1,635.4,571.29999999999995,513.6,454.5,332.1,0.96460000000000001,1.226,1.4287000000000001,0.74790000000000001,0.98070000000000002,1.1549,617.29999999999995,0.97189999999999999,0.96099999999999997,281.3,1,0.68600000000000005,50.1,600,"GER11001250",7.6210000000000004,1688,14.2,24.9,17.100000000000001,80.099999999999994,0,62]
["GER140262","8OD98","8OD 98","8 ung!","8MOD","D+S","J+J",1994,null,"STEPHANIE FELS","CLUB","S",400,"4/5/2016","08:53:34",7.9980000000000002,7.7080000000000002,1.643,2.4900000000000002,1075,100,0,615.70000000000005,0.99250000000000005,680.1,0.65700000000000003,17.600000000000001,997.5,807.5,716.8,670.4,634.5,600.1,535.5,960.5,785.5,700.2,652.9,619.6,593.79999999999995,553.9,842.9,684.6,598.9,546.79999999999995,511.1,483.3,438.1,920,739.8,641.70000000000005,582.70000000000005,543.79999999999995,515.4,472.5,1033.9000000000001,802.9,671.8,588.5,529.6,483.3,409.9,44.3,43.4,40.700000000000003,40,39.200000000000003,39.1,39.200000000000003,144.1,147.80000000000001,155.6,153.6,148.30000000000001,145.30000000000001,145.80000000000001,1073.0999999999999,882,798.3,769.4,755.4,745.7,738.9,691.7,583.29999999999995,547.6,534.29999999999995,526.1,520.20000000000005,503.8,645,561.29999999999995,525.79999999999995,507.1,496.1,489.1,469.8,608.29999999999995,544.79999999999995,499,465.2,450.1,440.7,420.9,605.70000000000005,544.79999999999995,500.3,451.8,414.8,398.3,381.1,592.79999999999995,520.4,482.2,451.3,417.4,393.9,331.6,604,526.6,466.5,433.4,405.7,377.1,325.2,672.2,557.79999999999995,496.7,437.6,381.2,347.3,300.3,798.3,634.79999999999995,555.20000000000005,494.9,444.8,393.6,287.60000000000002,921.9,733.1,635.4,571.29999999999995,513.6,454.5,332.1,0.96460000000000001,1.226,1.4287000000000001,0.74790000000000001,0.98070000000000002,1.1549,617.29999999999995,0.97189999999999999,0.96099999999999997,281.3,1,0.68600000000000005,50.1,600,"GER11001382",7.6210000000000004,1688,14.2,24.9,17.100000000000001,80.099999999999994,0,63]
["HUN027/16","HUN8-2","HUN 8-2","Kishamis","8mR","Balatonfured SY","G. L Watson",1900,"HUNGARY","Vizugyi SC","CLUB","C",600,"11/5/2016","23:47:32",12.57,10.157,1.736,2.93,9208,125.4,0.21,628.79999999999995,0.98229999999999995,687.1,0.67800000000000005,48.6,1038.4000000000001,852,737,665.2,623.29999999999995,594.4,563.79999999999995,1008.9,824.9,723,662.6,625.20000000000005,599.5,573,863.6,698.5,610.20000000000005,559.1,527.70000000000005,507.4,482.7,923.9,741.7,642.20000000000005,583.20000000000005,546.29999999999995,522.29999999999995,493.5,1064.7,824.2,688.1,604.79999999999995,551.1,514.29999999999995,465.1,46.9,45.6,45.6,44.6,42.7,41.1,40.299999999999997,146,149.5,148.5,156,173.2,180,180,1143.2,953.1,842.2,773.2,733.1,707.1,683.7,722.2,607.29999999999995,537.1,509,497.3,490.4,482.2,667.6,560.1,508.2,491,483.2,478.4,471.5,598.9,511.6,486.6,475.1,467.8,463.1,457.2,579.29999999999995,504.3,479.8,467.2,459.6,451.4,443,624.29999999999995,516.1,482.1,466.8,452.2,440.5,426.5,634.70000000000005,520.4,480.3,463.3,449.1,437.7,414.1,695.5,558.29999999999995,493.6,468.8,449.3,429.3,403.5,808.6,650.29999999999995,547.20000000000005,491.7,469,450.6,413.5,933.7,750.9,631.79999999999995,557.20000000000005,513.5,481.7,443.8,0.93899999999999995,1.2103999999999999,1.3554999999999999,0.71409999999999996,0.97230000000000005,1.1437999999999999,0,0,0.80200000000000005,182.1,0.97570000000000001,0,0,615,"HUN00062946",8.8079999999999998,10088,32.1,49.3,55.1,170.5,135.30000000000001,64]
["HUN022/16","HUN 8-1","HUN 8-1","Tramontana II","8mR","W. Hacht","W. Hacht",1907,"HUNGARY","Tramontana Vitorlas Alapitvany","CLUB","C",605,"12/5/2016","22:18:48",13,9.7959999999999994,1.673,2.25,6944,186.6,0.04,594.79999999999995,1.0324,653.79999999999995,0.72399999999999998,53.8,967.6,796.8,693.9,634.79999999999995,596.20000000000005,573.5,545.4,928.2,763.4,676.9,628.1,596.70000000000005,575.4,546.29999999999995,808.4,657.9,578,531.6,502.6,483,456.4,840,680.9,595.4,545.1,513.4,492.2,465.5,1002.3,778.4,652.1,574.6,524,488.5,439,45.5,45.4,44,42.1,40.700000000000003,40.200000000000003,39.700000000000003,144.1,146.80000000000001,149.80000000000001,158.5,180,180,180,1013,852.9,765.3,719.6,690.6,673.7,660.1,646,543.5,504,486.7,477.3,470.9,463.9,595.9,511.9,483.4,470.2,462,456.2,448.7,551.6,492,467.7,451.4,440.9,433.3,423.8,546.20000000000005,490.5,466.5,447.2,429.7,416.2,401.2,575.6,493.4,462.4,445.1,432.4,420.8,392.8,595.6,501.3,468.3,443.7,422,409.9,388.2,675,540.9,486.8,461.4,438.5,415.7,369.1,798.7,641.5,539,487.5,463,441.4,399.1,922.3,740.8,622.4,550,501.9,473.2,430.7,1.0058,1.2719,1.4241999999999999,0.7651,1.0253000000000001,1.1870000000000001,0,0,0.92200000000000004,234.8,1.0277000000000001,0,0,583.79999999999995,"HUN00062951",9.2040000000000006,7751,26.8,73.2,40.200000000000003,116.5,0,65]
["CLU167411","I16741","ITA-16741","AKAMAI","998DS","JPK COMPOSITES","VALER JAQUES",2009,"Y.C.ACQUAFRESCA","PERNTHALER GUENTHER","CLUB","R",480,"9/3/2016","11:06:18",9.98,9.8160000000000007,2.11,2.99,3000,117.2,0,562,1.1035999999999999,611.6,0.73099999999999998,25.3,917.1,740.2,644.6,594.5,563.29999999999995,539.29999999999995,487.4,876.4,709.3,625.70000000000005,579.79999999999995,548.5,522.9,486.1,772.7,625.6,546.20000000000005,498.4,466.3,442.1,404.5,847.1,678,585.4,529.5,492.9,466.8,430.3,946.5,732.2,611.1,535.5,483.9,445,385.6,42.6,41.9,38.5,36.4,35,33.9,33.700000000000003,142,144.4,149.9,158.1,180,153.6,142.19999999999999,959.1,778.4,689,652.5,632.6,617.79999999999995,606.29999999999995,627.6,521.79999999999995,487.5,473.2,463.9,456.6,440.1,589.20000000000005,504.1,474.6,456.8,444.8,436.4,417.8,557.79999999999995,492.6,461.6,432,413.5,402.2,388.5,556.79999999999995,489.9,464.1,431.9,399.6,374.9,352.6,549.9,480,444.6,420.7,399.6,376,337.4,565.70000000000005,486.4,444.2,407.5,384.4,363.3,325.89999999999998,636.5,515.79999999999995,471.3,431,388.7,345.8,294,757.9,607.9,519.79999999999995,473.1,436.8,395.7,319.10000000000002,875.2,702,600.20000000000005,536.6,494,460.8,368.5,1.0524,1.3474999999999999,1.5613999999999999,0.81459999999999999,1.0966,1.2837000000000001,552.1,1.0868,1.0069999999999999,247.9,1.1000000000000001,0.746,39.4,545.4,"CLU00018734",10.146000000000001,3881,22.3,39.5,27.6,78,120,66]
["GER142025","GER7116","GER 7116","GUSTE","A&R 36","A&R","A. MANGELSDORF",1995,"YCLL","GIESELA + HENNING BRAUN","CLUB","C",350,"4/4/2016","17:18:34",10.7,9.42,1.9079999999999999,3.3,6991,130.6,0.48,697.4,0.8972,752.4,0.56999999999999995,16.7,1184.2,947.1,812.6,728.5,675.1,640.6,607.4,1119,907.3,789.1,715.6,672.1,646.70000000000005,617.9,976.6,782.2,675.7,612.5,573.20000000000005,547.9,517.79999999999995,976.6,782.2,675.7,612.5,573.20000000000005,547.9,517.79999999999995,1209.4000000000001,923.5,761.4,662.3,598.5,555.29999999999995,498.4,43.3,41.6,42.9,42.3,41.1,40.200000000000003,39.299999999999997,155.19999999999999,164.1,178.6,179.3,179.3,179.7,179.9,1138.2,953.8,851.2,785.5,753.2,736.8,718.5,742.9,631.6,562.1,530.5,517.4,511.5,507,700.9,595.9,538.20000000000005,514.6,502.4,496.5,492,667.7,567.29999999999995,522.4,502,488.6,478.4,467.8,673,571.29999999999995,524.5,503.3,488.6,475.6,453,743.9,619.5,545.29999999999995,513.4,494.9,479.5,448.4,789.1,657,570.9,525.6,503,486.7,455.7,914,731.3,629.70000000000005,558.29999999999995,521.1,500.6,469.5,1067.5,825,695.5,610.4,549.9,517.5,482.8,1230.2,940.5,774,671.4,596.9,544.29999999999995,496.2,0.82489999999999997,1.1007,1.2597,0.63339999999999996,0.88660000000000005,1.0601,677.8,0.88519999999999999,0.67100000000000004,134.69999999999999,0.88690000000000002,0.57099999999999995,18.2,676.5,"GER20014291",8.3239999999999998,7837,27.7,36.299999999999997,29.6,0,0,67]
["knw11015","NEDI27","NED 27","FORMIDABLE","A.C.","Woof Boats","E.Dubois",1985,241998,"A.J.M.,Verder","CLUB","R",756,"23/3/2016","14:43:28",13.43,10.696,2.456,4.09,9382,133.30000000000001,0.1,594.70000000000005,1.0454000000000001,645.70000000000005,0.71,42.6,974.1,798,690.7,626,587,559.29999999999995,533.20000000000005,928.9,761.5,666.4,612.5,580.9,559.4,536.6,819.6,661.9,577.1,527.5,496.8,476.8,452.5,858.5,690.4,598.79999999999995,544.5,510.4,488,460.8,1006.3,778,648.6,569.20000000000005,517.70000000000005,482.3,435,43.4,42.7,42.6,40.5,39.1,38,37.299999999999997,145.4,149.9,150,154.69999999999999,168.3,180,180,984.2,827,730,681.2,655.29999999999995,639.4,629.5,642.79999999999995,540.5,490.6,471.9,463,457.7,452.4,605.79999999999995,512.20000000000005,475.5,459,449.8,443.9,438.1,573.79999999999995,493.6,464.2,447.1,434.2,424.6,415.5,576.6,494.9,464.9,447.2,432.7,420.1,400.5,630.70000000000005,515.79999999999995,468.9,444.5,426.6,416.5,400.1,647,528.79999999999995,474.9,449.1,428.2,409.2,386.7,710.3,579,499.7,464.9,442.8,423.3,387.1,834.7,666,564.1,499.4,466,445.2,409.5,963.9,769,651.4,570.79999999999995,518.70000000000005,479.3,436.9,0.98770000000000002,1.2810999999999999,1.444,0.76180000000000003,1.0350999999999999,1.2131000000000001,581.9,1.0310999999999999,0.86499999999999999,189.3,1.0361,0.71799999999999997,49.6,579.1,"knw00004861",10.154,10405,36,41.8,77.2,144.9,0,68]
["GER142115","GER6749","GER 6749",null,"A-27 DK","ARCHAMBAULT","JOUBERT-NIVELT",2012,"BSC","JENS TAMM","CLUB","C",360,"4/4/2016","12:14:42",8.35,7.5540000000000003,1.8140000000000001,2.93,2185,124.6,7.0000000000000007E-2,654.5,0.9415,716.9,0.66800000000000004,56.9,1061.3,857.9,743.7,697.1,663.7,639,608.79999999999995,1020.1,827.6,728.7,680,650,626.20000000000005,592.79999999999995,893.5,724.6,635.4,584.29999999999995,552.4,530.29999999999995,498.5,973.1,778.9,673.8,612.29999999999995,574.20000000000005,548.79999999999995,515.6,1094,848.6,711.7,628.5,573.79999999999995,534.20000000000005,475.7,44,42.3,40.799999999999997,38.9,38.1,37.4,37.799999999999997,144.6,147.6,149.4,151.5,175.8,177.6,176.9,1131.5,928,811.8,769.1,750.3,737.4,731.3,735.7,611.70000000000005,558.5,542.29999999999995,535.20000000000005,531.29999999999995,523,690.3,584.1,543.4,526,518.29999999999995,514.1,503.4,654,566,531.79999999999995,506.7,490.1,482.2,476.4,634.4,549.5,530.79999999999995,508.3,481.7,458.5,441.7,629.5,544.1,505.9,484.3,466.7,449.4,418.7,649.5,552.9,513,473.3,447.3,428.9,391.4,726.6,590.29999999999995,536.29999999999995,500.8,464,427,351.4,858.4,682.3,585.1,543.29999999999995,516.29999999999995,487.5,417.3,991.2,787.8,675.6,625,577.20000000000005,540.6,486.2,0.91100000000000003,1.1588000000000001,1.2962,0.70340000000000003,0.9405,1.0649,646.1,0.92869999999999997,0.93300000000000005,302.7,0.94110000000000005,0.68300000000000005,73.900000000000006,637.5,"GER20014265",7.5460000000000003,2737,16.2,25.4,18.600000000000001,0,73.400000000000006,69]
["nor20967",20967,"NOR 13975","sparkling girl","A-31","ARCHAMBAULT","JOUBERT-NIVELT",2009,null,"Emiko Walder","CLUB","C",548,"19/4/2016","16:58:14",9.5500000000000007,8.8550000000000004,1.96,3.27,3308,122,0.17,635.6,0.9788,689.7,0.65900000000000003,36.4,1046.0999999999999,846.5,731.3,665.1,627.1,605.79999999999995,574.29999999999995,1004.4,815.4,714.2,657.5,625,603.9,569.70000000000005,877.7,707.9,616.70000000000005,563.20000000000005,529.5,506.4,474.4,947.1,756.9,653.20000000000005,591.9,553.4,527.79999999999995,494,1073.9000000000001,829.2,691.1,606.29999999999995,550.4,510.5,453.1,43.5,42.2,41.6,39.700000000000003,39.1,38.700000000000003,38.5,145.19999999999999,149.1,152,159.6,180,180,180,1106.5,910.6,801.5,742.2,719,708.3,698.1,718.3,599.20000000000005,541.4,516.5,506.5,501.6,496.7,673.6,567.6,524.29999999999995,502.6,490,484,480.4,637.1,545.9,511.6,489.5,469.1,453.8,442.9,635.4,535.70000000000005,499.8,487.2,468.2,446.8,412,634.9,533.79999999999995,495.4,464.7,440.9,426.4,400.4,655,543.9,502,470.3,436.8,409,378.7,723.9,585.9,523.5,492.2,462.1,430.7,364.8,853.7,677.5,574.20000000000005,521.29999999999995,492.4,464.7,407.6,985.7,782.3,661.2,587.9,535.29999999999995,503.2,450.6,0.92420000000000002,1.1989000000000001,1.3605,0.71330000000000005,0.97430000000000005,1.1263000000000001,625.5,0.95920000000000005,0.85199999999999998,221.3,0.97240000000000004,0.67800000000000005,56,617,"nor00000465",8.4749999999999996,4036,20.3,29.9,23.6,76,66,70]
["CLU164361","I16436","ITA-16436","TAZ","A-31","ARCHAMBAULT","JOUBERT-NIVELT",2009,"COMPAGNIA DELLA VELA SALERNO","GRANDONE MAURIZIO","CLUB","C",545,"31/3/2016","20:00:50",9.5,8.8510000000000009,1.972,3.27,3398,119.6,0.18,636.9,0.97040000000000004,695.6,0.66900000000000004,44.9,1043.9000000000001,845.4,731.9,672.6,641.4,615,585,1003.8,814.7,714,658.9,627.4,604.70000000000005,571.4,876.1,707.8,618,566.1,533.70000000000005,511.4,479.7,958.1,764.3,658.3,595.4,555.79999999999995,529.5,495.8,1072.5999999999999,829.6,692.9,609.4,554.70000000000005,515.6,459.1,43.3,41.9,41.4,39.5,38.700000000000003,38.200000000000003,37.9,144.6,147.80000000000001,148.69999999999999,150.69999999999999,174.5,177.1,177.3,1113.5,914.7,803.7,740.9,716.5,705.1,692.4,724.4,603.29999999999995,543.4,517.4,507,501.9,496.9,680.2,571.29999999999995,526.20000000000005,503.9,491.2,485.2,481.5,644.29999999999995,549.4,513.6,491.8,472.3,457.1,446.2,628,531,503.7,490.6,473,451.6,417.2,621.79999999999995,526.6,490.3,462.9,446.8,432.6,404.7,640.70000000000005,536.20000000000005,497.5,465.5,432.4,413.1,384,715,578.5,518.20000000000005,487.8,457.4,425.9,358.2,843.7,672.2,571.70000000000005,524,499.9,479.1,420.1,974.3,776.1,660.1,604.20000000000005,566.29999999999995,524.9,477.6,0.92710000000000004,1.1950000000000001,1.3452999999999999,0.71460000000000001,0.9657,1.1059000000000001,627.70000000000005,0.95589999999999997,0.88700000000000001,251.2,0.96909999999999996,0.68899999999999995,64.599999999999994,619.1,"CLU00019052",8.4870000000000001,4129,20.3,29.4,22.6,0,90.2,71]
["nor20756",20756,"NOR 13882","El Dragon III","A-31","ARCHAMBAULT","JOUBERT-NIVELT",2008,null,"Marius Frenvik Odberg","CLUB","C",548,"2/5/2016","21:17:52",9.5500000000000007,8.8610000000000007,1.96,3.27,3318,122.4,0.18,625.79999999999995,0.98829999999999996,683,0.66300000000000003,34.700000000000003,1040.0999999999999,839.9,725.5,658.6,620.6,598.9,566.9,997.3,808.2,707.5,650.5,617.4,595.70000000000005,560.70000000000005,859.8,695.7,607.6,555.9,523,500.2,468,949.1,757.5,652.70000000000005,590.4,551.1,524.79999999999995,490.8,1066,821.8,684.2,599.9,544.5,505,447.8,43,45,41,39.200000000000003,38.1,37.6,37.299999999999997,144.69999999999999,148.9,151.69999999999999,159.6,180,180,180,1099.5999999999999,900.2,792.1,731.3,706.8,695.1,683.9,696,575.20000000000005,536.4,514.70000000000005,504.1,498.8,493.8,635.6,539.9,515.20000000000005,501.7,488.2,481.7,476.8,579.79999999999995,516.1,491.4,480.2,468.9,452.7,440.8,570.5,515.1,488.6,462.7,446.9,437.9,411.7,622.29999999999995,527.6,491.6,461.1,442.5,414.6,384.5,642.20000000000005,538.4,499.3,467.5,434.1,408.5,369.6,716.3,581.5,521,490.2,459.7,428.1,361.1,849.2,675.2,571.9,519.5,490.9,462.9,405.3,980.6,779.6,658.9,585.79999999999995,534.4,502.6,449.8,0.94469999999999998,1.214,1.377,0.71809999999999996,0.98329999999999995,1.1396999999999999,618.79999999999995,0.96960000000000002,0.85,214.2,0.98299999999999998,0.68600000000000005,56.1,610.4,"nor00000908",8.6,4045,20.3,29.8,23.5,74.3,81.7,72]
["ESP973101","E9731","ESP-9731","SOMEWHERITO","A-31","ARCHAMBAULT","JOUBERT-NIVELT",2009,"R.C.R.CARTAGENA","LEANDRO MARTIN","INTL","C",510,"11/3/2016","04:39:16",9.5500000000000007,8.8819999999999997,1.9830000000000001,3.21,3244,131.5,0.16,632,0.99029999999999996,681.6,0.65400000000000003,30,1046.2,842.8,725,657.1,617.29999999999995,594.4,561.4,1000.9,809.1,705.6,647.6,613.79999999999995,591.29999999999995,555.4,876.3,705.4,613.1,558.70000000000005,524.1,500.2,466.6,941.3,751.3,647.4,585.6,546.5,520,484.7,1071.8,825.5,686.4,600.9,544.6,504.5,447.2,44,41.6,40.799999999999997,38.9,37.6,36.9,36.299999999999997,145.1,149,151.6,159.1,180,180,180,1091.7,894.2,782.6,722.9,697.3,684.5,670.8,711.2,591.9,535.5,511.5,500.3,494.4,488.8,668.1,562.6,520.29999999999995,498.7,484.4,476.8,470.5,633.29999999999995,542.70000000000005,509.1,486.6,465.1,447.8,433.8,638.79999999999995,539.9,502.4,487.7,466.2,443.4,405.2,641.9,535.79999999999995,496.7,464.8,443.1,428,399.2,661.8,546.79999999999995,503.5,472.2,438.4,409.1,379.5,733.6,592,525.79999999999995,493.9,464.1,432.7,367.2,866.7,685.4,579.1,523.4,494.1,466.6,409.3,1000.7,791.5,667.3,591.29999999999995,537.29999999999995,504.4,451.9,0.92479999999999996,1.2072000000000001,1.3788,0.71460000000000001,0.98499999999999999,1.1484000000000001,617.29999999999995,0.97189999999999999,0.82699999999999996,196.7,0.98,0.67100000000000004,45.3,612.20000000000005,"ESP00016937",8.7070000000000007,3981,20,29.5,23.5,70.8,0,73]
["ESP993101","E9931","ESP-9931","SWAHILI","A-31","ARCHAMBAULT","JOUBERT-NIVELT",2009,"R.C.N.BARCELONA","PERE PERICOT COSP","INTL","C",459,"24/5/2016","18:43:16",9.5500000000000007,8.8740000000000006,2.0659999999999998,3.27,3097,119.3,0.18,631.6,0.98609999999999998,684.5,0.67100000000000004,41.8,1036.9000000000001,838.1,721.5,660.5,623.70000000000005,602.20000000000005,568.20000000000005,992.6,804.7,704.4,651.5,620.70000000000005,599.29999999999995,562,871,702.8,612.79999999999995,560.29999999999995,527.4,504.7,472.6,938.5,750.3,647.9,587.29999999999995,549.20000000000005,523.5,489.4,1065.0999999999999,822.6,686.2,602.9,548.29999999999995,509.5,453.5,42.9,41.6,40.6,38.700000000000003,38.200000000000003,37.700000000000003,37.700000000000003,145,148.80000000000001,151.80000000000001,159.4,180,180,180,1084.4000000000001,892.8,782.1,734.1,713.3,702.8,689.2,707.2,590.20000000000005,535.5,515.29999999999995,507.4,503.2,495.2,664.5,561.29999999999995,519.9,500.8,491.6,486.4,479.2,630,540.79999999999995,508,485.8,467.3,456.2,448.1,635.4,535.5,507.5,486.7,464.3,441.7,415,634.1,531.79999999999995,493.3,465.7,449.3,433.6,406.4,653.4,542.1,500.3,467.3,433.7,415,387.1,724.4,584.9,522.29999999999995,490.4,459.2,426.5,358.1,856.9,678.4,573.70000000000005,520.1,490.7,461.8,401.6,989.5,783.4,660.9,587,534.20000000000005,501.6,447.2,0.93169999999999997,1.2062999999999999,1.3643000000000001,0.72,0.98329999999999995,1.1347,620.79999999999995,0.96650000000000003,0.871,229.9,0.97829999999999995,0.68700000000000006,58.6,613.29999999999995,"ESP00018009",8.5749999999999993,3830,20.2,29.7,22.7,70.599999999999994,0,74]
["ESP100312","E10031","ESP-10031","VICTORIA","A-31","ARCHAMBAULT","JOUBERT-NIVELT",2009,"C.N. MALPICA","JESUS PINTOS AGER","INTL","C",78,"23/6/2016","09:50:32",9.5500000000000007,8.9250000000000007,1.9870000000000001,3.21,3329,128.6,0.18,641.6,0.96930000000000005,696.4,0.68,56.3,1043,844.1,734,675.1,637.70000000000005,615.1,583.20000000000005,1000.7,813.8,717.7,667.2,636.5,614.79999999999995,585.4,879.3,711.6,622.70000000000005,571.5,539.9,518.5,488.9,948.4,759.4,657.1,597.1,559.70000000000005,535,503.8,1075.3,833.1,697.7,615.4,562,524.20000000000005,469.8,43.1,41.6,40.9,39.799999999999997,39,38.299999999999997,39.1,144.80000000000001,149,152,159.5,180,180,180,1100.7,905.7,804.5,760.4,739.1,726.3,714.9,716.8,599.6,544.29999999999995,524.70000000000005,516.20000000000005,511.7,503.8,673.6,568.9,525.9,508.1,500.1,495.5,488.5,638.79999999999995,547.6,512.29999999999995,492.1,477,468.1,460.7,638.4,546.29999999999995,514.20000000000005,492.5,472.2,452.5,428.8,633.9,534.29999999999995,500.6,485.7,472.1,458.2,428,652.4,544.5,502.9,474.4,456.8,442,416.4,722.1,587.20000000000005,524.4,493.1,463.7,432.3,384.4,853.3,677.7,576.20000000000005,522.5,493.5,466.2,409.1,985.3,782.6,663.5,589.79999999999995,536.20000000000005,503.8,451.6,0.92479999999999996,1.1847000000000001,1.3262,0.71540000000000004,0.96499999999999997,1.1088,620.70000000000005,0.9667,0.89,253.6,0.96140000000000003,0.67500000000000004,50.5,624.1,"ESP00018486",8.3190000000000008,4074,20.3,30.4,22.3,74.7,0,75]
["GER165898","GER7375","GER 7375","FUNSHIP","A-31","ARCHAMBAULT","JOUBERT-NIVELT",2009,null,"JORG VONDERHEIDEN","INTL","C",510,"8/6/2016","15:21:02",9.5500000000000007,8.8819999999999997,1.9830000000000001,3.21,3244,131.5,0.16,632,0.99029999999999996,681.6,0.65400000000000003,30,1046.2,842.8,725,657.1,617.29999999999995,594.4,561.4,1000.9,809.1,705.6,647.6,613.79999999999995,591.29999999999995,555.4,876.3,705.4,613.1,558.70000000000005,524.1,500.2,466.6,941.3,751.3,647.4,585.6,546.5,520,484.7,1071.8,825.5,686.4,600.9,544.6,504.5,447.2,44,41.6,40.799999999999997,38.9,37.6,36.9,36.299999999999997,145.1,149,151.6,159.1,180,180,180,1091.7,894.2,782.6,722.9,697.3,684.5,670.8,711.2,591.9,535.5,511.5,500.3,494.4,488.8,668.1,562.6,520.29999999999995,498.7,484.4,476.8,470.5,633.29999999999995,542.70000000000005,509.1,486.6,465.1,447.8,433.8,638.79999999999995,539.9,502.4,487.7,466.2,443.4,405.2,641.9,535.79999999999995,496.7,464.8,443.1,428,399.2,661.8,546.79999999999995,503.5,472.2,438.4,409.1,379.5,733.6,592,525.79999999999995,493.9,464.1,432.7,367.2,866.7,685.4,579.1,523.4,494.1,466.6,409.3,1000.7,791.5,667.3,591.29999999999995,537.29999999999995,504.4,451.9,0.92479999999999996,1.2072000000000001,1.3788,0.71460000000000001,0.98499999999999999,1.1484000000000001,617.29999999999995,0.97189999999999999,0.82699999999999996,196.7,0.98,0.67100000000000004,45.3,612.20000000000005,"GER11001553",8.7070000000000007,3981,20,29.5,23.5,70.8,0,76]
["knw26883","nedc8118","NED 8118","Rakker","A-31","ARCHAMBAULT","JOUBERT-NIVELT",2009,211066,"C.M. Keetels","CLUB","C",595,"23/3/2016","13:09:42",9.5500000000000007,8.782,1.964,3.27,3262,122.7,0.18,641.4,0.97729999999999995,690.7,0.63400000000000001,23.3,1072.9000000000001,862,740.4,664,622.20000000000005,598.79999999999995,568.29999999999995,1022.9,825.8,717.6,654.5,618.9,596.79999999999995,564.4,893.9,717.5,621.9,565.4,529.70000000000005,505.5,472.8,958.5,762.8,655.29999999999995,591.29999999999995,551.1,524.5,490.4,1095.4000000000001,841.1,697.1,608.6,550.70000000000005,509.8,452.1,42.9,41.6,40.9,38.9,37.700000000000003,37.200000000000003,36.799999999999997,145.30000000000001,149.5,150.80000000000001,158.6,180,180,180,1114.5999999999999,911.2,798.1,728.8,701.2,688.8,678.4,727.6,603.20000000000005,543,515.29999999999995,502.3,496.7,492.8,684.6,572.9,526.70000000000005,502.9,487.5,479.8,474.5,650.20000000000005,552.1,514.29999999999995,492.3,471.4,453.5,438.9,656.9,545.70000000000005,504.2,488,471.3,452.1,413,652.4,541.5,500.5,469.4,442.1,427.5,400.7,673,553.6,507.4,477.2,445.9,414.2,379.7,746.6,604,531.5,498.6,470.4,440.7,379.4,893,704,591.70000000000005,529,498.8,472.6,418.5,1031.0999999999999,812.9,682.7,599.29999999999995,543.29999999999995,508.8,458.2,0.90510000000000002,1.1929000000000001,1.3647,0.69769999999999999,0.97050000000000003,1.1377999999999999,627.6,0.95609999999999995,0.78,172.3,0.96699999999999997,0.65500000000000003,43.1,620.5,"knw00004338",8.5890000000000004,3983,19.899999999999999,28,21.8,69.099999999999994,0,77]
["knw","nedc8641","NED 8641","Njord 2","A-31","ARCHAMBAULT","JOUBERT-NIVELT",2009,219943,"Dhr. Pieters","CLUB","C",510,"23/3/2016","12:29:38",9.5,8.8740000000000006,1.968,3.27,3385,123.1,0.19,637.29999999999995,0.98370000000000002,686.2,0.65500000000000003,34.1,1052.0999999999999,849.2,731.6,661.3,621,598.29999999999995,566.29999999999995,1008.6,816.7,712.5,652.70000000000005,618.4,596.20000000000005,561.79999999999995,882.9,710.9,618.20000000000005,563.6,529.20000000000005,505.7,473.4,952.4,759.9,654.4,591.79999999999995,552.29999999999995,525.70000000000005,490.6,1078.4000000000001,831.3,691.8,606.20000000000005,550.1,510.5,454.5,42.9,41.4,40.799999999999997,38.700000000000003,37.700000000000003,37.200000000000003,36.6,145.30000000000001,149.4,151.9,159.5,180,180,180,1106.9000000000001,907.5,795,730,703.5,690.7,677.9,722.2,601.5,541.9,515.9,504.1,498.5,493.7,679.3,571.1,525.9,503.4,489.3,482.2,476.7,644.79999999999995,550.20000000000005,514.20000000000005,492.3,472.2,455.7,442.2,647.70000000000005,541.79999999999995,505.2,492.8,473.7,452.6,415.9,642.29999999999995,537.4,498.6,468.1,448.5,434.5,408.7,661.6,548.29999999999995,505.2,474.9,442.4,415.5,387.9,731.9,592.70000000000005,527.4,495.8,467.1,436.9,374,863.7,685,580.20000000000005,524.79999999999995,495.9,469.3,414.1,997.3,790.9,668.3,592.6,538.5,505.9,454.8,0.91790000000000005,1.1975,1.3631,0.71,0.9778,1.1402000000000001,622.5,0.96379999999999999,0.81799999999999995,194.8,0.97230000000000005,0.67200000000000004,50.5,617.1,"knw00004169",8.6210000000000004,4116,20.5,29.1,22.2,70.7,0,78]
["FRA16189a","F38563","FRA-38563","ATLOG","A-31 Bulb Keel","ARCHAMBAULT","JOUBERT-NIVELT",2009,"74290  -  MENTHON SAINT BERNARD","HEURTAULT Christophe","CLUB","R",544,"9/5/2016","17:22:36",9.5,8.7899999999999991,1.9630000000000001,3.27,3258,129.30000000000001,0.15,637,0.98499999999999999,685.3,0.64200000000000002,24.6,1060,853,733.8,660.2,617.9,594.20000000000005,565.29999999999995,1017.9,821.8,714.9,651.70000000000005,614.5,591.1,560.1,886.7,712.3,617.79999999999995,561.79999999999995,526.1,501.7,468.4,962.8,765.5,656.9,591.79999999999995,550.6,523.20000000000005,488.7,1082.8,832.9,691.3,604,546.5,505.7,448.1,43.3,41.8,41.3,39.1,37.799999999999997,37.1,37.299999999999997,145.30000000000001,148.9,151.69999999999999,159,180,180,180,1124.9000000000001,918.3,802.9,730.2,698.7,684.2,679,732.1,606.20000000000005,544,515.29999999999995,500.4,493.5,488.4,687.7,574.79999999999995,527.20000000000005,503,486.2,475.8,468.5,652.20000000000005,553.1,514.70000000000005,492.3,470.8,450.9,431.7,649.4,541.20000000000005,502.8,490.3,472,451.3,408.7,642.29999999999995,536,496.5,464.4,443.3,428.7,400.7,661.3,546.70000000000005,503.2,471.6,437.8,409,379.1,731.9,590.6,524.70000000000005,492.8,462.7,431.3,365.5,861.7,682.1,576.79999999999995,522.4,493.1,465.4,408.6,995,787.7,664.7,590.20000000000005,537.1,504.2,451.7,0.91320000000000001,1.1997,1.3754999999999999,0.70569999999999999,0.97789999999999999,1.1454,0,0,0.79400000000000004,176.9,0.97419999999999995,0,0,615.9,"FRA00004274",8.5760000000000005,3980,20.100000000000001,27.9,22.3,74.2,0,79]
["FRA16037a","F9770","FRA- 9770","A+","A-31 IRC Keel","ARCHAMBAULT","JOUBERT-NIVELT",2009,"33115  -  PYLA sur MER","LEONART Francois","CLUB","R",440,"16/2/2016","17:37:26",9.5,8.7970000000000006,1.96,3.27,3256,115.6,0.15,638.70000000000005,0.97440000000000004,692.8,0.98,175.4,1047.5999999999999,847.9,730.6,668.5,631.20000000000005,609.70000000000005,578.29999999999995,1004.5,815.2,713.9,660.2,629.29999999999995,608.4,574.20000000000005,880.5,710.5,619.6,566.9,534.20000000000005,512,481.4,949.3,758.7,655,593.9,555.70000000000005,530.29999999999995,497.6,874.3,699.1,603.70000000000005,547.1,510.7,484.9,446.7,43.2,41.8,41.1,39.4,39,38.5,38.6,145.1,149,151.80000000000001,159.30000000000001,180,180,180,1101.5,908.2,796.4,746.9,725.7,715.2,704.8,718,599.70000000000005,541,518.9,510.8,506.6,500.6,675,569.20000000000005,524.20000000000005,504.2,495,490.1,484.9,640.5,547.5,512.4,490.3,472.5,461.5,454.1,643.9,539.29999999999995,512,491.9,470.7,449.1,422.1,638.79999999999995,534.9,496.2,472,456.7,442.2,415.9,658.2,545.70000000000005,502.9,471.6,440.9,424.1,398.2,729.3,589.5,524.9,493.2,463.6,432.4,367,860.5,682,577.1,522.70000000000005,493.5,466.1,408.7,993.7,787.5,664.8,590.20000000000005,536.70000000000005,504.1,451.9,0.92149999999999999,1.1933,1.3443000000000001,0.71220000000000006,0.97140000000000004,1.1189,0,0,0.86299999999999999,231.5,0.96699999999999997,0,0,620.5,"FRA00002690",8.3960000000000008,3979,20,29.5,22.6,73.099999999999994,0,80]
["FRA16266a","F37370","FRA-37370","TAGAN IV","A-31 IRC Keel","ARCHAMBAULT","JOUBERT-NIVELT",2009,"44580 - VILLENEUVE en RETZ","DYNABOAT","CLUB","R",537,"31/8/2016","11:12:38",9.5,8.7899999999999991,1.96,3.27,3261,119.8,0.15,641.20000000000005,0.97619999999999996,691.4,0.64200000000000002,28.5,1067.3,858.8,738.4,665.3,624.79999999999995,601.70000000000005,570.6,1023.2,826.1,718.8,656.9,621.79999999999995,599.4,565.79999999999995,891.8,716.5,621.70000000000005,565.9,530.79999999999995,506.9,474.4,961.2,765.5,658.2,594.4,554.29999999999995,527.6,493.3,1090.2,838.6,696.3,609,551.9,511.6,454.8,43.3,42,41.4,39.6,38.299999999999997,37.700000000000003,37.5,145.4,149.1,151.19999999999999,158.69999999999999,180,180,180,1128,921.4,805.8,737.1,709.8,697.1,686.4,733.1,607.20000000000005,544.6,516.6,505,499.5,494.8,687.8,575,527.29999999999995,503.6,489.4,482.6,477.6,651.20000000000005,552.6,514.70000000000005,492.2,471.4,454.8,442.1,656,544.9,506.6,492.7,473,451,414,647.9,539,498.6,467.6,449.1,434.8,407,666.7,549.79999999999995,505.1,474,440.9,415.6,387.3,736.7,594.4,526.9,494.9,465.6,434.7,370.4,871.7,689.6,582,524.6,495.2,468.3,412.3,1006.6,796.3,671.1,593.5,539.79999999999995,506.4,454.8,0.90800000000000003,1.1924999999999999,1.3602000000000001,0.70089999999999997,0.97030000000000005,1.1329,0,0,0.79800000000000004,185.7,0.96689999999999998,0,0,620.5,"FRA00004949",8.4990000000000006,3973,20.399999999999999,28.2,22.8,73.599999999999994,0,81]
["ITA96511","FRA9651","FRA-9651","WILLIAM B","A-35","ARCHAMBAULT","JOUBERT-NIVELT",2005,"S.V.O.COSULICH","ALESSANDRO BOTTECCHIA","INTL","C",550,"23/6/2016","17:18:58",10.617000000000001,9.6820000000000004,2.1680000000000001,3.59,4711,113.8,0.17,615.20000000000005,1.0150999999999999,664.9,0.67300000000000004,32,1022.9,825.3,708.7,640.70000000000005,601.9,578.1,546.70000000000005,978.5,791.4,688.2,630.6,598,576.5,543.29999999999995,853.9,686.8,596.6,543.70000000000005,510.6,488.3,458,917.1,731.4,629.6,568.9,530.70000000000005,505.2,472.4,1046.3,805.3,669,585.6,531.29999999999995,493.3,440.2,43.3,41.9,41.3,39.5,38.200000000000003,37.6,37.1,144.69999999999999,148.69999999999999,151.1,157.19999999999999,180,180,180,1068.2,876.8,764.5,704.9,680.3,667.8,652.5,694.2,578.29999999999995,517.79999999999995,493.5,484.2,479.3,472.9,651.20000000000005,547.5,501.6,480.8,469.9,464.2,458.9,616.4,525.4,490,469,451.4,438.9,429.4,620.6,521.79999999999995,486,470.2,451.5,431.7,402.1,625,518.4,478.8,451.6,435.2,421.8,397.9,644.4,530.4,485.4,457.5,428.2,404.9,379.6,715.4,577.79999999999995,508.5,476.8,450.8,423.3,366.6,846.7,670.2,566,507.1,477.6,453.4,403.1,977.6,773.8,652.9,576.6,523.5,488.4,440.8,0.94769999999999999,1.2423999999999999,1.4113,0.73040000000000005,1.0088999999999999,1.1796,601.6,0.99739999999999995,0.83199999999999996,186.2,1.0058,0.68899999999999995,46.7,596.6,"ITA00020250",9.3290000000000006,5550,25.1,37.700000000000003,29,89,0,82]
["nor20887",20887,"NOR 13911","PILAR","A-35","ARCHAMBAULT","JOUBERT-NIVELT",2005,null,"Stein Frode Bulling-Ness","CLUB","C",623,"22/4/2016","09:08:34",10.58,9.6579999999999995,2.1629999999999998,3.59,4623,114.9,0.1,597.4,1.0264,657.6,0.71,45.5,986.3,800.2,689.4,634.70000000000005,608.6,582,551.70000000000005,946.1,767.8,671.9,621.20000000000005,592.4,570.1,537,817.2,662.4,580,532.4,502.5,481.7,451.5,904.3,722.5,623,564,526.9,502,469.6,1012.6,782.5,653.4,574.79999999999995,523.5,486.7,432.2,43.3,41.9,41.2,39.299999999999997,38,37.4,36.9,143.9,147.6,148.6,150.9,173.9,176.8,177.3,1042.7,858.5,750,696.8,673.8,662,648,669.5,553,511,489.6,481.3,476.6,470.1,609.79999999999995,516.6,493.8,476.7,466.8,461.2,455.4,553.29999999999995,491.3,471.6,460.7,446.2,434.6,425.2,541.9,488.8,463.2,441.7,430.5,421.7,396.3,588.20000000000005,499.9,465.3,443.9,421,397.4,372.4,606.5,508.2,471.6,440.3,413,396.8,357.3,680.3,548.5,491.7,462.4,432.8,402.3,336.5,805.2,642.5,544.6,496.6,473.6,453.1,396.8,929.8,741.8,628.9,572.6,543.5,502,455.5,0.99399999999999999,1.2706999999999999,1.4273,0.75570000000000004,1.0224,1.1692,591.4,1.0145,0.94099999999999995,252.9,1.0275000000000001,0.73,64.599999999999994,583.9,"nor00000588",9.4209999999999994,5456,24.9,38.700000000000003,30.3,0,123.7,83]
["ESP793201","E7932","ESP-7932","PESTANEO","A-35","ARCHAMBAULT","JOUBERT-NIVELT",2005,"R.C.N.VALENCIA","JAVIER MORENO MOYA","INTL","C",525,"11/3/2016","03:15:10",10.617000000000001,9.69,2.17,3.59,4734,113.7,0.18,617.1,1.0113000000000001,667.5,0.66600000000000004,28.5,1029.5,830.1,711.9,642.79999999999995,603.70000000000005,579.5,548.1,982.1,794.3,690.2,632.20000000000005,599.70000000000005,578.20000000000005,545.1,857.3,689.1,598.29999999999995,545,511.6,488.9,458.3,918.9,732.8,630.79999999999995,570.29999999999995,532.20000000000005,506.7,473.1,1052,808.9,671.4,587.1,532.20000000000005,493.5,438.4,43.3,41.8,41.2,39.200000000000003,38.200000000000003,37.6,37,144.69999999999999,148.9,150.69999999999999,157,175.2,180,180,1069,877.7,764.7,705.6,681.3,668.9,653.1,695.1,579.20000000000005,518.20000000000005,494.1,485,480.1,473.8,652.5,548.5,502.1,481.3,470.8,465.4,460.1,617.9,526.4,490.6,469.7,452.5,440.5,431.5,622.5,521.29999999999995,482.5,466.2,451.6,433.2,404.4,628.1,520.29999999999995,479.9,452.4,428.3,412.7,388.4,647.70000000000005,532.29999999999995,486.4,458.6,430.2,405.1,368,718.6,581.6,510.9,478.5,452.9,426,370.3,857.4,677.7,571.20000000000005,509.5,479.3,455.5,405.9,990,782.5,659.2,580,526.20000000000005,490.1,443,0.94340000000000002,1.2392000000000001,1.4095,0.72599999999999998,1.0048999999999999,1.1763999999999999,602.5,0.99590000000000001,0.82199999999999995,181.3,1.0025999999999999,0.68,41.2,598.4,"ESP00016801",9.3230000000000004,5575,25.1,36.9,29.5,88.8,74.400000000000006,84]
["ESP883501","E8835","ESP 8835","L'OREIG","A-35","ARCHAMBAULT","JOUBERT-NIVELT",2005,"C.N.PORT D'ARO","MARTI GELABERT MARTI","INTL","C",610,"18/3/2016","13:24:14",10.617000000000001,9.6940000000000008,2.17,3.59,4743,114.2,0.16,612.70000000000005,1.0193000000000001,662.2,0.67400000000000004,30.8,1019.7,823.8,706.5,636.9,599,575.6,543.9,973.5,787.6,684.9,627.20000000000005,594.79999999999995,573.29999999999995,539.6,850.3,683.9,594.20000000000005,541.5,508.4,485.9,455.4,913.8,728.9,627.6,567.4,529.5,504,470.2,1042.9000000000001,802.4,666.4,583.1,528.79999999999995,490.8,437.7,43.2,41.8,41.2,39.299999999999997,38.1,37.4,36.799999999999997,139.9,148.6,149.5,157.1,175.1,180,180,1062.7,872.4,761.3,701.2,676.8,664.5,648.70000000000005,691.4,576.1,516.29999999999995,492.2,482.9,478,471.6,649,545.5,500.5,479.7,468.7,463,457.8,614.79999999999995,524,489.1,468.2,450.4,437.7,428.1,619.20000000000005,519,483.8,469.1,450.6,430.9,400.9,619.6,514.9,476.3,448.6,431.8,418.3,393.3,637.70000000000005,525.79999999999995,482.7,454.4,424.8,401.5,375.1,708.6,572,504.5,473.8,447.4,419.5,361.8,845.9,671.4,564.29999999999995,503.8,475.1,450.7,399.9,976.8,775.3,651.6,572.6,521.20000000000005,486.8,439.1,0.95169999999999999,1.2471000000000001,1.4178999999999999,0.73229999999999995,1.0132000000000001,1.1851,599.6,1.0006999999999999,0.83,182.8,1.0099,0.69199999999999995,47.2,594.1,"ESP00017200",9.3819999999999997,5583,25.1,38.299999999999997,28.9,97.2,0,85]
["FRA16010c","F35988","FRA-35988","ARES","A-35","ARCHAMBAULT","JOUBERT-NIVELT",2005,"34250 - PALAVAS Les FLOTS","ADJADJ Frederic","CLUB","R",640,"1/2/2016","09:17:36",10.617000000000001,9.5820000000000007,2.1480000000000001,3.59,4362,120.2,0.18,607.70000000000005,1.0290999999999999,655.9,0.98499999999999999,147.9,1013.2,816.1,700.6,631.20000000000005,593.1,569.70000000000005,538.1,970.3,783.5,680.6,621.4,587.9,565.9,532.29999999999995,845.9,679.4,589.29999999999995,536,502.1,478.7,446.6,915.9,728.6,625.5,563.9,524.9,498.9,465,838.4,667.8,574.1,517.9,481.3,454.6,414.4,43.2,41.9,41.3,39.1,37.799999999999997,37.299999999999997,36.700000000000003,144.6,148.19999999999999,150.80000000000001,157.19999999999999,175.2,180,180,1064.9000000000001,871,759,693.4,667.7,655.20000000000005,642,692.9,575.29999999999995,515.1,489.4,478.1,472.4,467.2,650.9,545.20000000000005,499.7,477.2,463.1,456.1,450.2,617.4,524.4,488.3,466.3,445.9,429.5,416.6,617.5,514.9,477.5,461.2,446,426.3,389.8,617.4,512.4,473.5,443.5,418.9,404.1,377.2,635.20000000000005,523,480,449.8,417.9,392,356.9,704.1,567.70000000000005,501.8,470.7,442.3,412.9,351.5,832.7,659.3,556.6,500.9,471.9,445.8,392.8,961.5,761.3,642.29999999999995,569,518.4,484.2,434.2,0.95650000000000002,1.258,1.4407000000000001,0.73799999999999999,1.0224,1.1975,0,0,0.83399999999999996,180.3,1.0203,0,0,588.1,"FRA00002191",9.4280000000000008,5182,24.4,35.700000000000003,28.1,94.7,79,86]
["FRA16132a","F27726","FRA-27726","HAPPY HOURS","A-35","ARCHAMBAULT","JOUBERT-NIVELT",2005,"76620  -  LE HAVRE","FIRMIN Philippe","CLUB","R",560,"1/4/2016","15:40:38",10.617000000000001,9.5719999999999992,2.1459999999999999,3.59,4331,113.2,0.08,605.1,1.0285,656.3,0.69,34.9,1000.5,808,693.9,633.1,597,574.5,541.9,957.1,774.5,675.5,622.79999999999995,592.4,571.20000000000005,535.79999999999995,837,674.3,586.9,535.79999999999995,503.6,481.5,450.9,900.4,719.2,620.29999999999995,561.79999999999995,525,500.2,467.4,1025.0999999999999,790.3,657.8,576.70000000000005,523.5,485.7,431.8,43.4,42.2,41.2,39.4,38.299999999999997,37.700000000000003,37.200000000000003,144.5,148.1,150.9,157.5,176.4,180,180,1044.5,858.1,748.3,699.1,677.4,666.1,651.20000000000005,679,565.20000000000005,509.5,489.7,482,477.6,469.6,636.9,536.29999999999995,494.6,475.9,467,461.9,454.4,603.1,516.6,483.7,462,444.5,434.5,426.4,606.79999999999995,512.79999999999995,478.7,463.1,441.9,420.6,396.5,613.20000000000005,510.4,472.2,444.9,424.2,410.1,384.8,631.20000000000005,520.79999999999995,478.8,448.3,417.5,393.9,364.3,700.3,564.9,500.3,469.5,440.9,411,348.3,828.3,656.3,554.29999999999995,499.6,470.8,444.3,390.2,956.4,757.9,639.5,567,516.70000000000005,482.9,432.5,0.96799999999999997,1.2607999999999999,1.4303999999999999,0.74650000000000005,1.0244,1.1886000000000001,0,0,0.88100000000000001,211.6,1.0215000000000001,0,0,587.4,"FRA00003855",9.3480000000000008,5149,24.3,37.4,30.7,94.8,77.7,87]
["FRA16257a","F34799","FRA-34799","TCHIN TCHIN","A-35","ARCHAMBAULT","JOUBERT-NIVELT",2005,"06220  -  VALLAURIS -  GOLFE JUAN","BERTRAND Jean Claude","CLUB","R",613,"25/7/2016","11:26:42",10.617000000000001,9.5909999999999993,2.15,3.59,4396,116.7,0.18,609.1,1.0278,656.7,0.67400000000000004,27.1,1014.9,817.3,701.2,632.20000000000005,593.79999999999995,570.1,538.29999999999995,971.4,784.1,680.8,622,588.6,566.5,532.79999999999995,847.2,680.7,590.6,537.5,503.9,480.8,449.2,914.9,728.5,626.1,564.9,526.1,499.9,465,1036.7,797.1,661.5,578.20000000000005,523.79999999999995,485.4,431.6,43.2,41.8,41.1,39,37.6,36.799999999999997,36.200000000000003,144.4,148.19999999999999,150.80000000000001,157.19999999999999,175.3,180,180,1063.9000000000001,869.6,757.1,693.2,667.6,654.70000000000005,640.6,692,574.5,514.6,489.7,479.2,473.6,467.4,649.29999999999995,544.29999999999995,499.2,477.4,464.3,457.7,453,615.1,523.29999999999995,487.9,466,446.2,431.1,419.5,620,517.20000000000005,482.5,467.1,447.5,426.2,392.1,618.20000000000005,513.5,474.7,445.6,428.5,414.4,387.5,636.9,524.6,481.4,451.8,420.4,396.7,369.2,707.4,570.70000000000005,503.5,472.3,444.4,415.2,354.8,836.5,662.4,559.29999999999995,502.7,473.5,447.8,395,965.9,764.9,645.4,571.20000000000005,519.9,485.5,435.9,0.95530000000000004,1.2549999999999999,1.4339999999999999,0.73680000000000001,1.0212000000000001,1.1967000000000001,0,0,0.83199999999999996,179.3,1.0179,0,0,589.5,"FRA00004874",9.4359999999999999,5214,24.5,36.5,28.3,92.9,0,88]
["GER140930","GER5779","GER 5779","MYSTIQUE","A-35","ARCHAMBAULT","JOUBERT-NIVELT",2005,"SRS","GUNTRAM KLAPPROTT","CLUB","R",650,"1/4/2016","09:09:40",10.59,9.5739999999999998,2.1469999999999998,3.59,4335,117,0,587.20000000000005,1.0573999999999999,638.4,0.73199999999999998,48.5,952.7,775.6,671.1,618.29999999999995,585.5,563.29999999999995,532,911.6,743,654.5,608.29999999999995,579.79999999999995,557.9,524.4,803.8,651.5,570.29999999999995,522.9,492.8,471.8,441.7,866.5,695.7,603.20000000000005,548.6,514.1,490.7,459.3,984.4,763.3,638.9,562.70000000000005,512.4,476.3,423.8,43.1,41.9,40.200000000000003,38.5,37.4,36.6,36.6,142.1,147.4,151.4,158.69999999999999,180,180,180,993.8,820.7,723.2,684.8,665.8,652.29999999999995,642.9,648.6,543.5,499.6,485.6,478.6,474.3,465.4,609.5,519.9,486.3,471.4,463.7,458.9,448.4,577.6,504.3,475.3,453.9,438.7,430.6,423.2,580.4,498,476.4,453.7,430.3,410.2,392.5,579.4,494.9,460.4,436.8,420.4,404.2,378,596.9,503.6,467.6,434.5,405,387.8,357.2,665.4,541.4,488.8,458.6,427.4,395.6,327.5,789.5,632.70000000000005,536.9,488.9,460.6,432,372.5,911.7,730.6,618.9,551.9,505.2,474.2,421.2,1.0112000000000001,1.2917000000000001,1.4592000000000001,0.78110000000000002,1.0533999999999999,1.2116,580.1,1.0343,0.96699999999999997,250.4,1.0491999999999999,0.752,68.8,571.79999999999995,"GER20014042",9.5419999999999998,5152,24.3,44.5,31,97.4,109.2,89]
["GRE001113","GR35","GRE-35","A35","A-35","ARCHAMBAULT","JOUBERT-NIVELT",2005,"NOE","VIGLA SA","INTL","R",600,"21/3/2016","12:45:24",10.617000000000001,9.6609999999999996,2.1640000000000001,3.59,4633,114.6,0.12,607.70000000000005,1.0266999999999999,657.5,0.68600000000000005,34.700000000000003,1006.6,813.2,698.7,633.9,596.29999999999995,573.20000000000005,540.9,962.8,779.6,679.3,623.79999999999995,592,570.5,535.9,841,677.5,589.4,537.79999999999995,505.4,483.2,452.6,906.5,723.8,623.79999999999995,564.4,527,502,469,1031.0999999999999,794.6,661,579.20000000000005,525.79999999999995,488.2,435.3,44,41.8,41.2,39.200000000000003,37.9,37.200000000000003,36.5,144.6,148.4,150.9,157.5,180,180,180,1051.8,863.8,753.4,697.3,673.3,661,645,684.1,570.5,512.9,490.4,481.7,476.8,469.8,642.1,540.9,497.8,477.8,467.5,461.8,455.7,608.1,520.29999999999995,486.9,465.8,447.9,435.8,426.3,609.5,511.5,481.7,466.7,447.5,427,398.3,608.6,509.7,473.4,446.2,430,416.3,391.9,628.4,521.4,480.8,452.3,422.1,399.5,373.3,702.4,568.70000000000005,503.4,472.8,445.7,417.2,358,832.6,660.4,558.20000000000005,502.4,473.8,448.8,397,961.4,762.6,644,570.5,519.29999999999995,485.4,436.9,0.96330000000000005,1.2559,1.4258999999999999,0.7419,1.0210999999999999,1.1907000000000001,0,0,0.85699999999999998,196.6,1.0173000000000001,0,0,589.79999999999995,"GRE01005248",9.4160000000000004,5467,24.9,38.1,30.4,95.8,95.5,90]
["AR0771","LEMAN LA","LAT-771","LEMANS","A-35","ARCHAMBAULT","JOUBERT-NIVELT",2006,null,"SIA Pils M","INTL","C",750,"2/7/2016","09:47:40",10.617000000000001,9.7309999999999999,2.1779999999999999,3.59,4879,114.1,0.14000000000000001,611.79999999999995,1.0233000000000001,659.6,0.66800000000000004,26.2,1019.4,822.3,707.2,635.4,595.70000000000005,571.1,539.70000000000005,970.6,785.6,683.5,624.4,590.9,568.79999999999995,536.1,849.8,683.4,593.4,540.20000000000005,506.5,483.4,452.2,908.6,725.2,624.5,564.5,526.5,500.7,466.5,1043.5,802.3,665.6,581.70000000000005,526.79999999999995,488.1,433.6,44,41.7,41.3,39,37.6,36.799999999999997,36,144.5,148.80000000000001,149.9,156.9,175,180,180,1049.0999999999999,861.7,755.5,692.4,666.4,652.70000000000005,636.5,683.7,570.20000000000005,514,489.6,479,473.4,466.9,642.5,541.1,498.8,477.8,465,458.4,451.8,609.29999999999995,521.20000000000005,487.5,467.1,448.5,433.8,421.1,613.79999999999995,521.6,482.2,467.1,448.8,429.9,396.6,625.79999999999995,518.70000000000005,479.1,451.4,427,413.2,387.7,645.5,531.1,485.8,458.5,430.2,401.6,369.3,717.2,580.4,508.9,477.3,452,425.3,370.4,857,678,570.6,508,478.5,454.9,405.9,989.6,782.9,658.9,578.4,525.1,489.5,443,0.95230000000000004,1.2485999999999999,1.4263999999999999,0.73299999999999998,1.0150999999999999,1.1936,599.4,1.0009999999999999,0.81799999999999995,172.3,1.0121,0.69,45.2,592.79999999999995,"AR00001638",9.516,5728,25.4,38.4,30.2,91.8,0,91]
["TUR","TUR9939","TUR-9939","SHAK SHUKA II","A-35","ARCHAMBAULT","JOUBERT-NIVELT",2005,"TAYK","Hasan Utku CETINER","INTL","C",710,"7/7/2016","11:52:54",10.617000000000001,9.68,2.1680000000000001,3.59,4706,109.7,0.18,611.4,1.0204,661.5,0.67,27.3,1020.8,826,707.1,634.70000000000005,597.6,574.70000000000005,543.20000000000005,974.5,788.6,685.5,626.20000000000005,593.1,571.5,537.9,849,682.8,592.9,540,506.6,483.8,452.9,918.5,732,629.5,568.29999999999995,529.79999999999995,504.2,471.1,1042.7,802,665.5,581.70000000000005,527,488.6,434.5,43.3,41.9,41.3,39.4,38.1,37.5,36.9,138.5,148.9,148.4,157.5,174.9,180,180,1070.5999999999999,876.9,766.9,702.5,677.3,664.9,650.5,695.8,578.70000000000005,518.6,493,483.1,478,472.2,652.79999999999995,547.79999999999995,502.3,480.5,468.6,462.9,458,618,526,490.1,469.2,450.9,437.4,427.4,612.70000000000005,513.1,478.9,466.2,450.6,431.4,400.3,611,511,473.9,446.2,425.1,411.4,386.7,630.6,521.20000000000005,479.9,450.7,420.1,395.9,366.1,699.9,565.29999999999995,500.2,470.2,442.6,413.6,353.2,840.9,671.3,560.6,499.5,471.7,446.3,393.9,970.9,775.2,647.29999999999995,566.9,517.79999999999995,484.5,435.8,0.95269999999999999,1.2499,1.4244000000000001,0.73099999999999998,1.0143,1.1872,0,0,0.82099999999999995,176.7,1.0117,0,0,593.1,"TUR01006400",9.359,5545,25.1,38.1,28.2,106.6,98.6,92]
["nor666879",666879,"SWE 1034","Jigy Jigy","A-35","ARCHAMBAULT","JOUBERT-NIVELT",2008,null,"Carin/Roger  Sjolander/Ahlqvist","CLUB","C",632,"7/6/2016","11:42:36",10.59,9.7149999999999999,2.1749999999999998,3.59,4822,111.5,0.17,617.20000000000005,1.0129999999999999,666.3,0.66200000000000003,26.6,1033.0999999999999,831.6,713.2,641.20000000000005,601.6,577,544.79999999999995,983.8,794.8,690.1,630.6,597.29999999999995,575.4,541.6,858.6,689.8,598.4,544.70000000000005,510.9,488.1,457.4,918.3,732.1,629.9,569.20000000000005,531,505.6,472.4,1054.8,810,671.6,586.70000000000005,531.6,493,439.7,44,41.7,41.2,39.4,38,37.299999999999997,36.6,144.69999999999999,149,150.1,156.80000000000001,174.3,180,180,1069.5,876.3,764.8,702.5,677,663.8,646,695.3,579,517.9,492.9,483.4,478.3,471.4,652.4,547.9,501.7,480.6,469.4,463.8,458.8,617.70000000000005,525.79999999999995,490,469.3,451.9,439.4,429.8,622.20000000000005,524.9,484.3,470.5,452,433.1,403.6,630,520.79999999999995,480,452.4,431.4,418.1,394.2,649.1,532.9,486.4,458.9,430.9,403.4,375.8,719.6,582.5,510.5,478.2,453,426.3,371.5,863.2,681.5,573,509.2,479.1,455.6,406.6,996.7,787,661.6,579.9,526.20000000000005,490.1,443.5,0.94169999999999998,1.2394000000000001,1.4121999999999999,0.72399999999999998,1.0057,1.1819999999999999,603.5,0.99419999999999997,0.80800000000000005,171,1.0032000000000001,0.68100000000000005,43,598.1,"nor00001518",9.375,5668,25.3,37.299999999999997,29.8,90.3,0,93]
["GER142019","GER7177","GER 7177","CHENAPAN","A-35","ARCHAMBAULT","JOUBERT-NIVELT",2005,"YFT","JENS HUFNAGEL","CLUB","C",480,"26/4/2016","13:48:58",10.617000000000001,9.6329999999999991,2.1589999999999998,3.59,4544,114.7,0.18,611.20000000000005,1.0243,659,0.68200000000000005,34.700000000000003,1014.4,817.5,700.9,634.6,596.9,573.6,541.1,971.8,784.6,681.7,624.70000000000005,592.4,570.70000000000005,535.9,848.4,682.2,592.6,540.20000000000005,507.4,485,454.1,919.3,732.2,629.6,568.5,530.1,504.3,470.1,1036.9000000000001,798.3,663.6,581.29999999999995,527.9,490.5,438,43.1,41.7,40.9,38.9,37.6,37,36.5,144.6,148.30000000000001,150.9,157.30000000000001,180,180,180,1067.8,873,758.1,698.5,674.1,661.6,645.4,695.1,577.20000000000005,516.20000000000005,492.4,483.2,478.2,471.3,652.9,547.29999999999995,500.8,480,469.1,463.4,457.6,619,526.1,489.8,468.6,450.7,438.2,428.7,623.79999999999995,518.6,488.4,470.5,451.3,431.3,401.7,617.9,513.70000000000005,475.3,451.1,436.5,422.9,397.7,635.5,524.20000000000005,481.6,452.5,423,405.9,380.3,703.7,568.5,503.2,472.6,445.3,416.6,356.7,832.4,660,557.9,502.4,473.8,448.6,396.2,961.1,762.1,643.70000000000005,570.70000000000005,519.79999999999995,485.6,436.8,0.95430000000000004,1.2507999999999999,1.4207000000000001,0.7369,1.0187999999999999,1.19,596.1,1.0065999999999999,0.84399999999999997,189,1.0135000000000001,0.69699999999999995,47.5,592,"GER11001306",9.3870000000000005,5370,24.7,35.5,28.6,95.5,0,94]
["knw","FRA34983","FRA 34983",null,"A-35","ARCHAMBAULT","JOUBERT-NIVELT",2005,9598371,"A. de Zeeuw","CLUB","C",631,"16/8/2016","13:52:50",10.617000000000001,9.6999999999999993,2.1720000000000002,3.59,4775,115.2,0.16,612.20000000000005,1.0223,660.3,0.67,28,1019.8,823.4,706.3,635.29999999999995,596.4,572.20000000000005,540.79999999999995,971,785.6,682.9,624.5,591.6,569.9,536.9,849.8,683.6,593.70000000000005,540.70000000000005,507.2,484.4,453.4,906.9,724.2,624.20000000000005,564.6,527.1,501.9,468.9,1043.5999999999999,802.5,666,582.20000000000005,527.6,489.3,435.7,44,41.6,40.9,38.799999999999997,37.5,36.700000000000003,35.9,139.4,149,149.6,157.1,174.9,180,180,1050.5999999999999,862.7,753.8,693.3,668,655,638.9,684.4,571.4,514.4,490.6,480.6,475.3,468.7,643,542.29999999999995,499.4,478.7,466.6,460.5,455.5,609.29999999999995,522,488.4,467.7,449.5,435.6,424.5,613.6,522.20000000000005,483.1,468.7,449.8,430.6,398.8,624.79999999999995,518.70000000000005,479.3,451.4,428.4,414.9,389.8,643.70000000000005,530.5,485.8,458.3,429.8,401.2,371.2,716.1,578.79999999999995,508.6,477.2,451.7,424.6,369,856.6,679,570.6,507.6,478.4,454.6,405,989.1,784,658.8,577.4,524.70000000000005,489.5,442.7,0.95189999999999997,1.2479,1.4232,0.73240000000000005,1.0150999999999999,1.1916,598,1.0034000000000001,0.82,174.3,1.0109999999999999,0.68899999999999995,43.6,593.4,"knw00005697",9.4890000000000008,5619,25.2,37.700000000000003,29.8,91.3,0,95]
["FRA16024a","F35966","FRA-35966","DR. FEELGOOD","A-35 Asym","ARCHAMBAULT","JOUBERT-NIVELT",2005,"75017 PARIS","DELASNERIE Sebastien","CLUB","R",425,"9/2/2016","21:02:04",10.59,9.5879999999999992,2.149,3.59,4381,114,0.16,607.79999999999995,1.0161,664.3,1.0620000000000001,191.2,998.8,807.4,694.9,641.79999999999995,615.20000000000005,587.79999999999995,557.4,958,775.5,677.7,627.6,599.4,577,544.6,836.4,675.3,589.6,540.29999999999995,509.7,488.7,459,912.8,727.6,626.20000000000005,566.29999999999995,528.79999999999995,504,472,825.1,660.4,571.4,519.4,486.4,462.6,426.1,43.3,42,41.1,39.4,38.299999999999997,37.700000000000003,37.6,143.9,147.5,148.9,150.5,174,176.8,177.6,1057.5,866.8,754.7,704.8,682.8,671.3,657.9,687.7,571.20000000000005,513.29999999999995,492.7,484.8,480.5,473.1,645.29999999999995,541.6,497.7,478.9,470,465,458.5,611.20000000000005,521.4,486.6,465.4,448.6,438.6,430.7,601.70000000000005,507.3,484.9,466.9,446.4,425.9,401.1,598.6,503.8,468.3,447.5,432.5,418.4,391,616.5,513.6,475.1,444.5,417,400.8,370.9,687.4,556.5,496.5,466.4,437.4,407.2,342.9,814.1,647.9,550,501.6,477.1,456.7,401,940,748.1,635.1,578.70000000000005,547.70000000000005,504.4,456.8,0.97050000000000003,1.2535000000000001,1.4069,0.74739999999999995,1.0125,1.1573,0,0,0.93400000000000005,254.4,1.0152000000000001,0,0,591,"FRA00002254",9.282,5203,24.4,37.4,28.6,0,103.1,96]
["FRA16192a","F35080","FRA-35080","GISELE AGAIN","A-35 Asym Twin R","ARCHAMBAULT","JOUBERT-NIVELT",2005,"59240 - DUNKERQUE","BOURGEOIS Philippe","CLUB","R",685,"12/5/2016","11:46:28",10.59,9.6210000000000004,2.1560000000000001,3.59,4500,118.8,0.16,606.5,1.0328999999999999,653.5,0.67300000000000004,24.4,1011.1,813.9,698.6,629,590.4,566.79999999999995,535.5,966.8,780.3,677.6,618.70000000000005,585.29999999999995,563.29999999999995,530.29999999999995,843.9,678,588.1,535,501.2,477.9,446,909.4,724.4,622.70000000000005,561.79999999999995,523.20000000000005,497.1,463.5,1033.0999999999999,794.1,658.8,575.6,520.9,482.1,426.6,43.1,41.7,40.9,38.700000000000003,37.299999999999997,36.5,35.9,144.69999999999999,148.5,151,157.30000000000001,175.5,180,180,1055.4000000000001,862.5,751.5,687,661.2,648.29999999999995,634.79999999999995,687.5,570.70000000000005,512.6,487.8,476.8,471.1,465.3,645.70000000000005,541.6,497.8,476,462.2,455.3,449.3,612.20000000000005,521.6,486.9,465.2,445.1,429.3,416.9,615.70000000000005,514.29999999999995,477.4,460.6,445.2,425.8,390.5,616.4,513.20000000000005,475.2,445.4,419.3,403.8,377,637.4,525.20000000000005,481.7,452.4,421.4,393.2,356.6,707.3,570.70000000000005,503.9,472.8,445.4,416.7,357.4,837.3,662.8,559.5,502.7,473.7,448.3,396.4,966.8,765.3,645.6,571.1,519.6,485.3,436.2,0.95889999999999997,1.2602,1.4431,0.73970000000000002,1.0259,1.2033,0,0,0.83199999999999996,176.6,1.0224,0,0,586.79999999999995,"FRA00004304",9.5350000000000001,5322,24.6,36.799999999999997,28.9,89.2,79.5,97]
["FRA16223b","F43673","FRA-43673","ALTIKHAN","A-35 R","ARCHAMBAULT","JOUBERT-NIVELT",2013,"33200  -  BORDEAUX","BOUIC Johann","CLUB","C",611,"17/6/2016","17:31:52",10.59,9.407,2.198,3.59,4426,122.5,0.02,600.20000000000005,1.0308999999999999,654.70000000000005,0.70199999999999996,39.9,988.3,802,686.8,631.1,604.5,576.6,545.1,946.2,766.7,668,616.29999999999995,586.9,563.9,530,828.1,668,582.29999999999995,532.5,501.2,479.5,448.4,900.2,718.8,619.29999999999995,559.9,522.29999999999995,497,463.8,1014,782.9,652.70000000000005,573.1,521,483.9,430.5,42.8,41.9,41.1,38.799999999999997,37.5,36.6,36,144.19999999999999,147.5,148.19999999999999,150.69999999999999,173.7,176.6,177,1034.3,852.9,739.8,687.8,663.6,650.29999999999995,635.20000000000005,677.4,562.9,506.4,485.3,476.2,470.9,463.9,637.29999999999995,535.20000000000005,492.3,472.2,461.4,455,448.6,604,517.20000000000005,482.7,459.5,440.2,427.9,418,601.9,505.3,481.2,462.2,439.7,418.4,390.2,595.70000000000005,501,464.5,442,426.7,412.8,383,613.4,509.9,471.5,439.4,412,396.1,364.8,690.3,553.6,492.8,462.3,432.3,403.1,337.4,816,650.5,548.79999999999995,497.9,473.8,452.8,396.8,942.2,751.1,633.70000000000005,574.29999999999995,545.4,503,455,0.97850000000000004,1.2701,1.4353,0.75409999999999999,1.0269999999999999,1.1806000000000001,0,0,0.91500000000000004,232.8,1.0286,0,0,583.29999999999995,"FRA00004634",9.4169999999999998,5241,23.9,38.200000000000003,31,0,115.2,98]
["FRA16220b","F38749","FRA-38749","CHENAPAN 3","A-35 R Carbon Mast","ARCHAMBAULT","JOUBERT-NIVELT",2013,"75017 - PARIS","CAMINADE Gilles","CLUB","C",611,"17/6/2016","10:58:20",10.59,9.4139999999999997,2.198,3.59,4430,122.7,0.03,600.1,1.0401,649,0.69299999999999995,33.299999999999997,991,803.6,687.9,625.4,588.79999999999995,565.29999999999995,532.5,948.1,768.6,669,614.6,582.79999999999995,560.9,525.4,831.5,669.6,582.20000000000005,530.6,498,475.6,444.2,896.7,716.2,617.20000000000005,558,520.5,494.9,460.7,1016,783.5,651.9,571.1,518.1,480.7,427.9,42.7,41.8,40.799999999999997,38.700000000000003,37.4,36.5,35.799999999999997,141.4,148.19999999999999,150.6,157.5,180,180,180,1032.9000000000001,851.8,738.9,686.4,662,648.5,633.29999999999995,677,562.70000000000005,506.3,485,475.8,470.3,463.4,637.20000000000005,535.1,492.4,472.1,461,454.5,448.3,604.1,517.20000000000005,482.9,459.7,440.2,427.5,417.3,608.29999999999995,512.5,477.6,462.1,440.1,418.7,389.7,612.6,509.1,470.4,442.6,423.8,411,384.7,629.4,518.79999999999995,476.8,445.6,416.5,394.1,367.5,695.2,560.9,498,467.1,437.8,409.2,347.1,821.9,654.29999999999995,551.79999999999995,497.5,468.7,441.9,389.5,949.1,755.5,636.79999999999995,564.4,515.6,482.2,431.6,0.97299999999999998,1.2719,1.4497,0.75219999999999998,1.0354000000000001,1.2078,0,0,0.86699999999999999,195.6,1.0306,0,0,582.20000000000005,"FRA00004630",9.4390000000000001,5245,23.9,37.9,30.9,101,82.8,99]
["nor21491",21491,"NOR 14488","Rehab","A-40","ARCHAMBAULT","Joubert/Nivelt",2003,null,"Pal Hernes","CLUB","C",853,"3/6/2016","21:14:44",11.99,11.624000000000001,2.3940000000000001,3.79,7004,112.5,0.09,580.5,1.0610999999999999,636.1,0.72099999999999997,37.9,959.5,776.5,670.7,614.20000000000005,586.29999999999995,560.9,529.29999999999995,913.8,741.5,648.1,599,571.4,550.1,520.4,800.8,645.9,563.1,515,485.3,465.2,438.1,851.8,682.3,589.79999999999995,534.79999999999995,500.2,476.9,447.2,986.2,760.5,633.29999999999995,555.6,504.8,469,418.7,43.7,42.3,41.7,39.700000000000003,38.4,37.5,37.299999999999997,143.6,147.69999999999999,148.4,149.80000000000001,151.6,175.5,177.9,979.5,808.6,711.4,666.1,643.4,629.5,615.29999999999995,635.4,531.79999999999995,480.6,463.4,455.5,451,445.4,596.20000000000005,503.7,465.4,449.9,442.4,437.8,433,563.20000000000005,484.1,454,436.3,422.8,414.7,406.5,565.20000000000005,485.2,454.9,436,417.8,400.8,381.2,598.79999999999995,492.9,452.2,427,404.1,391.6,367.7,616.4,505.2,458.8,433.5,407.1,380.4,348.9,686.4,554.70000000000005,482.7,451,427.8,402.5,350.5,813.7,644.70000000000005,545.70000000000005,486.9,460.2,441.4,402,939.6,744.4,630.1,562.29999999999995,529.1,492.2,443.3,1.0121,1.3138000000000001,1.4789000000000001,0.77759999999999996,1.0553999999999999,1.2154,572.20000000000005,1.0486,0.94799999999999995,237.2,1.0620000000000001,0.73599999999999999,53.6,565,"nor00001475",10.837,8168,33.5,46.1,51.3,0,111.4,100]
["CRO006/16","CRO6482","CRO 6482","Gringo 2","A-40","ARCHAMBAULT","JOUBERT-NIVELT",2003,"CROATIA","Jedrilicarski klub \"Uskok\"","INTL","C",846,"9/3/2016","15:32:44",11.99,11.555999999999999,2.4220000000000002,3.76,5850,111.3,0.14000000000000001,576.5,1.0716000000000001,629.9,0.7,21.4,969.6,779.1,668,608,573.5,548.29999999999995,516.1,923.1,743.6,646.5,595.79999999999995,566.4,544.20000000000005,510.6,802.4,644.20000000000005,558.9,508.8,477.1,455.4,425.5,856,682.5,587.5,531,495.2,470.9,438.4,989.1,759,628.9,548.9,496.4,459.1,406.3,44,42.7,42.1,40.200000000000003,39.1,38.4,38.6,143.5,147,148.9,154.6,165.6,180,180,998,816.6,713.4,670.1,649.5,636.29999999999995,620.70000000000005,644.6,533.70000000000005,478.8,462,454.5,450.2,440.3,602.1,502.9,462.4,447,439.7,435.1,424.7,566.6,481.4,449.8,429.9,415.1,407.1,399.3,568.5,482.3,450.3,428.6,405.9,386.8,368.7,595.70000000000005,486.8,445.8,418.1,401,384.5,359.8,614.1,498.7,452.4,423.5,392.3,370.5,343.3,684.3,548.20000000000005,475.7,443.9,416.7,387.6,328.1,815.2,642.29999999999995,539.20000000000005,477.7,446.3,421.3,368,941.3,741.6,622.6,546,497.4,460.4,411.6,1.0084,1.3269,1.5136000000000001,0.77200000000000002,1.0652999999999999,1.2441,0,0,0.89,193.3,1.0708,0,0,560.29999999999995,"CRO00061859",10.744,7003,31.8,49.1,39.299999999999997,111.2,0,101]
["ESP727201","RUS7272","RUS-7272","ARTFULL","A-40","ARCHAMBAULT","JOUBERT-NIVELT",2007,null,"ARIZONA LTD","INTL","C",650,"31/7/2016","10:22:06",12,10.891,2.5270000000000001,3.79,6662,137.4,0.09,575.70000000000005,1.0865,621.20000000000005,0.71799999999999997,30.8,957.1,775.2,662.4,597.79999999999995,562,538.1,507.4,913.2,738.4,640.70000000000005,586.5,555.70000000000005,534.5,501.7,799.1,642.79999999999995,558.29999999999995,508.6,477.3,455.8,426.1,861.6,686.8,590.79999999999995,533.5,497.2,472.5,439.6,979.2,753.6,625.79999999999995,547.5,496.6,461,411.1,42.9,41.6,41.1,38.700000000000003,37.200000000000003,36.5,35.4,140.80000000000001,147.5,148.80000000000001,155.9,170.5,180,180,992.7,814.1,706,651.20000000000005,626.79999999999995,613.70000000000005,596.9,648.1,538.4,482.6,461.1,451.7,446.3,440,609.1,510.7,468.9,450,438.7,432.5,426.3,577.29999999999995,491.9,459.4,439.9,423.3,409.9,397.8,581.6,489.6,459.4,441.9,424.2,405.6,374.4,587.70000000000005,486.1,448.9,425.9,412.4,399.6,373.7,604.6,496.1,454.9,428.7,401.4,384.3,359.6,670.1,540.4,476.3,447.4,423.3,397.3,341.7,798,637.79999999999995,535.9,477.1,449.5,427.1,379.3,921.5,736.4,618.79999999999995,544.29999999999995,497.3,462.4,417.9,1.012,1.3272999999999999,1.512,0.77929999999999999,1.0797000000000001,1.2674000000000001,561.29999999999995,1.0689,0.872,174.2,1.0746,0.73199999999999998,42.5,558.29999999999995,"ESP00018934",10.704000000000001,7665,30.3,49.3,37,124.3,0,102]
["ESTEST400","Est0400","EST 400","MERION","A-40","ARCHAMBAULT","JOUBERT-NIVELT",2003,"ESS KALEV JK","Merion Halduse OU","CLUB","C",800,"23/8/2016","23:13:20",11.99,11.715,2.4140000000000001,3.76,6875,121.1,0.2,588.6,1.0602,636.70000000000005,0.67600000000000005,14.4,995.8,798.9,685.6,613.79999999999995,574,547,516.9,948.5,763.6,660.6,600.70000000000005,566.79999999999995,544.29999999999995,514,824,659.9,570.4,517.29999999999995,483.7,460.9,430.9,881.7,700.8,600.9,540.9,502.7,477,443.5,1013.6,776.1,641,557.9,503.4,465.3,412.5,43.6,41.9,41.4,39.9,38.4,37.5,37.299999999999997,143.9,148,150.6,154.19999999999999,164.3,180,180,1026.2,837.7,730.9,666.4,638.9,624.6,609.5,665.4,552.6,490.1,463.5,452.7,447,441.6,623.6,521.6,472.6,451.4,439.3,433,426.9,589.9,498.2,460.5,440.4,423.7,409.6,396.8,593.6,500.9,458.5,441.8,423.6,404.8,373.3,612,500.4,455.1,429.7,406.8,393.8,369.1,631.1,514.5,461.9,435.8,409.8,383.1,353.2,702.7,565.20000000000005,488.9,454,430.8,406,354.5,836.1,658.3,554.6,490.2,455.7,433.8,387.8,965.4,760.1,640.4,561.1,509.1,469.3,424.4,0.97929999999999995,1.3026,1.4974000000000001,0.75219999999999998,1.0494000000000001,1.2443,574.29999999999995,1.0447,0.81499999999999995,150.9,1.0528,0.69099999999999995,27.6,569.9,"EST00001240",10.878,8066,33,46.6,37.799999999999997,107,0,103]
["ISR016/16","ISR322","ISR 322","Lataka-Be","A-40","ARCHAMBAULT","JOUBERT-NIVELT",2003,"ISRAEL","SC Yachting","CLUB","R",864,"8/3/2016","14:21:54",11.99,11.661,2.3980000000000001,3.76,6510,115.6,0.06,572,1.0795999999999999,625.20000000000005,0.72399999999999998,32.799999999999997,951.2,767.1,659.1,602,574.9,550.5,518.9,906.1,731.7,637,587.1,558.9,537.20000000000005,505.7,792.1,637.6,554.70000000000005,506.4,476.3,455.7,427.4,850.8,679.5,585.6,529.5,493.8,469.7,438.3,974.2,749.7,623.20000000000005,545.79999999999995,495.3,459.7,409.6,43.6,42.1,41.3,39,37.6,36.6,36.299999999999997,143.30000000000001,147.19999999999999,147.69999999999999,150.1,151.69999999999999,175.2,177.5,976.8,800.7,699.5,651.79999999999995,628.29999999999995,614.1,599.70000000000005,634.4,528,475.7,457.8,449.6,444.8,438.9,595.5,500.6,461.5,444.9,436.6,431.3,425.5,563.1,481.6,450.9,431.6,415.9,406.5,397.2,565.9,483.4,451.8,432,411.6,392.5,370.6,586.6,483.5,445,418.5,401,386.4,361.5,603.20000000000005,494.1,451.4,424.1,394.4,371,343.6,675.1,542.6,473.6,443.4,417.7,389.8,332.5,801.6,635.20000000000005,535.70000000000005,478.2,453.4,434.1,387.3,925.6,733.5,618.6,552.20000000000005,521.4,486.9,438,1.0224,1.3352999999999999,1.5105,0.78569999999999995,1.0749,1.2392000000000001,0,0,0.94599999999999995,226,1.0798000000000001,0,0,555.70000000000005,"ISR00061727",11.079000000000001,7690,32.4,45.9,49.4,0,135.4,104]
["AUS420000",4200,"Q40","BROADSWORD","A-40","ARCHAMBAULT","JOUBERT-NIVELT",2003,"QLD  4151","Peter Kruger / David Looke","INTL","R",867,"9/7/2016","19:12:54",11.99,11.69,2.4009999999999998,3.76,6577,119.8,0.08,572.6,1.0866,621.20000000000005,0.70899999999999996,23.3,957.6,772.7,662.8,599.1,563.29999999999995,538.20000000000005,509,912.2,736.6,639.9,586.5,555.6,533.70000000000005,503.4,796,639.9,555.29999999999995,505.4,473.6,451.9,422.8,849.9,678.3,584.20000000000005,528,492.3,468.3,437,979.3,752.5,623.9,544.79999999999995,492.8,456.2,404.8,43.6,42.1,41.4,39.1,37.6,37.200000000000003,36.4,141.1,147.6,149,154.69999999999999,165.1,180,180,983.5,805.4,702.8,651.6,627.29999999999995,613.79999999999995,601.6,638.29999999999995,530.9,476.9,457.1,448.7,443.7,438.9,598.29999999999995,502.4,462.3,444.6,435.5,429.8,423.5,564.9,482.5,451.5,431.8,415.1,404.4,394.1,567.1,484.2,452,432.7,412.3,392.6,367.3,591.1,486.7,447.4,421,399.1,385.5,359.3,609,498.9,454.3,427.6,398.4,373.3,342.1,679.5,547.20000000000005,476.8,445.9,420.7,393.4,337.4,806.8,640.79999999999995,539.29999999999995,478.4,448,424.9,374.9,931.6,740,622.79999999999995,546.70000000000005,499.2,462.5,416.4,1.016,1.3344,1.5259,0.7802,1.0785,1.2652000000000001,0,0,0.878,177.7,1.0793999999999999,0,0,555.9,"AUS00000097",11.096,7761,32.6,46,48.8,126.1,122.2,105]
["FRA16164c","F9791","FRA- 9791","ZIGZAG","A-40","ARCHAMBAULT","JOUBERT-NIVELT",2003,"06160 - ANTIBES","BASCUNANA Patrick","CLUB","R",856,"8/6/2016","14:27:00",11.99,11.599,2.3889999999999998,3.76,6260,109.6,0.18,576.29999999999995,1.0692999999999999,631.29999999999995,0.71699999999999997,31.6,961.1,774.5,664.6,606.79999999999995,580.5,557,523.70000000000005,919.3,741.5,644.79999999999995,593.70000000000005,565.6,544.29999999999995,509.7,799.4,642.70000000000005,558.6,509.8,479.4,458.6,429.1,871.3,693.5,595.79999999999995,537.29999999999995,500.2,475,441.4,981.6,755.2,627.6,549.5,498.6,462.4,410.6,43.6,42.1,41.6,39.700000000000003,38.4,37.700000000000003,37.5,143.30000000000001,146.80000000000001,148,150.4,151.9,175.4,177.4,1008.4,824,717.8,666.4,643.5,631,612.6,653.6,542.1,483.1,462.2,454.1,449.6,441.2,611.79999999999995,511.3,466.7,448.5,440.2,435.3,427.7,577.70000000000005,489,455,434.9,419.1,409.6,401.1,581,482.9,452.8,435.3,415.4,395.6,372.7,579.9,479.2,441.8,416.9,401.7,387.5,362.1,596.4,489.1,448.3,419.8,390,371.5,344.1,666.4,535.9,469.7,440.2,413.2,384.2,324.89999999999998,791.3,627.79999999999995,529.5,474.1,450.1,430.1,380.1,913.7,725,611.4,547.20000000000005,517.5,482.9,434.8,1.0127999999999999,1.3270999999999999,1.5007999999999999,0.77790000000000004,1.0656000000000001,1.2264999999999999,0,0,0.94199999999999995,229.8,1.0721000000000001,0,0,559.70000000000005,"FRA00004554",10.821,7429,32,47.1,37.6,0,135.19999999999999,106]
["RUS141813","RUS404","RUS 404","KNYAZ","A-40","ARCHAMBAULT","JOUBERT-NIVELT",2003,"RUSSIA 156 001","BRUM ARTEM","INTL","C",820,"24/7/2016","12:34:46",11.99,11.625999999999999,2.3879999999999999,3.76,6267,108.8,0.18,575.4,1.0710999999999999,630.20000000000005,0.72099999999999997,33.1,958.1,772.4,663.1,606.29999999999995,580,556,523,916.1,739.2,643.29999999999995,593,565,543.5,509.3,797.5,641.5,557.9,509.4,479.2,458.5,429.3,867.6,691,593.9,535.79999999999995,498.9,473.9,441.5,979.2,753.8,626.70000000000005,549,498.3,462.3,410.8,43.5,42,41.5,39.5,38.299999999999997,37.6,37.4,143.19999999999999,146.69999999999999,148.1,150.4,152.1,175.6,177.4,1003.9,820.5,715,665.5,642.70000000000005,630,611.9,651.1,540.20000000000005,482.3,462.4,454.4,449.9,440.9,609.70000000000005,509.8,466.1,448.6,440.6,435.8,427.6,575.79999999999995,488,454.4,434.5,419.2,410.3,401.9,579,482.1,453.3,434.8,414.6,395,373.6,578.6,478.8,441.7,417.5,402.4,388.1,363,595.29999999999995,488.7,448.2,419.7,390.2,372.3,345.1,665.3,535.4,469.6,440.2,413.1,384.1,324.8,790.1,627.20000000000005,529.20000000000005,474,450.1,429.8,379.6,912.4,724.2,611.1,547.1,517.20000000000005,482,434,1.0156000000000001,1.3284,1.5009999999999999,0.78010000000000002,1.0671999999999999,1.2282,565.9,1.0602,0.94699999999999995,231.5,1.0733999999999999,0.74099999999999999,51.6,559,"RUS00001181",10.848000000000001,7439,32.1,49,37.1,0,133.80000000000001,107]
["FRA16062c","F9480","FRA- 9480","HERA III","A-40 Extended Keel","ARCHAMBAULT","JOUBERT-NIVELT",2003,"06270  -  VILLENEUVE LOUBET","FOUTERMAN Herve","CLUB","C",862,"8/6/2016","11:09:12",11.99,11.638,2.399,3.76,6538,113.8,0.18,581.79999999999995,1.0609,636.20000000000005,0.70199999999999996,26.1,976.2,784.8,673.5,610.70000000000005,582.79999999999995,559.20000000000005,525.4,933.9,752.1,652.4,597.70000000000005,568,546.6,512.4,810.1,650,563.79999999999995,513.6,482.3,460.9,431,884.8,702.7,602.29999999999995,542,503.7,477.8,443.7,994.7,764,633.5,553.70000000000005,501.5,464.7,412.3,43.7,42.1,41.7,40,38.6,37.9,37.5,143.30000000000001,147.1,147.80000000000001,150.1,151.6,175.2,177.5,1026.5999999999999,836.6,728.7,669.4,644.5,631.4,612.9,664.7,550.6,488.1,463.4,454.3,449.3,442.2,622.1,519,470.6,450.4,440.5,435,429.1,587.70000000000005,495.5,458.5,438.2,421.7,409.9,400.2,591.4,487.7,453,438.7,420.3,400.5,372.8,587.29999999999995,483.6,444.8,418.8,402.5,388.9,363.3,604.1,494.3,451.3,423.8,394.2,372.5,345.3,675.2,542.70000000000005,473.5,443.2,417.3,389.2,331.7,801.7,634.9,535.5,478.2,453.1,433.8,386.5,925.8,733.1,618.29999999999995,552.1,521.20000000000005,487,437.9,0.99839999999999995,1.3166,1.4941,0.76659999999999995,1.056,1.2219,0,0,0.90700000000000003,212.1,1.0633999999999999,0,0,564.29999999999995,"FRA00004553",10.795,7716,33.1,46.2,37.6,0,134.69999999999999,108]
["FRA16121c","F9481","FRA- 9481","BICHE","A-40 mod","ARCHAMBAULT","JOUBERT-NIVELT",2003,"06600 - ANTIBES","CHENUS Patrice","CLUB","C",856,"8/6/2016","10:58:10",11.99,11.597,2.3889999999999998,3.76,6260,109.6,0.18,575.6,1.0710999999999999,630.20000000000005,0.71799999999999997,31.9,960.2,773.6,663.3,605.5,579.20000000000005,556,522.20000000000005,918.1,740.1,643.29999999999995,592.29999999999995,564.1,542.79999999999995,507.6,798.7,642.1,558,509.2,478.9,458.1,428.4,871.1,693.3,595.5,537.1,500.1,475.1,442.2,980.5,754.3,626.79999999999995,548.9,498,462,410.3,43.5,42.1,41.5,39.5,38.200000000000003,37.5,37.200000000000003,143.30000000000001,146.80000000000001,147.80000000000001,150.4,151.80000000000001,175.3,177.3,1005.9,821.6,715.2,664.2,641.20000000000005,628.5,609.20000000000005,652.5,541.1,482.5,461.9,453.8,449.3,440.3,611.20000000000005,510.8,466.4,448.4,440.1,435.2,427,577.5,488.9,454.9,434.9,419.3,410,401.5,581.20000000000005,483,453.4,435.5,415.7,396,373.5,579.6,478.9,441.6,417.4,402.2,388.1,362.7,595.79999999999995,488.6,448,419.4,390,372,344.7,667,535.4,469.2,439.8,412.7,383.6,324.2,792,628.4,529.4,473.7,449.9,430,379.7,914.6,725.6,611.29999999999995,546.79999999999995,517.29999999999995,483.4,435.1,1.0137,1.3287,1.5024999999999999,0.77859999999999996,1.0677000000000001,1.2293000000000001,0,0,0.94199999999999995,228.6,1.0733999999999999,0,0,559,"FRA00004551",10.853,7429,32,46.1,38.6,0,139,109]
["ESP369403","FRA36940","FRA-36940","FANDANGO 300","A-40 RC","ARCHAMBAULT","JOUBERT-NIVELT",2006,"R.C.R.CARTAGENA","FRANCISCO JAVIER SABIOTE","INTL","C",965,"30/6/2016","12:48:44",12,10.939,2.4359999999999999,3.79,6733,138.5,0.04,572.4,1.0907,618.9,0.72199999999999998,30.2,948.3,767.9,660,596.5,561.29999999999995,538,507.4,907.7,735.3,640.29999999999995,586.4,555.4,534.1,501,793.2,638.70000000000005,555.29999999999995,506.1,474.8,453,422.7,855.8,683.1,588.29999999999995,531.5,495.5,471.1,438.8,971.7,748.7,622.4,544.70000000000005,493.7,457.6,406.3,43.5,42.1,41.7,39.5,38,37.299999999999997,36.200000000000003,142.6,147.19999999999999,149.6,156.19999999999999,171,180,180,991.9,815,711.8,654.5,629.5,616.5,600.20000000000005,644.4,536.70000000000005,482.3,460,450.2,444.6,439,603.9,507.9,467.8,448.7,436.6,429.9,423.4,570.4,487.8,457.5,438.1,420.5,405.7,392.4,572.79999999999995,487.9,456.1,438.9,420.8,401.1,367.6,583.1,483.3,446.9,421.9,407,393.5,366,598.79999999999995,492.4,452.7,426,397.5,377.6,351.2,662.4,534.6,472.4,444.1,419.2,392.1,334.7,783.5,624.29999999999995,526.70000000000005,472.9,446.2,423.2,373.9,904.7,720.9,608.20000000000005,538.5,493.1,459.6,414.6,1.0207999999999999,1.333,1.5214000000000001,0.78659999999999997,1.0831999999999999,1.2679,560.4,1.0706,0.89500000000000002,187,1.0808,0.74299999999999999,47.6,555.20000000000005,"ESP00018597",10.676,7743,30.8,51.5,39.299999999999997,132.6,0,110]
["ESP355591","FRA35559","FRA-35559","GLEN ELLEN V","A-40 RC","ARCHAMBAULT","JOUBERT-NIVELT",2007,"S.N.MARSEILLE","DOMINIQUE TIAN","INTL","C",750,"6/7/2016","11:14:36",11.98,10.933,2.5329999999999999,3.79,6782,135.4,0.13,574.29999999999995,1.0908,618.79999999999995,0.72399999999999998,33,951.5,770.2,659.8,595.70000000000005,560.6,537,506.6,911.4,737.2,640.20000000000005,585.6,554.5,533.1,500.2,796.8,641,557,507.5,476.3,454.8,425.2,867.2,690.5,593.1,534.9,498,473.4,441.5,973.7,750.1,623.70000000000005,546.1,495.5,460,410.1,42.9,41.4,40.9,38.700000000000003,37.200000000000003,36.4,35.4,142.19999999999999,147.30000000000001,149.6,156.19999999999999,171,180,180,999.4,819.1,711.2,652.6,627.4,613.9,597.6,652.29999999999995,542.4,485.1,462.4,452.4,446.9,441.3,612.9,514,470.9,451.5,439.6,433.3,427,580.9,493.9,460.9,441.6,425.1,411.3,398.4,585.5,487.4,455.1,443.2,426.1,407.8,375.8,583.20000000000005,483.6,447.6,425.2,408.8,396.3,372.2,598.70000000000005,492.6,453,426.6,402.1,380.7,355.7,661.8,534.20000000000005,472.4,444.5,419.9,393.1,336.1,782.5,624.6,526.9,473.1,446.5,423.8,374.9,903.5,721.2,608.4,538.79999999999995,493.7,460.1,415.5,1.0156000000000001,1.3301000000000001,1.5149999999999999,0.78410000000000002,1.0838000000000001,1.27,560.29999999999995,1.0709,0.88500000000000001,180.4,1.0783,0.74199999999999999,47.5,556.4,"ESP00018660",10.702,7792,30.6,49.2,35.9,135.80000000000001,107,111]
["ESP3694R1","FRA36940","FRA-36940_R","FANDANGO 300","A-40 RC","ARCHAMBAULT","JOUBERT-NIVELT",2006,"R.C.R.CARTAGENA","FRANCISCO JAVIER SABIOTE","INTL","C",160,"14/7/2016","19:46:28",12,10.939,2.4359999999999999,3.79,6733,138.5,0.04,575.6,1.0797000000000001,625.1,0.74099999999999999,46,945.2,765.1,661.2,605.4,571.6,547.79999999999995,516.5,904.8,733.4,643.1,595.4,566.70000000000005,545.29999999999995,513.20000000000005,792.1,639.70000000000005,558.6,511.5,482.1,461.8,433.3,855.1,684,590.9,535.9,501.3,478.2,448,971.6,750.8,626.70000000000005,551.20000000000005,502,467.2,417.4,43.5,42.4,41.4,39.700000000000003,38.799999999999997,37.799999999999997,37.5,142.5,146.9,149.69999999999999,156.30000000000001,172,180,180,990.1,811.4,715.2,672.1,649.9,636.1,618.5,643.29999999999995,533.9,484,466.6,458.6,454,445.4,603.1,506.1,468.8,453,445.1,440.2,432.5,569.5,487.6,457.5,439.7,425.9,417,408,571.70000000000005,484.4,458.5,439.7,422.2,404.6,381.4,571.6,479.4,447.5,433.2,420.7,407.6,380.5,589.4,489.3,452.3,427.1,408,394,367.5,658.5,532.5,472.2,444.2,419.6,392.8,341.3,779.7,622.5,525.79999999999995,473,446.3,423.5,375.1,900.3,718.8,607.1,538.70000000000005,493.2,459.5,414.5,1.0255000000000001,1.3222,1.4897,0.7893,1.0733999999999999,1.2454000000000001,559.9,1.0714999999999999,0.94299999999999995,222.2,1.0713999999999999,0.74,45.7,560,"ESP00018738",10.406000000000001,7743,30.8,51.5,39.299999999999997,132.6,129.4,112]
["NOR13333","nor13333","NOR 13333","ASISS","A-40 Rc","ARCHAMBAULT","JOUBERT-NIVELT",2006,null,"Ole Birger Gi?ver","INTL","C",790,"4/7/2016","19:19:26",12,10.965,2.5369999999999999,3.79,6887,133.1,0.02,571.6,1.091,618.70000000000005,0.73499999999999999,38.6,941.9,768.1,657.3,595.6,561.4,538.29999999999995,507,899.3,730.5,636.70000000000005,585.20000000000005,555.5,534.4,500.3,788.8,636.5,554.6,506.6,476.3,455.4,425.8,853,681.7,587.9,532.1,496.9,473.1,441.4,967.3,746.9,622.1,545.6,495.9,461,411.8,43,41.7,40.9,38.799999999999997,37.299999999999997,36.5,35.5,140.4,147.5,148.19999999999999,156.30000000000001,170.9,180,180,979.6,806.5,702.8,653.1,629.4,616.4,598.29999999999995,639.6,533.70000000000005,481.2,461.5,453.2,448.3,441.2,601,506.8,467.7,450.2,440.6,435,429.2,569.29999999999995,488.4,458,439.4,423.9,412.2,402,572.70000000000005,481.4,458.2,440.6,423,404.8,377,571.6,478.8,445.2,425.7,412.4,399.6,374.1,588.5,488.1,451.4,425.5,400,384.5,359.6,656,531.1,471.7,444.2,419.8,393,336.1,783,632,529.79999999999995,472.7,446.4,423.7,374.6,904.2,729.7,611.70000000000005,538.1,493.4,460.1,415.7,1.0266999999999999,1.3331999999999999,1.5124,0.78949999999999998,1.0851999999999999,1.268,0,0,0.90200000000000002,190.5,1.0794999999999999,0,0,555.79999999999995,"NOR00001764",10.709,7902,30.8,51.7,39.700000000000003,0,139.19999999999999,113]
["nor9717",9717,"NOR 12666","Uredd II","A-40 rc","ARCHAMBAULT","JOUBERT-NIVELT",2006,null,"Magne Dybvik","CLUB","C",748,"2/5/2016","21:36:02",11.99,10.938000000000001,2.5350000000000001,3.79,6817,134.1,0.03,569.79999999999995,1.0879000000000001,620.5,0.747,45,936.5,759.7,651.6,597.6,572.6,547.20000000000005,517.29999999999995,894.8,724.9,632.5,584.29999999999995,557.1,535.79999999999995,504.2,784.4,633.4,552.79999999999995,506.3,477.2,457.2,428.3,851.4,680,586.1,530.20000000000005,495,471.3,440.2,961.8,742.9,619.9,545,496.3,461.8,412.1,42.9,41.7,40.799999999999997,38.700000000000003,37.299999999999997,36.5,35.799999999999997,143.19999999999999,146.6,148,151,153.1,176.5,177.7,974.9,802.7,699.1,650.79999999999995,627.79999999999995,615.29999999999995,599.70000000000005,637,531.20000000000005,479.5,460.2,452,447.2,440.6,598.6,504.8,466.2,448.8,439.1,433.5,427.8,567.1,486.9,456.8,437.8,421.7,409.8,399.5,569.9,478.5,457.9,439.1,420.8,401.9,373.4,564.79999999999995,475,442.2,425.1,411.6,398.5,369.7,580.70000000000005,483.2,448,421.1,398,383.1,353.8,654.79999999999995,525,467.6,440.7,415.3,387.8,328.9,777.7,620.70000000000005,523.1,472.1,451.6,431.7,382.8,898,716.8,604,544.4,517.29999999999995,479,434.8,1.0342,1.337,1.5042,0.79590000000000005,1.0837000000000001,1.2446999999999999,558.29999999999995,1.0746,0.96899999999999997,235.2,1.0831999999999999,0.76500000000000001,60.1,553.9,"nor00000943",10.733000000000001,7828,30.6,53.2,37.6,0,149.1,114]
["GRE000981","GR40A","GRE-40A","iSAIL","A-40 RC","ARCHAMBAULT","JOUBERT-NIVELT",2007,"HORC","STAVROS HATZIGRIGORIS","INTL","C",800,"22/3/2016","10:33:00",12,10.898999999999999,2.524,3.79,6605,134.4,0.04,566.70000000000005,1.1041000000000001,611.4,0.74299999999999999,39.4,933.2,755.6,648.20000000000005,589.79999999999995,555.79999999999995,533,501.9,891.2,722,629.1,578.70000000000005,549.4,528.5,494.4,782.6,631.20000000000005,549.9,502.3,472.1,451.2,421.4,849.3,678.2,584.6,528.70000000000005,493.2,469,436.2,957.9,739.1,615.70000000000005,540.29999999999995,491.2,456.6,407.5,42.7,41.3,40.299999999999997,38,36.6,35.799999999999997,34.799999999999997,142.69999999999999,147.1,150.19999999999999,156.5,172,180,180,968.3,795.8,691.9,642.79999999999995,620,607.6,590.79999999999995,634.1,528.5,477.8,458.6,450.3,445.2,438.3,596.79999999999995,503.3,465.3,447.7,437.4,431.5,425.7,566.70000000000005,486.3,456.4,437.2,420.5,407.9,397.1,569.79999999999995,478.5,456.2,439,420.6,401.3,371.8,568.6,477,443.6,423.4,409.5,396.3,369.9,586.5,486.8,450.3,423.6,396.9,380.9,355.6,655.4,530.29999999999995,470.8,443.3,417.9,390.4,331.8,777.7,619.5,523.5,471.8,445.2,421.8,371.4,898,715.3,604.4,536.79999999999995,491.6,458.5,412.9,1.036,1.3445,1.5266,0.7994,1.0983000000000001,1.2807999999999999,0,0,0.92600000000000005,199,1.0911,0,0,549.9,"GRE01005279",10.846,7607,30.4,51,38.1,130.80000000000001,129.80000000000001,115]
["GER142201","GER7392","GER 7392","HAVLYS","AAH 30","AAHGREEN BAATBYG","LENNART AAHGREEN",1975,"YCLL","RALF KOCK","CLUB","C",220,"15/6/2016","10:03:06",9.1999999999999993,7.2,1.552,2.96,3600,111,0.6,808.5,0.77480000000000004,871.2,0.47499999999999998,-0.3,1393.1,1105.5999999999999,948.2,844.3,775.9,734.4,700.9,1327.3,1068.7,925.2,832.6,775.2,742.9,714.2,1143.7,911.3,782.9,705.7,657.3,626.1,590.70000000000005,1143.7,911.3,782.9,705.7,657.3,626.1,590.70000000000005,1412,1073.5999999999999,880.7,761.5,684.1,631.29999999999995,562.70000000000005,45,43.5,43.8,44.5,43.4,42.5,42.3,169.5,170.3,171.7,172.5,172.5,174.8,177.1,1383.5,1146.3,1019.8,929,877,853.2,842,887.3,745.8,658.7,609.4,586.9,577.29999999999995,571.9,829.1,699.1,621.1,586.29999999999995,567.79999999999995,557.20000000000005,550.6,782.9,658.4,596.29999999999995,568.79999999999995,550.79999999999995,536.4,518.79999999999995,787.5,662.7,598.20000000000005,570.20000000000005,551.4,532.29999999999995,506.6,868.1,717.8,624.9,582,557.9,538.29999999999995,501.3,927.9,757.8,652.4,594.9,566.6,546.20000000000005,509,1058.0999999999999,839.3,718.7,634.6,589.9,565,527.6,1238.7,954.1,799.9,700.4,628.1,588.20000000000005,546,1402.8,1064.9000000000001,876.5,759.7,674.7,615.5,559.79999999999995,0.7026,0.9526,1.1047,0.5403,0.76390000000000002,0.92190000000000005,781.5,0.76770000000000005,0.55300000000000005,111.3,0.76849999999999996,0.47599999999999998,1,780.7,"GER20014858",6.1840000000000002,4148,18.3,17.399999999999999,25.1,0,0,116]
["knw2340","NED_13","NED 13","BLUE JANE","AC Frers","Jachtw. Huisman","GERMAN FRERS",1983,107521,"K.,Borgers","CLUB","C",754,"23/3/2016","14:43:36",12.821999999999999,10.641,2.3759999999999999,4.07,9192,117.7,0.17,610.1,1.0202,661.6,0.69099999999999995,41.1,999.1,818.2,710.7,641.6,600.4,572.70000000000005,546.4,955.1,783.5,686.3,629.1,595.70000000000005,574,550.29999999999995,841.8,679.5,592,540.70000000000005,508.9,488.1,463.1,889.9,714.1,618,560.79999999999995,524.79999999999995,501,471.8,1031.9000000000001,797.8,665,583.4,530.29999999999995,493.8,444.9,43.4,42,42.8,41.2,39.799999999999997,38.799999999999997,38.299999999999997,145.5,150.1,150.9,154.80000000000001,169.7,180,180,1020.9,857.3,759.6,702.9,674.4,658.7,647.20000000000005,667.2,564.6,506.2,482.9,472.8,467.1,462,629.79999999999995,532.9,489.1,470.3,459.5,453.5,447.8,598.6,510.7,477,459.2,446,434.9,424,602.1,512.9,478.2,460.2,445.9,432.6,410.7,638.9,524.4,476.9,453.4,434.9,424,407.8,655.8,538.29999999999995,483.1,458,437.6,417.8,394.5,720.8,588.79999999999995,508.6,473.3,452.1,432.7,396.4,846.4,674.8,573.4,508,474.3,454.2,418.3,977.3,779.2,661.8,580.29999999999995,526.4,486.7,445.7,0.96120000000000005,1.2493000000000001,1.4108000000000001,0.74280000000000002,1.0088999999999999,1.1847000000000001,596.6,1.0057,0.83899999999999997,185.8,1.0109999999999999,0.69899999999999995,48.7,593.5,"knw00004862",9.8339999999999996,10212,34.4,40.6,60.9,130.9,0,117]
["nor4084",4084,"NOR 1436","Skaarungen","ACCENT","ALBIN MARINE","Peter Norlin",1976,null,"Adrian Hessel-Rutter","CLUB","C",376,"24/5/2016","23:26:26",8.0500000000000007,6.7030000000000003,1.5589999999999999,2.73,2696,110.4,0.56999999999999995,772.2,0.81120000000000003,832.1,0.55300000000000005,45.5,1253.9000000000001,1027.5999999999999,895.9,806.2,750.6,722.1,693.5,1209.4000000000001,993.5,872.6,799,754.7,728.8,700.5,1065.0999999999999,860.1,749.4,684.4,644.1,618,586.29999999999995,1121.8,900.3,779.5,707.8,663.1,634,598.70000000000005,1296.3,1004.6,839.1,737.2,670.9,624.79999999999995,561.70000000000005,43.1,41.6,42,41.6,40.5,39.700000000000003,39.200000000000003,148.5,152.80000000000001,154.1,165.7,180,180,180,1315.6,1104.0999999999999,983.4,905.3,863.2,842.3,831.1,862,731.4,653.29999999999995,619.6,601.70000000000005,592.6,587.1,814.9,690.9,629,602.70000000000005,586,574.6,566.79999999999995,777.1,660.1,612,588.5,570.79999999999995,555.20000000000005,534.20000000000005,784.4,666.2,607.20000000000005,579.6,567.20000000000005,554.6,525.20000000000005,793.8,657.1,603.1,574.29999999999995,548.4,525.6,507,816.4,672.8,609.79999999999995,579.9,554.5,529.5,491.4,895.5,732.9,636.4,597,571.1,546.6,502.8,1032.5999999999999,825.7,703.9,628.79999999999995,595.20000000000005,571.4,526.6,1192.3,951,808.4,707.1,638,601.79999999999995,555.9,0.75960000000000005,0.98709999999999998,1.1147,0.5917,0.80300000000000005,0.9395,755.2,0.79449999999999998,0.67300000000000004,191.8,0.80059999999999998,0.56000000000000005,54.9,749.5,"nor00001275",6.0720000000000001,3186,15.2,12.9,21.7,44.8,0,118]
["nor666768",666768,"NOR 4274","Morebas Accent","Accent 26","Morebas","Peter Norlin",1975,null,"Bengt Lindman","CLUB","C",376,"2/9/2016","20:38:00",8.0500000000000007,6.7030000000000003,1.5589999999999999,2.73,2696,110.5,0.56000000000000005,770.7,0.81240000000000001,830.8,0.55500000000000005,46.5,1250.3,1025.7,894.2,804.6,749.4,721.5,693.9,1207.3,992.5,872.2,798.6,754.3,728.5,701.3,1062.3,858.2,748,683.3,643.29999999999995,617.4,585.9,1119.7,899,778.6,707.2,662.7,633.70000000000005,598.79999999999995,1292.5999999999999,1002.2,837.5,736.1,669.9,624,561,43.2,41.7,42.1,41.8,40.6,39.700000000000003,39.6,148.6,153,154,167.2,180,180,180,1319.7,1107.8,986.1,907.6,864.2,843.5,834.3,863.3,732.7,654,620,601.79999999999995,592.20000000000005,587,815.3,691.5,629.20000000000005,602.79999999999995,586,574.29999999999995,566.20000000000005,776.6,660,612.1,588.4,570.70000000000005,555,533.29999999999995,783,663.4,605.4,578.5,566.9,554.20000000000005,524.4,787.3,653.1,601.20000000000005,572.70000000000005,546.70000000000005,524.5,505.5,809.8,668,607.79999999999995,578.20000000000005,552.5,527.5,490.5,886.5,727.1,633.1,595,569.29999999999995,544.6,500.9,1022.7,819.4,698.7,625.79999999999995,593.20000000000005,569.4,524.29999999999995,1180.9000000000001,943.6,802.2,701.7,634.6,599.6,553.6,0.76180000000000003,0.98870000000000002,1.1156999999999999,0.59309999999999996,0.8044,0.93989999999999996,753.7,0.79610000000000003,0.67600000000000005,193.9,0.80189999999999995,0.56299999999999994,56.2,748.3,"nor00001960",6.0590000000000002,3186,15.2,13.8,20.8,45.1,0,119]
["SUISU2602","SUI2602","SUI 2602","BLUE BAYOU","Accent 26","ALBIN MARINE","Peter Norlin",1976,"SCE","Rohr, Hansjorg","CLUB","C",367,"3/5/2016","10:03:00",8.0549999999999997,6.556,1.5640000000000001,2.76,2671,106.9,0.62,780.3,0.80079999999999996,842.9,0.54600000000000004,44,1268.9000000000001,1040.7,907.5,816.9,759.3,731.2,704,1229.2,1010,887.5,811.8,765.3,739,712,1077.0999999999999,869.5,757.2,691.2,650.4,624.1,592.6,1141.4000000000001,915.3,791.5,717.9,671.9,642.1,606.70000000000005,1309.5999999999999,1015.2,848,744.7,677.2,630.4,566.29999999999995,43.7,42.1,42.5,42.4,41.2,40.5,40.4,148.69999999999999,152.69999999999999,153.69999999999999,167.2,180,180,180,1359,1138.3,1012.6,929.8,881.6,860.5,853,884.4,749.9,666.5,628.5,608.5,598.5,593.5,833.3,706.5,638.29999999999995,609.6,592,579.79999999999995,571.70000000000005,791.9,671.4,619,594.29999999999995,576.20000000000005,560.29999999999995,538.20000000000005,797.7,671,610,582,569.4,558.79999999999995,529.9,793.2,657,604,574.79999999999995,548,526,508,813.2,670.4,609.9,580.1,554.5,529.29999999999995,493.3,887,727.9,635.5,597.29999999999995,571,545.6,502.6,1020.9,818.8,699.1,627.79999999999995,595.29999999999995,571,525.5,1178.9000000000001,943.1,802.4,704,637.1,602,555.1,0.751,0.97719999999999996,1.1041000000000001,0.58450000000000002,0.79279999999999995,0.92710000000000004,0,0,0.66500000000000004,192.2,0.79200000000000004,0,0,757.6,"SUI00002224",5.8570000000000002,3149,15.2,12.7,21.1,45.8,0,120]
["FRA16149b","F16102","FRA-16102","NIOB 6","ACTUAL 46 Bulb","ACTUAL","FAUROUX Jacques",1987,"50350  -  DONVILLE LES BAINS","RAPEAUD Olivier","CLUB","C",800,"11/4/2016","15:22:52",14.015000000000001,13.118,2.4990000000000001,4.03,8264,102.2,0.23,569.4,1.0815999999999999,624.1,0.67300000000000004,0.2,989.6,786.3,670,601.70000000000005,561.70000000000005,533.9,502.1,939.6,749.4,644.4,586.5,553.1,529.6,498.7,804.2,640.5,551.20000000000005,498.3,465.1,442.9,413.5,848.2,672.3,575.20000000000005,516.9,479.9,455,423.5,997.4,758.4,622.4,538.70000000000005,484.2,446.2,394.9,45.3,43.9,43.3,41.9,40.5,39.5,39.1,143.4,146.80000000000001,148.80000000000001,151.6,157.9,174.6,180,1015.2,821.2,712.7,659.3,632.20000000000005,615.5,600.70000000000005,647.5,530.5,466.2,443.5,433.9,428.4,422.1,600,495.1,444.5,427.3,419.3,414.4,409.2,559.4,466.4,429.3,410.7,398.3,390.4,382,559,465.9,429.1,408.7,389.1,372.2,355.6,606.4,486.8,432.6,406.5,387.8,373,349.6,625.20000000000005,501.6,439.6,411.8,385.3,361,334.7,698.6,554,469.8,430.4,406.4,381.1,329.3,834.8,650.70000000000005,543.29999999999995,472.2,433.4,410.5,364.2,964,751.4,627.29999999999995,544.1,491.2,452.3,403.5,1.0011000000000001,1.3532999999999999,1.5589999999999999,0.76019999999999999,1.0717000000000001,1.2762,0,0,0.81399999999999995,139.6,1.0862000000000001,0,0,552.4,"FRA00004031",11.689,9666,40.700000000000003,53,59.7,126.7,0,121]
["AUS279800",2798,"MH37","Madge","Adams 10",null,"Joe Adams",1993,"2039 Rozelle Australia","Doug Clark","CLUB","R",650,"25/7/2016","15:13:40",9.99,9.4120000000000008,1.8149999999999999,2.74,3300,117.2,0.23,624.20000000000005,1.0007999999999999,674.4,0.67500000000000004,39.4,1030.7,833.8,714.7,648.79999999999995,612.20000000000005,589.9,559.70000000000005,988.6,798.8,696.5,640.4,607.4,584.70000000000005,554.5,863.4,695.6,605.4,552.79999999999995,519.79999999999995,497.4,467,939,748.7,644.79999999999995,583.4,544.9,519.20000000000005,485.8,1055.3,814.2,678.2,595.1,541,503,449.4,44,41.8,41.3,39,37.6,36.799999999999997,36.799999999999997,140.19999999999999,148.4,149.69999999999999,157.69999999999999,180,180,180,1094.3,893.1,779.2,723.1,698.3,685,678.9,712.3,590,531,509.2,500.7,495.8,492.4,669,559.70000000000005,515.70000000000005,495.9,486.2,480.6,475.7,634.79999999999995,539.6,504.4,482.7,464.7,453.5,444.3,630.5,528.79999999999995,500.4,484.6,463.4,441.4,415.6,620.9,521.20000000000005,485.7,462.4,445.9,431.3,403.9,636.9,529,490.2,457.2,433.8,412.6,383.4,705.8,568.1,509.3,479,446.4,412.1,350.6,837.6,670.8,563.20000000000005,508.6,480.6,451.1,389.4,967.1,774.5,650.29999999999995,574.4,526.1,494.8,440.4,0.93889999999999996,1.2223999999999999,1.3849,0.72399999999999998,0.997,1.1555,0,0,0.84599999999999997,204.2,0.9909,0,0,605.5,"AUS00000274",8.9700000000000006,4176,21.3,28.3,27.2,91.8,74.3,122]
["AUS280300",2803,6316,"Gezzabelle","Adams 10","Blueline Yachts","Joe adams",1987,"2147 Seven Hills Australia","Allen Stormon","CLUB","R",620,"17/8/2016","16:19:10",9.99,9.3409999999999993,1.7869999999999999,2.74,2910,121.1,0.12,610.6,1.0199,661.9,0.68500000000000005,35.5,1007.2,815.2,698.1,637.5,602.70000000000005,580.20000000000005,545.70000000000005,965.5,779.7,680.5,627.4,594.9,571.20000000000005,538.70000000000005,843.9,680.4,592.5,540.79999999999995,507.9,485.1,453.6,915.1,730.8,630.29999999999995,570.6,532.9,507.2,472.7,1032.3,796.7,663.6,581.9,528.29999999999995,490,435.1,43.4,42.2,40.9,38.5,37.4,36.4,36,141.30000000000001,147.69999999999999,149.6,158,180,180,176.2,1064,868.1,756.5,708.4,685.4,671.8,662.5,691.3,571.4,520.20000000000005,502.5,494.1,488.9,484.1,647.9,544,506.2,487.8,478.3,472.1,466.4,611.9,526.1,494.9,470.8,451.6,441.3,431.6,613.1,518.9,496.5,472.3,446,422.6,399.2,609,514.20000000000005,478.4,453.7,436,418.2,387.1,624.6,520.9,482.1,445.4,418.7,400,368.2,695.6,557.20000000000005,502.1,468.8,431.8,393.7,333.4,823.1,660.1,554,501.6,471.1,437.9,370.5,950.5,762.3,639.70000000000005,566.6,519.9,488.6,428.9,0.96120000000000005,1.2476,1.421,0.74080000000000001,1.0168999999999999,1.1782999999999999,0,0,0.878,214.4,1.0122,0,0,592.70000000000005,"AUS00000307",9.1140000000000008,3748,20.399999999999999,28.2,28.6,94,82.4,123]
["KORswany","SWANY","SWANY","SWANY","ADAMS 12",null,"Joe adams",1985,"53253 GEOJE KOREA","CHO JONG CHEOL","CLUB","C",769,"6/5/2016","14:17:50",12.22,10.727,2.105,3.71,8676,129.6,0.15,616.9,1.0077,669.9,0.66600000000000004,30.6,1022.9,833.2,722.8,650.70000000000005,605,575,546.79999999999995,973.4,795.5,695,635.1,599.4,576.20000000000005,549.79999999999995,853.3,688,598.6,545.70000000000005,512.4,490.2,462.5,886.8,711.8,616.20000000000005,559.29999999999995,523.4,499.6,469.5,1053.2,811.5,674.3,589.70000000000005,534.6,496.3,443.8,44,42.6,42.9,41.4,39.799999999999997,38.6,37.6,144.5,148,152.80000000000001,155.19999999999999,171.6,180,180,1033,862.5,762.1,703.4,672.6,654.9,639.79999999999995,670.5,565.79999999999995,506.8,483.5,473.2,467.4,461.4,630.20000000000005,533.20000000000005,489.8,471.3,460.4,454.4,448,595.6,510.3,478,460.7,446.9,435.5,424.2,596.6,511.5,479,460.3,446.7,432.3,408.1,639.70000000000005,528.4,482,459.7,440.1,420.1,396.2,662.9,547.5,490.4,465.5,446.2,426.4,389,740.5,604.29999999999995,521.5,482.7,461.5,442.9,405.3,877.2,696.2,592.1,521.70000000000005,484.8,464.2,428.8,1012.9,803.9,683.4,598.1,537.5,495.2,453.8,0.94810000000000005,1.236,1.4061999999999999,0.72729999999999995,0.99480000000000002,1.1801999999999999,0,0,0.79700000000000004,163.69999999999999,0.99870000000000003,0,0,600.79999999999995,"KOR11001439",9.8699999999999992,9718,33.700000000000003,47.3,54,91.7,96.3,124]
["ITA150011","I15001","ITA-15001","ARS UNA","ADRIA (FY) 49","ADRIA YACHT","FELCI YACHTS",2002,"NIC CATANIA","CAFARO ANTONIO GIULIO","INTL","C",1060,"31/3/2016","21:44:12",14.794,13.167999999999999,2.7919999999999998,4.28,11440,124.1,0.09,544.5,1.1374,593.4,0.74199999999999999,22.5,918.7,740.9,634.4,572.20000000000005,537.1,512.4,480.9,877.3,707.4,612.5,559.79999999999995,529.70000000000005,508.9,477.7,759.2,609.1,527.79999999999995,479.9,450,429.7,403,818.9,651.6,559.4,504.1,469,445.3,414.1,935.6,717.7,594.1,518.20000000000005,468.9,434.7,387.9,44.2,42.9,42.2,40.6,39.4,38.6,37.5,143,146.1,148.80000000000001,153.4,160.19999999999999,180,180,959.3,783.5,680.1,627.5,602.4,588.29999999999995,568.5,618.4,512,453.2,430.7,422.1,417.4,410.3,577.29999999999995,481.7,436.2,418,409.8,404.8,399.8,542.70000000000005,459,424.5,406.4,393.2,384.4,376.2,543.9,457.1,423.8,406.8,390.6,375.1,354.7,553.79999999999995,454.8,416.2,394.8,382.1,370.9,351.2,570.9,466,422.6,399,375.9,358.5,337.2,638.5,514.6,446.6,416.2,394.7,372.4,327.9,760.4,604.79999999999995,509.8,450.3,419.4,398.9,358,878,698.3,588.6,516.9,471.8,436.6,393.4,1.0636000000000001,1.4068000000000001,1.6040000000000001,0.8135,1.1284000000000001,1.3319000000000001,532,1.1277999999999999,0.90200000000000002,167.1,1.1339999999999999,0.75800000000000001,34.5,529.1,"ITA00019053",12.247999999999999,12819,44.5,70,60.7,181.9,183.6,125]
["ITAMON333","MON333","MON-333","BOTTA DRITTA","ADVANCED 66","ADVANCED I. YACHTS","R/P",2011,"YCM","MIANI ADALBERTO","INTL","C",1000,"9/3/2016","09:22:00",20.46,18.763000000000002,3.2130000000000001,5.45,27019,129.69999999999999,0.08,477.7,1.2769999999999999,528.6,0.81599999999999995,8.8000000000000007,825,658.3,565,509.8,477.3,457.3,427.8,784.6,627.5,542.79999999999995,495.6,467.6,447.8,418.8,671.2,535.9,462.4,419.5,392.7,374.8,350.6,725,575.1,492.1,442,409.6,387.4,358.9,833.9,635.79999999999995,523.29999999999995,454.3,409.5,378.4,335.9,45.3,44.1,43.1,41.6,40.799999999999997,39.700000000000003,39.700000000000003,141.4,142.9,144.69999999999999,149,151.4,152.30000000000001,177.1,855,691.7,607.1,563.20000000000005,537.79999999999995,518.6,498.8,545.20000000000005,446,395.7,374.6,364.3,358.2,348.3,504.7,415.8,373.3,358.3,350.9,346.5,338.1,469,389.8,357.4,343.4,335.3,329.7,322.8,467.1,388.9,356.4,340.4,327.60000000000002,316,303.10000000000002,494.8,398.9,355.9,342.5,332.4,322.10000000000002,299.5,511.8,409.6,360.1,338.8,325.2,314.2,293.2,573.6,454.7,386.5,354.1,335.6,316.89999999999998,277.5,688.5,541.20000000000005,452.8,395.2,361.1,343.9,314.7,795.1,625,522.79999999999995,456.4,416.8,396.1,356.8,1.2017,1.611,1.8396999999999999,0.91010000000000002,1.2678,1.4958,467.2,1.2842,1.018,170.7,1.2907,0.82,13.2,464.9,"ITA00018370",16.411999999999999,29422,75.8,138.4,109,0,352.6,126]
["CLU128301","I12830","ITA-12830","EXTRALARGE","ADVENTURE 30","VR YACHTS","BOUVET-PETIT",1995,"C.NAUTICO S.GIORGIO","CECCARELLI FERNANDO","CLUB",null,350,"23/9/2016","16:31:18",9.14,9.1289999999999996,2.0750000000000002,3.44,2615,108.3,0.18,636.1,0.97550000000000003,691.9,0.625,14.1,1078.5999999999999,859.4,732.8,666.5,628.29999999999995,601.29999999999995,563.70000000000005,1020.1,817.9,710.1,654.5,620.70000000000005,594.29999999999995,556.20000000000005,888.9,712.1,616.5,560,524,498.9,463.9,950.1,756,649.9,586.79999999999995,546.4,518.6,479.9,1096.0999999999999,838.4,692.8,603.4,544.6,502.5,442.3,44,41.9,40.799999999999997,38.9,37.799999999999997,37,37.4,144.9,148.80000000000001,147.9,157.1,177,180,180,1100.8,893.1,782.2,738.5,716.4,699.2,685.7,715.9,589.20000000000005,533.29999999999995,516.6,508.3,503.7,490.4,671.8,559.6,516.70000000000005,499.9,491.1,485.5,469.8,637.20000000000005,540,503.2,478,460.7,451.2,441.8,644.20000000000005,538.79999999999995,504.1,477.2,449.4,426.2,406.4,647.70000000000005,534.70000000000005,491.4,455.6,436.1,416.8,388.9,670.5,546.70000000000005,499.4,460.4,421,398.3,366.6,751.9,604.79999999999995,524.20000000000005,488.1,451,413.5,340.5,914.8,715.2,591.9,523,489.7,456,387.4,1056.4000000000001,825.8,683.5,594.6,540.1,503.4,441.7,0.91,1.204,1.3827,0.6966,0.97099999999999997,1.1365000000000001,622.1,0.96440000000000003,0.79500000000000004,183.3,0.97299999999999998,0.63500000000000001,25.3,616.70000000000005,"CLU00020525",8.6530000000000005,3446,21.1,30.2,25.3,76.900000000000006,0,127]
["GRE000799","GR779","GRE-779","ELENA","AEGEAN 234","AEGEAN MARINE","ED DUBOIS",1980,"IO PATRON","GIOUROUKOS NIKOLAOS","CLUB","C",350,"12/5/2016","11:01:24",6.64,5.5910000000000002,1.4179999999999999,2.5,1307,109.4,0.14000000000000001,777.7,0.80859999999999999,834.8,0.57899999999999996,70.3,1232.5999999999999,1014.1,883.3,801.6,764.9,744.7,715.4,1186,979.4,867.3,804,770,750.2,725.1,1056,860,755.8,695.5,658.4,634,602.70000000000005,1093.2,886.8,776.8,713,673.8,648.1,615.20000000000005,1285.7,1002.5,843.8,747.2,684.3,639.70000000000005,575.1,42.2,41.7,40.5,38.700000000000003,37.9,37.6,38.1,150.6,156.80000000000001,170.3,180,180,180,180,1271.2,1074.4000000000001,960.6,900,875.7,866.9,866.7,839.1,715.5,666.5,642.79999999999995,628.70000000000005,622.6,620.4,793.2,688.6,650.29999999999995,626.9,608.6,598.70000000000005,593.29999999999995,755.2,670.9,637.4,611.29999999999995,586.6,567.70000000000005,553.29999999999995,760.3,666.3,627,592.4,568.20000000000005,558.20000000000005,530.5,771.4,669.1,629.29999999999995,594.29999999999995,561.6,534.4,502.7,802.5,682.3,638.4,605,572.1,543.4,496.1,897.7,738.2,662.4,627.20000000000005,594.4,563.5,513.5,1034.2,831.1,709.4,654.20000000000005,622,590.79999999999995,536.70000000000005,1194,953.9,806,703.1,654,622.5,564.20000000000005,0.76970000000000005,0.9728,1.0841000000000001,0.60089999999999999,0.80610000000000004,0.91369999999999996,0,0,0.76100000000000001,272.39999999999998,0.79300000000000004,0,0,756.6,"GRE01005879",5.548,1703,10.7,17.5,10.7,25.9,0,128]
["CAN008/16","CAN51438","CAN 51438","Papillon","Aerodyne 38","Aerodyne","Roger Martin",2001,"CANADA","Perre Frisch","CLUB","C",770,"8/3/2016","11:01:56",11.552,10.853999999999999,2.4369999999999998,3.99,5745,115.1,0.11,585.9,1.0490999999999999,643.4,0.70199999999999996,29,967.7,786.5,682.7,621.5,592.70000000000005,566.20000000000005,527.20000000000005,929.1,755.7,664.4,610.6,577.5,552.79999999999995,516.6,809,652.70000000000005,568.6,519,487.2,464.7,431.6,885.6,707,608.6,549.20000000000005,510.8,484.4,448.8,994.2,767.6,639.20000000000005,559.70000000000005,506.9,468.6,412.4,43.8,42.3,42.3,41.4,40.1,39.200000000000003,38.1,143.69999999999999,147.4,147.5,151.1,150.69999999999999,177.1,142.69999999999999,1025.9000000000001,850.2,760.1,698.6,667.7,650.70000000000005,631.29999999999995,664,558.9,503.5,476.5,464.6,458,451,620.6,525.9,483,461.7,448.7,441.4,433.8,584.70000000000005,499.8,467.5,446.8,428.4,414,401.9,585.79999999999995,490.9,465.7,445.1,424.4,404.2,374.4,574.70000000000005,481.3,445.6,426,410,395.8,365.9,586.70000000000005,488,449.4,416.7,394.7,378.3,347.7,665.2,527,468.7,437.8,406.3,375,318,787.7,626,524.20000000000005,471.9,448.8,426,366.3,909.6,722.8,605.29999999999995,544.4,517.6,481.7,423,1.0033000000000001,1.2992999999999999,1.4827999999999999,0.76959999999999995,1.0409999999999999,1.2093,0,0,0.92500000000000004,228.8,1.0529999999999999,0,0,569.79999999999995,"CAN00061671",9.9960000000000004,6788,31.3,52.7,35.5,0,171.9,129]
["USAUS6094","US6094","USA 7","Thin Ice","Aerodyne 38","Aerodyne","Roger Martin",1999,"USA","Stuart Hebb","CLUB","C",728,"13/10/2016","14:09:40",11.552,10.909000000000001,1.794,3.99,6007,109.9,0,574.29999999999995,1.0682,631.9,0.745,47,935.8,763.1,660.5,610.29999999999995,587.20000000000005,562.79999999999995,526.9,898.2,731.4,644.1,598.4,571.6,549.79999999999995,515.70000000000005,786.3,636.9,557.6,511.6,482.6,462.2,431.8,854.3,685.5,593.6,538.9,504.1,480.5,448.6,965,748.1,626.1,551.29999999999995,502,466.1,412.7,44,42.6,41.9,40,38.799999999999997,38.700000000000003,38.200000000000003,143.6,147.19999999999999,148.19999999999999,151.5,151.4,176.6,142.5,990.2,819,723.7,680.3,659,646.5,630.1,641.20000000000005,537.9,488.3,471.1,463.2,458.6,449.2,600.6,509.8,472.7,456.6,448.5,443.3,433.6,566.9,490.4,460.7,440.6,424.5,415.2,406,567.79999999999995,483.6,461,439.9,418.2,398.8,377.5,558.6,475.7,442.7,423.4,407.7,393.2,366,571,481.5,446.5,414.7,392.9,376.9,346.8,644.79999999999995,516.20000000000005,465.4,436,405.4,374.8,316.7,763.4,612.4,517.29999999999995,468.9,447.6,425.2,366.9,881.4,707.1,597.29999999999995,540.4,515.5,479.2,423.7,1.0335000000000001,1.3221000000000001,1.4878,0.79459999999999997,1.0646,1.2152000000000001,0,0,1.0209999999999999,280,1.0713999999999999,0,0,560,"USA00000440",10.273,7060,30.4,53.2,40.799999999999997,0,173,130]
["knw4600","NEDI4762","NED 4762","EPOXYDUS","Agari","Vels","v/d Stadt/Arends",1977,101161,"H.,Arends","CLUB","C",600,"23/3/2016","14:20:08",12.59,11.003,2.0950000000000002,4.04,5302,97.6,0.01,573.4,1.075,627.9,0.69899999999999995,20.100000000000001,968.6,774.3,667.6,608,570.5,546,511.4,914.5,735.1,641.6,592.20000000000005,562,541.1,504.9,796.6,640.29999999999995,556.1,506.6,475.4,453.8,423.9,825.6,661.4,572.20000000000005,519.29999999999995,485.8,462.9,431.4,989.9,758.2,627.5,547.4,495,457.9,405.7,44.9,44.3,41.8,39.6,38.200000000000003,37.5,36.700000000000003,141.1,146.9,149.6,154.19999999999999,165.8,180,180,962.3,783.7,694.9,657,634.9,625.70000000000005,608.20000000000005,617.29999999999995,508.8,472.5,460.4,453.3,449.1,438.7,575.6,484.6,457.1,446.1,438.9,433.5,422.6,540.70000000000005,469.2,441.5,424.4,414.3,407.8,399.6,541.29999999999995,470.4,440.8,414.9,396.1,385.6,375.3,598.79999999999995,492.5,450.1,418.8,395.9,380.9,352.6,625.29999999999995,507.5,458.2,427.7,396.8,368.9,339.1,705.1,563.29999999999995,485.9,450.7,422.3,393.7,337.1,844.3,662.4,554.6,488.5,453.1,426.6,374.1,974.9,764.8,640.4,559.1,506.2,466.4,414.5,1.0178,1.3323,1.5189999999999999,0.77459999999999996,1.0673999999999999,1.2519,564,1.0638000000000001,0.89400000000000002,193.6,1.0746,0.71199999999999997,33.200000000000003,558.29999999999995,"knw00004730",10.667999999999999,6380,31.8,51.2,53,96.1,0,131]
["GRE000524","GR4920","GRE-4920","GALINI","AIKIDO 31","CONSTR.NAUTIQUES",null,1973,"NAOEF","MANOUSSIS PETROS","CLUB","C",250,"2/5/2016","14:02:58",9.1999999999999993,7.4210000000000003,1.6879999999999999,2.65,4012,120.1,0.65,796.7,0.77259999999999995,873.6,0.48699999999999999,4.5999999999999996,1354.2,1092.4000000000001,952.4,854.7,788.1,739,693.9,1303.5999999999999,1054.8,917.4,829,771.2,734.7,697.8,1120.8,896,772,697.4,650.20000000000005,619.20000000000005,582.29999999999995,1179.8,935.9,799.8,716.8,663.8,629.20000000000005,589.29999999999995,1378.9,1056.2,870.9,754.9,678.4,625.20000000000005,555.1,45.1,43.4,42.9,43.8,43.2,42.1,41.3,144.9,145.4,144.6,145,170.7,171.8,175.6,1439.8,1178.5999999999999,1042.3,945.7,879.5,847.1,822.5,921.8,769,678.2,617.1,587.5,574.4,565.20000000000005,859.7,723,635.70000000000005,590.20000000000005,568.4,556,546.70000000000005,810.5,682.4,604.9,571.29999999999995,553,539.4,520.79999999999995,816.6,682.6,596.4,561.9,548.20000000000005,539.1,514,822.1,676.2,593.1,559,536.79999999999995,517,495.2,851.7,698.2,605.1,565.1,541.9,521.6,483.6,941.1,760.1,649.20000000000005,586.6,557.20000000000005,536.6,499.7,1098.5999999999999,871.4,746.9,661.4,614,579.1,541.4,1268.5999999999999,1006.2,862.4,763.7,696.8,631,565.4,0.71750000000000003,0.96399999999999997,1.1164000000000001,0.55179999999999996,0.7581,0.91910000000000003,0,0,0.57799999999999996,132.30000000000001,0.77610000000000001,0,0,773.1,"GRE01005769",6.2039999999999997,4567,19.3,14.5,24.9,0,45.8,132]
["CLUAKI950","GER11","GER-11","BIG SPEEDY","AKILARIA 9.50","MC TEC","LOMBARD MARC",2008,"TRANS OCEAN","RAUCH THOMAS","CLUB","C",160,"20/5/2016","16:05:40",9.49,8.6050000000000004,2.4180000000000001,3.67,3150,129.1,0,592.70000000000005,1.0329999999999999,653.4,0.73799999999999999,56.3,940.3,765.9,682.7,641.9,609.6,586.20000000000005,544.1,896.6,736.9,663.5,623.6,594.5,571.29999999999995,531.6,801.1,654.1,576.6,531.4,501.9,479.6,443.2,852.7,690.1,602.79999999999995,551.1,517.70000000000005,494.2,460.8,984.4,767.7,646.6,571.9,521.20000000000005,483,423.4,43.1,40.9,39.1,37.4,36.4,36,36.299999999999997,143.6,147.80000000000001,150.30000000000001,151.80000000000001,176.5,177.9,137.5,958.9,794.8,732.8,701.3,681.3,670.7,664,626.79999999999995,536.79999999999995,513.4,502.4,494.8,486.2,477,590.4,519,497.3,485.3,477,468.8,455,562.6,505.7,475.8,457.1,445.6,438.3,421.8,565.6,507.9,474.3,442.6,420.4,408.5,395.4,583.20000000000005,506.5,465.1,440.8,419.4,403.3,355.8,603,516,474.5,433.6,405.3,386.6,342.8,672.7,552.20000000000005,501.2,463.7,426.9,388.6,310.89999999999998,798.1,638.29999999999995,547.9,506.4,475.8,446.3,367.5,921.6,737.1,632.6,582.4,538,501.8,424.3,1.0197000000000001,1.2696000000000001,1.4342999999999999,0.79120000000000001,1.0262,1.1713,579,1.0363,1.109,356.8,1.0358000000000001,0.73699999999999999,55.6,579.29999999999995,"CLU00019948",8.8360000000000003,3846,22.9,50.4,29.5,0,90,133]
["CLUF36001","FRA3600","FRA-3600","PEGASUS","AKILARIA OPEN 950","MC TEC","LOMBARD MARC",2008,"Y.C.VERONA","BOERIO PIERO","CLUB","C",350,"5/4/2016","20:44:52",9.49,8.6120000000000001,2.419,3.67,3166,129.19999999999999,0,585.5,1.0397000000000001,649.20000000000005,0.73199999999999998,47.6,938.2,762.4,677.2,637.1,606.29999999999995,582.20000000000005,535.70000000000005,895.5,733.6,658.7,618.9,590.20000000000005,566,524.5,791.5,646.4,569.70000000000005,524.6,494.7,471.9,434.4,849.8,687.1,599.5,547.6,514,490.3,456.7,978.8,762.1,640.79999999999995,565.79999999999995,514.5,475.1,412.4,43.3,41.5,39.200000000000003,37.6,36.4,35.9,36.5,143.6,147.6,150.30000000000001,151.9,176.2,177.6,137.19999999999999,964.1,794.4,727.1,696.3,677.7,664.8,660.9,625.5,535.6,509.8,498.1,490.3,482.1,472.4,578.29999999999995,515.70000000000005,493.2,480.2,471.5,464.2,449.2,539.6,492,467.4,450.7,439.2,430.5,416.1,534,488.5,453.6,429.1,414.5,401.5,384.4,570.29999999999995,503.8,460.9,432,396,378.1,342.1,595.79999999999995,512.5,470.5,428.8,398.3,376.2,326.10000000000002,666,546.1,497.2,459.1,421.6,382.7,297.89999999999998,790.1,632.6,543.4,502.3,471.6,441.2,355.6,912.3,730.4,627.4,577.79999999999995,535,499.7,410.6,1.0309999999999999,1.2847,1.4588000000000001,0.79390000000000005,1.0333000000000001,1.1825000000000001,577.79999999999995,1.0384,1.107,350.6,1.0457000000000001,0.74199999999999999,57.8,573.79999999999995,"CLU00019170",8.9049999999999994,3863,23,50.9,30.5,0,104.2,134]
["CLUAUT49","AUT49","AUT-49","VAQUITA","AKILARIA RC1 CL'40","MC TEC","MARC LOMBARD",2007,"SPORT VELICO MARINA MILITARE VENEZIA","FIORI ALESSANDRO c/o ICS POINT SRL","CLUB","C",480,"6/10/2016","20:20:52",12.19,11.343999999999999,2.99,4.49,4794,123.1,0,512.79999999999995,1.1923999999999999,566.1,0.78,14.5,843.6,676.6,595.20000000000005,554.9,527.70000000000005,499.9,453.5,802,648,575.79999999999995,536.70000000000005,508.3,483.4,448.9,706.1,571.20000000000005,498.4,454.4,424.5,401.6,365,764.7,613.70000000000005,530.9,480.5,447,422.7,387.7,870.8,672.1,559.70000000000005,489.2,440.5,403,344.8,43.7,42.1,39.1,37.1,35.799999999999997,35.1,35.200000000000003,142.1,143.6,149.6,152,148.6,145.6,138.69999999999999,865.1,700.2,633.1,603.5,586.5,574.29999999999995,567.4,560.5,470.7,444.5,431,421.2,412.3,398.9,524.1,455.3,427.9,411.2,400.3,392.6,375.9,496.7,443.3,408.1,382.1,368.5,359.2,342.6,499.7,445.5,409.1,373.3,345,329.8,313,510.2,442,398.1,373.8,350,331.3,279.60000000000002,528.29999999999995,448.9,404.7,363.6,339.7,320.2,274.5,594.9,478.6,434.2,394.2,353.1,313.5,253.7,712.1,565.5,482.7,438.5,406,368.5,294,822.2,653,557.29999999999995,506.3,468.9,425.6,339.5,1.1515,1.4767999999999999,1.7188000000000001,0.88800000000000001,1.1807000000000001,1.3791,502.7,1.1935,1.1319999999999999,270.7,1.2033,0.79,23.4,498.6,"CLU00020572",11.792999999999999,5869,32.799999999999997,69.900000000000006,47.1,0,174.5,135]
["GER164103","C4047","C40 47","KHAT 7","AKILARIA-40","MC-TEC","LOMBARD",2007,"10405 BERLIN","VILEG GMBH","CLUB","R",170,"25/4/2016","14:57:46",12.18,12.010999999999999,2.9940000000000002,4.49,4650,130.5,0,503.1,1.2045999999999999,560.4,0.76800000000000002,2.8,845.4,674.8,593.29999999999995,550.9,520.70000000000005,489.5,444.7,801.3,645.4,572.6,531.79999999999995,501,476.2,446.9,693.4,560.9,489.1,445.4,415.6,393.2,359.8,761.3,609.29999999999995,525.9,475.1,441.3,416.8,381.5,868.7,667.7,553.79999999999995,482.1,432.3,394.2,337,45.8,42.7,39.6,38.299999999999997,37,36.299999999999997,36.700000000000003,141.69999999999999,140,147.5,151.9,148.1,144.6,142.19999999999999,858.6,695.7,634.79999999999995,605.6,585.20000000000005,573.9,567.70000000000005,543.79999999999995,462.4,439.9,428.1,418.9,407.4,395.5,498,445.1,423.5,409,398.3,386.3,370.7,461,421.6,396.8,377.3,364.6,355.6,332.7,454.2,407.6,375.4,355.5,338,325.2,309.89999999999998,481.6,431.7,393.7,354.5,320.5,300.60000000000002,272.5,525.5,438.7,391.5,362.7,326,300.8,261.3,600.5,476.3,423.6,380.5,334.7,299.60000000000002,258.89999999999998,720.8,566.29999999999995,477.9,427.7,395,350.8,278.60000000000002,832.3,654,551.79999999999995,496.1,456.1,405,321.7,1.1726000000000001,1.504,1.7575000000000001,0.88800000000000001,1.1888000000000001,1.4048,492.5,1.2182999999999999,1.08,233.5,1.2182999999999999,0.76800000000000002,2.8,492.5,"GER20014469",12.085000000000001,5827,35.6,69.5,47.4,0,184.8,136]
["CLUFRA271","FRA27","FRA-27","WAWA","AKILARIA-40 RC1","M-CTEC","MARC LOMBARD",2006,"C.N.MARINA DI CARRARA","COGGI ROBERTO","CLUB","C",800,"14/10/2016","18:00:28",12.19,11.284000000000001,2.984,4.49,4650,122.9,0,510.5,1.1963999999999999,564.20000000000005,0.76500000000000001,3.8,851.3,680.5,592.20000000000005,550.29999999999995,523.20000000000005,497,448.6,808.7,649.29999999999995,572.29999999999995,531.79999999999995,504,480.8,443.2,707.7,570.5,495.8,450.6,419.9,396.6,359.6,770.9,616.70000000000005,531.79999999999995,480.3,446.2,421.6,386.1,873.3,671.5,556.9,484.9,435.1,397,337.9,43.3,42.2,38.799999999999997,36.799999999999997,35.6,35.200000000000003,35.1,141.6,140.30000000000001,148.5,151.9,148.6,145.5,137.69999999999999,875.6,705.2,627.4,598.29999999999995,583.20000000000005,575.6,567.9,568.70000000000005,473,442,426.9,416.6,409.5,397.6,532,457.2,426,406.3,394.7,387.2,373.9,502.6,445.8,408.4,377.7,361.8,351.7,340.1,504.6,442.6,410.4,374.3,340,320.89999999999998,302.5,505.4,438.9,392,366.5,342.1,321.89999999999998,273.10000000000002,522.4,445.8,399.6,355.7,330.6,310.8,265.3,597.1,474.4,430.2,389,346.5,306.39999999999998,242.7,716.3,567.79999999999995,482.3,434.9,401.2,362.5,285.3,827.1,655.7,556.9,502.2,463.3,418.5,329.4,1.1458999999999999,1.4884999999999999,1.7419,0.88129999999999997,1.1877,1.3905000000000001,503.2,1.1922999999999999,1.0980000000000001,250.3,1.2104999999999999,0.78600000000000003,22.1,495.7,"CLU00020617",11.871,5713,32.4,70,38.6,0,186,137]
["ESTEST299","Est0299","EST 299","LADY BIRD","AKTON 395","ACTON YACHTS Ltd","LUTRA DESIGN",2001,"Parnu JK","ACTON YACHTS Ltd","CLUB","C",850,"9/6/2016","20:07:32",11.988,11.443,2.1320000000000001,3.92,6437,104,0.03,577.79999999999995,1.0660000000000001,633.20000000000005,0.74099999999999999,49.2,944.1,766.9,668.1,615.20000000000005,582.79999999999995,558.4,530.6,901.9,735.2,649.5,605.4,578.20000000000005,556.6,530.20000000000005,791.9,640.9,560.9,514.70000000000005,486.1,466.6,440,848,680.6,590,536.70000000000005,503.4,481,451.9,974.5,754.4,630.79999999999995,555.4,506.1,471.1,421.3,43.8,42.7,41.9,40.700000000000003,40,39.299999999999997,39.6,142.19999999999999,147.1,149.9,155.9,170.8,180,180,977.2,809.9,725,690,672.2,657.9,650,633.1,530.70000000000005,485.6,471.9,465.3,460.6,453.3,592.6,501.9,467.7,456.3,450.3,446.8,437.6,559.20000000000005,482.2,453.6,437.7,428.1,422,415.1,560.9,482.2,453.3,433.4,414.6,400.2,388.3,580.6,482.1,446.6,429.8,414.7,401.3,373.5,597.9,492.3,451.8,423.9,402,387.6,362.6,664.8,536.70000000000005,472.6,443.9,417.3,389.1,335.9,789,626.79999999999995,529.29999999999995,473.8,445.9,421.4,369.7,911,723.8,611.1,540.4,493.4,458.9,411.3,1.0268999999999999,1.3148,1.4737,0.78900000000000003,1.0590999999999999,1.2181999999999999,577.20000000000005,1.0396000000000001,0.97899999999999998,252.5,1.0642,0.75700000000000001,69.599999999999994,563.79999999999995,"EST00001119",10.404999999999999,7564,31.7,54.1,40.9,122.3,0,138]
["ESP993901","E9939_C","ESP-9939_C","CURRIBAMBI","ALBATRO","ASTRAEA",null,1997,"C.N.GALLINERAS","ANGEL MARIA RUIZ GOMEZ","CLUB","C",250,"11/3/2016","05:00:58",5.49,5.0060000000000002,1.099,2.38,792,127.7,0.13,842.6,0.74719999999999998,903.3,0.501,39.9,1378.7,1112.2,961.5,867.6,817.7,795,776.8,1321.2,1079.5,946.1,868.7,826.2,804.8,789.8,1158.0999999999999,937,818,748.2,704.7,676.3,642,1158.0999999999999,937,818,748.2,704.7,676.3,642,1421.8,1097.4000000000001,914.9,803.3,730.2,678.4,604.20000000000005,44.6,43.8,42.8,41,39.9,39.700000000000003,41.6,167.2,168.8,170,171.4,174.4,175.3,174.5,1397.9,1175.3,1045.8,968.1,930.6,921.3,945.3,900.7,764.3,702.8,672.2,651.20000000000005,641.79999999999995,647.5,842.3,726.7,681.5,652.79999999999995,627.1,610,605.4,793.5,702,664.2,633.1,603.4,577.70000000000005,554.79999999999995,793.2,702.7,665.2,634.29999999999995,601.6,570.29999999999995,522.70000000000005,863.5,729.3,679.2,645.6,611.79999999999995,580.5,524.6,912.6,759.4,692.6,657.2,624.20000000000005,592.5,536.4,1025,835.3,729.1,682,650.20000000000005,618.70000000000005,561.6,1188.7,938.2,796.8,715.2,675.3,644.70000000000005,586.20000000000005,1359.4,1049,877.3,767.2,704.9,668.7,608.20000000000005,0.70020000000000004,0.90249999999999997,1.0184,0.54200000000000004,0.74439999999999995,0.85029999999999994,816.4,0.7349,0.64600000000000002,219.9,0.73499999999999999,0.50900000000000001,48,816.3,"ESP00016963",4.883,1110,8.8000000000000007,11.4,11.5,0,0,139]
["ESP965401","E9654_C","ESP-9654_C","COLIBRI I","ALBATRO","ASTRAEA",null,1997,"C.N.ALMERIA","EDUARDO ESTEBAN ESTEBAN","CLUB","C",250,"22/4/2016","13:14:36",5.49,5.0060000000000002,1.099,2.38,792,127.8,0.24,844.7,0.72919999999999996,925.6,0.48699999999999999,27.7,1373.1,1131.9000000000001,997.7,905.2,838.6,801.7,776.5,1344.1,1107.5,979.5,895.5,836.5,799.4,776.3,1159.5,940,821,749.4,702.8,670.9,631.1,1248.5999999999999,1001.3,865.6,783.8,731.4,696.4,653.6,1418.6,1103,922.2,807.6,729.4,672.2,590.4,45.4,44.3,44.2,42.7,41.3,40.1,41.6,147,146.69999999999999,148.19999999999999,175.1,177.6,178.2,177.8,1547.6,1290,1142.7,1041.0999999999999,972.9,935.1,944,989.9,833.4,744.7,699.8,673.2,653.1,640.1,923,781.3,712.1,678.3,652.79999999999995,628.79999999999995,600.6,863.4,729.2,677.4,644.9,624.1,605.1,562.6,806.6,696.2,651.5,611.29999999999995,578.6,564.4,544.79999999999995,794,691.1,"646,7  6","05,0  5","67,2  5","32,9  4","82,7  8",23.9,701,"654,7  6","13,4  5","75,4  5","40,8  4",73.599999999999994,901.5,743.7,677.4,638,599.79999999999995,565.79999999999995,504.3,1038,843.4,738.5,688.9,658.3,627.70000000000005,568.9,1198.5999999999999,973.8,852.8,769.2,704.2,668.4,609,0.70020000000000004,0.89639999999999997,1.0291999999999999,0.53890000000000005,0.71940000000000004,0.84219999999999995,822.8,0.72919999999999996,0.621,204.4,0.72840000000000005,0.49399999999999999,34.1,823.8,"ESP00017677",4.5599999999999996,1110,8.8000000000000007,10.199999999999999,7.4,0,28.8,140]
["nor9991",9991,"NOR 4246","Papillon","ALBIN 78 CIRRUS","ALBIN MARINE","Peter Norlin",1978,null,"Camilla Sandstrand","CLUB","C",353,"19/4/2016","16:58:24",7.8,6.3780000000000001,1.4710000000000001,2.76,2327,108.4,0.51,773.3,0.80930000000000002,834.1,0.55700000000000005,49.5,1252,1028.0999999999999,895,805.3,753.3,728.3,702.7,1208.2,994.1,874.2,801.9,759.3,735.6,711.1,1063.4000000000001,860,750.6,686.6,647.1,621.70000000000005,591.1,1116.3,897.8,779.1,708.9,665.3,637.1,604.20000000000005,1295.4000000000001,1004.9,840.5,739.4,673.6,627.79999999999995,564.29999999999995,43.1,41.9,42.4,41.4,40.299999999999997,39.700000000000003,40,149,153.80000000000001,154.6,172.3,180,180,180,1317,1108.5,986.8,911.3,870.2,853.5,851,861.6,730.4,656.9,625.5,607.9,598.9,594.79999999999995,813.7,689.8,633.6,608.4,591.4,579.29999999999995,571.5,774.6,661.4,617.5,594,575.20000000000005,558,536.20000000000005,781.6,656.8,607.4,579.6,564.4,554.4,525.79999999999995,779.5,652.20000000000005,605.4,576,548,524.20000000000005,503.1,804.7,667,612.6,582.79999999999995,555.20000000000005,529.5,490.8,890.8,729.1,637.70000000000005,600.9,573.70000000000005,547.29999999999995,503.4,1027.9000000000001,823.6,700.8,630.5,598.5,573.20000000000005,525.79999999999995,1186.9000000000001,947.8,803.1,699.3,636.29999999999995,603.20000000000005,554.29999999999995,0.76190000000000002,0.98450000000000004,1.1075999999999999,0.59209999999999996,0.80289999999999995,0.93110000000000004,756.6,0.79310000000000003,0.68700000000000006,206.1,0.79859999999999998,0.56499999999999995,59.8,751.3,"nor00000466",5.8739999999999997,2786,14.1,15.4,18.100000000000001,41.1,0,141]
["nor7211",7211,"NOR 8186","Aurora","ALBIN 78 CIRRUS","ALBIN MARINE","Peter Norlin",1978,null,"Bjorn Rasmussen","CLUB","C",354,"26/4/2016","21:21:10",7.8,6.4260000000000002,1.48,2.76,2383,108.9,0.53,795,0.79159999999999997,852.7,0.52800000000000002,39,1309.4000000000001,1056.5999999999999,914.4,824.2,768.6,739.7,715.5,1249.4000000000001,1021,893.1,816.5,773.3,749.7,727.1,1099.5,886.4,771.2,703.7,661.9,635.1,603.79999999999995,1099.5,886.4,771.2,703.7,661.9,635.1,603.79999999999995,1349.6,1039.2,864.3,757.6,688.9,641.70000000000005,578.20000000000005,43,41.9,42.7,41.3,40.299999999999997,39.799999999999997,40.4,158,168.2,172.9,173.9,177,179,179.3,1291.5999999999999,1090.3,974.6,904,870.7,855.4,854.2,845.8,717.5,651,622.1,606.70000000000005,599.79999999999995,596.29999999999995,798.3,678.5,629,605.4,589.4,579.6,573.9,759,652.5,612.9,590.6,571.79999999999995,555.5,538.1,765.2,656.8,615.9,592.70000000000005,569.20000000000005,545.9,521.20000000000005,837.1,697.2,631.70000000000005,601.6,578.5,556,515.6,888.5,739,650.20000000000005,612,587.5,564.9,523.1,1004.2,814.7,699.7,636.29999999999995,605.20000000000005,582.29999999999995,538.79999999999995,1155,906.3,770.1,676.7,627.4,599.9,556.20000000000005,1327.2,1023,854.1,744.3,666.5,624,576.79999999999995,0.73599999999999999,0.95989999999999998,1.0847,0.5706,0.78510000000000002,0.91479999999999995,775.7,0.77339999999999998,0.64800000000000002,184.9,0.77890000000000004,0.53400000000000003,46.8,770.3,"nor00000696",5.9409999999999998,2843,14.2,15.7,20.100000000000001,0,0,142]
["nor6056",6056,"NOR 2337","Froya","ALBIN 78 CIRRUS","ALBIN MARINE","Peter Norlin",1978,null,"Alf Inge Iversen","CLUB","C",350,"2/5/2016","21:31:34",7.8,6.34,1.46,2.76,2215,107.3,0.49,769.5,0.81189999999999996,831.4,0.56699999999999995,56.1,1239.9000000000001,1018.5,888.1,802.5,754.4,730.8,707.2,1194.7,984,867.5,799.1,760.3,738.3,717.1,1054.4000000000001,854.2,747,684.8,646.70000000000005,622.29999999999995,593.20000000000005,1100.2,886.6,771.3,703.7,662.1,635.4,604.79999999999995,1285.7,998.6,836.7,737.5,673.1,628.20000000000005,565.4,43,42,42.5,41.4,40.6,40.1,40.9,149.19999999999999,153.80000000000001,155.80000000000001,173.4,180,180,180,1293.2,1090.3,973.6,905,872.4,858.3,860.4,846.4,716.7,650.4,621.79999999999995,607,600.70000000000005,598,798.7,678.6,628.29999999999995,605,589.5,580.1,574.9,759,652.29999999999995,612.4,590.20000000000005,571.29999999999995,555,537.9,765.5,656.8,607.4,579.4,563.5,551.9,522.9,780.5,652.70000000000005,605.70000000000005,576.20000000000005,547.9,523.79999999999995,502.3,806.3,668.1,613,583.70000000000005,556.20000000000005,530.20000000000005,490.6,890.6,729.4,639.29999999999995,602,574.79999999999995,548,503.4,1027.5999999999999,822.8,698.6,631.29999999999995,599.20000000000005,573.70000000000005,525.70000000000005,1186.5999999999999,946.7,802.6,700,636.29999999999995,603.29999999999995,554,0.76910000000000001,0.98809999999999998,1.1054999999999999,0.5978,0.80640000000000001,0.9274,755.1,0.79459999999999997,0.71499999999999997,228.2,0.80159999999999998,0.57599999999999996,67.3,748.5,"nor00000922",5.8920000000000003,2670,13.8,15.5,19.2,38.700000000000003,0,143]
["nor5579",5579,"NOR 2890","Julia","ALBIN 78 CIRRUS","ALBIN MARINE","Peter Norlin",1978,null,"Sven Vesterhus","CLUB","C",354,"12/5/2016","19:43:08",7.8,6.4260000000000002,1.48,2.76,2383,108.9,0.55000000000000004,777.4,0.80510000000000004,838.4,0.55300000000000005,48.9,1259.2,1033.2,900.5,810.4,757.1,731.3,705.5,1213.9000000000001,998.8,878.4,805.5,762.8,738.8,713.9,1069.2,864.7,754.5,690.1,650.29999999999995,624.6,593.4,1116,897.9,779.6,709.9,666.6,638.5,604.4,1303.4000000000001,1010.8,845.1,743.3,677.1,631,567.29999999999995,43.1,41.9,42.5,41.5,40.4,39.700000000000003,40,149.19999999999999,153.9,156.4,171.9,180,180,180,1314.8,1107.5,987.1,911.8,871.9,854.8,851,860,729.7,656.9,625.70000000000005,608.4,599.79999999999995,595.6,812,688.9,633.70000000000005,608.70000000000005,591.79999999999995,580.20000000000005,572.9,772.8,660.6,617.4,594.20000000000005,575.5,558.70000000000005,537.79999999999995,779.9,665.2,612,583.1,564.20000000000005,555.5,527.29999999999995,792.8,660.3,609.9,580.79999999999995,553.5,529,503.5,818.2,676.4,617.70000000000005,588,561.70000000000005,536.1,495.5,904.8,740.8,645.6,606.29999999999995,579.5,553.70000000000005,509.3,1042.3,834,708.2,637,603.5,578.6,531.79999999999995,1203.5,958.8,813.9,708.9,642.4,607.9,559.9,0.75749999999999995,0.97929999999999995,1.1026,0.58889999999999998,0.79820000000000002,0.92710000000000004,760.3,0.78920000000000001,0.68100000000000005,204.2,0.79430000000000001,0.56000000000000005,58.2,755.3,"nor00001122",5.8949999999999996,2843,14.2,14.5,19.8,38.799999999999997,0,144]
["pol71","Happy20","POL 11363","Happy 20","ALBIN 78 CIRRUS","ALBIN MARINE","Peter Norlin",1978,null,"Andrzej Bawelski","CLUB","C",357,"4/8/2016","23:37:42",7.8010000000000002,6.4530000000000003,1.492,2.76,2524,104.2,0.51,771.7,0.81,833.3,0.55800000000000005,50.4,1252.5999999999999,1028.7,894.1,803.3,752.5,727.9,701.6,1211.5999999999999,995.9,875.3,802.2,759.3,735.3,710.5,1061.3,858.2,749,685.3,646.29999999999995,621.29999999999995,591.4,1126,904.6,784,712.7,668.4,639.79999999999995,606.79999999999995,1293.5,1003.4,839.1,738.2,672.7,627.4,565.4,43.3,41.9,42.3,41.9,40.700000000000003,40,40.200000000000003,148.9,153.6,152.30000000000001,172,180,180,180,1335.3,1121.2,998.6,919.5,876.9,859.2,855.2,872,739.2,661.5,627.70000000000005,609.5,600.79999999999995,596.6,823,697.3,636.5,610,593.1,581.5,574.6,783.5,666.5,619.5,595.6,577.1,560.6,540.1,775.6,648.9,602.29999999999995,580.29999999999995,569.70000000000005,559,528.79999999999995,762.7,641.70000000000005,598.5,569,541.5,524.79999999999995,507.8,786.6,654,604.79999999999995,575.20000000000005,547.1,521.79999999999995,492.3,877.5,716.1,626.9,592.79999999999995,565.5,539.1,496.5,1013.1,812.9,686.9,621,590.9,565.6,518.79999999999995,1169.8,936.2,789.6,687.1,628.20000000000005,596.70000000000005,547.9,0.76329999999999998,0.98680000000000001,1.1080000000000001,0.59179999999999999,0.80389999999999995,0.93210000000000004,755.5,0.79420000000000002,0.68500000000000005,204.5,0.79990000000000006,0.56499999999999995,59.6,750.1,"pol00000085",5.8639999999999999,2989,14.5,16.2,17.899999999999999,49.3,0,145]
["knw2712","NEDC1401","NED 1401","PASSAAT","Albin 79","ALBIN MARINE","R. Magnusson",1975,140197,"B.S.,Kraayeveld","CLUB","C",340,"23/3/2016","14:36:02",7.96,6.2969999999999997,1.4159999999999999,2.67,2245,114.7,0.56000000000000005,786.2,0.79100000000000004,853.3,0.54100000000000004,44.7,1282.9000000000001,1051.7,915.5,823.8,771.7,745.3,720.3,1238.7,1017.5,893.6,819.6,777.5,753.4,730.7,1083,875,762.9,697.5,657.4,631.9,602.20000000000005,1125.0999999999999,905.1,785.9,715.8,672.8,645.4,614,1324.6,1025.8,856.5,752.4,684.6,637.4,572.5,44.3,43.2,44,43,41.9,41.3,41.6,149.1,153.4,153.69999999999999,169.5,180,180,180,1348.8,1135.0999999999999,1013,935.4,899,881.9,880.7,872.1,737.9,662.8,629.20000000000005,613.9,607.20000000000005,604.1,818.4,692.3,635.6,609.9,594.29999999999995,586.20000000000005,581.20000000000005,772.6,659.4,615.9,593,574.4,559,544.29999999999995,775.7,662,616.9,587.70000000000005,573,555.6,527.6,805.6,666.1,611.5,581.20000000000005,553.29999999999995,529.9,510.6,827.5,680.5,618,587.5,560.1,534.20000000000005,495.4,917.4,745.9,644.70000000000005,605,577.5,551.29999999999995,506.7,1054.0999999999999,841.6,712.3,636.20000000000005,602.5,577.20000000000005,530.1,1217.0999999999999,968.4,818.1,712.2,644.29999999999995,608.70000000000005,560,0.74770000000000003,0.96930000000000005,1.0894999999999999,0.57820000000000005,0.78459999999999996,0.90910000000000002,771,0.7782,0.67100000000000004,206.2,0.78459999999999996,0.54900000000000004,55.1,764.7,"knw00004825",5.6970000000000001,2686,13.7,12,22.8,40.799999999999997,0,146]
["pol10","safi","POL 15885","SAFI","ALBIN ACCENT 26","SHIPMAN MARINE","Peter Norlin",1977,null,"Wieslaw Wolowski","CLUB","C",370,"12/5/2016","06:12:30",8.0500000000000007,6.5659999999999998,1.5269999999999999,2.73,2425,110.4,0.48,770.3,0.80979999999999996,833.5,0.55400000000000005,46,1256.5,1028.2,893.3,805,753.3,727,701.3,1213.5,994.2,872.2,800.2,758.4,734.1,710,1062.5,857.6,747.3,683,643.6,618.5,588.9,1118.5,897.7,777.7,706.9,663.2,635.1,601.79999999999995,1295.7,1003.3,837.8,736.1,670.1,624.4,561.79999999999995,43.7,42.3,42.8,42.2,41.2,40.6,40.9,148.6,152.6,152.1,166.5,179.9,180,180,1328.7,1112.0999999999999,989.5,913.9,876,857.8,853.9,864.4,730,653.20000000000005,619.70000000000005,603.1,596,592.4,813.7,687,627.29999999999995,601.5,585.5,576.29999999999995,570.79999999999995,771.7,655.1,608.70000000000005,585.79999999999995,567.9,552.70000000000005,536,776.7,659.3,603.9,578.1,567.20000000000005,550.5,521.5,783.4,648.9,598,568.5,541.29999999999995,522.20000000000005,504.4,806.5,662,603.79999999999995,573.79999999999995,546.5,520.9,487.5,890.3,723.4,627.29999999999995,590.5,563.79999999999995,538,493.9,1025.5999999999999,819.4,692.5,620.70000000000005,588.9,564.29999999999995,518,1184.3,944.3,797.1,696.1,630.70000000000005,596.20000000000005,548.79999999999995,0.76170000000000004,0.99019999999999997,1.1131,0.59089999999999998,0.80349999999999999,0.93240000000000001,756,0.79369999999999996,0.68300000000000005,202.8,0.80179999999999996,0.56399999999999995,58.4,748.3,"pol00002417",5.9530000000000003,2907,14.6,13,22.2,47.5,0,147]
["nor5629",5629,"NOR 6144","Shamal","ALBIN ALPHA","ALBIN MARINE","Peter Norlin",1985,null,"Lars-Petter Smidt","CLUB","C",436,"3/5/2016","13:52:52",8.9499999999999993,7.28,1.673,2.83,3246,134.4,0.39,748.5,0.84389999999999998,799.8,0.55100000000000005,30.9,1248.4000000000001,1000,859.6,770.7,717.9,690.1,662.9,1188.3,964.8,838.9,763.1,721.9,699.6,674,1042,836.9,725.5,660.1,619.70000000000005,593.70000000000005,562.9,1042,836.9,725.5,660.1,619.70000000000005,593.70000000000005,562.9,1279.7,981.1,812.8,710.5,644.9,600.20000000000005,540.1,42.8,41.5,42.3,40.799999999999997,39.799999999999997,39.5,39.299999999999997,158.9,175.4,177.4,177.8,178.8,179.5,179.6,1221.0999999999999,1023.7,909.9,839.5,810.6,797.8,789.6,801.2,675.5,608.70000000000005,580.6,567.6,562,559,757.1,638.70000000000005,588.4,565.29999999999995,551.5,544.1,539.4,720.5,613.6,573.79999999999995,552.1,534.6,520.4,506.7,726.9,617.70000000000005,575.79999999999995,553.20000000000005,531.79999999999995,510.8,488.3,795.9,659,591.9,562.6,540.9,520.1,481,845.9,700.3,611.79999999999995,573.29999999999995,550,529,489.1,964.8,777.5,664.9,598.79999999999995,567.4,545.4,504.5,1111.4000000000001,866.6,733,640.70000000000005,589.4,562,520.5,1275.8,976.3,809.3,702,625.20000000000005,582.4,536.1,0.77510000000000001,1.0230999999999999,1.161,0.60040000000000004,0.83720000000000006,0.98280000000000001,728.7,0.82330000000000003,0.66300000000000003,162.80000000000001,0.82950000000000002,0.55700000000000005,38.5,723.3,"nor00000952",6.8040000000000003,3818,18.100000000000001,26.1,18.5,0,0,148]
["nor5583",5583,"NOR 6505","Caprice","ALBIN ALPHA","ALBIN MARINE","Peter Norlin",1985,null,"Christian Thorstensen","CLUB","C",435,"5/5/2016","16:47:02",8.9499999999999993,7.274,1.6719999999999999,2.83,3228,134.30000000000001,0.37,722.4,0.86619999999999997,779.2,0.59299999999999997,48.1,1176.8,961.9,835.9,751.3,704,680.7,654.79999999999995,1131.7,928.3,814.6,746.3,708.2,686.9,662.3,995.3,803.8,700.9,640.9,604.20000000000005,580.6,552,1047.8,840.8,728.3,661.9,620.9,594.6,563.9,1214.9000000000001,940.5,785.5,690.6,629.20000000000005,586.6,527.5,42.8,41.4,42.3,40.799999999999997,39.799999999999997,39.299999999999997,39.4,148.4,153.1,154.69999999999999,168.8,180,180,180,1229.7,1029.7,915,841.3,810.2,796.7,791.4,806.8,679.9,611.1,581.70000000000005,567.70000000000005,561.79999999999995,558.6,762.5,642.79999999999995,590.4,566.5,552,543.79999999999995,538.79999999999995,726.2,617.1,575.5,553.6,535.9,521.20000000000005,506.3,727.2,608.20000000000005,564.29999999999995,540.6,531.29999999999995,517.4,489.3,728.1,607.4,563.9,536.20000000000005,510,489.3,472.3,754.6,623.1,571.20000000000005,543.9,518.79999999999995,494.4,457.9,836,684.8,598.79999999999995,562.6,536.9,512.20000000000005,468.6,973.4,776.3,660.1,591.70000000000005,560.1,536,490.6,1124,894.2,756.8,661.2,597.79999999999995,564.70000000000005,518.1,0.81410000000000005,1.0552999999999999,1.1854,0.63119999999999998,0.85960000000000003,0.99729999999999996,706.9,0.8488,0.73099999999999998,203.2,0.85550000000000004,0.60399999999999998,59.5,701.4,"nor00000995",6.7869999999999999,3799,18.100000000000001,25.5,18.399999999999999,47.8,0,149]
["nor4918",4918,"NOR 6046","Trio","ALBIN ALPHA","ALBIN MARINE","Peter Norlin",1985,null,"Ole Gabrielsen","CLUB","C",433,"20/5/2016","10:40:36",8.9499999999999993,7.2610000000000001,1.663,2.83,3146,133.5,0.2,714.9,0.87260000000000004,773.5,0.61199999999999999,58.2,1155.9000000000001,946.9,822.5,745.8,702.8,681.3,661.2,1107.5,910.4,801.1,739.8,706.5,687.5,670,979.2,793.1,693.8,636.6,602.1,580.29999999999995,555.20000000000005,1019,821.1,714.7,652.79999999999995,615.1,591.29999999999995,564.29999999999995,1197.5999999999999,929.1,778,686,626.70000000000005,585.70000000000005,528.9,42.9,42,42.4,40.9,39.9,39.5,40.4,148.4,153,153.9,168.5,180,180,180,1186.5,999.1,888.9,831.9,808.5,798.5,805.1,778.4,657.2,599.1,576,566.6,562.1,560.70000000000005,734.7,623.79999999999995,581.1,561.1,549.6,544.1,541,698.4,602,567.9,547,530.20000000000005,517.70000000000005,508.3,703.8,605.20000000000005,565.20000000000005,542,529.1,511.7,487.3,728.9,607.70000000000005,564,536.1,509.7,489.9,473,754.6,622.9,571.1,543.29999999999995,517.6,492.8,457.5,834.7,683.8,597.1,561.5,535.70000000000005,510.6,466.8,974.5,776.4,658.7,590.5,559.20000000000005,535,489.2,1125.2,894.7,756.1,659.7,597,564.1,517.29999999999995,0.82840000000000003,1.0640000000000001,1.1846000000000001,0.64200000000000002,0.86829999999999996,0.99390000000000001,702.3,0.85440000000000005,0.77500000000000002,234.2,0.86229999999999996,0.621,69.7,695.8,"nor00001211",6.8520000000000003,3715,17.899999999999999,24.1,25.1,51.1,0,150]
["nor4858",4858,"NOR 6618","Kristina","ALBIN ALPHA","ALBIN MARINE","Peter Norlin",1985,null,"Oystein Kristoffer Nilsen","CLUB","C",437,"6/6/2016","21:48:58",8.94,7.3049999999999997,1.6759999999999999,2.83,3282,134.6,0.33,716.6,0.87250000000000005,773.7,0.60499999999999998,53.5,1162.5999999999999,952.1,826.8,745.7,700.5,678.1,655.6,1115.7,916.5,805.1,740.3,704.5,683.9,663.5,984,796.1,695.4,637.1,601.5,578.9,552.20000000000005,1031.2,829.4,720.2,656.3,617,592,563.20000000000005,1202.5,932.1,779.6,686.4,626.29999999999995,584.70000000000005,527.5,42.9,41.7,42.4,40.799999999999997,39.9,39.4,40.1,148.19999999999999,152.9,153.30000000000001,168,180,180,180,1205.5,1012.4,899.9,833.7,805.7,793,794.1,790.1,666.6,603.6,577.6,565.79999999999995,560.5,557.70000000000005,745.8,631,584.4,563,549.79999999999995,543,538.6,708.9,607.20000000000005,570.6,549.9,532.70000000000005,518.6,505.7,714.9,608.5,564.4,543.20000000000005,532.4,514.79999999999995,487.7,725.4,605.5,562.9,535.70000000000005,509.3,490.8,474.1,750.4,620.29999999999995,569.6,542.5,516.4,491.6,458.4,829.5,680.3,594.1,559.9,534.70000000000005,509.5,466.2,969.7,773.6,655.8,588.20000000000005,558,534.4,488.7,1119.7,891.8,753.6,657.7,595.4,563.20000000000005,517.1,0.82379999999999998,1.0624,1.1881999999999999,0.63839999999999997,0.8669,0.99960000000000004,702.2,0.85450000000000004,0.751,215.5,0.86119999999999997,0.61399999999999999,64.3,696.7,"nor00001512",6.86,3855,18.2,24.1,23.7,54.4,0,151]
["GER31388","GER2466","GER 2466","SANTA CATHARINA","ALBIN BALLAD","ALBIN MARINE","MAGNUSSEN",1972,"SV FREIBURG","WILLI DECKER","CLUB","C",420,"1/4/2016","09:10:08",9.1549999999999994,7.1289999999999996,1.571,2.94,3565,122.8,0.36,739,0.84030000000000005,803.3,0.56799999999999995,38.1,1208.0999999999999,992.6,864.7,778.3,725.5,696.5,666.1,1165,958.8,842.2,771.1,728.6,702.6,674,1020.1,823.5,717.2,654.5,615.5,590,559,1067.2,857.3,742.8,674.7,632.1,604.29999999999995,570.9,1247.4000000000001,965.7,805.5,706.3,641.20000000000005,595.70000000000005,533.4,44.6,43.9,44.5,43.5,42.3,41.4,40.9,148.30000000000001,152.19999999999999,151.80000000000001,160.1,180,180,180,1270.4000000000001,1070.8,956,880.2,841.5,820.5,805.9,821.4,695.4,622.29999999999995,588.4,572.6,564.6,558.79999999999995,772.4,652.29999999999995,596,570.4,554.9,545.4,537.79999999999995,730.8,620.70000000000005,577.9,555.4,537.6,522.5,505.3,732.9,622.5,579.1,552.1,538.1,520.79999999999995,493.4,763.3,627.9,573,543.9,518,498.2,480.8,786.1,641.9,579.1,548.9,522.9,498.9,465.9,856.9,700.3,604.5,565.6,539.6,515,474.3,992.3,793.1,671.4,597.70000000000005,564.4,540.4,496.7,1145.9000000000001,914.4,773.5,676.4,609.6,572.5,526.20000000000005,0.79330000000000001,1.0313000000000001,1.1680999999999999,0.61339999999999995,0.83150000000000002,0.97499999999999998,722.9,0.82989999999999997,0.69499999999999995,190,0.83460000000000001,0.57399999999999995,45.4,718.9,"GER20014046",6.4420000000000002,4122,18.399999999999999,17,34.1,63.4,0,152]
["GREF00407","GR49433","GRE-49433","TWEETY","ALBIN BALLAD","ALBIN MARINE","R. MAGNUSON",1972,"IO HALKIDAS","IOANNIS RITSONIS","CLUB","C",419,"19/5/2016","13:24:04",9.1549999999999994,7.1689999999999996,1.5720000000000001,2.94,3529,121.5,0.59,754.2,0.82650000000000001,816.7,0.54300000000000004,27.4,1248.9000000000001,1017.8,885.1,793.2,732.3,700,669.3,1206.0999999999999,986,862.5,784.9,735.9,706.9,676.2,1048.4000000000001,843.3,731.6,665.1,623.5,596.20000000000005,562.9,1104,882.9,761.3,688.3,642.20000000000005,611.79999999999995,574.9,1281.9000000000001,988.7,821.5,717.7,649.70000000000005,602.29999999999995,537.9,44.6,43.2,43.6,43.4,42.1,41.2,40.799999999999997,148.19999999999999,152.1,153.19999999999999,160.1,180,180,180,1328.9,1107.9000000000001,984.3,899.3,847.1,821.3,805.4,856,722.2,640.4,599.29999999999995,578.6,567.5,560.4,801.7,677.1,609.20000000000005,579.79999999999995,562.4,550,539.70000000000005,757.7,640.4,588.1,564.4,547,531.70000000000005,508.8,761.7,644.20000000000005,585.6,557,543.1,530.9,502.3,776,638.5,579.5,551.1,526.20000000000005,503.7,483.9,799.2,654.29999999999995,586.29999999999995,556,531.4,507.3,469.8,874.5,712.3,614.20000000000005,572.6,547.29999999999995,523.5,481.5,1012.4,804.6,683.1,606.1,571,547.6,504.3,1169,927.6,785.8,687.2,617.6,578.6,533.20000000000005,0.77029999999999998,1.0134000000000001,1.1576,0.59560000000000002,0.81589999999999996,0.96899999999999997,0,0,0.64700000000000002,158.69999999999999,0.8196,0,0,732.1,"GRE01006000",6.3410000000000002,4078,18.399999999999999,16.399999999999999,28.1,57.5,0,153]
["GRE000049","GR49954","GRE-49954","ESCAPE","ALBIN BALLAD","ALBIN MARINE","R.MAGNUSON",1972,"IOVATh","VOGIATZIS I. /  KLENDROU D.","CLUB","C",300,"8/9/2016","16:21:42",9.1549999999999994,7.2060000000000004,1.5860000000000001,2.94,3741,120.5,0.63,754.1,0.82399999999999995,819.1,0.54100000000000004,25.7,1249.8,1020.1,890.5,796.5,734.7,701.4,670.3,1206,988.5,866,786.8,737.3,708.5,677.8,1047,843,731.6,665.3,623.5,596.1,563.4,1104.0999999999999,883.3,761.7,688.5,642.20000000000005,611.70000000000005,575.1,1284.5,990.6,822.8,718.4,649.9,602.29999999999995,538.20000000000005,44.3,42.8,43.4,43.4,42.2,41.3,40.9,148.6,152.5,154.5,159.4,180,180,180,1320.4,1104.5,985.6,897.6,847,822.2,805.6,854.2,723.3,639.70000000000005,597.29999999999995,577.29999999999995,566.20000000000005,559,794.8,668.6,601.9,573.5,557.70000000000005,548.4,538.4,737.3,625,580.4,558.29999999999995,541.70000000000005,527.79999999999995,508.7,745.7,635,582.29999999999995,554.1,539,520.1,496.7,776.8,641,579.9,551.20000000000005,527.4,505.7,482.3,803.1,661.2,588.70000000000005,557,533.5,510.8,473.4,883,722.2,621.70000000000005,575.5,549.4,526.6,485.6,1021.3,812.3,692.3,611.79999999999995,573.29999999999995,549.4,507.8,1179.3,935.7,795.3,695.4,622.4,580.70000000000005,534.9,0.77159999999999995,1.0125,1.1577999999999999,0.59470000000000001,0.81230000000000002,0.96689999999999998,0,0,0.64400000000000002,157.5,0.81899999999999995,0,0,732.6,"GRE01006577",6.37,4300,18.7,16.600000000000001,27.5,49.8,52.6,154]
["GRE001011","GR583","GRE-583","JENY-MARI","ALBIN BALLAD","ALBIN MARINE","R.MAGNUSSON",1972,"NAO LAVREOTIKIS","D.VASILAKIS-K.HATZISTEFANOU","CLUB","C",280,"6/5/2016","18:14:10",9.1549999999999994,7.056,1.546,2.94,3283,115,0.28000000000000003,751.4,0.82179999999999997,821.3,0.55900000000000005,39.9,1235.4000000000001,1009.7,878.8,795.6,743.7,716.1,691.6,1191.8,976.8,858,788.8,748.3,724.3,702.6,1038.0999999999999,837.1,728.8,665.8,627.4,603.29999999999995,576.1,1084.8,870.3,753.7,685.1,642.9,615.9,584.5,1271.5999999999999,983.1,819.5,718.7,653.1,607.70000000000005,546.4,45,43.9,45,44.5,43.6,42.7,43.1,148.1,151.9,152.30000000000001,160,180,180,180,1305,1094.8,976.8,908.9,874.5,857.7,856.9,839.3,708.5,630.70000000000005,597.70000000000005,584.9,578.9,576.29999999999995,786.1,661.8,600.79999999999995,576,564.20000000000005,558,554,740.9,626,580.9,558.20000000000005,541.70000000000005,529.4,520.5,742.7,627,581.70000000000005,558.29999999999995,539.4,522.4,498.6,775.3,634.79999999999995,576.5,546.29999999999995,522.29999999999995,509.8,492.7,797.7,649.79999999999995,582.9,551.4,524.4,500.3,476,872.2,708.4,610.1,568.79999999999995,541.6,516,474.1,1009.6,801.8,678.2,602.20000000000005,567.1,542.1,496.7,1165.7,924.6,780.9,682.3,613,574.6,526.29999999999995,0.77949999999999997,1.0161,1.1411,0.60129999999999995,0.81499999999999995,0.9456,0,0,0.7,207.5,0.82030000000000003,0,0,731.4,"GRE01005844",6.2270000000000003,3832,17.899999999999999,17.399999999999999,33.299999999999997,60.4,0,155]
["ltuLT1280","GeraDien","LTU 1280","Gera Diena","ALBIN BALLAD","ALBIN MARINE","Rolf Magnusson",1971,"Lietuva","Ilona Luziene","CLUB","C",421,"30/7/2016","14:54:34",9.1199999999999992,7.1550000000000002,1.5660000000000001,2.94,3514,113.1,0.48,740.9,0.83909999999999996,804.5,0.56699999999999995,38.5,1214.8,995.6,866.5,778.7,725.8,697.3,667.9,1174.3,963.9,845.7,773.1,729.9,704,676.3,1023.5,825.8,718.8,655.9,617,591.70000000000005,561.5,1077.3,864.2,747.8,678.5,635.20000000000005,606.9,572.70000000000005,1251.3,968.2,807.2,707.7,642.6,597.5,536.29999999999995,44.5,43.8,44,43.3,42.1,41.3,41,148.19999999999999,152.1,151.80000000000001,161,180,180,180,1295.8,1085.7,966.9,886.3,845.6,824.2,811.4,835.5,705.7,628.9,592.5,575.6,567.70000000000005,562.29999999999995,782.5,660.2,600.29999999999995,573.5,557.79999999999995,548.70000000000005,542,737.5,625.4,580.5,557.9,540.4,526,510.1,739.8,627.70000000000005,577.70000000000005,554.9,540.6,524,496.6,754.2,622.5,570.9,542.4,517.5,502.3,485.2,777.3,635.79999999999995,576.79999999999995,547.29999999999995,521.5,497.6,469.5,847.8,692.7,600.9,563.79999999999995,538,513.6,472.6,982,785.1,665.2,594.5,562.5,538.70000000000005,495.1,1133.9000000000001,905.4,766.1,671.1,606,570.4,524.4,0.79039999999999999,1.0295000000000001,1.1645000000000001,0.61070000000000002,0.83040000000000003,0.97340000000000004,0,0,0.69,186.8,0.83299999999999996,0,0,720.3,"ltu00000625",6.4160000000000004,4066,18.399999999999999,17.899999999999999,30.3,63.6,0,156]
["nor9117",9117,"NOR 11573","Balluba","ALBIN BALLAD","ALBIN MARINE","Rolf Magnusson",1972,null,"Sten Magne Klann","CLUB","C",429,"3/5/2016","13:53:04",9.18,7.2149999999999999,1.5920000000000001,2.94,3813,124.3,0.63,760.1,0.82089999999999996,822.3,0.53,18.7,1265.0999999999999,1030.3,896.3,801.2,734.2,697.8,663.9,1224.3,1000.1,873.8,792,737.6,704.7,670.5,1061.5999999999999,852.1,737.1,668,624.1,595.1,559.6,1136.5,905.8,777.6,699.6,649.6,616.5,576.9,1295.5,997.9,827.3,720.7,650.5,601.5,535.5,44.5,42.9,43.2,43.6,42.2,41.4,40.5,148.19999999999999,152.30000000000001,153.30000000000001,159.1,180,180,180,1360.5,1131.4000000000001,1004.2,913.7,850.5,818.3,796.2,877.5,740.7,653,604.79999999999995,579.5,565,553.5,823.4,696.3,618.29999999999995,583.20000000000005,563.1,548.9,533.1,780.9,658.4,594.9,567.20000000000005,549,533.20000000000005,507.7,786.5,653.5,583.70000000000005,553.9,539.20000000000005,531.20000000000005,504.9,778.3,639.4,577.70000000000005,548.4,523.9,501.7,481.6,800.9,656.1,584.9,553.5,529.1,505.8,468.8,875.5,714.5,614.5,570.9,545,521.79999999999995,480.9,1012.9,806.1,685.2,606.20000000000005,569.4,545.6,503.4,1169.5999999999999,929.2,788.3,688.8,618,577.29999999999995,531.6,0.75919999999999999,1.0069999999999999,1.1613,0.58809999999999996,0.80810000000000004,0.97230000000000005,738.3,0.81269999999999998,0.61899999999999999,137.30000000000001,0.81430000000000002,0.53500000000000003,24.2,736.8,"nor00000954",6.2789999999999999,4374,18.8,16.899999999999999,25.5,58.9,0,157]
["nor7128",7128,"NOR 4016","Sterna Paradisea","ALBIN BALLAD","ALBIN MARINE","Rolf Magnusson",1971,null,"Pal Blomstrand Kristensen","CLUB","C",425,"24/5/2016","23:25:22",9.18,7.1369999999999996,1.571,2.94,3561,122.7,0.52,747,0.83389999999999997,809.4,0.55100000000000005,28.8,1232.5,1008.2,876.6,785,726.2,695.4,664.1,1192.0999999999999,976.7,855,778.2,730.1,701.8,671.2,1037.5,835,724.6,659,617.9,591,558.1,1100.5999999999999,880.2,758.8,685.7,639.4,608.9,571.70000000000005,1266.3,978,813.3,710.9,643.70000000000005,596.79999999999995,533.1,44.4,42.9,43.6,43.3,42.2,41.3,40.9,148.1,152.19999999999999,151.9,160.30000000000001,180,180,180,1319.4,1103,980.7,894.3,843.7,819,802.9,852.8,720.4,638.1,596.79999999999995,575.79999999999995,564.4,556.70000000000005,800.7,675.7,607.4,577.4,559.29999999999995,546.4,535.1,758.7,639.6,586.70000000000005,562.20000000000005,543.79999999999995,527.70000000000005,504.2,763.1,641.1,578.70000000000005,551.5,541.29999999999995,527,497.9,761.1,626.29999999999995,572.1,543.1,517.1,497.8,480.7,785,640.5,578.29999999999995,548.20000000000005,522.1,498.1,465.6,856.9,698.8,603.70000000000005,565.1,539,514.29999999999995,473.6,992.2,792.1,670.6,597.1,563.9,539.79999999999995,496,1145.7,913.4,772.5,675.6,608.70000000000005,571.79999999999995,525.29999999999995,0.7782,1.0228999999999999,1.1676,0.60250000000000004,0.82379999999999998,0.97629999999999995,728.1,0.82399999999999995,0.65800000000000003,163.4,0.82750000000000001,0.55700000000000005,36,725.1,"nor00001270",6.3559999999999999,4117,18.399999999999999,18.100000000000001,27.1,62.9,0,158]
["nor4713",4713,"NOR 5105","EIR IV","ALBIN DELTA","ALBIN MARINE","Peter Norlin",1983,null,"Truls Daae Starheim","CLUB","C",450,"2/5/2016","21:30:38",9.35,7.4809999999999999,1.726,2.83,3846,138.69999999999999,0.48,725.3,0.86499999999999999,780.4,0.58699999999999997,44.7,1181.0999999999999,967.2,843.3,754.6,702,676.4,649.70000000000005,1137.2,934.8,821.1,749.2,706.5,682.7,656.1,1000.3,807.8,703.8,642.79999999999995,605,580.5,550.5,1060.5999999999999,849.5,734.2,665.9,623.4,596,563.6,1220,944.7,788.6,692.6,630.20000000000005,587.1,527.9,42.8,41,41.8,41,39.6,38.799999999999997,38.700000000000003,148.30000000000001,153.19999999999999,154.4,166.4,180,180,180,1241.8,1040.9000000000001,928.3,847,805.4,787.2,778.1,816.7,692.3,617.79999999999995,584.9,568,559,553.5,773.8,654.79999999999995,596,570,554,543,534.6,739.7,626.70000000000005,580.70000000000005,558.20000000000005,540.9,525.70000000000005,504.5,728.6,609.20000000000005,565.1,542,532.79999999999995,522.70000000000005,494.8,728.1,607.79999999999995,564.4,538,513.1,492.4,475.4,753.5,623.29999999999995,571.6,545,521,497.2,461.7,831.8,685.4,598.1,562.6,538.20000000000005,514.5,472.4,970.3,775.8,660.9,591.70000000000005,560.6,537.70000000000005,494.1,1120.4000000000001,893.4,758.4,662.2,598.6,565.70000000000005,521.20000000000005,0.80969999999999998,1.0507,1.1868000000000001,0.62839999999999996,0.85580000000000001,1.0033000000000001,707.4,0.84819999999999995,0.70699999999999996,183.7,0.85250000000000004,0.59399999999999997,52.3,703.8,"nor00000918",6.8490000000000002,4438,19.2,26,17.8,54.2,0,159]
["nor8142",8142,"NOR 6291","Froya","ALBIN DELTA","ALBIN MARINE","Peter Norlin",1983,null,"Peder Pedersen","CLUB","C",450,"9/5/2016","20:54:20",9.35,7.4690000000000003,1.7270000000000001,2.83,3846,138.80000000000001,0.26,700,0.88800000000000001,760.2,0.63200000000000001,65.2,1122.2,928,810.1,734.9,691.6,669.2,644.5,1076.9000000000001,892.5,789.3,729.4,695.3,674.8,651.79999999999995,949.2,773.7,680.4,626.4,593.1,571.5,544.9,1000.3,808.5,705.4,645.29999999999995,608.20000000000005,584.1,555.29999999999995,1169.3,910.5,764.8,675.8,618.1,578.1,522.5,43.9,43.9,42.2,40.299999999999997,39.1,38.4,38.4,148.30000000000001,153.4,154.30000000000001,169.1,180,180,180,1150.4000000000001,979.2,874.8,817.3,790.6,776.8,772,744.2,630.9,586.79999999999995,570,560.5,554.9,550.20000000000005,691.5,598,567,552.5,543.29999999999995,538.1,531.20000000000005,640.4,577,551.70000000000005,533.79999999999995,519.79999999999995,511.9,501.9,637.6,578.79999999999995,553.70000000000005,533.5,514.4,498.2,480.8,712.7,600.70000000000005,560.9,534.6,509.4,490.1,464.4,739.6,614.9,567.70000000000005,541.6,517.29999999999995,493.7,459.9,814.3,672.4,592.4,559.1,534.70000000000005,510.8,469.2,947.4,761.2,650.20000000000005,586.5,557,534.1,490.3,1094,876.8,745.3,652.5,592.70000000000005,561.6,517.1,0.85599999999999998,1.0801000000000001,1.2028000000000001,0.65849999999999997,0.8821,1.0142,689.5,0.87019999999999997,0.79600000000000004,238.9,0.876,0.63700000000000001,72.5,684.9,"nor00001055",7.0730000000000004,4437,19.2,28,25.8,54.2,0,160]
["nor7063",7063,"NOR 5941","NN","ALBIN DELTA","ALBIN MARINE","Peter Norlin",1983,null,"Per Olav Lindstad","CLUB","C",451,"3/6/2016","21:11:14",9.35,7.4749999999999996,1.7290000000000001,2.83,3864,138.9,0.44,719.8,0.86909999999999998,776.7,0.59799999999999998,50.3,1168.9000000000001,959.1,834.9,749.1,701.7,677.9,652.9,1125.0999999999999,926,813.9,745.4,706.4,684.2,660.9,989.7,800.4,698.6,639.29999999999995,602.9,579.6,551.5,1041.7,837.3,726.3,661,620.70000000000005,594.79999999999995,564.5,1208.3,936.8,783.1,688.9,627.79999999999995,585.6,527.9,43.1,41.6,42.7,41.3,40.200000000000003,39.5,39.700000000000003,148.30000000000001,153.19999999999999,152.6,167,180,180,180,1229.7,1033,920.4,844.6,810.3,794.1,788.9,804.2,681.1,611,581.4,566.4,559.6,555.5,759.2,641.70000000000005,589.79999999999995,566,551.4,542.20000000000005,536.29999999999995,721.9,614.6,574.6,553.20000000000005,536.20000000000005,521.79999999999995,504.8,724.9,606.5,563.29999999999995,543,533.5,519.5,491.2,720.4,602.9,561.4,534.9,509.8,492.6,476.2,744.1,616.79999999999995,568,541,516,492,461.4,820.3,676.2,591.20000000000005,557.9,533.29999999999995,509.2,467.6,959.7,768.2,651.70000000000005,585.70000000000005,556.1,533.1,489.2,1108.0999999999999,885.2,749.4,653.6,593.20000000000005,561.6,517,0.81879999999999997,1.0578000000000001,1.1875,0.63439999999999996,0.86170000000000002,1.0007999999999999,703.4,0.85299999999999998,0.73099999999999998,201.5,0.85780000000000001,0.60599999999999998,59,699.5,"nor00001458",6.8630000000000004,4456,19.2,26.6,22.6,59.5,0,161]
["knw12420","NEDC483","NED 483","RACEBEVER","ALBIN NOVA","ALBIN MARINE","P.Brohal",1984,104617,"F.P.,Beverwijk","CLUB","C",545,"23/3/2016","14:41:00",9.81,8.58,1.71,3.16,4306,118,0.32,695.9,0.89680000000000004,752.7,0.58499999999999996,25.9,1166.9000000000001,942.2,814.6,725.9,675.1,647.9,621.79999999999995,1114.2,905.9,788.7,717.6,676.8,653.1,627.5,968.8,778.2,674.6,613.6,575.9,551.5,521.70000000000005,1013.6,810.2,699,633,592.1,565.6,534.5,1192.8,916,759,662.6,600.20000000000005,557.1,497.8,43.9,42.2,42.4,42,40.6,39.799999999999997,39.9,147.69999999999999,152.4,152.4,159.6,180,180,180,1209.5,1000.7,887,810.4,773.9,756.4,748.3,783.1,657.4,584.9,551.79999999999995,537.1,530.70000000000005,526,734.9,618.6,560.9,536.1,522.20000000000005,514.5,508.6,696,588.70000000000005,544.4,523.29999999999995,507,493.4,478.3,700.2,584.29999999999995,536.4,512.79999999999995,501.2,489.3,461.4,704.4,582.79999999999995,535.70000000000005,510,485.6,462.9,442.3,729.8,600.29999999999995,543.20000000000005,516.4,492.8,468.5,427.5,818.1,669.1,571.6,533.9,510.1,487,442.4,973.6,766.3,643.70000000000005,566,532.70000000000005,510.3,466.6,1124.3,883.8,742.1,641.5,576.20000000000005,539.29999999999995,495.4,0.83379999999999999,1.1003000000000001,1.2502,0.6401,0.88719999999999999,1.0467,681.4,0.88049999999999995,0.69799999999999995,157.30000000000001,0.88859999999999995,0.59399999999999997,36.700000000000003,675.2,"knw00004847",7.6859999999999999,5028,22.4,31.3,22.3,58.7,0,162]
["nor21237",21237,"NOR 5052","La Nova II","ALBIN NOVA","ALBIN MARINE","Peter Norlin",1981,null,"Stein Erichsrud","CLUB","C",533,"26/4/2016","21:15:22",9.8699999999999992,8.4649999999999999,1.6870000000000001,3.16,3967,123.8,0.31,700.8,0.8881,760.1,0.57399999999999995,19.899999999999999,1180.0999999999999,952.2,823.7,734.8,679.2,651.70000000000005,625.79999999999995,1130.8,918.9,800.2,726.4,682,657.4,630.6,978,784.6,679.3,616.9,577.9,552.6,521.5,1031.7,822.7,707.8,639.1,596.1,568,534.1,1203.7,923.8,764.5,666.3,602.20000000000005,557.70000000000005,496.1,44.6,43.1,43.1,42.7,41.2,40.4,40.9,147.4,151.80000000000001,153.4,159.69999999999999,180,180,180,1243.4000000000001,1026.5,908.1,826.9,781.6,764,757.6,800.2,669.5,593.1,556.1,538.5,530.5,525.6,748.8,628.9,566.1,539,523.29999999999995,513.20000000000005,506.3,707.6,596.1,547.9,525.4,508.2,492.9,473.5,705.4,584,536,510.8,496.6,487.5,459.4,704.8,581.9,534.79999999999995,508.3,482.4,458.2,435.1,730,598.9,542.20000000000005,515.1,491.3,467,423.3,814.1,666.7,573.4,534.5,509.9,485.8,439.9,967.1,761.1,642.20000000000005,567.1,533,509.9,464.5,1116.7,877.9,739.2,642.70000000000005,576.70000000000005,539.4,493.9,0.82579999999999998,1.0931999999999999,1.2490000000000001,0.6331,0.87819999999999998,1.0403,685.2,0.87570000000000003,0.68300000000000005,151,0.88229999999999997,0.58399999999999996,30.7,680.1,"nor00000660",7.4939999999999998,4673,21.7,29.3,20.8,55.7,0,163]
["nor666798",666798,"NOR 4254","Supernova","ALBIN NOVA","ALBIN MARINE","Peter Norlin",1971,null,"Eira Naustvik","CLUB","C",548,"26/4/2016","21:19:54",9.8699999999999992,8.6039999999999992,1.718,3.16,4414,126.2,0.33,698.7,0.8952,754,0.57399999999999995,18.8,1178.7,950.1,819.9,728.9,671.9,642.79999999999995,614.9,1127.3,914.7,794.5,719.7,673.9,647.79999999999995,618.6,976.7,783,677.3,614.4,575.1,549.29999999999995,517.5,1031.7,822.4,707,637.79999999999995,594.29999999999995,565.9,531.9,1201.4000000000001,921.2,761.6,663.3,599.5,555.4,495.4,44.1,42.2,42,41.9,40.200000000000003,39.200000000000003,39.1,147.5,152.19999999999999,152.30000000000001,159.19999999999999,180,180,180,1234.4000000000001,1017,897.9,815.7,767.3,746.2,734.1,799.2,669.8,592,554.9,536.6,527.1,520.6,750.9,631.79999999999995,566.79999999999995,539.20000000000005,523,512,502.8,712.7,600.70000000000005,549.9,527.1,510.4,495.4,473.5,705.6,584.79999999999995,536.29999999999995,511.9,498.5,489.7,464.2,704.1,582.1,535,509.4,484.9,461.5,439,728.7,599.1,542.4,515.79999999999995,492.7,468.7,426.9,816.5,668.6,571.6,533.79999999999995,510.1,487.1,442.7,972.6,765.7,643.6,566.1,532.70000000000005,510.4,467,1123.0999999999999,883.1,741.9,642,576.5,539.4,495.6,0.82609999999999995,1.097,1.2568999999999999,0.63419999999999999,0.88419999999999999,1.0552999999999999,681.3,0.88060000000000005,0.66900000000000004,135.6,0.88590000000000002,0.58299999999999996,28.2,677.3,"nor00000688",7.6529999999999996,5141,22.6,30.1,21.4,62,0,164]
["nor7648",7648,"NOR 4960","Mathilde R33","ALBIN NOVA","ALBIN MARINE","Peter Norlin",1981,null,"Morten Sollerud","CLUB","C",548,"26/4/2016","21:22:10",9.8699999999999992,8.6039999999999992,1.718,3.16,4414,126.2,0.26,693.9,0.8982,751.5,0.58499999999999996,24.3,1162.3,941.5,814.4,725.6,672.3,645.5,618.6,1117.7,908.1,791.4,719.2,675.5,650.70000000000005,622.9,966.3,776.1,672.8,611.70000000000005,573.70000000000005,548.79999999999995,518.20000000000005,1024.9000000000001,818.3,704.8,636.9,594.29999999999995,566.4,532.5,1187.5999999999999,913,756.7,660.4,597.70000000000005,554.20000000000005,494.4,44.4,42.7,42.8,42.5,41.1,40.1,39.700000000000003,147.1,151.80000000000001,150.4,159.6,180,180,180,1229.9000000000001,1018.2,902.9,821.9,776.6,757.2,747.3,793.4,666.5,590.9,554.70000000000005,537.20000000000005,528.9,523.20000000000005,743.7,626.6,564.70000000000005,538.1,522.6,512.5,504.8,703.8,594.20000000000005,547,525.1,508.5,493.7,473.7,694.2,577.20000000000005,532.5,510.1,500,490,461.2,689.7,572.6,530,504.3,479,458.7,439.7,716.7,587.1,536.6,510.3,485.5,460.7,423.3,809.5,651.6,560.70000000000005,527,503.3,479.3,434.5,948,749.2,628.9,556.6,526.4,504.1,459.6,1094.5999999999999,864.7,725.9,629.29999999999995,568.1,533.79999999999995,489.9,0.83640000000000003,1.103,1.2568999999999999,0.64170000000000005,0.88829999999999998,1.0511999999999999,678.7,0.8841,0.69499999999999995,154,0.89080000000000004,0.59399999999999997,34.5,673.5,"nor00000701",7.6029999999999998,5141,22.6,31.2,21.8,70.7,0,165]
["nor4717",4717,"NOR 5112","Tora","ALBIN NOVA","ALBIN MARINE","Peter Norlin",1981,null,"Tor Inge Miljeteig","CLUB","C",533,"2/5/2016","21:30:46",9.8699999999999992,8.4649999999999999,1.6870000000000001,3.16,3967,123.8,0.1,678.7,0.91420000000000001,738.3,0.61599999999999999,38.200000000000003,1122.7,912.4,789.6,711.4,667.8,644.79999999999995,620.6,1073.0999999999999,876.1,767.4,705.2,670.2,649.29999999999995,626.4,936.3,755.6,658.4,601.79999999999995,567,544.5,517,979,786.1,681.6,620.29999999999995,582.29999999999995,557.70000000000005,528.5,1153.7,890,740.9,649.70000000000005,590.4,549,491.5,44.4,43.2,43.7,42.2,40.9,40.799999999999997,41.1,147,151.69999999999999,150.30000000000001,160.80000000000001,180,180,180,1163,969.7,862.6,800.6,772.9,759.8,758,751.1,631.70000000000005,569.6,544.4,534.1,528.70000000000005,525.1,703.3,593.9,549,528.79999999999995,517.4,511.4,506.5,663.2,568.4,534.20000000000005,514.20000000000005,497.8,484.8,473.5,664.7,569.29999999999995,529,508.9,494.7,476.8,451.4,679.8,566.70000000000005,526.6,499.5,472.9,455.4,436.2,704.7,580.1,533,506,479.1,453.3,418.6,790.2,642.20000000000005,556,523.5,498.3,472.5,425.7,937.4,740.5,620.79999999999995,552.20000000000005,522.70000000000005,499,451.8,1082.4000000000001,855,716.6,622.20000000000005,562.70000000000005,529.79999999999995,483.3,0.86519999999999997,1.1236999999999999,1.2644,0.66339999999999999,0.90810000000000002,1.0522,667.9,0.89829999999999999,0.76800000000000002,201.1,0.90800000000000003,0.626,49.9,660.8,"nor00000919",7.7110000000000003,4673,21.7,32.700000000000003,27.4,68.599999999999994,0,166]
["nor5929",5929,"NOR 4673","Fredrikke II","ALBIN NOVA","ALBIN MARINE","Peter Norlin",1981,null,"Fredrik Foon","CLUB","C",548,"2/5/2016","21:31:26",9.8699999999999992,8.6039999999999992,1.718,3.16,4414,126.2,0.33,698.5,0.89339999999999997,755.5,0.58099999999999996,23.3,1168.5,945.3,819.9,732.1,675.3,646.70000000000005,619.79999999999995,1121.5,913.2,796.5,723.1,677.9,652.4,624.20000000000005,973.3,781.7,677.3,615.29999999999995,576.5,551.1,519.6,1028.5,820.7,706.2,637.6,594.29999999999995,566.1,532.79999999999995,1194.9000000000001,918.6,761.4,664.3,600.9,556.9,496.4,44.3,42.6,42.6,42.4,40.799999999999997,39.799999999999997,40,147.30000000000001,151.9,154.1,159.4,180,180,180,1232,1019,902.6,821,773.7,753.6,743.5,795.4,668,591.6,554.79999999999995,536.79999999999995,527.79999999999995,522,746.1,628.6,565.5,538.5,522.6,511.9,503.5,706.6,596.29999999999995,548,525.79999999999995,509.1,494,472.8,706.9,585.6,536.70000000000005,512,498,489.7,461.8,705.3,582.79999999999995,535.29999999999995,509.6,485.1,461.5,438.6,729.4,599.70000000000005,542.6,516.20000000000005,493.7,470.4,428.2,810.6,664.8,573.9,535,511.2,488.4,444,957,755.8,641,567.4,533.5,511.1,467.9,1105,871.6,737.2,643.20000000000005,577,539.9,496.1,0.83009999999999995,1.0955999999999999,1.2524,0.63870000000000005,0.88239999999999996,1.0485,682.3,0.87929999999999997,0.68799999999999994,150.4,0.88539999999999996,0.58899999999999997,32.799999999999997,677.7,"nor00000921",7.61,5141,22.6,30.1,21.4,57.2,0,167]
["nor21312",21312,"NOR 5164","Frida","ALBIN NOVA","ALBIN MARINE","Peter Norlin",1986,null,"Mats Uchermann Larsson","CLUB","C",533,"24/5/2016","23:26:52",9.8699999999999992,8.4659999999999993,1.6870000000000001,3.16,3974,123.8,0.23,688.8,0.9022,748.1,0.59299999999999997,27.2,1152.4000000000001,933.4,806.6,720.6,671.9,647.29999999999995,621.5,1108.0999999999999,899.9,784.8,715.4,675,652,626.5,957.5,769.6,667.8,607.9,570.79999999999995,546.70000000000005,516.70000000000005,1016.1,811.7,699.7,633.1,591.6,564.6,533.20000000000005,1177.5999999999999,905.7,751.3,656.2,594.5,551.6,492.7,44.5,43,43.2,42.5,41.2,40.4,40.799999999999997,146.9,151.5,150,160.4,180,180,180,1220.0999999999999,1010,895.4,817.9,780,764,758.7,786.2,658.6,586.1,552.5,537,530.29999999999995,526,736,618.4,560.9,535.79999999999995,521.29999999999995,512.70000000000005,506.8,695.3,587.5,543.70000000000005,522.20000000000005,505.1,490.2,473.7,685.1,571.4,529.5,506.7,488.9,480.7,456.1,681,567.29999999999995,526.79999999999995,499.8,473.3,456.3,426.9,707.7,580.70000000000005,533.20000000000005,506.2,479.4,453.7,419.2,801.2,643.1,556.29999999999995,523.70000000000005,498.6,472.8,426.1,939.3,742,621.6,552.6,523,499.5,452.4,1084.5999999999999,856.9,717.7,623.29999999999995,563.79999999999995,530.5,484.2,0.84460000000000002,1.1108,1.2611000000000001,0.6472,0.89429999999999998,1.0486,675,0.88890000000000002,0.71899999999999997,170.5,0.89690000000000003,0.60299999999999998,38.299999999999997,669,"nor00001278",7.5670000000000002,4680,21.7,31.4,21.1,70.099999999999994,50.4,168]
["nor7299",7299,"NOR 3771","Undas","ALBIN NOVA","ALBIN MARINE","Peter Norlin",1981,null,"Petter Staal","CLUB","C",533,"14/6/2016","21:39:06",9.8699999999999992,8.4649999999999999,1.6870000000000001,3.16,3967,123.8,0.04,676.1,0.9163,736.7,0.622,41.4,1115.0999999999999,907.2,785.6,710.9,667.4,644.29999999999995,621.6,1060.7,868.5,762.4,703.2,669.6,649.1,627.79999999999995,929.8,751.6,656.1,600.6,566.5,544.5,517.9,962.2,774.8,673.7,614.70000000000005,578.29999999999995,554.79999999999995,526.6,1148.7,886.8,739,648.70000000000005,590,549.1,491.7,44.3,43.8,43.6,42,40.799999999999997,40.5,41,147.19999999999999,152,151.30000000000001,161.19999999999999,180,180,180,1135.7,951.8,847.8,795,769.5,756.9,757.7,734.5,619.29999999999995,562.9,541.79999999999995,533,528.29999999999995,525.29999999999995,688.3,584.4,544.29999999999995,526.1,516.70000000000005,511.2,506.7,649,561.20000000000005,530.29999999999995,510.8,495.1,483.8,474.5,649.79999999999995,561.79999999999995,530,507.5,490.9,473.2,450.8,684.7,569.70000000000005,528.4,501.6,474.7,454.2,434.9,709,584.20000000000005,535.1,508.4,482.6,457.1,418.1,791.2,648.70000000000005,560.4,526.6,501.8,476.4,429.9,947.8,747.2,627.29999999999995,556,525.5,502,455.2,1094.4000000000001,862.6,723.4,626.79999999999995,565.29999999999995,531.70000000000005,485.6,0.87180000000000002,1.1263000000000001,1.264,0.66759999999999997,0.91059999999999997,1.0521,666.5,0.9002,0.78200000000000003,210,0.90980000000000005,0.63,52.6,659.5,"nor00001616",7.76,4673,21.7,33,31.5,63.1,0,169]
["GER141564","GER6540","GER 6540","SAGITTA","ALBIN STRATUS","ALBIN MARINE","NORLIN",1982,null,"TILLMANN FRANK","INTL","C",530,"1/4/2016","10:15:44",10.765000000000001,8.5519999999999996,1.861,3.28,6237,126.8,0.45,682.8,0.90920000000000001,742.4,0.61499999999999999,40.1,1119.9000000000001,919.1,801.3,719,670.4,643.1,617.5,1075.7,886,778.5,711.7,672.6,649.29999999999995,625.20000000000005,941.8,760.6,662.6,605,569.6,546.79999999999995,519.79999999999995,993.1,797.2,690.2,626.6,586.9,561.1,530.5,1155.3,893.8,745.1,653.29999999999995,593.70000000000005,552.5,497.1,44.2,42.8,43.7,43.2,41.9,41.1,40.9,147.30000000000001,151.9,151.4,158.5,180,180,180,1175.7,989.9,884.7,811.4,775.5,756.9,746.8,761.7,647.5,577.20000000000005,544.20000000000005,529.29999999999995,522.79999999999995,518.29999999999995,715.9,607.70000000000005,552,527.70000000000005,514,506.6,501,678.5,577,535.1,514.4,499.3,487.4,474.1,680.9,578.79999999999995,529.4,506.9,497.1,485.1,460.9,690.2,571.70000000000005,525.29999999999995,500.7,479.9,465.1,447.5,710.3,586.20000000000005,531.70000000000005,505.7,484.1,463.5,436.2,780.5,643.70000000000005,556.6,521.4,499,478.5,440.9,921.5,735,622.5,552.1,520.9,499.9,462.2,1064,848.3,717.9,626.6,565.29999999999995,529.20000000000005,488.2,0.85880000000000001,1.1166,1.2598,0.66210000000000002,0.89890000000000003,1.0542,668.1,0.89810000000000001,0.745,184.9,0.90280000000000005,0.623,47.8,664.6,"GER20014206",7.6619999999999999,6951,24.7,33,34.9,85.7,70.2,170]
["knw","nedo2506","NED 2506","Deel II","Albin VEGA","ALBIN MARINE","Per Brohall",1965,207982,"Dhr. Lodewijk Cornelissen","CLUB","C",396,"23/3/2016","14:32:04",8.25,7.0629999999999997,1.1539999999999999,2.44,2300,116.9,0.38,800.5,0.77210000000000001,874.3,0.47599999999999998,-3.6,1391.5,1112,951.6,844.9,771.7,738,713.2,1355.4,1085.4000000000001,935.1,841.5,780.3,748,720.2,1135.4000000000001,903,774.8,698,650.20000000000005,619.79999999999995,585.9,1225.4000000000001,967.7,823.3,735.5,680.1,644.70000000000005,607,1395.4,1063.3,872.5,753.8,676,622.29999999999995,551.1,46.5,45.4,44.9,45.3,44.8,43.9,44.2,148.30000000000001,151.6,150.80000000000001,159.6,179.9,180,180,1568.4,1271.2,1110.7,1003.4,924.7,896.9,898.6,991.1,812.7,711.5,644.1,605.4,592.29999999999995,589.79999999999995,913.9,756.3,662.8,609.79999999999995,582.20000000000005,568.9,564.70000000000005,852.6,708.9,624.79999999999995,587,564.70000000000005,546.79999999999995,528.20000000000005,809.8,658.7,589.29999999999995,565.1,554.79999999999995,543.70000000000005,509,783.6,639.5,580,548.79999999999995,520.5,504.3,483.5,814.5,653.20000000000005,586.20000000000005,553.70000000000005,524.20000000000005,495.5,461.1,908.3,722.2,612.9,571.5,543,514.4,461.7,1052,825.8,686.7,605.4,570,543.70000000000005,492,1214.7,952.8,792.4,686.4,618.70000000000005,579.1,527.79999999999995,0.70740000000000003,0.96399999999999997,1.1162000000000001,0.53920000000000001,0.76319999999999999,0.91569999999999996,777.4,0.77180000000000004,0.55200000000000005,113.1,0.77439999999999998,0.48799999999999999,9.6,774.8,"knw00004800",5.7460000000000004,2817,17.3,15.5,13.3,47.5,0,171]
["knw","nedo3340","NED 3340","Lyra","Albin VEGA","ALBIN MARINE","Per Brohall",1965,9550824,"Hans Hentzepeter","CLUB","C",419,"18/5/2016","14:18:24",8.25,7.2110000000000003,1.1659999999999999,2.44,2494,111.6,0.39,792.4,0.78090000000000004,864.3,0.49399999999999999,7.6,1358.5,1089,937.7,835.2,768.9,737.2,712.8,1317.8,1060.8,918.1,830.2,776.2,747.4,721.1,1116.5,890.9,767.2,693.8,648.5,620,588.1,1176.0999999999999,933.7,799.5,719.1,669,637.20000000000005,601.79999999999995,1371.7,1048.5,863.8,749.4,674.7,623.1,553.6,46.7,45.5,45.1,45.7,44.5,43.7,43.8,148.4,152,153.19999999999999,160.1,180,180,180,1495.7,1220.7,1072.4000000000001,973.2,912.3,889.9,890,943.8,780.1,685.9,626.5,599.4,591.5,589.29999999999995,870.1,725.9,640.29999999999995,597.70000000000005,576.9,569.5,566.5,810.4,679,608.70000000000005,577.6,558,543.29999999999995,533,811,667,594.29999999999995,566.6,556.70000000000005,538.6,507.5,796.3,651,586.9,556.6,529.6,509.3,488.8,822,667.3,594.1,561.6,534.79999999999995,507.1,467.3,913,731.8,624,579.20000000000005,552,525.6,474.4,1057.7,830.2,697.5,614.6,577,552,502.7,1221.3,957.3,803,697.2,625.4,584.5,535.6,0.72070000000000001,0.9718,1.1141000000000001,0.55159999999999998,0.77239999999999998,0.91710000000000003,772.9,0.77629999999999999,0.58499999999999996,136.69999999999999,0.78190000000000004,0.50800000000000001,24.2,767.4,"knw00005317",5.96,3043,18,16.7,18,43.5,0,172]
["GRE000416","GR2329","GRE-2329","NIDANIK II","ALBIN VEGA 27","ALBIN MARINE","PER BROHAEL",1973,"NAO LAVRIOU","AGGELOPOULOS DIMITRIOS","CLUB","C",250,"7/4/2016","12:22:26",8.2449999999999992,7.2839999999999998,1.206,2.44,2789,110.4,0.44,867.6,0.71540000000000004,943.5,0.42199999999999999,-19.399999999999999,1549.8,1212.5999999999999,1027,908.6,835.3,791.1,758.1,1487.6,1177.2,1005.5,898.7,834.7,800.7,775.5,1247.3,984.6,838.4,750.7,696.5,662.9,627.9,1247.3,984.6,838.4,750.7,696.5,662.9,627.9,1543.5,1162.8,945.1,810.8,723.9,665.1,589.79999999999995,47.4,46.2,45.8,46.3,45.8,45.1,45.3,167.6,168.1,169.1,170,170.4,171.7,175.4,1605.8,1295.0999999999999,1130.0999999999999,1021.7,964.3,941.5,941,1007,821,718.5,647.9,621.1,611.79999999999995,609.9,921.4,760.2,664.8,610,590.29999999999995,583.9,581.1,852,708.4,624.29999999999995,585.9,566.6,556.1,550.79999999999995,854,710.6,626.1,587.1,564.79999999999995,547.5,527,932.1,757.1,653.20000000000005,597.79999999999995,570.5,550.6,511.3,998.7,797.7,683.3,612.9,579.29999999999995,558.1,519.4,1137.9000000000001,886.9,751.3,660.7,605.70000000000005,577.1,538.9,1323.6,1010.7,837.5,729.5,651.70000000000005,603.4,557.6,1493.8,1130.2,923.9,795.6,706.3,640.79999999999995,575.20000000000005,0.64100000000000001,0.89510000000000001,1.0446,0.48870000000000002,0.70679999999999998,0.85470000000000002,0,0,0.48799999999999999,91.1,0.71809999999999996,0,0,835.6,"GRE01005528",5.7789999999999999,3367,18.7,14.7,20.7,0,0,173]
["GRE001041","GR1696","GRE-1696","ONEIRO","ALBIN VEGA 27","ALBIN MARINE","Per Brohall",1973,"NO RAHON","ANDREAS BESSAS","CLUB","R",400,"2/6/2016","12:28:32",8.2449999999999992,7.0830000000000002,1.1539999999999999,2.44,2300,118.1,0.39,795,0.77800000000000002,867.6,0.48199999999999998,-1.4,1376.8,1099.0999999999999,942.5,837.7,770.5,736.5,709.5,1333.5,1069,921.5,830.9,775.7,745.4,717.8,1126.3,896.2,769.5,693.8,646.79999999999995,616.9,583.1,1182.0999999999999,936.3,799.8,717.7,666.3,633.4,596.1,1384.8,1055.3,866.6,749.5,672.8,619.6,547.5,46.9,45.7,45.4,45.9,44.7,44.1,44.5,148.30000000000001,151.5,152.69999999999999,158.80000000000001,180,180,180,1509.1,1226.8,1073.3,971.4,910.9,887.1,884.8,951.2,782,684.7,624.4,596.20000000000005,587.29999999999995,584.4,876.3,726.6,639,595.1,573,564.70000000000005,561,815.2,678.9,606.9,574.5,553.4,536.9,524.29999999999995,816.1,675.8,596.29999999999995,563.6,551.5,532.6,500.1,811,658.3,587.9,555.29999999999995,526.79999999999995,502.4,480.8,837.8,675.3,595.79999999999995,560.70000000000005,532.4,504.2,458.4,929.9,740.6,628.70000000000005,579.6,550.70000000000005,523.20000000000005,471.5,1077.8,842.1,704.6,618.4,577.4,550.9,500.3,1244.5,971.5,811.6,704,630.20000000000005,585.79999999999995,534.29999999999995,0.71309999999999996,0.97050000000000003,1.1207,0.54530000000000001,0.76910000000000001,0.91849999999999998,0,0,0.56799999999999995,123.5,0.78010000000000002,0,0,769.2,"GRE01006142",5.9050000000000002,2818,17.3,15,20.2,42.1,0,174]
["nor666922",666922,"NOR 15379","Magnolia","ALBIN VIGGEN","ALBIN MARINE","Pelle Brohall",1970,null,"Svein Bjortomt","CLUB","C",338,"20/4/2016","20:28:14",7.1,6.13,0.999,2.27,1511,98.6,0.39,874.7,0.70269999999999999,960.6,0.433,-6,1527.4,1218.0999999999999,1043,926.3,848.8,815.7,795.3,1489.8,1192.5,1027.4000000000001,925.6,861.6,829.8,807.5,1242,986.9,846.2,762.5,710.9,678.8,645.29999999999995,1310.8,1036.7,884.2,792.4,735.3,699.6,662.2,1528.8,1163.7,954.1,823.6,738.1,678.8,599,48.2,47.5,47.4,47.3,46.9,46.2,46.9,148.80000000000001,152.30000000000001,153.1,167.6,180,180,180,1726.9,1401.4,1226.5,1110,1031.8,1007.5,1023.2,1077.7,880.8,772.1,698.8,658.7,647.6,650,982.3,810.5,711.3,655.1,627.70000000000005,617.4,615.79999999999995,906.1,752.2,666.6,627.29999999999995,603.79999999999995,585.4,571.1,894.7,724,641.79999999999995,609.5,597.79999999999995,579,543.6,867.1,702.1,631.29999999999995,596.6,564.1,539.9,517.5,897.5,718.2,638.1,601.70000000000005,569.20000000000005,537.79999999999995,493.2,997.3,790.8,668.5,620.5,588.70000000000005,557.20000000000005,500.6,1150,898,746.8,657.3,617.4,588.20000000000005,531.5,1327.9,1034.8,859.6,742.7,665.9,624,567.4,0.64659999999999995,0.88329999999999997,1.0185999999999999,0.49170000000000003,0.69579999999999997,0.82679999999999998,850.5,0.70540000000000003,0.51300000000000001,123.9,0.70860000000000001,0.44600000000000001,9.8000000000000007,846.7,"nor00000556",4.875,1950,13.7,10.9,16,36.299999999999997,0,175]
["knw4798","ned_4983","NED 4983","HINDER","ALC 46","Le Comte","Bell L.",1974,101728,"W.,de Baat","CLUB","R",710,"23/3/2016","14:17:52",14.06,10.255000000000001,2.0990000000000002,3.72,12035,133.69999999999999,0.69,686.1,0.89490000000000003,754.3,0.56000000000000005,0.5,1176,947.6,821.9,734.8,677.3,638.5,603.79999999999995,1132.5,917.6,799,724,675.7,644.79999999999995,613.79999999999995,965.2,771.7,664.8,600.5,559.79999999999995,533.29999999999995,503.1,1004.4,800.5,687.2,618.4,574.4,545.4,511.4,1193,912.1,750.6,649.6,583,536.9,476.2,47,45.2,44.9,46.1,45.8,44.9,44.1,147.80000000000001,151.6,151,153.69999999999999,162.69999999999999,179.6,180,1258.4000000000001,1037.3,925.1,847.2,795,764.8,741.2,793,665.2,591.5,538.20000000000005,511.6,499.5,490.7,731.7,620.5,548,506.9,487.9,479,471.4,682.7,579.1,515.4,486.7,471,460.1,447.6,678.8,576.1,513.20000000000005,486,470.4,458.1,438,707.6,582.5,508.1,476.8,457.9,444.8,431.9,730.4,595.20000000000005,515.5,480.7,460.8,443.6,417.3,806.8,649.4,549.5,497.8,473.1,455.5,422.9,947,743,622.70000000000005,542.79999999999995,497.2,474.4,442.3,1093.5,858,718.7,622.4,559.5,512.20000000000005,466.3,0.83279999999999998,1.1194,1.2963,0.63570000000000004,0.87980000000000003,1.0627,668.3,0.89770000000000005,0.66300000000000003,128.5,0.90059999999999996,0.56599999999999995,6.4,666.2,"knw00004720",8.234,12991,37.299999999999997,27.8,63,120.2,0,176]
["ESP102721","E10272_C","ESP-10272_C","PARATI","ALEKSTAR 25","KOMPAN MARINE","A TARANENKO",2005,"R.C.N.CADIZ","SALVADOR LOPEZ GILABERT","CLUB","S",480,"11/3/2016","05:47:36",7.62,7.2679999999999998,1.758,2.48,1237,111.8,0,684.9,0.90259999999999996,747.8,0.56499999999999995,0,1154.3,925,793.1,723.1,675.8,649.5,613.70000000000005,1101.5999999999999,885.7,769.2,704.6,664.4,637.29999999999995,595.70000000000005,955.7,767.4,664.6,602.29999999999995,561.1,531.4,488.6,999.5,798.3,687.9,621.29999999999995,577.9,547,502.8,1177.2,902.5,746,648,581.1,530.79999999999995,454.2,43.9,42.6,41,38.6,36.799999999999997,35.9,35.5,145.80000000000001,147.69999999999999,148.1,152.5,177,178.4,177.4,1195.2,973.3,847.1,780.9,749.7,734.7,724.3,773,638.20000000000005,581.6,555.20000000000005,539.5,529.9,521.20000000000005,722,607.4,565.5,538.4,516.1,504.2,492.9,677.4,586.9,551.29999999999995,518.70000000000005,486.1,463.3,445.2,677.1,582.29999999999995,540.4,497.9,475.9,445.9,402,685.6,582,540,495.6,449.3,407.1,365.4,722.9,594.1,549.9,508.2,464,418,336.6,815.9,653.9,574.79999999999995,538,497.9,456.9,372.1,964.2,759.2,640,580.29999999999995,548.4,517.70000000000005,445.2,1113.4000000000001,876.7,739,665.3,602,564.4,503.2,0.84670000000000001,1.1141000000000001,1.3008,0.64929999999999999,0.89829999999999999,1.0503,674.6,0.88949999999999996,0.746,190.3,0.90380000000000005,0.59799999999999998,32.9,663.8,"ESP00017020",7.29,1786,12.4,21.9,12.5,0,35.299999999999997,177]
["CLU110691","I11069","ITA-11069","STARRING","ALMARINE/STARRING","ALMARINE","SQUARCI",1987,"LNI SESTRI PONENTE","TUBINO PIETRO","CLUB","C",625,"8/4/2016","18:59:20",12.535,10.893000000000001,2.5219999999999998,4.21,8363,120.5,0.03,597.20000000000005,1.0367,651.1,0.71399999999999997,47,973.6,796.1,692.2,631.20000000000005,600.9,570.4,539,926.4,759.2,666.1,613.70000000000005,584.1,562.20000000000005,535.79999999999995,819.2,663.2,579.70000000000005,531.20000000000005,501.1,480.9,455,864.7,695.2,602.79999999999995,547.79999999999995,513.1,490,461.2,1008.2,780.4,651.9,573.29999999999995,522,486.2,436.4,43,41.8,41.8,39.6,38.1,37.299999999999997,35.9,144.1,147.9,147.6,148.9,151.5,173.3,176.2,980.3,821,726.8,674,647.79999999999995,633.29999999999995,617.5,641.79999999999995,543,493.7,473.8,464.3,458.7,453.2,605.4,515.70000000000005,479.7,462.6,452,445.7,439.3,574.29999999999995,497.4,469.1,452.1,438.3,426.5,415,576.79999999999995,498.6,470,453,438,423.3,400.4,615.9,510,469.9,447.3,426.5,410.6,393.6,635.4,524.9,477,453.2,432.3,411,378.3,707.4,578,502.8,469.7,448.8,428.6,389.6,837.4,667.9,569.5,509.6,481.9,462.5,432,966.9,771.2,657.7,588.4,553.9,507.4,460.4,0.99009999999999998,1.2728999999999999,1.4301999999999999,0.76280000000000003,1.0263,1.1920999999999999,585.5,1.0246999999999999,0.90700000000000003,222.6,1.0308999999999999,0.72,53.8,582,"CLU00019238",10.355,9392,32.5,43.2,58.6,0,124.4,178]
["nor21769",21769,"NOR 1661","Mistress","ALO 28","Alo Yachts","Alf Ortang",1972,null,"Jarl Ronning","CLUB","C",418,"22/4/2016","09:08:42",8.76,7.141,1.784,2.57,3606,133.4,0.64,762.7,0.82299999999999995,820.2,0.53100000000000003,21.6,1272.5999999999999,1032.4000000000001,894.7,796,731.1,696.2,662.4,1226.7,998.1,868.5,785.7,733.2,702.2,667.2,1066.4000000000001,855.2,739.4,670.2,626.70000000000005,598.20000000000005,563.20000000000005,1126.5,898.4,772.1,695.8,647.20000000000005,615.1,576,1301.9000000000001,1001.2,829.4,722.9,653.5,605.70000000000005,541.79999999999995,43.8,42,42.1,42.2,40.5,39.4,38.4,148.19999999999999,152.30000000000001,152.4,158.69999999999999,180,180,180,1344.9,1114.5,986.9,894.3,835.9,807.2,783.9,873.9,736.5,649.4,604.1,581.79999999999995,569.20000000000005,559.29999999999995,822.7,694.6,619,586,567.5,554.4,541.29999999999995,781.9,659,598.1,572,554.5,539.5,515.29999999999995,788.1,660.3,590.20000000000005,561.79999999999995,550.20000000000005,539.9,511.7,787.3,646.79999999999995,584.9,556.5,532.79999999999995,511.7,492.6,812,663.7,592.1,561.6,538,514.79999999999995,478,898.6,728.6,621.70000000000005,578.29999999999995,553.4,531,489.2,1039.5,824.6,696.5,613.70000000000005,577.1,554.20000000000005,512.79999999999995,1200.3,950.4,802.5,697.7,626.20000000000005,585.29999999999995,541,0.75549999999999995,1.0048999999999999,1.1546000000000001,0.5857,0.81089999999999995,0.97509999999999997,740.1,0.81069999999999998,0.61199999999999999,131.5,0.81279999999999997,0.53700000000000003,28.2,738.2,"nor00000589",6.3579999999999997,4152,18.5,15.8,23.7,52.7,0,179]
["nor7497",7497,"NOR 9841","Mee Ran","ALO 96 MS","Alo Yachts","Finn Moller",1983,null,"hugo Sandstrand","CLUB","C",509,"19/4/2016","16:58:52",9.4949999999999992,8.0079999999999991,1.6419999999999999,3.14,4925,115.5,0.57999999999999996,731.1,0.84809999999999997,795.9,0.56899999999999995,35.6,1213.7,985.8,858.1,768.7,718,691.4,669.8,1166.9000000000001,952.8,834.2,763,723.1,700.8,681.2,1013.6,815.7,708.8,646.6,608.9,585.5,559.70000000000005,1057.5,847.6,733.2,665.8,624.6,598.79999999999995,570.70000000000005,1245.0999999999999,959.5,797.6,698.3,634.20000000000005,590.20000000000005,531.1,44.3,42.6,43.1,43.6,42.7,42.5,42.5,148.69999999999999,153.80000000000001,153.69999999999999,161.1,180,180,180,1274,1062.0999999999999,950.6,875.4,842.2,826.6,826.2,822.6,696.6,618.9,580.20000000000005,565.9,559.79999999999995,557.1,772,654.6,588.1,560,546.70000000000005,541.20000000000005,538,731.7,619.5,567.79999999999995,544.6,529.29999999999995,518.4,509.9,735.6,611.70000000000005,557,537,528.20000000000005,513.6,490,733.8,607.79999999999995,555.29999999999995,529.4,506.8,490.8,474.7,759.4,626.1,563,535.29999999999995,512.70000000000005,490.2,459.8,855.7,695.3,592.4,552.1,528.4,506.6,465.9,998.9,790.1,665,584.79999999999995,550.29999999999995,528.1,487.1,1153.4000000000001,909.5,765.6,661.9,593.79999999999995,556.29999999999995,513.4,0.79730000000000001,1.0466,1.1757,0.61380000000000001,0.8397,0.97829999999999995,718.4,0.83520000000000005,0.69599999999999995,187,0.84460000000000002,0.57799999999999996,47,710.4,"nor00000468",6.9130000000000003,5598,23.8,30.1,25.3,62.1,0,180]
["nor667039",667039,"NOR 2223","Slor","ALO MIKKEL 26","Alo Yachts","Freddy Mikkelsen",1977,null,"Jan Monrad Eriksen","CLUB","C",442,"12/8/2016","11:34:46",7.7,7.3650000000000002,1.627,3.12,2725,108.9,0.42,884.2,0.71740000000000004,941,0.39200000000000002,-45.2,1597.2,1240.2,1042.5999999999999,915.2,822.6,756.6,691.5,1542.1,1209.3,1024.4000000000001,904.3,818.6,760.6,704.8,1296.5999999999999,1014.6,854.1,753.8,687.9,643.1,588.79999999999995,1296.5999999999999,1014.6,854.1,753.8,687.9,643.1,588.79999999999995,1583.3,1186.8,957.2,812.7,716.8,650.6,566,45.5,44.4,43.6,43.4,43.2,42.1,41.3,167.3,169.2,179.8,179.9,179.9,179.9,180,1653.2,1318.7,1139.8,1019.8,926.9,865.1,811.5,1052.9000000000001,850.9,741.5,663.2,610.9,584.20000000000005,559.70000000000005,976.5,797.7,695.7,625.20000000000005,586.4,566.1,541,915.8,753.8,656.1,598.20000000000005,569.6,551.1,521.29999999999995,928.7,762.1,662.2,601.6,570.29999999999995,549.5,513.20000000000005,1016.9,812.7,697.4,620.1,579.9,557,519.79999999999995,1085.9000000000001,854.2,728,641.5,591.20000000000005,564.6,526.79999999999995,1216.7,937.5,787.3,689.5,620.5,581.70000000000005,540.20000000000005,1363.9,1036.0999999999999,855.4,743.4,662.2,606.5,554.20000000000005,1541.3,1161.8,945.4,810.7,718.3,648.1,571.4,0.61339999999999995,0.87980000000000003,1.0835999999999999,0.4758,0.70189999999999997,0.90159999999999996,844.7,0.71030000000000004,0.42599999999999999,26.4,0.71,0.39500000000000002,-42,845.1,"nor00001826",5.827,3306,17.100000000000001,13.5,13.5,0,0,181]
["GREF00538","GR1465","GRE-1465","TAK","ALOA 27","ALOA MARINE","FINOT",1992,"ASIATh RODOU","TSIRIGAS GEORGIOS","CLUB","C",434,"20/4/2016","13:32:02",7.9349999999999996,7.1020000000000003,1.5049999999999999,2.92,3183,111.6,0.6,819.9,0.76149999999999995,886.4,0.46800000000000003,-2.2999999999999998,1410.4,1126.8,972.1,865.5,786.5,738.5,707.9,1370.3,1101,952.2,857,791.3,748.3,719.9,1162.7,925.6,794,714.3,663.7,630.70000000000005,593.5,1241.2,981.6,836,746.8,689.4,651.70000000000005,609,1422.3,1085.5,892,771.1,691.4,636.6,565.4,46,44.6,43.9,43.9,43.7,42.1,41.7,148.5,152.30000000000001,155.80000000000001,168.9,180,180,180,1561.3,1267.5,1112,1005.2,925.5,874.6,860.8,990.7,817.4,720,652,614.9,595.5,586.70000000000005,918.2,766.5,673.9,620.29999999999995,594.4,578.20000000000005,565.70000000000005,861.9,723.5,639,599.79999999999995,578.70000000000005,562.70000000000005,536.6,857.4,701.1,615.20000000000005,580.20000000000005,561.70000000000005,554.29999999999995,531.79999999999995,835.2,684.6,607.4,574.9,549.70000000000005,524.6,497,859.1,701.7,615.6,579.79999999999995,555.20000000000005,530.1,486.2,945.3,761.4,650.70000000000005,598,570.5,546.6,500.7,1090.8,856,723.9,637.70000000000005,595.1,570.1,525.5,1259.5999999999999,986.2,832.2,725.8,647.6,602.4,555,0.69079999999999997,0.93910000000000005,1.0981000000000001,0.53210000000000002,0.74750000000000005,0.91339999999999999,0,0,0.52900000000000003,96.4,0.75790000000000002,0,0,791.6,"GRE01005694",5.758,3753,17.600000000000001,13.7,19.600000000000001,46.2,0,182]
["GREF00862","GR49340","GRE-49340","CONCETTA","ALOA 27","ALOA MARINE","Frans Maas",1978,"IO KERKYRAS","TZORZOPOULOU MARIA","CLUB","C",440,"11/4/2016","23:10:02",7.9349999999999996,7.149,1.5269999999999999,2.92,3441,112.5,0.63,791.6,0.7863,858.5,0.50600000000000001,18,1332.5,1075.7,932.2,833.1,766.5,732.4,703.9,1287.4000000000001,1044.2,909,824.6,771.5,741.4,711.8,1107.5999999999999,887.7,767.2,695.5,650.9,622.20000000000005,589,1157.3,923.3,794.2,716.8,668.2,636.79999999999995,600.4,1358.2,1042.5999999999999,862.5,750.9,678.1,627.9,560.5,45.6,44.1,43.9,44.5,43.2,41.9,41.4,148.6,152.6,154.4,159.9,180,180,180,1424.2,1176.5,1043.0999999999999,951.8,893.3,867.3,856.4,908.3,763,674.5,624.29999999999995,600.20000000000005,591.1,586.70000000000005,846.7,715.5,636.4,601.1,581.79999999999995,571.9,566.6,797,673.5,610.5,583.6,565.5,550.6,534.6,800,677,608.79999999999995,576.4,561.1,549,519.79999999999995,815.9,670.7,600.9,570.20000000000005,545.20000000000005,521.1,498.7,838.6,686.9,607.9,575.20000000000005,550.70000000000005,525.9,484.2,931.3,750.8,639.79999999999995,592.4,566.1,542.29999999999995,497.5,1074.7,846.5,714.4,628.9,590,566,521.9,1240.9000000000001,975,821.3,714.3,639.6,597.5,551.4,0.72740000000000005,0.96899999999999997,1.1096999999999999,0.56059999999999999,0.77610000000000001,0.9244,0,0,0.59799999999999998,143.9,0.78200000000000003,0,0,767.3,"GRE01005595",6.0359999999999996,4019,18,15.2,27,51.2,0,183]
["CLU144621","I14462","ITA-14462","ANTIGUA 1?","ALPA 11.50","ALPA","SPARKMAN & STEPHENS",1967,"LNI ISOLA D'ISCHIA","TISCIONE MASSIMO","CLUB","C",320,"10/10/2016","18:23:08",11.568,8.8930000000000007,1.865,3.16,6054,128.19999999999999,0.44,694.1,0.8871,760.9,0.57799999999999996,19.899999999999999,1170.2,946.3,820.7,738.9,687.9,653.70000000000005,624.29999999999995,1122.9000000000001,912.8,796.1,726.9,685.7,659.1,633.70000000000005,969.4,777.2,672.6,611,573.20000000000005,549.1,521.9,1010.7,806.4,694.3,627.6,586,559.1,527.79999999999995,1194.2,916.5,758.3,660.5,596.9,553.29999999999995,496.1,45.5,44,45,44.7,43.6,42.8,42.5,147.1,150.69999999999999,151.80000000000001,154.4,170.9,180,180,1224,1015.7,901.8,835.2,799.1,777.9,766.3,782.5,656.2,577.5,543.5,529,521.79999999999995,516.5,729.6,611.20000000000005,544.4,519.1,508.6,502.9,497.8,685.8,573.1,522.6,500.9,487.5,479.8,472.7,686.5,573.4,522.9,500,483.9,470.6,452.6,729.7,593.1,524.4,495.1,477.5,468.2,451.5,751.3,610.4,532.4,499.7,476.9,456.4,437.1,825.6,667.8,567,518,492.3,470.8,431.6,966.8,759.7,641.20000000000005,561.6,517.5,493.6,454,1116.4000000000001,877,739.6,642.6,576.6,529.5,482.4,0.83169999999999999,1.1052,1.2556,0.63780000000000003,0.87580000000000002,1.0365,677,0.88619999999999999,0.70099999999999996,163.5,0.88959999999999995,0.58099999999999996,23.5,674.5,"CLU00020589",7.6429999999999998,6784,26.3,26.8,45.3,78.2,0,184]
["ITA49641","I4964","ITA-4964","ALBATROS","ALPA 12.70","ALPA","SPARKMAN & STEPHENS",1969,"S.V.M.M.","SPORT VELICO MARINA MILITARE","INTL","C",655,"9/3/2016","09:18:52",12.646000000000001,9.8130000000000006,2.1480000000000001,3.47,9660,130.19999999999999,0.41,652.5,0.94469999999999998,714.5,0.63100000000000001,31.4,1080.7,885.1,771.3,694.3,647.29999999999995,615.9,587.70000000000005,1038.7,852.6,747.7,684,645.5,620.70000000000005,595.5,903.7,728.1,632.9,577,542.4,520.20000000000005,494.6,944,757.4,655.20000000000005,594.20000000000005,555.9,530.79999999999995,500.8,1111.5999999999999,857.8,713.1,623.6,565.20000000000005,525.1,472.5,45.2,43.6,44.7,44.3,43.1,42.1,41.6,146.6,151,150.30000000000001,154.6,169.4,180,180,1131.5,951.1,848.9,784.6,748.2,727.4,712.7,726.6,617.20000000000005,546.1,513.9,500.4,493.4,487.4,680.3,576.1,517.20000000000005,493.7,483.1,477.3,471.8,641.29999999999995,541.9,498.7,479,466.1,457.5,450,639.70000000000005,540.29999999999995,498.4,478.6,464.2,452,433.2,676.1,553.9,496.9,471.9,457.2,448.9,434,694.3,567.79999999999995,503.1,475.8,455.9,437.9,420.8,762,620.4,530.79999999999995,491.1,469.3,450.7,415.9,891.9,709.3,600.79999999999995,528.5,491.6,471.1,436.7,1029.9000000000001,819.1,693.6,604,546.5,504.3,462.8,0.89380000000000004,1.1705000000000001,1.3245,0.68669999999999998,0.93220000000000003,1.1008,639.1,0.93889999999999996,0.76300000000000001,175.7,0.94410000000000005,0.63700000000000001,38.299999999999997,635.6,"ITA00018348",8.5289999999999999,10538,32.4,38.1,62.6,120.3,0,185]
["GRE000464","GR1339","GRE-1339","SARAVA","ALPA 34","ALPA","SPARKMAN & STEPHENS",1970,"SEANATK","ELISSAVET BENOU","CLUB","C",350,"22/3/2016","09:57:52",10.06,8.0960000000000001,1.827,3.15,5154,126.7,0.47,723,0.86170000000000002,783.3,0.57099999999999995,30.7,1205.2,976.8,846.7,756.8,703.5,675.4,650.70000000000005,1163.9000000000001,946.7,825.1,750.2,706.7,682.3,659.2,1007.6,808.7,700.6,637.20000000000005,598.6,574.29999999999995,547,1077.5,858.4,737.5,665.4,620.5,591.9,559.20000000000005,1231.2,947.7,786.5,687.3,623.20000000000005,579.70000000000005,522.70000000000005,44.6,42.9,43,43.5,42.3,41.7,41.7,147.4,151.30000000000001,151.5,157.80000000000001,180,180,180,1297.9000000000001,1071.7,947.8,862.1,820.3,802.1,797,835.9,702,616.6,573.6,555.79999999999995,549.1,545.6,783.4,660,585.5,554.29999999999995,538.5,531.5,527.4,742.1,623.5,565.29999999999995,539.6,522.79999999999995,510.3,498.7,746.8,616,555.70000000000005,541,524.29999999999995,508.8,483.3,732.7,600.79999999999995,547,519.9,503.6,493.3,477,753.9,615.5,553.20000000000005,524.20000000000005,500.2,479.6,460.8,824.8,672.6,579.1,540.70000000000005,516.1,493.2,453.1,963.4,764.1,646.6,573.20000000000005,539.9,517.20000000000005,475.6,1112.5,881.8,745.5,651.5,586.6,548.70000000000005,504.3,0.80079999999999996,1.0606,1.2000999999999999,0.61870000000000003,0.85250000000000004,1.0026999999999999,0,0,0.68200000000000005,166,0.85650000000000004,0,0,700.5,"GRE01005274",7.048,5862,23.5,24.1,33.5,85,0,186]
["CLU171211","I17121","ITA-17121","SQUILLA MANTIS","ALPA SUPERMAICA","ALPA","ILLINGWORT",1968,"LNI LA SPEZIA","CERATI RICCARDO","CLUB","C",500,"9/3/2016","10:54:46",10.96,7.8239999999999998,1.78,2.74,5500,134.5,0.39,709.2,0.86439999999999995,780.9,0.625,66.2,1138.0999999999999,939.9,827.7,758.8,715.4,692.5,662.3,1096.7,908.5,808.5,753.1,721.2,702.2,671.7,966,784.4,688.4,633.9,601.4,581,555.70000000000005,1007.6,813.8,710.2,650.4,614.1,590.9,562.29999999999995,1183.7,921.9,774.6,684.6,626.29999999999995,585.9,530.1,44.2,43.4,44.7,43.7,43.1,42.9,42.6,147.80000000000001,151.9,151.9,159.1,180,180,180,1192.5999999999999,1013,920.4,873.5,849.8,840,821.6,773.4,657.9,596,575.20000000000005,565.9,560.5,554,726.9,615.70000000000005,567.29999999999995,551.4,543.9,539.9,535.70000000000005,685.8,584.70000000000005,548.1,530.1,520,514.70000000000005,510.3,686.1,584.29999999999995,546.9,527.70000000000005,512.4,500,489,719.7,593.6,543.79999999999995,520.79999999999995,510.2,500.1,484.7,739.5,607,549.79999999999995,522.70000000000005,500.7,486.7,470.6,806.7,661.6,573.9,538,515,493.7,456.2,938.3,751.2,637.79999999999995,568.4,537.1,515.6,476.4,1083.4000000000001,866.7,734.9,644.20000000000005,581,545,503.1,0.84130000000000005,1.0708,1.1817,0.64970000000000006,0.85880000000000001,0.98270000000000002,705.1,0.85099999999999998,0.82599999999999996,278.39999999999998,0.86470000000000002,0.63100000000000001,77.7,693.9,"CLU00018649",6.835,6085,24.6,28.5,42.2,80,0,187]
["ESP464001","E4640_C","ESP-4640_C","ALOPEX III","ALTAMAR 41","UDONDO",null,1970,"R.C.N.PALMA","JOSE IGNACIO ECHEGARAY DEL POZO","CLUB","C",400,"16/3/2016","23:48:38",12.3,9.3209999999999997,2.2160000000000002,3.65,9256,118.1,0.67,706.4,0.88290000000000002,764.5,0.55900000000000005,11.1,1193.2,964.9,836.4,747.2,682.5,641.1,604.29999999999995,1151.0999999999999,935,814.3,736.8,682.6,646.9,610.6,990.6,793.5,684.8,619.20000000000005,577.29999999999995,549.5,516.20000000000005,1066.2,848.1,726.1,651.1,602.29999999999995,569.4,529.4,1214.5,932,769.8,668.6,602.1,556.4,497,44.8,42.9,42,42.5,42.5,41,39.4,147.30000000000001,151.19999999999999,150.5,154.5,171.6,180,180,1293.5,1063,941.8,857.5,789.8,749.6,717.2,830.2,697.8,619.9,562.70000000000005,534.9,519.5,505.9,775.6,658.7,582.20000000000005,539.9,519.4,506.1,491.1,732.7,624.70000000000005,554.20000000000005,524.1,506.9,494.2,474,725,602.4,534.29999999999995,510.3,501.9,495.3,473.5,709.6,588.6,528.1,501.7,483.2,470.1,456.3,731.2,603,533.70000000000005,505.2,485.5,467.2,441.7,801.1,657.5,561.1,520.4,498.2,480,445.2,946.3,750.8,633.29999999999995,557.9,520.5,499.9,466.5,1092.7,866.9,731.1,636.9,575.20000000000005,532.6,491.5,0.81220000000000003,1.085,1.2583,0.62560000000000004,0.86660000000000004,1.0585,685.2,0.87570000000000003,0.63500000000000001,112.3,0.87639999999999996,0.56299999999999994,14.4,684.6,"ESP00017188",7.6929999999999996,10083,30.1,26,41.1,112,104.5,188]
["knw639.","NED_2425","NED 2425","VLIETER","Alu 35","Aluboot","D.Koopmans",1977,137808,"Dhr. Evert Lagerweij","CLUB",null,565,"23/3/2016","14:32:10",10.595000000000001,8.625,1.8420000000000001,3.24,6445,133.9,0.35,691.2,0.89649999999999996,752.9,0.61,41.4,1133.0999999999999,927.5,809.7,731.3,681.8,653,626.79999999999995,1088.7,894.7,786.7,722.1,683.3,659.3,634.5,953,769.5,670.6,612.79999999999995,577.20000000000005,554.4,527.6,995.1,799.4,693,630.20000000000005,591.1,565.70000000000005,535,1169.5,904.6,754.4,661.8,601.6,560.1,504.1,45,43.5,44.5,43.7,42.3,41.3,41.1,147.4,151.5,152.30000000000001,157.1,180,180,180,1179.3,992.6,887.7,823.1,787.9,768.8,758,759.9,645.5,576.1,547.79999999999995,535.70000000000005,529.4,524.70000000000005,713.6,604.9,551.9,530.20000000000005,518.9,512.9,507.9,675.5,574.20000000000005,535.70000000000005,516.1,502,490.9,480.4,676.8,575,536.1,516.4,500.9,486.8,464.3,716.3,589.20000000000005,535.1,509.1,488.2,474.5,459.3,736.9,604.5,541.29999999999995,513.6,491.8,470.7,443.8,806.8,659.5,567.70000000000005,529.1,506.1,485.4,447.2,941.2,747.4,635,561.6,528.29999999999995,507,468.7,1086.8,862.3,731.7,639.5,575.70000000000005,537.20000000000005,495.5,0.84950000000000003,1.103,1.2422,0.6552,0.88649999999999995,1.0379,676.5,0.88690000000000002,0.748,194.3,0.89139999999999997,0.61499999999999999,48.1,673.1,"knw00004801",7.6040000000000001,7197,25.2,28.3,48.9,89.3,0,189]
["knw2700","NEDC1369","NED 1369","STUIVER","ALU 980","ALUBOOT, HINDELOOP","D KOOPMANS",1977,123562,"J.,Hart","CLUB","C",548,"23/3/2016","14:36:50",10.039999999999999,8.4459999999999997,1.8759999999999999,3.16,7206,122.7,0.72,744.4,0.83609999999999995,807.4,0.52600000000000002,6.8,1259.9000000000001,1017.1,882.7,789.8,719.8,677.6,639.9,1216.3,986.3,858.7,776.5,719.9,684.5,647,1046.5,837.3,721.6,651.6,606.9,577.29999999999995,542.20000000000005,1106.8,880.8,754.6,677.2,627.20000000000005,593.6,553.1,1282.7,983.2,811.1,703.5,632.6,583.70000000000005,519.20000000000005,45.2,43.4,42.8,43.7,43.3,42.1,40.9,147.9,151.80000000000001,153.6,155.6,173.3,180,180,1348.3,1111.3,986.2,900,832,795.5,764.9,863.5,726.4,644.29999999999995,587,556.9,541.70000000000005,529.79999999999995,806.9,684.9,604.79999999999995,561.5,539.70000000000005,526.5,513.29999999999995,762.3,648,575.5,543.70000000000005,526,512.9,492.6,766.2,649.29999999999995,567.4,533.6,520.4,513.29999999999995,490.1,765.6,632.79999999999995,558.29999999999995,527.79999999999995,507.3,489.1,470.7,788.4,648.5,566.5,532.20000000000005,511.3,492.4,458.1,874.7,706.6,601.79999999999995,550,524.70000000000005,505.6,469.9,1014.5,800.2,676.7,592.5,549,525.70000000000005,490.8,1171.5,922.9,779.2,679.5,607.70000000000005,559.70000000000005,514.9,0.76790000000000003,1.0306999999999999,1.1982999999999999,0.59289999999999998,0.82099999999999995,1.0014000000000001,721.3,0.83179999999999998,0.60499999999999998,115.3,0.83220000000000005,0.53100000000000003,11.7,721,"knw00004826",6.9749999999999996,7933,25.7,22.2,34.799999999999997,78.3,0,190]
["ESP103341","E10334_C","ESP-10334_C","AINA","AMEL 37","AMEL","AMEL",1974,null,"BRI DEGASES BARCELONA SL","CLUB","C",450,"23/6/2016","09:30:18",11.21,10.27,1.625,3.11,6880,131.19999999999999,0.44,731.9,0.84189999999999998,801.7,0.47099999999999997,-43.5,1350.2,1051.5999999999999,883.2,775.5,700.9,653.29999999999995,611.20000000000005,1302.2,1018.7,859.9,760.6,696.3,657.4,619.5,1068.9000000000001,837.2,706.6,626.70000000000005,575.9,542.79999999999995,504.3,1120.2,874.3,734.9,648.9,593.6,557.29999999999995,515.79999999999995,1324.5,991.1,798.3,677.8,598.9,544.9,475.2,48.1,47.1,46.4,46.5,46.5,45.4,44.3,148.19999999999999,150.5,150.9,154.4,159.9,175.9,180,1482.9,1170.4000000000001,1002.2,894.1,818.3,778.8,752.7,924.7,736.3,634.20000000000005,565.20000000000005,521.6,503.7,493.2,838.2,676.1,584.20000000000005,524.4,493.7,480.9,473.1,766.7,625.20000000000005,541.79999999999995,496.5,475.3,462.3,447.5,764.6,624,536.29999999999995,489.1,472.1,460.5,435.3,767.7,613.70000000000005,524.5,482.5,461,442.4,419.6,794.2,631.5,537,488.5,465.2,446.1,407.1,904,698.8,582.70000000000005,514.20000000000005,480.1,460,421.2,1054.5,807.7,662.3,571.79999999999995,512.6,481.1,444.1,1217.5999999999999,932.7,764.3,656.9,583.5,527.79999999999995,469.8,0.74409999999999998,1.0654999999999999,1.2802,0.56210000000000004,0.82740000000000002,1.0394000000000001,704.8,0.85140000000000005,0.51900000000000002,43.3,0.85099999999999998,0.47499999999999998,-39.4,705,"ESP00018481",7.9240000000000004,7788,32.700000000000003,21.8,32.299999999999997,70,0,191]
["GRE000054","GR1089","GRE-1089","FLAME","AMEL EUROS 41","AMEL","AMEL",1973,"NOTK","KERAMOPOULOS ANTONIS","CLUB","C",400,"15/6/2016","14:25:46",12.2,10.276,1.6220000000000001,3.11,6748,121.3,0.42,756,0.82340000000000002,819.8,0.45400000000000001,-44.8,1397.6,1080.3,903.3,789.6,713.6,668.1,628.20000000000005,1337.5,1043.9000000000001,879.7,775.4,708.3,671.4,639.20000000000005,1108.0999999999999,866,729.4,645.9,593,559.1,522.1,1108.0999999999999,866,729.4,645.9,593,559.1,522.1,1373.6,1024.0999999999999,822.9,697.9,616.70000000000005,561.9,492.8,47.7,46.3,45.7,45.5,46.2,45.2,44.8,169.5,170,170.7,171.5,172.2,172.2,176.4,1435.9,1137,976.7,872.1,804.9,777.2,767.2,899.6,719.6,621.1,554.4,518.6,508.1,503.3,821,664.4,575.5,518.5,495.8,486.3,481.4,758.5,619.4,536.6,497.9,477.8,465.1,454.2,761.6,621.79999999999995,538.5,499.2,478.3,460.5,438.1,834,664.2,567.70000000000005,510.2,484,465.5,431.8,899.7,708.2,600.5,528.6,494.3,473.5,439.7,1038.5,799.2,667,582,522.29999999999995,492.4,456.3,1205.0999999999999,913.1,748.2,644.20000000000005,571.6,519.29999999999995,472.2,1359.3,1023.7,830,707.2,622.29999999999995,559.1,489.2,0.71740000000000004,1.0330999999999999,1.2436,0.54479999999999995,0.81059999999999999,1.0158,0,0,0.501,39.200000000000003,0.82689999999999997,0,0,725.6,"GRE01006229",8.07,7663,32.700000000000003,25.9,28.4,0,0,192]
["CLU88081","I8808","ITA-8808","PURCHIPETOLA","AMPEX 30 HALF TON","BIASI C.NAUTICHE","GERMAN FRERS",1977,"C.V.FIUMICINO","REGA DOMENICO","CLUB","C",480,"7/10/2016","17:52:08",9.1199999999999992,7.4820000000000002,1.708,3.08,3751,109.8,0.38,716.9,0.87319999999999998,773,0.60699999999999998,54.4,1154.5,949.8,829.8,747.7,700.3,675.7,649.9,1112.9000000000001,917.8,808.6,741.7,703.3,680.9,656.6,983,796.3,696.1,637.5,601.4,578,549.79999999999995,1034.0999999999999,832.4,723,658.5,618.5,592.5,560.9,1197.9000000000001,930.6,779.5,686.7,626.29999999999995,584.4,526.70000000000005,43.5,42.3,43.1,41.4,39.799999999999997,39,38.9,148.19999999999999,152.19999999999999,153.4,162.80000000000001,180,180,180,1208.9000000000001,1018.9,909.1,835.2,802.4,786.1,779.1,789.2,670.6,605.6,577.4,563.4,557.1,553.1,744.3,632.79999999999995,585.9,562.79999999999995,548.20000000000005,540.29999999999995,535,707.9,608.20000000000005,571.20000000000005,550,532.79999999999995,518.6,504.3,712.2,611.4,569.9,545,534.1,517.20000000000005,489.8,734.9,611.29999999999995,565.5,538.20000000000005,513.1,493.1,476.5,755.2,624.29999999999995,571.5,543.4,518.79999999999995,494.8,460.2,823.1,677.6,594.79999999999995,559.9,535.1,511.2,469.1,952.8,763.9,653.6,588.70000000000005,558.29999999999995,535.29999999999995,491.9,1100.2,880.7,750.5,660.2,598.29999999999995,565.29999999999995,520.70000000000005,0.82499999999999996,1.0602,1.1907000000000001,0.64149999999999996,0.86529999999999996,1.0042,701,0.85599999999999998,0.75,212.4,0.86119999999999997,0.61699999999999999,65.099999999999994,696.7,"CLU00020583",6.9379999999999997,4362,18.899999999999999,19.5,31,62.4,0,193]
["CAN077/16","USA97703","USA 97703","Artemis","Andrews 53","Westerly","Andrews",1990,"CANADA","Tom Muir","CLUB",null,2421,"21/9/2016","17:13:44",52.68,45.72,8.4779999999999998,13.92,21269,127,0,512,1.1964999999999999,564.20000000000005,0.78700000000000003,22.7,860.5,692.7,599.4,546.1,514.20000000000005,493,460.6,815.7,658.6,577.20000000000005,532.79999999999995,505,485.3,451.1,708.4,570.70000000000005,496.7,453.3,425.6,405.9,376.6,747.3,599.29999999999995,518.5,470.2,439.1,417.6,388.4,881.4,676.8,561.1,490.1,443.3,410,361.9,45,44.3,42.3,40.200000000000003,39.1,38.4,37.700000000000003,142.30000000000001,142,145.19999999999999,153.1,159.30000000000001,176,180,868.6,712.6,636.5,599,576.29999999999995,565.6,548.1,555.1,459.7,426.4,413.5,406,401.4,392.2,514.20000000000005,434.5,410.9,399.9,392.6,386.8,377.5,478.4,417.9,395.3,379.7,369.2,362.1,353.1,476.1,416.9,392.4,370.6,352.8,341.5,329,524.79999999999995,434.2,397.9,377.9,360.4,346.8,313.10000000000002,550.1,443.2,403.2,375.1,351.9,337.4,307.8,617.29999999999995,490,424.9,395.9,369.4,342.5,289.10000000000002,738.2,582.70000000000005,487,429.2,400.4,376.2,326.60000000000002,852.4,672.8,562.4,493.1,452.1,420.4,373.1,1.1455,1.4891000000000001,1.6977,0.86919999999999997,1.1881999999999999,1.3885000000000001,0,0,1.022,208.9,1.2009000000000001,0,0,499.6,"CAN00071208",13.182,24606,456.9,752.3,960.8,0,2105.1999999999998,194]
["GER140596","GER5500","GER 5500","BROADER VIEW HAMBURG","ANDREWS 56","DENCHO","ANDREWS",1992,"20457 HAMBURG","HAMBURGISCHER VEREIN SEEFAHRT","INTL","C",850,"22/4/2016","08:36:40",17.14,15.021000000000001,2.746,4.4000000000000004,11046,126.6,0,508.7,1.2085999999999999,558.5,0.75900000000000001,4.0999999999999996,877.9,700.9,597.6,538.1,503.4,480,448.1,831.6,664.6,573.20000000000005,523,493.1,471.7,440.1,715.1,571.1,492.7,446.2,416.7,396.3,367.8,756.5,601.4,515.79999999999995,464.3,431.1,408.3,378.8,888.7,677,556.70000000000005,482.7,434.3,400.5,354.1,45.2,44.5,43.4,40.9,39.299999999999997,38.299999999999997,37.200000000000003,142.6,141.4,144.19999999999999,151.1,156.9,168.6,180,886.8,719.2,628.29999999999995,583.20000000000005,558.70000000000005,543.6,526.79999999999995,566.4,462.1,415.5,400.1,392,386.5,379.6,524.79999999999995,432.7,399.7,386.9,378.6,372.8,365.8,488.5,413.1,387,369.4,357.2,349.3,340.2,487,412.6,385.7,364.9,346.1,331.9,317.2,539.4,438.3,392.9,369,352.9,338.2,310.60000000000002,565.1,449.2,398.2,371.6,347.3,329.1,305.39999999999998,631,498.2,422.9,389.8,365.4,340.2,290.7,752.5,591.1,491,427.5,394.4,372,326.10000000000002,868.9,682.6,567,493,448.1,416.5,369.4,1.1283000000000001,1.5104,1.742,0.85509999999999997,1.1993,1.4244000000000001,497.7,1.2056,0.93100000000000005,151.9,1.2134,0.76800000000000002,11.9,494.5,"GER11001288",14.067,12735,47.6,72.7,83.3,188,162.4,195]
["FIN01499","L-1499","FIN-1499","Minnamari","Antilla 36","AA Boat","SPARKMAN & STEPHENS",1976,"EPS","Tapani Juva","INTL","C",500,"20/5/2016","15:32:30",10.757999999999999,7.9189999999999996,1.7909999999999999,3.26,4629,125.2,0.13,685.8,0.90369999999999995,746.9,0.63700000000000001,58.2,1103.8,910.5,793.7,723.2,679.7,657.2,632.9,1057.2,874.5,772.9,716,683.2,663.3,641.20000000000005,936.3,760,666,611.6,578.4,557.1,531.5,975.3,787.6,686.5,627.6,591.20000000000005,567.70000000000005,539.79999999999995,1147.4000000000001,892.1,748,659.8,602.4,562.4,506.7,43.2,42.7,43.2,42,41.1,40.6,40.6,147.80000000000001,152.80000000000001,153.1,164.9,180,180,180,1131.5,961.7,860,810.8,785.9,773.8,770.7,741.9,629,574,553,543.5,538.29999999999995,535.5,699.9,596,555.79999999999995,537.6,526.29999999999995,520.20000000000005,515.79999999999995,664.6,574.4,542.29999999999995,522.79999999999995,507.3,494.4,483.7,668.6,576.4,540,520.29999999999995,504.6,488.3,465.4,694.7,579.9,538.6,511.9,487.1,470.9,455.7,719.3,594.9,545.5,518.79999999999995,494,471.3,442.3,794.3,654.20000000000005,571.20000000000005,536.9,512,488,448.6,931.9,745.1,632.6,565.9,535.20000000000005,511.8,468.7,1076,859.2,727.3,635.70000000000005,573.4,540.5,495.1,0.86670000000000003,1.1067,1.2343999999999999,0.67020000000000002,0.89829999999999999,1.0326,0,0,0.81399999999999995,241,0.89590000000000003,0,0,669.8,"FIN00012952",7.351,5329,22.5,34.1,33.6,69.8,0,196]
["knw25228","nedc7943","NED 7943","Never ready","ANTRIM 27","La Selva Beach CA.","Antrim",2001,4028244,"L.,Spierings","CLUB","S",360,"23/3/2016","13:19:20",8.4580000000000002,7.61,1.8149999999999999,2.82,1142,105.4,0,597,1.0214000000000001,660.9,0.68400000000000005,21.8,963.1,779,695.2,652.79999999999995,618.29999999999995,585.70000000000005,519.20000000000005,926.9,757.4,678.4,634.4,601.1,573.20000000000005,532.5,815.2,662.9,580.9,531,496.6,469.7,425.9,888.2,713.9,619,561.70000000000005,523.70000000000005,495.6,453.6,1000.2,777.4,651.29999999999995,571.4,514.9,470.5,400.2,44.1,42.2,39.5,38.200000000000003,37.299999999999997,37.200000000000003,37.299999999999997,143.19999999999999,147.5,155.69999999999999,161.69999999999999,150.80000000000001,146.5,144.19999999999999,1035.4000000000001,839.7,767.7,739.8,724.5,717.1,709.2,668.8,563.6,535.79999999999995,521.9,512.29999999999995,502.2,491.4,623.9,544.29999999999995,512.70000000000005,495.7,485,474.9,461.3,590,528.70000000000005,480.3,456.7,443.2,434.6,412.9,577.4,523.29999999999995,480.5,431.7,407.3,393.3,377.1,574.1,503.3,458.9,428.2,402,374.8,321.89999999999998,587.5,514.29999999999995,451.5,412.4,384.9,357.6,311.60000000000002,648.9,546.79999999999995,490.8,435.5,379.9,330.1,280.2,771.5,622.1,545.6,493.6,441.7,393.5,285.2,890.9,718.3,622.79999999999995,565.79999999999995,512.20000000000005,454.3,329.3,0.99860000000000004,1.2623,1.4694,0.77490000000000003,1.0092000000000001,1.1863999999999999,597.70000000000005,1.0039,1.024,304.39999999999998,1.0313000000000001,0.70699999999999996,47.8,581.79999999999995,"knw00004385",7.88,1683,14.4,32.1,12.4,0,63.7,197]
["FRA16009a","F37763","FRA-37763","LETTY","APHRODITE 101","BIANCA YACHTS","ELVSTROM/KJAERULFF",1979,"33290 Parempuyre","SEZE Olivier","CLUB","C",400,"28/1/2016","16:57:38",9.9039999999999999,8.2490000000000006,1.756,2.44,3316,133,0.23,683.8,0.90820000000000001,743.2,0.97099999999999997,212.6,1103.3,903.6,784.5,717,678.8,658.6,623.6,1058.9000000000001,868.8,767.4,713.2,682.6,662.9,626.6,931.5,756.3,663.9,611.29999999999995,579.5,558.5,529.6,1007.3,807.7,700.3,638.20000000000005,600.5,576,544.6,929,744.6,645.29999999999995,587.79999999999995,552.4,528.20000000000005,493.4,42.6,41,41.5,40.9,39.9,39.4,38.6,145.6,147.6,150.30000000000001,161,180,180,180,1164.2,971.5,866.4,817.7,794.9,783.9,759.9,765.3,643.79999999999995,583,562.1,553.79999999999995,549.70000000000005,539.70000000000005,723.5,609.5,563.6,545.9,537.9,533.6,526.1,689.7,586.1,549.5,531.20000000000005,518.6,510.3,504.4,657.8,565.29999999999995,544.70000000000005,531.20000000000005,515.1,500.5,479.7,655.6,559.79999999999995,528.4,510.8,498.4,487.3,468.7,679.9,570.6,533.70000000000005,507.8,484.8,470.7,449.5,760,622.5,552.9,524.79999999999995,499.6,472.9,426.9,902.8,723.7,608.70000000000005,550.70000000000005,524.70000000000005,501.3,452.2,1042.5,835.6,702.6,616.29999999999995,562.6,533.29999999999995,487.3,0.873,1.1099000000000001,1.2295,0.67269999999999996,0.90539999999999998,1.0376000000000001,0,0,0.83799999999999997,257.7,0.89870000000000005,0,0,667.7,"FRA00002176",7.46,4007,17.8,25.3,18.899999999999999,72.099999999999994,71.599999999999994,198]
["FRA16033a","F205A","FRA- 205A","ARMSTRONG","APHRODITE 101","BIANCA YACHTS","ELVSTROM/KJAERULFF",1979,"44100 - NANTES","SIROT Pierre","CLUB","C",520,"24/2/2016","08:44:36",9.9039999999999999,8.2249999999999996,1.7490000000000001,2.44,3244,132.69999999999999,0.21,682.8,0.9143,738.3,0.96299999999999997,207.6,1100.8,897.1,779.5,713,673.9,653.70000000000005,619.9,1059.2,865.8,764,708.7,677.5,657.8,621.79999999999995,933.2,756.2,662.6,609.4,577.20000000000005,556,527,1009.1,808.2,699.6,636.4,597.9,573,541.20000000000005,929.7,745.5,645.79999999999995,587.70000000000005,551.70000000000005,527.29999999999995,492.7,42.5,41,41.5,40.6,39.4,39.1,38.200000000000003,146.19999999999999,150.30000000000001,152.19999999999999,162.9,180,180,180,1168.9000000000001,969.3,861.6,807,783.7,773,751.5,767.9,643.6,581.4,558.9,550.20000000000005,545.79999999999995,537.79999999999995,725.6,609.29999999999995,562.79999999999995,544,534.6,530,525.20000000000005,691.5,586.6,549.6,530.29999999999995,516.5,506.4,498.9,675.2,570.4,547.29999999999995,531,514.4,498.4,474.4,669.4,565.29999999999995,530.20000000000005,511.1,498.7,487.2,471.1,689.9,575.4,535.9,509.4,485.4,471.7,450.7,760.2,620.20000000000005,556.5,527.6,502.6,476,425.8,894.4,714.3,606.29999999999995,553.5,526.9,503.5,454.6,1032.7,824.9,697.4,619.1,564,534.4,488.4,0.87190000000000001,1.1131,1.2354000000000001,0.67569999999999997,0.9113,1.0448,0,0,0.84099999999999997,255.6,0.90290000000000004,0,0,664.5,"FRA00002751",7.5359999999999996,3932,17.600000000000001,24.9,18.3,64.7,0,199]
["FRA16112a","F39675","FRA-39675","FLEUR BLEUE 2","APHRODITE 101","BIANCA YACHTS","ELVSTROM/KJAERULFF",1979,"33710 MONTBRIER","RICHARD Jean Paul","CLUB","C",523,"25/3/2016","11:29:30",9.9039999999999999,8.2579999999999991,1.756,2.44,3317,133,0.25,690.4,0.89949999999999997,750.4,0.63300000000000001,58.9,1120.3,913,794.3,725.7,684.1,662.5,630.4,1070.8,877.4,774.1,718.9,687.9,668.4,633.6,945.4,765.3,669.9,615.4,582.4,560.79999999999995,532,999.8,802.4,696.3,635,597.79999999999995,573.6,542.4,1158.5999999999999,898.1,752.2,663.6,606.5,566.6,510.3,42.8,41.5,42.2,41.2,40.299999999999997,40,39.299999999999997,146.6,151.30000000000001,152.4,161.4,180,180,180,1154.5999999999999,966.1,863,815.7,793.9,783.4,763,757.1,637.70000000000005,579.29999999999995,559,551,546.9,538.1,714.8,603.5,560.29999999999995,542.9,534.79999999999995,530.4,524.5,680.4,580.79999999999995,546.5,528.1,515,505.9,499.3,687.3,576.70000000000005,540.20000000000005,528.1,511.6,495.9,473.7,690.2,575.70000000000005,536.70000000000005,511.3,492.4,481.1,464.2,715,589.6,543.5,518.20000000000005,494.1,469.9,445.1,794.8,649.20000000000005,569.20000000000005,536.4,513.1,488.8,439.7,940.6,744.9,630.4,564.79999999999995,535.4,513.20000000000005,467,1086.0999999999999,860,725.6,635.79999999999995,574.29999999999995,541.70000000000005,497.7,0.85950000000000004,1.1021000000000001,1.2252000000000001,0.66390000000000005,0.89549999999999996,1.0291999999999999,0,0,0.81699999999999995,247.3,0.89149999999999996,0,0,673,"FRA00003816",7.48,4010,18,25.9,19.899999999999999,52.5,0,200]
["FRA16190a","F25715","FRA-25715","SUZY","APHRODITE 101","BIANCA YACHTS","ELVSTROM/KJAERULFF",1979,"35400  -  SAINT MALO","REVERT Jean Francois","CLUB","C",519,"9/5/2016","17:37:00",9.9039999999999999,8.2040000000000006,1.744,2.44,3187,132.4,0.22,686.8,0.90380000000000005,746.8,0.63900000000000001,61.1,1116.4000000000001,910,789.1,719.6,681.2,661.4,627.6,1067.3,874.1,771.1,715.8,685.2,665.9,629.6,939.2,760.9,666.5,612.79999999999995,580.29999999999995,558.9,529.70000000000005,1008.9,808.7,701,638.6,600.70000000000005,576.20000000000005,544.70000000000005,1152.3,893.3,748.3,660.6,604.20000000000005,564.9,509,42.8,41.4,42.1,41.4,40.4,40.1,39.4,146.4,150.80000000000001,150.19999999999999,161.19999999999999,180,180,180,1169.4000000000001,975,870.6,820,798,788.2,767.1,766.1,644.1,583.1,561.29999999999995,552.9,548.79999999999995,540.20000000000005,723.4,608.9,563.5,545.1,536.4,532,526.5,688.8,585.6,549.4,530.29999999999995,516.9,507.1,500.2,673.3,569.1,544.5,530.5,513.70000000000005,497.8,474.5,668.3,564.9,529.9,508.9,496,484.4,465.1,690.6,575.29999999999995,535.9,509.2,482.9,467.7,446.2,766.7,628.1,555.5,526.70000000000005,501.4,474.5,423,920.8,731.1,613,553.1,526.5,502.8,453.4,1063.3,845,707.6,619.20000000000005,564.4,534.70000000000005,488.2,0.86550000000000005,1.1071,1.2289000000000001,0.66620000000000001,0.9012,1.0326,0,0,0.82499999999999996,251.1,0.89570000000000005,0,0,669.9,"FRA00004275",7.4189999999999996,3873,17.5,25.1,18,67.7,0,201]
["nor5027",5027,"NOR 6490","Nena","APHRODITE 101","BIANCA YACHTS","ELVSTROM/KJAERULFF",1976,null,"Egil Soyland","CLUB","C",518,"1/4/2016","11:11:54",9.9499999999999993,8.2149999999999999,1.742,2.44,3153,135.5,0.21,691,0.9032,747.4,0.622,50.4,1136.5999999999999,919.3,793,720,678.3,655.9,620.6,1082.5999999999999,880.7,771.8,713.4,680.7,659.5,621.4,952.1,768.1,670.2,614,579.79999999999995,557.20000000000005,526.4,1019.3,814.3,703.5,639,599.5,573.79999999999995,540.5,1167.9000000000001,901.5,752.1,661.7,603.79999999999995,563.6,507.6,42.5,40.9,41.5,40.5,39.299999999999997,38.700000000000003,37.799999999999997,146.5,150.80000000000001,149.6,160.80000000000001,180,180,180,1173,971,861.8,809.3,784.8,772.3,748.1,771.2,645,582.1,560.29999999999995,551.79999999999995,547.29999999999995,537.4,729.5,611,563.70000000000005,545,536.29999999999995,531.5,524.5,697,588.6,550.70000000000005,531,517.20000000000005,507.4,499.7,690.8,576.5,545.29999999999995,531.70000000000005,514.79999999999995,498.4,474.8,687.4,573.4,535,510.2,495.7,483.8,464.4,711.8,586.20000000000005,541.6,514.6,487.1,467,444.7,794.2,647.20000000000005,563.6,532.29999999999995,507.1,480.4,427.9,952.8,751,627.1,560.4,531.79999999999995,508.2,458.5,1100.2,867.5,724.1,630.70000000000005,571.70000000000005,539.5,493,0.85229999999999995,1.1042000000000001,1.234,0.65669999999999995,0.89939999999999998,1.0412999999999999,683.6,0.87770000000000004,0.77900000000000003,216.4,0.89290000000000003,0.63100000000000001,65.2,672,"nor00000180",7.5119999999999996,3838,17.5,25.2,19.2,63.6,0,202]
["nor666931",666931,"NOR 15383","Heim","APHRODITE 101","BIANCA YACHTS","ELVSTROM/KJAERULFF",1976,null,"Magne K Fagerhol","CLUB","C",516,"1/4/2016","11:12:00",9.9499999999999993,8.1829999999999998,1.736,2.44,3090,135.30000000000001,0.26,694.2,0.89659999999999995,752.8,0.61699999999999999,49.1,1141.8,922.4,798.7,727.3,683.8,660.9,627.4,1087.8,885,776.5,718.7,686.3,665.9,629.79999999999995,956.2,771.6,673.3,616.9,582.70000000000005,560.20000000000005,530.1,1011.9,809.4,700.2,636.9,598.29999999999995,573.29999999999995,541.1,1174.8,906.7,756.5,665.6,607,566.1,508.2,42.6,41.1,41.7,40.5,39.5,39.1,38.4,147,151.30000000000001,152.9,160.69999999999999,180,180,180,1165.5999999999999,966.7,859.1,810.1,787.6,776.6,755.3,765.5,640.4,580.4,560,551.9,547.70000000000005,538.29999999999995,723.6,607,562.1,544.29999999999995,536.1,531.5,524.79999999999995,690.7,585.1,548.9,529.6,516.1,506.7,499.9,687.7,575.9,539,526.4,512.4,496.5,474,693.9,578,538.6,512.29999999999995,488.4,475.2,456.7,723.8,594.70000000000005,546.70000000000005,520.70000000000005,496.1,470.3,438.8,816.7,664,576.70000000000005,541,516.4,491.4,440.3,968.3,761,641.6,571.20000000000005,539.4,516.20000000000005,468.1,1118.0999999999999,878.2,738.3,644.5,579.9,545.29999999999995,499.4,0.84899999999999998,1.0988,1.2275,0.65400000000000003,0.89229999999999998,1.032,686.8,0.87360000000000004,0.78200000000000003,222.8,0.8881,0.625,62.6,675.6,"nor00000181",7.4889999999999999,3772,17.3,25.4,19.600000000000001,0,47.5,203]
["nor21823",21823,"NOR 2044","Mathilda","APHRODITE 101","BIANCA YACHTS","ELVSTROM/KJAERULFF",1976,null,"Bjorn Rundhovde","CLUB","C",518,"13/4/2016","20:54:56",9.9499999999999993,8.2149999999999999,1.742,2.44,3153,135.5,0.12,688.6,0.90510000000000002,745.8,0.63,55.3,1125.4000000000001,912.2,789.6,719.8,678.4,656.6,625.6,1073,874.8,768.8,712.7,681.2,661,628.20000000000005,946,764.3,667.9,612.79999999999995,579.5,557.79999999999995,529.5,1002,803.5,696.6,634.6,596.79999999999995,572.1,540,1159.8,896.8,749.5,660.4,603.20000000000005,563.70000000000005,508.7,42.8,41.3,41.9,40.6,39.5,39,38.5,146.4,150.9,151.1,161.4,180,180,180,1156.7,961,854.1,806.3,784.2,772.8,757.2,758.4,635.1,577.20000000000005,558.20000000000005,550.5,546.5,539.20000000000005,715.9,601.9,559.4,542.6,535,530.70000000000005,525,681.5,580.29999999999995,546.4,527.70000000000005,514.6,506,499.4,689,577.6,543.6,527.79999999999995,510.3,494,473.2,691,575.5,536.29999999999995,510.4,493.8,481.8,465,715.6,588.79999999999995,543,516.5,490,466.6,443.9,795.7,648.29999999999995,566.9,534.70000000000005,510,483.8,431.9,947.6,747.7,628.79999999999995,563,533.79999999999995,510.4,461.3,1094.2,863.5,725,633.20000000000005,572.70000000000005,540.4,494.1,0.85850000000000004,1.1068,1.2321,0.66249999999999998,0.90149999999999997,1.0377000000000001,681.8,0.88,0.80200000000000005,232.3,0.89539999999999997,0.64100000000000001,71.5,670.1,"nor00000416",7.5369999999999999,3838,17.5,26.4,21.4,57.8,0,204]
["nor5096",5096,"NOR 6807","Aphroman","APHRODITE 101","BIANCA YACHTS","ELVSTROM/KJAERULFF",1976,null,"Daniel ingebretsen","CLUB","C",518,"19/4/2016","16:59:00",9.9499999999999993,8.2149999999999999,1.742,2.44,3153,135.5,0.22,690,0.90410000000000001,746.6,0.626,53,1133.3,917.2,790.7,718.6,678.2,656.8,621.9,1083.7,880.3,771.4,713.3,680.9,660.1,622.79999999999995,950.1,766.6,669.1,613.29999999999995,579.5,557.20000000000005,526.70000000000005,1022.4,816.9,705.6,640.70000000000005,601,575.29999999999995,542.29999999999995,1164,899.1,750.6,660.9,603.5,563.70000000000005,508,42.7,41.1,41.7,40.700000000000003,39.6,39.1,38.299999999999997,146.4,150.6,149.5,161.1,180,180,180,1181.4000000000001,976.8,866.6,813,788.7,776.9,754.6,775,647.70000000000005,583.5,561,552.5,548.1,539.1,732.5,612.9,564.6,545.5,536.70000000000005,532.1,526.1,699.3,589.9,551.29999999999995,531.4,517.6,507.8,500.4,687.6,574.6,547.20000000000005,532.4,515.5,499.1,475.6,679.9,569.20000000000005,532.1,510.3,497,485.1,465.3,704.6,580.20000000000005,538.1,510.5,483.6,467.9,445.7,791.9,639.1,558.4,528.4,502.4,474.7,421.8,939.8,742.5,619,555.70000000000005,528.1,503.9,453.2,1085.0999999999999,857.6,714.8,624.1,567.79999999999995,536.70000000000005,489.3,0.85440000000000005,1.1057999999999999,1.2337,0.65839999999999999,0.90110000000000001,1.0399,683.2,0.87819999999999998,0.78800000000000003,223.2,0.89429999999999998,0.63700000000000001,69.2,670.9,"nor00000469",7.4809999999999999,3838,17.5,24.6,19.899999999999999,70.7,0,205]
["nor9206",9206,"NOR 11209","Folly","APHRODITE 101","BIANCA YACHTS","ELVSTROM/KJAERULFF",1976,null,"Lars Borge-Andersen","CLUB","C",518,"20/5/2016","10:43:56",9.9499999999999993,8.2149999999999999,1.742,2.44,3153,135.5,0.21,694.5,0.89729999999999999,752.3,0.61599999999999999,48.3,1147.8,926.6,798.4,723.4,682.3,660.8,625.70000000000005,1095.5,889.4,778.3,718.3,685.4,664.8,627,958.2,772.4,673.4,616.6,582.20000000000005,559.6,529,1025.8,819.5,707.8,642.70000000000005,602.9,577.1,543.9,1176.3,907.1,756.1,664.8,606.29999999999995,565.9,509.3,42.9,41.1,41.8,41,40,39.4,38.6,146.5,150.9,149.4,161,180,180,180,1198.4000000000001,987.9,875.8,818.9,794.7,783.3,760,783.8,654.1,586.70000000000005,562.79999999999995,554.1,549.6,540.20000000000005,739.5,617.6,566.6,546.79999999999995,537.9,533.29999999999995,526.9,704.3,592.5,552.5,532.4,518.6,508.9,501.6,691,576.29999999999995,546.4,532.79999999999995,515.9,499.6,476.2,685.1,572,533.9,510.1,496.4,484.6,464.8,709,583.9,540.29999999999995,513,485.7,467.5,445.4,791.8,644.9,561.4,530.70000000000005,505.2,478.1,425.2,950.2,749.2,624.4,558.5,530.29999999999995,506.5,456.4,1097.0999999999999,865.4,721,627.9,569.9,538.29999999999995,491.4,0.84650000000000003,1.0996999999999999,1.2284999999999999,0.65080000000000005,0.89400000000000002,1.0337000000000001,687.2,0.87309999999999999,0.77100000000000002,215,0.88859999999999995,0.626,63.9,675.2,"nor00001229",7.4329999999999998,3838,17.5,25.1,18.8,66.099999999999994,0,206]
["nor4104",4104,"NOR 1608","Maren","APHRODITE 101","BIANCA YACHTS","ELVSTROM/KJAERULFF",1976,null,"Jon Borre Orb?k","CLUB","C",518,"24/5/2016","23:26:34",9.94,8.2149999999999999,1.742,2.44,3153,135.5,0.22,694,0.89859999999999995,751.2,0.61699999999999999,48.8,1145.9000000000001,925.3,797.5,722.6,681.3,659.5,624,1095.5999999999999,889,778,717.7,684.3,663.1,625.1,957.6,771.9,672.9,616.20000000000005,581.70000000000005,558.9,528,1032,823.2,710,643.9,603.6,577.4,543.9,1174.4000000000001,905.9,755.3,664.2,605.79999999999995,565.4,508.9,42.9,41.1,41.7,41,40,39.299999999999997,38.5,146.5,150.80000000000001,149.5,161,180,180,180,1201.3,989.5,877.4,819.3,793.8,781.5,757.7,786.2,656,587.70000000000005,562.9,553.79999999999995,549.1,539.9,742.2,619.6,567.5,547.20000000000005,537.70000000000005,532.9,526.9,707.9,594.79999999999995,553.5,533.1,518.9,508.8,500.7,689.9,575.70000000000005,547.29999999999995,533.70000000000005,516.9,500.4,476,682.8,570.6,533,510.5,497.3,485.4,465.7,706.8,582,539.1,511.7,484.7,468.3,446.1,791.1,642.20000000000005,559.79999999999995,529.4,503.7,476.2,423.3,944.3,745.4,621.4,556.9,529.1,505,454.6,1090.4000000000001,861,717.5,625.79999999999995,568.79999999999995,537.4,490.2,0.84709999999999996,1.1004,1.2301,0.65180000000000005,0.89510000000000001,1.0359,686.6,0.87390000000000001,0.77100000000000002,214.1,0.88949999999999996,0.627,64.400000000000006,674.6,"nor00001276",7.4290000000000003,3838,17.5,24.9,18.2,68.5,0,207]
["nor3932",3932,"NOR 14692","Aries","APHRODITE 101","BIANCA YACHTS","ELVSTROM/KJAERULFF",1976,null,"Rune Haugen","CLUB","C",518,"16/8/2016","14:44:24",9.94,8.2149999999999999,1.742,2.44,3153,135.5,0.21,692.7,0.90059999999999996,749.5,0.62,50.2,1142,922.7,795.6,720.9,680.1,658.6,623.1,1092.2,886.7,776.4,716.3,683.1,662.1,624.20000000000005,955,770.2,671.7,615.29999999999995,581,558.4,527.5,1031.3,822.6,709.5,643.6,603.29999999999995,577.20000000000005,543.79999999999995,1171,903.7,753.8,663.1,605.1,564.9,508.7,42.8,41,41.6,40.9,39.9,39.200000000000003,38.4,146.4,150.69999999999999,149.6,161.30000000000001,180,180,180,1199.2,987.9,876.2,817.5,792.4,780.5,756.9,785.6,655.6,587.5,562.70000000000005,553.5,548.9,539.9,742.1,619.6,567.6,547.1,537.5,532.70000000000005,527.20000000000005,708.2,595.1,553.70000000000005,533.29999999999995,518.9,508.7,500.5,685.9,574.1,547.1,534,517.1,500.6,476,679.3,569.1,532.1,510.4,497.1,485.3,465.6,703.1,580.20000000000005,538.29999999999995,510.8,483.9,468.2,446.1,786.4,639.20000000000005,558.70000000000005,528.6,502.8,475.2,422.4,939.5,742.4,619.20000000000005,555.9,528.29999999999995,504.2,453.6,1084.8,857.5,715,624.20000000000005,567.70000000000005,536.70000000000005,489.4,0.84960000000000002,1.1020000000000001,1.2313000000000001,0.65380000000000005,0.89710000000000001,1.0374000000000001,685.4,0.87539999999999996,0.77600000000000002,216.5,0.8911,0.63100000000000001,66,673.3,"nor00001843",7.444,3838,17.5,25,17.7,69.2,0,208]
["SUISUI555","SUI555","SUI 555","PLAYMATE  II","APHRODITE 101","BIANCA YACHTS","ELVSTROM/KJAERULFF",1979,"ZYC","Stockar, Martin","CLUB","C",400,"21/4/2016","21:17:42",9.9049999999999994,8.1140000000000008,1.73,2.44,3084,132.30000000000001,0.02,661.4,0.93810000000000004,719.5,0.70299999999999996,90.5,1043.0999999999999,859.3,756.4,697.5,661.4,644.9,614.4,991.3,821.7,736.7,691.3,663.9,647.5,615.29999999999995,889.1,727.2,643,595.70000000000005,567.29999999999995,548.6,522.9,930.6,756.6,664.7,612.20000000000005,580.4,559.70000000000005,533.4,1093.3,854.2,721.5,641.79999999999995,590.79999999999995,555.5,505.3,42.2,42.2,40.799999999999997,39.299999999999997,38.299999999999997,38.200000000000003,38.4,146.19999999999999,150.5,150.9,161.30000000000001,180,180,180,1049.5,890.8,817.4,783.6,764.2,759.7,746.4,691.5,592.6,562.20000000000005,550.9,545,541.6,535.79999999999995,651.79999999999995,570.6,546.4,536.6,530.9,527.4,522.4,618.6,555.6,532.70000000000005,518.29999999999995,509.6,504.1,499.4,622.70000000000005,556.6,531.79999999999995,513.9,498.1,485.4,475,654.5,558.5,526.4,510.1,496.9,484.9,465.1,675.8,567.5,530.9,503.9,482.7,469.5,448.3,749.2,614.6,549.20000000000005,521.5,495.3,467.7,420.1,897.8,715.9,603,547.20000000000005,521.4,496.9,446.7,1036.7,827.8,695.4,611.4,558.6,530,482.4,0.91830000000000001,1.1394,1.2501,0.70960000000000001,0.9355,1.0587,0,0,0.95,318.8,0.92579999999999996,0,0,648.1,"SUI00002152",7.6890000000000001,3768,17.2,25,30.6,70.3,0,209]
["SUISU1220","SUI1220","SUI 12","EVITA","APHRODITE 101","BIANCA YACHTS","ELVSTROM/KJAERULFF",1979,"SCE","Stucki, Fredi","CLUB","C",400,"1/5/2016","15:58:26",9.9049999999999994,8.1140000000000008,1.73,2.44,3084,132.30000000000001,0.02,661.4,0.93810000000000004,719.5,0.70299999999999996,90.5,1043.0999999999999,859.3,756.4,697.5,661.4,644.9,614.4,991.3,821.7,736.7,691.3,663.9,647.5,615.29999999999995,889.1,727.2,643,595.70000000000005,567.29999999999995,548.6,522.9,930.6,756.6,664.7,612.20000000000005,580.4,559.70000000000005,533.4,1093.3,854.2,721.5,641.79999999999995,590.79999999999995,555.5,505.3,42.2,42.2,40.799999999999997,39.299999999999997,38.299999999999997,38.200000000000003,38.4,146.19999999999999,150.5,150.9,161.30000000000001,180,180,180,1049.5,890.8,817.4,783.6,764.2,759.7,746.4,691.5,592.6,562.20000000000005,550.9,545,541.6,535.79999999999995,651.79999999999995,570.6,546.4,536.6,530.9,527.4,522.4,618.6,555.6,532.70000000000005,518.29999999999995,509.6,504.1,499.4,622.70000000000005,556.6,531.79999999999995,513.9,498.1,485.4,475,654.5,558.5,526.4,510.1,496.9,484.9,465.1,675.8,567.5,530.9,503.9,482.7,469.5,448.3,749.2,614.6,549.20000000000005,521.5,495.3,467.7,420.1,897.8,715.9,603,547.20000000000005,521.4,496.9,446.7,1036.7,827.8,695.4,611.4,558.6,530,482.4,0.91830000000000001,1.1394,1.2501,0.70960000000000001,0.9355,1.0587,0,0,0.95,318.8,0.92579999999999996,0,0,648.1,"SUI00002191",7.6890000000000001,3768,17.2,25,30.6,70.3,0,210]
["SUISUI208","SUI208","SUI 208","SOLAYA","APHRODITE 101","BIANCA YACHTS","ELVSTROM/KJAERULFF",1979,"ZSC/SCOZ","Stocker, Jurg","CLUB","C",400,"3/5/2016","22:42:42",9.9049999999999994,8.1140000000000008,1.73,2.44,3084,132.30000000000001,0.02,661.2,0.93859999999999999,719.2,0.70399999999999996,91,1042,858.6,755.9,697.2,661.2,644.70000000000005,614.20000000000005,990.7,821.2,736.3,691,663.7,647.29999999999995,615.20000000000005,888.5,726.8,642.70000000000005,595.5,567.1,548.4,522.70000000000005,930.6,756.6,664.7,612.20000000000005,580.4,559.70000000000005,533.4,1092.4000000000001,853.6,721.1,641.5,590.6,555.4,505.2,42.2,42.2,40.799999999999997,39.299999999999997,38.299999999999997,38.200000000000003,38.4,146.19999999999999,150.4,150.9,161.4,180,180,180,1049.5,890.8,817.4,783.6,764.2,759.7,746.4,691.5,592.6,562.20000000000005,550.9,545,541.6,535.79999999999995,651.79999999999995,570.6,546.4,536.6,530.9,527.4,522.4,618.6,555.6,532.70000000000005,518.29999999999995,509.6,504.1,499.4,622.70000000000005,556.6,531.79999999999995,513.9,498.1,485.4,475,653.6,558.1,526.20000000000005,510.1,497,485,465.1,675,567,530.5,503.5,482.8,469.5,448.3,748.6,614.1,548.79999999999995,521.1,494.7,467.1,419.8,896,714.8,602.20000000000005,546.79999999999995,521,496.4,446.1,1034.5999999999999,826.3,694.3,610.79999999999995,558.20000000000005,529.70000000000005,482,0.91890000000000005,1.1397999999999999,1.2504,0.71030000000000004,0.93600000000000005,1.0589999999999999,0,0,0.95199999999999996,320.2,0.92620000000000002,0,0,647.79999999999995,"SUI00002234",7.6890000000000001,3768,17.2,25,30.6,71,0,211]
["SUISU1901","SUI1901","SUI 19","LIZA","APHRODITE 101","BIANCA YACHTS","ELVSTROM/KJAERULFF",1979,"ZSC","Schwengeler, Beat","CLUB","C",400,"12/5/2016","20:52:42",9.9049999999999994,8.1140000000000008,1.73,2.44,3084,132.30000000000001,0.02,661.4,0.93810000000000004,719.5,0.70299999999999996,90.5,1043.0999999999999,859.3,756.4,697.5,661.4,644.9,614.4,991.3,821.7,736.7,691.3,663.9,647.5,615.29999999999995,889.1,727.2,643,595.70000000000005,567.29999999999995,548.6,522.9,930.6,756.6,664.7,612.20000000000005,580.4,559.70000000000005,533.4,1093.3,854.2,721.5,641.79999999999995,590.79999999999995,555.5,505.3,42.2,42.2,40.799999999999997,39.299999999999997,38.299999999999997,38.200000000000003,38.4,146.19999999999999,150.5,150.9,161.30000000000001,180,180,180,1049.5,890.8,817.4,783.6,764.2,759.7,746.4,691.5,592.6,562.20000000000005,550.9,545,541.6,535.79999999999995,651.79999999999995,570.6,546.4,536.6,530.9,527.4,522.4,618.6,555.6,532.70000000000005,518.29999999999995,509.6,504.1,499.4,622.70000000000005,556.6,531.79999999999995,513.9,498.1,485.4,475,654.5,558.5,526.4,510.1,496.9,484.9,465.1,675.8,567.5,530.9,503.9,482.7,469.5,448.3,749.2,614.6,549.20000000000005,521.5,495.3,467.7,420.1,897.8,715.9,603,547.20000000000005,521.4,496.9,446.7,1036.7,827.8,695.4,611.4,558.6,530,482.4,0.91830000000000001,1.1394,1.2501,0.70960000000000001,0.9355,1.0587,0,0,0.95,318.8,0.92579999999999996,0,0,648.1,"SUI00002272",7.6890000000000001,3768,17.2,25,30.6,70.3,0,212]
["SUISUI242","SUI242","SUI 242","1001 NACHT","APHRODITE 101","BIANCA YACHTS","ELVSTROM/KJAERULFF",1979,"ZYC","Dangel, Mark","CLUB","C",400,"12/5/2016","20:54:22",9.9049999999999994,8.1140000000000008,1.73,2.44,3084,132.30000000000001,0.02,661.4,0.93810000000000004,719.5,0.70299999999999996,90.5,1043.0999999999999,859.3,756.4,697.5,661.4,644.9,614.4,991.3,821.7,736.7,691.3,663.9,647.5,615.29999999999995,889.1,727.2,643,595.70000000000005,567.29999999999995,548.6,522.9,930.6,756.6,664.7,612.20000000000005,580.4,559.70000000000005,533.4,1093.3,854.2,721.5,641.79999999999995,590.79999999999995,555.5,505.3,42.2,42.2,40.799999999999997,39.299999999999997,38.299999999999997,38.200000000000003,38.4,146.19999999999999,150.5,150.9,161.30000000000001,180,180,180,1049.5,890.8,817.4,783.6,764.2,759.7,746.4,691.5,592.6,562.20000000000005,550.9,545,541.6,535.79999999999995,651.79999999999995,570.6,546.4,536.6,530.9,527.4,522.4,618.6,555.6,532.70000000000005,518.29999999999995,509.6,504.1,499.4,622.70000000000005,556.6,531.79999999999995,513.9,498.1,485.4,475,654.5,558.5,526.4,510.1,496.9,484.9,465.1,675.8,567.5,530.9,503.9,482.7,469.5,448.3,749.2,614.6,549.20000000000005,521.5,495.3,467.7,420.1,897.8,715.9,603,547.20000000000005,521.4,496.9,446.7,1036.7,827.8,695.4,611.4,558.6,530,482.4,0.91830000000000001,1.1394,1.2501,0.70960000000000001,0.9355,1.0587,0,0,0.95,318.8,0.92579999999999996,0,0,648.1,"SUI00002273",7.6890000000000001,3768,17.2,25,30.6,70.3,0,213]
["SUISU4231","SUI4231","SUI 423","RELIANCE","APHRODITE 101","BIANCA YACHTS","ELVSTROM/KJAERULFF",1979,"RVS","Korpela, Alexis","CLUB","C",400,"18/5/2016","15:52:08",9.9049999999999994,8.1140000000000008,1.73,2.44,3084,132.30000000000001,0.02,661.4,0.93810000000000004,719.5,0.70299999999999996,90.5,1043.0999999999999,859.3,756.4,697.5,661.4,644.9,614.4,991.3,821.7,736.7,691.3,663.9,647.5,615.29999999999995,889.1,727.2,643,595.70000000000005,567.29999999999995,548.6,522.9,930.6,756.6,664.7,612.20000000000005,580.4,559.70000000000005,533.4,1093.3,854.2,721.5,641.79999999999995,590.79999999999995,555.5,505.3,42.2,42.2,40.799999999999997,39.299999999999997,38.299999999999997,38.200000000000003,38.4,146.19999999999999,150.5,150.9,161.30000000000001,180,180,180,1049.5,890.8,817.4,783.6,764.2,759.7,746.4,691.5,592.6,562.20000000000005,550.9,545,541.6,535.79999999999995,651.79999999999995,570.6,546.4,536.6,530.9,527.4,522.4,618.6,555.6,532.70000000000005,518.29999999999995,509.6,504.1,499.4,622.70000000000005,556.6,531.79999999999995,513.9,498.1,485.4,475,654.5,558.5,526.4,510.1,496.9,484.9,465.1,675.8,567.5,530.9,503.9,482.7,469.5,448.3,749.2,614.6,549.20000000000005,521.5,495.3,467.7,420.1,897.8,715.9,603,547.20000000000005,521.4,496.9,446.7,1036.7,827.8,695.4,611.4,558.6,530,482.4,0.91830000000000001,1.1394,1.2501,0.70960000000000001,0.9355,1.0587,0,0,0.95,318.8,0.92579999999999996,0,0,648.1,"SUI00002282",7.6890000000000001,3768,17.2,25,30.6,70.3,0,214]
["SUISUI432","SUI432","SUI 432","LIBERTE","APHRODITE 101","BIANCA YACHTS","ELVSTROM/KJAERULFF",1979,"SCE","Weber, Moritz","CLUB","C",400,"18/5/2016","15:52:12",9.9049999999999994,8.1140000000000008,1.73,2.44,3084,132.30000000000001,0.02,661.4,0.93810000000000004,719.5,0.70299999999999996,90.5,1043.0999999999999,859.3,756.4,697.5,661.4,644.9,614.4,991.3,821.7,736.7,691.3,663.9,647.5,615.29999999999995,889.1,727.2,643,595.70000000000005,567.29999999999995,548.6,522.9,930.6,756.6,664.7,612.20000000000005,580.4,559.70000000000005,533.4,1093.3,854.2,721.5,641.79999999999995,590.79999999999995,555.5,505.3,42.2,42.2,40.799999999999997,39.299999999999997,38.299999999999997,38.200000000000003,38.4,146.19999999999999,150.5,150.9,161.30000000000001,180,180,180,1049.5,890.8,817.4,783.6,764.2,759.7,746.4,691.5,592.6,562.20000000000005,550.9,545,541.6,535.79999999999995,651.79999999999995,570.6,546.4,536.6,530.9,527.4,522.4,618.6,555.6,532.70000000000005,518.29999999999995,509.6,504.1,499.4,622.70000000000005,556.6,531.79999999999995,513.9,498.1,485.4,475,654.5,558.5,526.4,510.1,496.9,484.9,465.1,675.8,567.5,530.9,503.9,482.7,469.5,448.3,749.2,614.6,549.20000000000005,521.5,495.3,467.7,420.1,897.8,715.9,603,547.20000000000005,521.4,496.9,446.7,1036.7,827.8,695.4,611.4,558.6,530,482.4,0.91830000000000001,1.1394,1.2501,0.70960000000000001,0.9355,1.0587,0,0,0.95,318.8,0.92579999999999996,0,0,648.1,"SUI00002283",7.6890000000000001,3768,17.2,25,30.6,70.3,0,215]
["SUISUI484","SUI484","SUI 484","ANGELINA","APHRODITE 101","BIANCA YACHTS","ELVSTROM/KJAERULFF",1979,"SCSta","Bernauer, Wolfgang","CLUB","C",400,"11/6/2016","10:01:26",9.9049999999999994,8.1140000000000008,1.73,2.44,3084,132.30000000000001,0.02,661.4,0.93810000000000004,719.5,0.70299999999999996,90.5,1043.0999999999999,859.3,756.4,697.5,661.4,644.9,614.4,991.3,821.7,736.7,691.3,663.9,647.5,615.29999999999995,889.1,727.2,643,595.70000000000005,567.29999999999995,548.6,522.9,930.6,756.6,664.7,612.20000000000005,580.4,559.70000000000005,533.4,1093.3,854.2,721.5,641.79999999999995,590.79999999999995,555.5,505.3,42.2,42.2,40.799999999999997,39.299999999999997,38.299999999999997,38.200000000000003,38.4,146.19999999999999,150.5,150.9,161.30000000000001,180,180,180,1049.5,890.8,817.4,783.6,764.2,759.7,746.4,691.5,592.6,562.20000000000005,550.9,545,541.6,535.79999999999995,651.79999999999995,570.6,546.4,536.6,530.9,527.4,522.4,618.6,555.6,532.70000000000005,518.29999999999995,509.6,504.1,499.4,622.70000000000005,556.6,531.79999999999995,513.9,498.1,485.4,475,654.5,558.5,526.4,510.1,496.9,484.9,465.1,675.8,567.5,530.9,503.9,482.7,469.5,448.3,749.2,614.6,549.20000000000005,521.5,495.3,467.7,420.1,897.8,715.9,603,547.20000000000005,521.4,496.9,446.7,1036.7,827.8,695.4,611.4,558.6,530,482.4,0.91830000000000001,1.1394,1.2501,0.70960000000000001,0.9355,1.0587,0,0,0.95,318.8,0.92579999999999996,0,0,648.1,"SUI00002332",7.6890000000000001,3768,17.2,25,30.6,70.3,0,216]
["ltuLT1612","Aphrodit","LTU-1612","APHRODITE","APHRODITE 25","Boo Marine","Carl Beyer",1982,null,"R. Andriuska, A. Dmitrisciuk","CLUB","C",377,"12/7/2016","13:34:02",7.65,6.5309999999999997,1.6020000000000001,2.85,2084,110.3,0.28999999999999998,750,0.83540000000000003,808,0.56399999999999995,40.799999999999997,1230.7,1004.6,868.2,777.4,726.1,702.5,675.9,1194.3,974.6,852.3,776.2,730.3,706.2,680.1,1036.7,836.1,727.6,663.9,624.4,598.9,568.20000000000005,1121.9000000000001,897.1,773.8,700.4,654.5,624.79999999999995,589.20000000000005,1263.0999999999999,976.9,814.5,714.4,649.4,604.5,543.79999999999995,43.6,42.2,42.2,40.9,39.5,38.9,39.4,148.30000000000001,151.6,152.5,168.8,180,180,180,1341.4,1113.7,982,892.9,843.4,827.4,828.7,872.4,733.1,652.70000000000005,615.5,595.6,586.29999999999995,583.5,821.8,692.8,628.79999999999995,599.79999999999995,580.20000000000005,567.1,560.70000000000005,781.9,660.9,610.20000000000005,586.4,565.70000000000005,546.29999999999995,524.6,746.3,627.9,584.9,566.9,555.20000000000005,544.4,512.29999999999995,726.6,618.1,577.5,543.20000000000005,517,504.3,485.2,761.6,626.70000000000005,583.29999999999995,549.5,517.4,490.5,465.2,839.5,678.1,603,569.5,537.6,508.6,459.3,969.9,775.6,656.3,598.70000000000005,568.4,539.1,488,1119.9000000000001,895.5,754.4,661.9,608.70000000000005,577.70000000000005,523.1,0.78090000000000004,1.0173000000000001,1.1507000000000001,0.60389999999999999,0.82950000000000002,0.96650000000000003,0,0,0.68300000000000005,185.5,0.82499999999999996,0,0,727.3,"ltu00000495",6.0620000000000003,2575,15.3,15.8,17.3,61.3,0,217]
["GRE000186","GR1122","GRE-1122","KATERINA","APOLLO 12","DROMOR YACHTS","JUDEL/VROELIJK",1990,"SEANATK","TRANTALIS PANAGIOTIS","CLUB","C",300,"30/3/2016","11:26:36",11.92,9.7360000000000007,1.9239999999999999,3.64,6300,117.6,0.23,676.1,0.91439999999999999,738.2,0.56999999999999995,2.9,1173.4000000000001,933.5,799.4,712.9,661.1,627.70000000000005,598.29999999999995,1123.3,898.9,774,699.8,657.2,631.4,605.20000000000005,956.3,761.2,654.29999999999995,591,551.9,527,498.5,1004.9,795.5,679.7,610.4,567.1,539,505.9,1181.8,899.2,738.2,639.1,575,531.1,473,46.1,44.7,44.4,44.3,42.9,42.6,42.2,146.30000000000001,149.4,151.1,153.30000000000001,166.4,180,180,1236.3,1003.4,876.5,798.5,759.7,740.8,729.8,784.2,644.79999999999995,563.6,522.6,507.4,500.2,495,724.9,600.5,530.20000000000005,501.4,488.7,482.6,477.4,675.7,561.5,508,485.1,470.5,459.7,449.7,675.9,561.6,508.1,484.6,468.4,454.1,431.6,711,575.5,507.4,478.3,457.3,443.7,426.6,733.8,592.70000000000005,515.6,483,460.6,439.2,410.8,814.2,649.9,551.29999999999995,501.7,476.1,454.9,414.5,961.8,747.9,625.70000000000005,546.70000000000005,501.7,477.6,438.3,1110.5999999999999,863.6,722.2,627.29999999999995,562.6,514.5,466.7,0.84060000000000001,1.1411,1.3103,0.64070000000000005,0.90339999999999998,1.08,0,0,0.67100000000000004,126.5,0.9163,0,0,654.79999999999995,"GRE01005389",8.3659999999999997,7126,27.9,30.7,47.3,90,0,218]
["GRE000999","GR1653","GRE-1653","ESTRELLA","APOLLO 12","DROMOR YACHTS","JUDEL/VROELIJK",1989,"NAO PERAMATOS","ARSENOPOULOU VAIA/KASITAS GRIGORIOS","CLUB","C",480,"14/4/2016","12:29:54",11.1,9.3740000000000006,1.929,3.64,6300,115.8,0.41,724.7,0.86229999999999996,782.8,0.503,-19.899999999999999,1294.5,1013.4,857.7,756.1,690,648.70000000000005,612,1222.0999999999999,969.5,828.7,738.6,682.4,650.9,620.6,1039.3,821.9,700.8,627.6,581.29999999999995,551.29999999999995,516.5,1039.3,821.9,700.8,627.6,581.29999999999995,551.29999999999995,516.5,1294.4000000000001,974.3,791.4,678.8,606.1,556.79999999999995,493.7,45.5,43.9,43.5,43.8,42.2,41.5,41.1,168.6,169.2,170.3,171.4,171.8,173.1,176.7,1267.5,1028.4000000000001,900.7,812.3,760.3,737.7,723.8,807.2,665.7,583.29999999999995,535.29999999999995,514.1,505.3,499.4,748.3,622.4,548.70000000000005,515.1,498.2,488.7,481.8,701,585,525.79999999999995,500.3,483.9,470.8,453.7,703.8,587.9,527.20000000000005,501.5,484.8,469.9,443,791.4,644,556.5,515,493,475.5,441,846.1,683,586.20000000000005,528.79999999999995,501.5,483,448.9,976.2,764.3,649,570.5,524.79999999999995,500.7,467,1154.4000000000001,881.6,731,636.29999999999995,567.29999999999995,525.1,484.5,1321.5,998.4,814.6,699.9,619.70000000000005,559.70000000000005,500.2,0.77039999999999997,1.0687,1.2568999999999999,0.58499999999999996,0.84919999999999995,1.0461,0,0,0.56499999999999995,70.8,0.85770000000000002,0,0,699.6,"GRE01005642",8.0660000000000007,7123,27.4,31.1,38.700000000000003,0,0,219]
["GRE001149","GR1748","GRE-1748","APOLLON","APOLLO 12","DROMOR YACHTS","JUDEL/VROELIJK",1990,"NOEF","DIMITROPOULOS DIMITRIOS","CLUB","C",615,"6/5/2016","18:08:34",11.1,9.3320000000000007,1.9330000000000001,3.64,6300,115.9,0.41,716.4,0.87409999999999999,772.2,0.51400000000000001,-15.8,1269.8,997.5,845.9,747,681,640.20000000000005,604.70000000000005,1198.2,954.4,817.9,729.8,674.1,642.70000000000005,612.9,1023.5,811.2,693.1,621.6,576.4,546.79999999999995,512.4,1023.5,811.2,693.1,621.6,576.4,546.79999999999995,512.4,1274.0999999999999,961,782.2,672.1,600.9,552.70000000000005,490.8,45.2,43.6,43.2,43.4,41.9,40.799999999999997,40.4,169.1,169.9,171.2,172.3,172.7,174.2,177.3,1239.2,1011.3,887.5,801.4,748.1,724.9,711.1,791.6,656.6,576.6,531.70000000000005,510.8,501.3,495.1,735.8,614.5,544.5,512.9,496.1,485.7,477.6,690.6,578.5,523,499,482.7,469.1,449.9,692.9,581.1,524.6,500,483.8,469.1,441.6,781.1,638,553.1,513.70000000000005,492.3,475.1,441.1,832.1,675.9,581.5,526.9,500.7,482.5,449,958.7,754.7,643.1,566.5,523,499.7,466.7,1134.0999999999999,868.4,722.8,630.6,563.29999999999995,523.1,483.7,1300.4000000000001,983.7,804.4,692.6,613.79999999999995,555.5,498.3,0.78320000000000001,1.0790999999999999,1.2668999999999999,0.59540000000000004,0.86060000000000003,1.0595000000000001,0,0,0.57599999999999996,73.8,0.86709999999999998,0,0,691.9,"GRE01005842",8.1379999999999999,7122,27.4,31,37.1,0,0,220]
["GRE000128","GR1306","GRE-1306","GLAROS K","APOLLO 12","DROMOR YACHTS","JUDEL/VROELIJK",1987,"NIKO SKOPELOU","S. H. KOSMAS, V.-E. KOSMA","INTL","C",580,"8/6/2016","13:19:54",11.92,9.8610000000000007,1.952,3.64,6837,118.7,0.22,670.6,0.91,741.7,0.57399999999999995,3.7,1157.9000000000001,928.1,802.3,721.6,671,631.6,593.4,1108,892.5,773.8,701.4,655,625.20000000000005,593.5,940.8,752.6,649.79999999999995,588.70000000000005,550.1,524.20000000000005,491.7,1029.2,812.2,691,617.4,570.6,540,504.2,1173.3,895.4,737,638.79999999999995,574.4,529.4,468.6,47.3,46.1,46.1,45.4,42.2,41.3,40.799999999999997,145.6,146.6,146.4,146.69999999999999,148.9,175.8,179,1208.7,989.5,870.6,796.9,742,717.3,700.6,757.5,626.4,550.29999999999995,516.70000000000005,502.2,492.5,485.6,690,573.79999999999995,514.79999999999995,493.8,483.2,476.8,468.6,629.9,530,493.1,475.1,462.6,454.1,442.1,623.4,529,494.1,475.1,459.4,444.9,423.5,702.6,574.29999999999995,507.4,479.3,458.1,437.8,409.9,731.4,593.9,517,484.7,463.3,442.6,404.3,814.4,651.4,554.5,503.9,478.5,458.5,419.8,958.9,750.6,635.6,559.79999999999995,519.70000000000005,494.8,459.4,1107.2,866.8,733.9,646.4,600.1,545.79999999999995,486.2,0.85760000000000003,1.1440999999999999,1.3170999999999999,0.6472,0.89629999999999999,1.0764,0,0,0.69,140.6,0.9173,0,0,654.1,"GRE01006197",8.4420000000000002,7692,28.7,30.9,40.4,0,86.2,221]
["GREF00089","GR1189","GRE-1189","KLEOPATRA","APOLLO 12","DROMOR YACHTS","JUDEL/VROELIJK",1989,"NO CHIOU","DIMITRIS HOULAKIS","CLUB","C",450,"16/6/2016","14:14:36",11.1,9.8490000000000002,1.988,3.64,7562,117.2,0.49,717.9,0.87060000000000004,775.4,0.51700000000000002,-12.6,1263.8,995.7,847.6,751.7,687.1,645,605.6,1196,954.1,820.6,734.9,679.5,646.70000000000005,613.9,1022.9,812,694.8,623.79999999999995,578.6,548.79999999999995,513.1,1022.9,812,694.8,623.79999999999995,578.6,548.79999999999995,513.1,1271.5999999999999,961.1,783.8,674.4,603.5,555.4,493.7,45.2,43.2,42.8,43.2,42.2,40.9,40,154.80000000000001,161.4,169.4,173,174.1,175.7,179.3,1239.5999999999999,1012.1,892.3,810.1,757.5,731.5,711.8,792.4,660.4,582.70000000000005,535.29999999999995,513.6,504,496.8,737.8,620.5,549.4,515.4,498.5,488.5,480.8,694.2,586,526.6,501,485.4,473,455.6,697.4,589.5,528.6,502.6,486.6,471.5,447.4,776.6,638.6,556.1,514.79999999999995,493.6,477.2,445,828.6,676.3,585.9,529.20000000000005,502,484.3,452.3,957.2,752.8,643.29999999999995,568.29999999999995,522.9,499.2,467,1116.9000000000001,855.5,713.6,624.79999999999995,559.70000000000005,520,481.6,1288.0999999999999,979.3,802.9,693.3,616.79999999999995,558.6,499.4,0.78420000000000001,1.0751999999999999,1.2621,0.59750000000000003,0.85680000000000001,1.0533999999999999,0,0,0.58599999999999997,82.9,0.86499999999999999,0,0,693.6,"GRE01006258",8.3219999999999992,8451,29.8,32.700000000000003,42,0,0,222]
["ISR040/16","ISR12","ISR 12","Semiramis","APOLLO 12","DROMOR YACHTS","JUDEL/VROELIJK",1990,"ISRAEL","Yoad Yagil","CLUB","C",615,"14/3/2016","09:07:28",11.1,9.3320000000000007,1.9330000000000001,3.64,6300,110.9,0.37,700.5,0.87870000000000004,768.2,0.54500000000000004,-1.5,1214.5999999999999,968.3,833.1,744,690.9,652.9,613.9,1165.5999999999999,932.9,803.8,724,674.6,644.79999999999995,613,992.4,789.6,678,611.4,569.79999999999995,542.70000000000005,510.3,1061,837.1,711.8,635.6,587.20000000000005,555.70000000000005,519.20000000000005,1224.4000000000001,932.3,765.2,661.7,594,547.29999999999995,484.7,45.4,43.9,43.3,43.7,42.4,41.7,41.2,145.19999999999999,146.1,145.6,146.30000000000001,148.80000000000001,174.6,178,1292.9000000000001,1045.7,913.5,824.2,765.5,740.5,725.6,824.1,677.5,593.29999999999995,541,516.5,505.9,499.5,764.9,634.70000000000005,557,519.4,500.6,489.7,481.8,718.5,598.5,532.1,504.2,487.1,473.3,454.3,722.9,592.1,521.4,493.4,482.5,472.5,446.2,716.5,583.9,518.1,489.8,468,447.9,429.4,746,604.9,528,495.8,473.9,452.6,415,835,667.1,566.70000000000005,515.6,490,469.6,430.8,984.1,771.6,651.79999999999995,574.79999999999995,533.70000000000005,507.5,474,1136.3,890.9,752.6,663.7,616.29999999999995,565.29999999999995,502.2,0.8095,1.1012,1.2733000000000001,0.61839999999999995,0.86639999999999995,1.042,0,0,0.64900000000000002,128.5,0.88419999999999999,0,0,678.6,"ISR00061975",7.9489999999999998,7122,27.4,30.2,36.6,0,87.8,223]
["GRE000961","GR1630","GRE-1630","PANAS","APOLLO 12 PLUS","DROMOR YACHTS","JUDEL/VROELIJK",1990,"ANOZ","SPYROS GIOVARTHIS","CLUB","C",400,"18/5/2016","12:25:24",11.92,10.041,1.974,3.64,7305,114.3,0.43,697.3,0.89190000000000003,756.8,0.53400000000000003,-13.1,1227,969.7,830,736.7,669.4,627.70000000000005,593.5,1177.9000000000001,937.9,805,720.3,664.6,631.29999999999995,599.4,996.6,789.7,674.6,605,560.79999999999995,532,498.6,1060.5,835,708.3,630.79999999999995,581.1,548.29999999999995,510.1,1228.7,931,760.2,654.1,584.9,537.5,475.9,45.7,44,43.1,43.2,42.8,41.5,40.5,147,150.1,153,154.69999999999999,164.5,180,180,1311.9,1053.8,917.2,826,761.3,730.3,711.1,833.6,681.4,596.5,538.9,511,498,489.9,771.4,638.20000000000005,558.4,514.70000000000005,494.4,482.8,473.5,722.3,601.70000000000005,530,498.3,481.1,468.4,449.6,726.8,594.79999999999995,518.70000000000005,488.1,473.8,467.2,444,720.8,588.79999999999995,515.5,485.3,465.3,446.8,423,749,609.6,527,491.2,470.4,452.2,415.1,840.3,671.2,572.29999999999995,513.6,485.9,466.7,429.6,989.1,767,645.1,565,512.6,486.8,451.5,1142.0999999999999,885.7,742.8,647.5,577.5,525.20000000000005,475.9,0.80410000000000004,1.1087,1.3023,0.61450000000000005,0.87619999999999998,1.0794999999999999,0,0,0.60099999999999998,82,0.89100000000000001,0,0,673.4,"GRE01005959",8.2889999999999997,8195,29.6,30.3,34.799999999999997,0,78.400000000000006,224]
["ESP754801","E7548_C","ESP-7548_C","SAMAR II","AQUADRAC 35","MAYORLA S.A.",null,1978,"C.N. SAN JOSE","DIEGO DE JUAN GARCIA","CLUB","C",360,"6/4/2016","18:36:40",10.3,8.5779999999999994,1.72,3.52,6187,120.6,0.54,689.3,0.89900000000000002,750.8,0.60899999999999999,39.200000000000003,1131.4000000000001,927.1,807.8,728.4,679.1,650.6,621.20000000000005,1088.9000000000001,895.1,785.7,719.6,680.4,656.3,628.29999999999995,951.7,768.1,668.8,610.6,574.6,551.5,523.6,1005.6,806.3,697.4,632.6,592.1,565.6,533.29999999999995,1166.0999999999999,902,751.9,659.2,598.79999999999995,557.1,501.1,44.4,43,43.8,43.5,42.1,41.3,40.5,147.30000000000001,151.4,152.1,157.5,180,180,180,1192.8,1001.4,891.2,821.9,786.6,768.1,752.4,770.8,653.6,580.20000000000005,547.6,534.70000000000005,528.4,523.4,723.8,613.29999999999995,554.20000000000005,529.6,517.6,511.7,506.7,684.9,581.20000000000005,536.6,515.1,500.4,489.4,479.9,687.8,583.6,535.20000000000005,516.5,500,485.3,462.6,704.2,580.70000000000005,529.1,503.1,483.2,472.4,456.8,723.5,595.5,535.5,507.8,485.3,464.2,441.4,790.8,650.6,562.4,524.4,500.9,479.2,440.8,926.6,739,628.6,557.4,524,502,462.5,1069.9000000000001,852.9,724.4,634.79999999999995,571.70000000000005,533.1,490,0.84950000000000003,1.1067,1.2492000000000001,0.65580000000000005,0.88919999999999999,1.0437000000000001,673,0.89159999999999995,0.74399999999999999,189.4,0.89419999999999999,0.61299999999999999,43.7,671,"ESP00017487",7.59,6918,26.8,28.5,39.799999999999997,88.6,0,225]
["ESP623901","E6239_C","ESP-6239_C","DESASTRE","AQUILA","JEANNEAU","HARLE Philippe",1978,"R.C.R.CARTAGENA","JOSE LUIS NAVARRO","CLUB","C",419,"11/3/2016","01:59:34",8.2799999999999994,7.0119999999999996,1.659,2.98,2821,113.6,0.21,762.9,0.81659999999999999,826.6,0.54400000000000004,33.799999999999997,1270.0999999999999,1025.8,888,796.9,744.6,718.3,695,1222.3,991.5,864.5,790.2,748.7,725.6,704.4,1061.4000000000001,852.3,739.3,673.5,633.6,608.6,580.6,1110.5999999999999,887.3,765.7,694.2,650.4,622.6,590.70000000000005,1299.4000000000001,999.8,830.3,726.6,659.6,613.70000000000005,551.79999999999995,44.7,43.2,43.7,43.1,41.7,41,41.8,148.19999999999999,152.1,152.5,160.69999999999999,180,180,180,1334.6,1103.2,978.8,900.8,866.5,851.9,853.7,860,719.4,638.70000000000005,604.5,591.6,586,584.1,806.1,674.7,611.79999999999995,585.5,572.29999999999995,566.4,563.1,762.3,640.4,592.9,569.29999999999995,551.79999999999995,538.6,528.79999999999995,766.8,644.20000000000005,593.9,568.1,550.9,533,507.1,791.2,646.6,587.79999999999995,557.1,529.9,511.7,493.7,818.2,662.6,594.5,562.6,535.1,508.9,476.5,902.3,726.1,621.6,580,552.5,526.4,481.3,1044,822.7,692.3,613,577.79999999999995,552.5,505.4,1205.5,948.5,797.1,692.9,622.70000000000005,584.79999999999995,536.20000000000005,0.76160000000000005,1.0044999999999999,1.1315999999999999,0.58799999999999997,0.81010000000000004,0.94259999999999999,748.1,0.80200000000000005,0.66700000000000004,184.9,0.81140000000000001,0.55400000000000005,47,739.5,"ESP00016686",6.2539999999999996,3369,16.2,16.600000000000001,27.9,54,0,226]
["GREF00491","GR1113","GRE-1113","DROMON","AQUILA","JEANNEAU","HARLE Philippe",1979,"NASPOR","VASILIS ZAFIRAKIS","CLUB","C",428,"8/6/2016","11:37:14",8.2479999999999993,7.181,1.7070000000000001,2.98,3352,111,0.59,840.6,0.75080000000000002,899.1,0.44700000000000001,-10,1463.8,1153.0999999999999,983.1,874.7,795.3,745.5,709.2,1399.4,1117.2,961.8,861.1,792.8,752.6,721.6,1199.2,951.5,813.5,729.7,676.4,641.70000000000005,602.9,1199.2,951.5,813.5,729.7,676.4,641.70000000000005,602.9,1475,1117.5999999999999,913.2,786.6,704.2,648.20000000000005,577.4,45.3,43.5,42.9,43.5,42.4,41.2,40.6,167.9,168.6,169.9,170.8,170.8,172.7,175.9,1469.4,1201.5,1058.2,961.5,889,852.6,838.9,938.6,782.4,688.8,630.70000000000005,602.29999999999995,587.6,580.29999999999995,874.6,735.5,647.1,605.79999999999995,584.29999999999995,570.70000000000005,560.29999999999995,824.6,695.2,619.9,588.20000000000005,569.5,554.20000000000005,531.20000000000005,832.1,702.8,624.6,591.4,571.5,552,522.5,921.1,759,657.2,604.6,578.20000000000005,558.70000000000005,521.4,983.5,796.1,686.2,618.1,586.5,565.79999999999995,529.20000000000005,1113.7,876.6,750.4,661.8,610.5,583.6,546.79999999999995,1292.3,990.9,828.7,727,651,607.20000000000005,564.20000000000005,1458.2,1104.8,908,787.8,701.6,638.5,579.5,0.66839999999999999,0.91839999999999999,1.08,0.51590000000000003,0.73839999999999995,0.90680000000000005,0,0,0.505,81.5,0.74160000000000004,0,0,809,"GRE01006178",6.0019999999999998,3914,17.2,14.2,22.5,0,0,227]
["FRA16034a","F8033","FRA- 8033","CIPANGO III","AQUILA (DK)","JEANNEAU","HARLE Philippe",1973,"92270  -  BOIS COLOMBES","CUNY Francois","CLUB","C",450,"15/2/2016","16:52:40",8.2479999999999993,7.08,1.6839999999999999,2.98,3084,114.2,0.5,762.3,0.82030000000000003,822.9,0.78200000000000003,145.1,1259.4000000000001,1027.0999999999999,891,796.3,736.6,707.5,680.3,1217.8,994.8,869,790.4,741.7,714.5,686.6,1059.2,852,739.3,672.6,631.20000000000005,604.4,572.70000000000005,1119.5,895.6,772.5,698.9,652.6,622.5,586.70000000000005,1054.5,838.1,717.7,645.5,600,569.4,528.20000000000005,44.1,42.5,42.7,42.8,41.2,40.200000000000003,40.1,148.6,152.80000000000001,151.9,161.6,179.9,180,180,1343.4,1119.9000000000001,993.9,906.7,853.3,830.6,821.7,869.9,735.7,650.6,610.6,589.70000000000005,579.29999999999995,574,817.6,692.5,621.29999999999995,591.79999999999995,573.79999999999995,561.70000000000005,553.4,775.5,655.7,601.6,576.4,558.70000000000005,543.1,521.29999999999995,780.1,653.29999999999995,591.9,564.5,552.9,541.79999999999995,512.5,773.8,638.9,585.79999999999995,557.20000000000005,531.29999999999995,509.9,491.4,798.9,652.70000000000005,591.79999999999995,562.20000000000005,536.5,511.6,475.6,883.3,716.5,616,578.29999999999995,552.79999999999995,528.29999999999995,485,1018,811,684.2,609,576.70000000000005,553.20000000000005,508.7,1175.4000000000001,934.2,788.1,685.8,620,584.4,539,0.76219999999999999,1.0032000000000001,1.1411,0.59040000000000004,0.81120000000000003,0.95799999999999996,0,0,0.64500000000000002,161.9,0.81159999999999999,0,0,739.3,"FRA00002666",6.2530000000000001,3641,16.7,15.8,22.7,53.8,0,228]
["FRA16098a","F24444C","FRA-24444","CAVEJE 3","AQUILA (DK)","JEANNEAU","HARLE Philippe",1973,"33470  -  GUJAN-MESTRAS","DAURIS Gilbert","CLUB","C",365,"13/3/2016","12:14:16",8.2479999999999993,7.0640000000000001,1.6779999999999999,2.98,3019,113.2,0.5,763.3,0.81879999999999997,824.4,0.54700000000000004,35.700000000000003,1256.5,1025.0999999999999,891.9,797.2,740,712.1,686.3,1214,993,869,791.3,744.9,719.4,693.6,1058.7,852.3,740.3,674.3,633.6,607.6,577.29999999999995,1117.7,894.6,772.2,699.4,653.9,624.70000000000005,590.4,1291.7,997.6,830.2,727,659.9,613.70000000000005,551.4,44,42.4,42.7,42.7,41.3,40.5,40.4,148.4,152.6,152.6,161.4,180,180,180,1335.4,1114.0999999999999,992.5,904.7,857.6,838,832.2,865.7,732.3,649.79999999999995,610.29999999999995,591.1,582.6,578.4,814.2,689.4,620.9,591.6,574.6,564,557.9,772.9,653.5,601,576.5,558.79999999999995,543.9,524.79999999999995,778.1,655.5,593.4,567.4,557.4,542.79999999999995,513.79999999999995,778,641.70000000000005,587.6,558.9,533.29999999999995,514.1,496.6,804.2,656.4,593.9,564,538.4,513.6,479.8,883.5,718.6,619.1,580.4,554.79999999999995,530.29999999999995,486.8,1020,812.3,687.6,611.9,578.79999999999995,555.1,510.6,1177.7,935.9,791.4,689.8,622.4,586.20000000000005,540.4,0.76319999999999999,1.0014000000000001,1.1344000000000001,0.5917,0.80989999999999995,0.95150000000000001,0,0,0.65700000000000003,173.4,0.81059999999999999,0,0,740.2,"FRA00003277",6.2560000000000002,3574,16.600000000000001,15,23.5,52.4,0,229]
["FRA16115a","F14728","FRA-14728","VULCAN","AQUILA Regate","JEANNEAU","HARLE Philippe",1973,"56600  -  LANESTER","GODIVIER Michel","CLUB","C",300,"22/3/2016","11:31:56",8.2479999999999993,6.9859999999999998,1.659,2.98,2770,118.5,0.45,763.3,0.81830000000000003,824.9,0.55000000000000004,38.200000000000003,1252.5,1022.5,890.4,798.2,742.4,714.3,688.9,1209.4000000000001,990.4,867.5,791.4,746.7,721.7,697.2,1057.5,851.8,740.4,674.9,634.5,608.79999999999995,579,1111.9000000000001,890.5,769.3,697.4,652.70000000000005,624.1,590.6,1289.3,996.5,830.1,727.5,660.8,614.79999999999995,552.4,43.9,42.3,42.9,42.4,41.4,40.700000000000003,40.799999999999997,148.6,152.80000000000001,153.6,162.1,180,180,180,1325.8,1107.4000000000001,985.8,901.5,859.8,841.2,836.8,861.3,727.7,646.9,608.29999999999995,591,584.1,580.70000000000005,810.8,684.6,618.29999999999995,590,574.20000000000005,565.4,560.5,770,650.5,598.6,574.9,557.4,542.9,526.70000000000005,775.4,655.29999999999995,595.20000000000005,568.4,557.9,540.79999999999995,512.4,786.6,647.79999999999995,589.9,560.9,534.9,514.4,497.7,809.2,663.5,596.4,565.9,540.5,515.4,479.9,885.2,722.7,623.9,582.79999999999995,556.79999999999995,531.9,487.8,1021.1,813.9,691.7,615.1,580.70000000000005,556.70000000000005,511.3,1179.0999999999999,937.6,795,694.9,625,587.4,541,0.76419999999999999,1.0009999999999999,1.1317999999999999,0.59340000000000004,0.80969999999999998,0.94830000000000003,0,0,0.66700000000000004,182,0.8105,0,0,740.3,"FRA00003752",6.2359999999999998,3316,16,14.7,23.1,47.2,0,230]
["nor21707",21707,"NOR 6272","Bat","ARCONA 32","Boo Marin","STEFAN QVIBERG",1985,null,"Trond Tjemsland","CLUB","C",514,"3/5/2016","13:52:58",9.4580000000000002,8.1969999999999992,1.73,3.24,4181,116.1,0.39,709.4,0.88090000000000002,766.3,0.56999999999999995,21.7,1187.4000000000001,962,833.2,742.3,683.1,653.9,627,1139.7,929.3,809.6,733,685.3,659.1,631.1,989.4,794.5,687.9,624.29999999999995,584.29999999999995,558.29999999999995,526.79999999999995,1042,832,716.2,646.70000000000005,602.70000000000005,573.9,539,1214,933.1,772.9,673.7,609.1,564.6,504.5,44.3,42.7,42.7,42.1,40.4,39.799999999999997,39.6,147.80000000000001,152.1,153.69999999999999,160.19999999999999,180,180,180,1253.4000000000001,1038.5,917.6,831.4,779.3,759,750.2,808.9,680.2,603,563.5,543.70000000000005,534.20000000000005,528.9,758.6,640.6,576.4,547.4,529.9,518.5,510.5,718.6,608.9,558.6,534.9,517.29999999999995,501.3,480.2,723.3,600.1,547,520.29999999999995,501.7,493.7,471.2,718,594.29999999999995,544.20000000000005,517.5,492.2,468.1,442.2,740.4,610,551.4,524.20000000000005,501.1,477.8,436.5,820.8,676.5,583.6,543.5,518.9,495.4,451.7,971.1,768.2,651.20000000000005,576.4,541.9,518.9,475.2,1121.3,885.6,748.9,653.20000000000005,586.79999999999995,548.79999999999995,503.8,0.81569999999999998,1.0789,1.2370000000000001,0.62809999999999999,0.86970000000000003,1.0367,689.1,0.87070000000000003,0.66800000000000004,142.19999999999999,0.87219999999999998,0.57999999999999996,30.6,687.9,"nor00000953",7.3239999999999998,4860,21.8,26.2,25.8,58.3,0,231]
["ESTEST646","Est0646","EST 646","KATARIINA II","ARCONA 340","ARCONA YACHTS","STEFAN QVIBERG",2009,"Parnu YC","Aivar Tuulberg","CLUB","C",670,"26/8/2016","19:45:18",10.404999999999999,9.468,2.093,3.48,4868,112.8,0.17,626.70000000000005,0.99480000000000002,678.5,0.65200000000000002,26.1,1044.3,845.1,726.8,653.20000000000005,612.5,588.5,557.5,999.6,811.2,705.2,643.5,609.4,588,556.79999999999995,870.5,700.2,607.79999999999995,553.20000000000005,518.79999999999995,495.6,464.9,926.8,740.1,637.79999999999995,576.79999999999995,538.6,513.29999999999995,481,1068.3,821.9,682.2,596.1,539.79999999999995,500,443.1,44,42.6,42.2,40.299999999999997,39.1,38.4,38,145.19999999999999,149.5,151.6,157.6,176.1,180,180,1092,900.8,786.7,718.6,692.7,680.4,665.7,706.3,590.5,527,499.9,489.9,485,478.8,661.3,557.5,509.5,486.9,475,469.4,464.8,624.5,533.70000000000005,497,475.2,456.4,443.4,434.3,626.9,532.9,491,466.7,453.9,436.6,408.4,639.1,529.70000000000005,488,459.9,433.4,412.3,387.6,658.6,542.5,494.6,466.6,439.1,412.3,368.2,728.7,592.1,519.20000000000005,486.1,460.3,434.1,383.2,863,683.7,578.5,516.9,486.5,462.4,414.9,996.5,789.5,667,587.79999999999995,532.29999999999995,496.6,449.3,0.92849999999999999,1.2196,1.391,0.71450000000000002,0.98750000000000004,1.1580999999999999,612.4,0.97970000000000002,0.80200000000000005,177.2,0.98729999999999996,0.66900000000000004,41,607.70000000000005,"EST00001252",9.0519999999999996,5723,26.6,38.700000000000003,32.200000000000003,90.2,71.8,232]
["FIN00420","L-0420","FIN-420","Nauti 'n' Nolla","ARCONA 340","ARCONA YACHTS","STEFAN QVIBERG",2009,"HSK","Heikki Raisanen","INTL","C",640,"6/6/2016","01:13:36",10.404999999999999,9.6769999999999996,2.0270000000000001,3.48,5562,112.9,0.01,621.29999999999995,1.0018,673.8,0.68500000000000005,45.3,1015.1,829.6,717.6,650.79999999999995,611.70000000000005,588.70000000000005,563.20000000000005,971.3,795.3,696.8,641,609.70000000000005,589.70000000000005,565,854.3,690.9,603,551.79999999999995,520,499,472.6,903.3,725.7,629.20000000000005,572.29999999999995,537,513.70000000000005,484.3,1047.5999999999999,810.7,676.9,594.9,541.5,504.1,452,43.7,42.4,42.3,40.200000000000003,39.200000000000003,38.5,38.299999999999997,145.1,150,151.80000000000001,158.1,180,180,180,1050.2,877.6,772.1,716.1,692.8,681,674.2,683.2,577,520.6,498.5,490.6,486.4,483.5,642.29999999999995,546.70000000000005,505,486.2,477.1,472.3,468.3,608.5,526.1,494.2,474.6,458.9,448.6,440.7,610.20000000000005,527.29999999999995,491.5,470.4,457.5,439.9,416.3,633.1,527.6,488.6,463,440,420.6,401.1,651.70000000000005,539.79999999999995,494.7,469,443.8,419.1,385.3,718.7,587.9,517.79999999999995,486.7,463.1,438.7,392.3,848.7,676.9,575.29999999999995,515.9,487.1,464.9,420.3,980,781.7,663.1,585.5,530.6,496.4,452.2,0.94820000000000004,1.2251000000000001,1.3794999999999999,0.73180000000000001,0.99529999999999996,1.1540999999999999,0,0,0.85599999999999998,209.4,0.99219999999999997,0,0,604.70000000000005,"FIN00012993",9.1859999999999999,6445,27.1,41.3,38,95.7,75.2,233]
["nor667004",667004,"NOR 14608","NN","ARCONA 340","ARCONA YACHTS","STEFAN QVIBERG",2009,null,"Per Boymo","CLUB","C",649,"14/6/2016","12:14:20",10.404999999999999,9.5909999999999993,2.0089999999999999,3.48,5210,115.3,0.19,634.4,0.97289999999999999,693.8,0.65300000000000002,32.9,1049.2,854.6,741.5,670.9,634.5,605.20000000000005,578.1,1009.3,823.7,719.9,657.4,622.20000000000005,599.29999999999995,574.29999999999995,876.6,706.9,615.4,561.79999999999995,528.4,506.3,478.2,945,753.8,648.5,585.6,546.20000000000005,520.5,489.5,1077.0999999999999,831.5,692.1,606.20000000000005,549.70000000000005,509.8,453.7,44.3,42.9,42.9,41.2,40.1,39.5,39.4,144.6,148.1,148.1,149.80000000000001,174.2,176.9,178.1,1117.5999999999999,926.4,815.6,737.8,705.4,692,683.8,721.1,605.1,538.70000000000005,506.5,492.8,487.6,484.2,675.1,569.79999999999995,517.79999999999995,493,478.8,472.1,467.4,637.5,543,502.9,481.8,463.9,448.9,436.3,625.9,525.4,487.9,469.7,459.3,445,414.3,625.79999999999995,523.79999999999995,486.4,460,433.6,417.5,396.2,646.20000000000005,537.1,493.5,467.2,440.7,414.7,376.2,719.2,586.79999999999995,517,485.8,461.3,436,388,849.4,677.9,578,523,495.6,476.7,437.4,980.8,782.8,667.4,603.9,563.6,518.4,472.3,0.92369999999999997,1.2022999999999999,1.3603000000000001,0.70909999999999995,0.96340000000000003,1.1206,621.1,0.96609999999999996,0.82199999999999995,203.1,0.97250000000000003,0.66900000000000004,47.1,617,"nor00001592",8.8919999999999995,6080,26.5,39.9,28.1,0,93.2,234]
["nor6378",6378,"NOR 8900","Ventus","ARCONA 36 S","Boo Marin AB","STEFAN QVIBERG",1987,null,"Per Forsstrom","CLUB","C",627,"20/5/2016","10:41:24",10.85,9.3239999999999998,1.867,3.51,6742,109.7,0.37,659.2,0.94330000000000003,715.6,0.64300000000000002,43.4,1079,883.5,769.4,693.1,647.79999999999995,621.29999999999995,596.5,1036.9000000000001,851.5,747.5,684.5,647.9,625.79999999999995,602.20000000000005,908.3,733.7,639.70000000000005,584.70000000000005,550.79999999999995,529,503.3,962.5,772.1,668.2,606.6,568.29999999999995,543.4,513.5,1113,861.3,718.5,630.70000000000005,573.70000000000005,534.5,481.8,44.4,42.8,43.3,42.5,40.799999999999997,39.9,40,146.4,150.9,151.6,157.19999999999999,176.5,180,180,1132.8,949.5,844.2,776,743.6,727.4,718.7,732.6,621.20000000000005,554.70000000000005,524.9,513.4,507.8,503.7,688,584.20000000000005,532.29999999999995,509.7,498.4,492.9,488.6,651.20000000000005,555.79999999999995,516.9,497.3,483.2,472.3,462.6,653.5,557.6,515.6,498.3,483.1,468.8,445.4,672.2,556.4,509.8,485.7,466,454.6,437.7,690,569.5,515.70000000000005,490.2,468.4,446.7,422.5,755.6,619.79999999999995,539.70000000000005,505.4,483.5,462.4,422.9,887.7,708,602.4,536.1,505.4,484.9,446,1025.0999999999999,817.6,694.6,610.20000000000005,552,515.20000000000005,474.4,0.89119999999999999,1.1559999999999999,1.3012999999999999,0.68789999999999996,0.9335,1.0911,644.29999999999995,0.93130000000000002,0.78400000000000003,192.8,0.93569999999999998,0.65300000000000002,53,641.20000000000005,"nor00001214",8.3650000000000002,7580,27.7,33.4,41.2,99.7,0,235]
["nor9840",9840,"NOR 12784","Birgit Margrethe","Arcona 370","Boo Marin AB","STEFAN QVIBERG",2006,null,"Birgit og Knut Holm","CLUB","C",716,"1/4/2016","11:11:46",11.1,10.207000000000001,2.073,3.63,6408,114.5,0.08,619.29999999999995,1.0003,674.8,0.67100000000000004,35.700000000000003,1022.4,832.8,721.4,653.6,612,586.29999999999995,560.20000000000005,973.7,795.6,696.2,640.1,608.29999999999995,587.79999999999995,562.70000000000005,853.7,689.4,601,549.20000000000005,516.9,495.5,468.8,888.5,714,619.29999999999995,563.4,528.6,505.7,476.6,1053.5,812.9,676.7,593.1,538.5,500.1,445.9,44.1,43.1,42.7,40.799999999999997,39.6,39.299999999999997,39.1,144.80000000000001,148.1,152.9,157,175.3,180,180,1036.0999999999999,865.9,764,712.6,689.2,677.1,668,671.4,566.9,511.3,490.4,482.5,478.4,475.6,630,535.70000000000005,494.5,476.8,468.9,464.4,460.6,594.9,513.9,482.7,464.2,450.1,441.4,433.7,595.5,514.29999999999995,483,462.3,447.1,430.4,409.2,636.9,527.9,484.5,460.5,437,414.5,393.2,660.6,545,492.6,467,444.3,420.7,376.6,738.2,600.5,521.1,484.8,462.2,440.1,396.5,873.6,692.6,588.4,521,486.6,465,423.6,1008.7,799.7,678.7,594.5,534.70000000000005,495.4,452.3,0.94850000000000001,1.23,1.3897999999999999,0.72770000000000001,0.99160000000000004,1.1579999999999999,608.6,0.9859,0.83499999999999996,194.9,0.99390000000000001,0.68300000000000005,47.6,603.70000000000005,"nor00000179",9.4939999999999998,7373,29.4,45,43.2,0,80.3,236]
["nor10172",10172,"NOR 13572","Vinna","Arcona 370","Boo Marin AB","STEFAN QVIBERG",2003,null,"Helge Andreassen","CLUB","C",716,"6/4/2016","17:17:28",11.1,10.207000000000001,2.073,3.63,6408,114.5,0.04,616.6,1.0087999999999999,669.1,0.68100000000000005,39.799999999999997,1015.1,826,714.1,647.70000000000005,607.1,581.5,555.79999999999995,967,789.5,690.4,635,603.4,582.79999999999995,558,850,686.3,598.29999999999995,546.79999999999995,514.9,493.9,467.9,887.5,713.1,618.29999999999995,562.4,527.6,504.6,475.6,1045.9000000000001,807.3,672.4,589.9,536.29999999999995,498.9,447.3,43.8,42.6,42.2,40.200000000000003,38.9,38.5,38.1,145.1,150,152.1,156.6,174.3,180,180,1028.9000000000001,858.8,756.7,705.6,682,669.1,660.4,668.6,564.20000000000005,509.7,489.5,481.7,477.5,474.6,628.4,534.5,494.1,476.5,468.6,464,460.1,594.5,513.79999999999995,482.8,464.4,450.3,441.6,434,596.1,514.9,483.6,465.1,448,431.5,410.3,642.4,530.4,485.2,460.8,437.4,420.9,400.9,662.6,545.1,492.1,466.4,443.7,420.2,385,733.8,597.79999999999995,519.29999999999995,483.7,461.3,439,395.1,867.2,687,582.5,516.79999999999995,484.2,462.9,421.2,1001.3,793.2,671.6,589.79999999999995,532.29999999999995,493.9,451.2,0.9526,1.236,1.3939999999999999,0.73319999999999996,1.0005999999999999,1.1672,604.29999999999995,0.99280000000000002,0.84199999999999997,195.5,0.99990000000000001,0.69499999999999995,52.2,600.1,"nor00000342",9.5820000000000007,7373,29.4,42.2,46.2,92.9,0,237]
["nor9039",9039,"NOR 11543","Carmencita","Arcona 370","Boo Marin AB","STEFAN QVIBERG",2002,null,"Jorgen Husvik","CLUB","C",716,"22/4/2016","09:08:56",11.1,10.207000000000001,2.073,3.63,6408,114.5,0.25,625.4,0.98850000000000005,682.8,0.64700000000000002,25.3,1052.9000000000001,852.5,737.2,659.4,614.9,588.5,560.70000000000005,1007,819,713.1,648.4,612.20000000000005,590.6,563.1,865.9,697.8,606.70000000000005,553,519.29999999999995,497.1,469.2,929.2,741.8,638.79999999999995,577.29999999999995,538.79999999999995,513.4,481.8,1076.4000000000001,826.8,685.2,598.1,541.6,502.5,449.3,44,42.4,42.4,41,39.6,38.9,39,145.19999999999999,150.1,152.4,156.6,174.3,180,180,1094.8,905.5,798,725.3,695,681.4,668.6,704.3,583.79999999999995,521,497.8,485.3,480.1,476,641.70000000000005,536.6,494.7,482.6,471.6,465.8,461.4,583.4,504.5,476,460.7,453.1,444.6,433.3,572,501.9,476.1,457.2,438.2,425.3,412.9,628.6,532.4,486.5,462,438.5,420.4,388,666,547.9,493.7,467.8,445.5,422.4,384.9,739.1,602.29999999999995,522.70000000000005,485.8,463.2,441.3,397.6,875.6,692.4,586.79999999999995,519.70000000000005,486.1,464.6,423.3,1011.1,799.6,676.5,593.4,534.79999999999995,495.6,452.8,0.93430000000000002,1.2202999999999999,1.3865000000000001,0.70850000000000002,0.9778,1.1545000000000001,614.1,0.97699999999999998,0.77800000000000002,163.1,0.98419999999999996,0.66,36.9,609.6,"nor00000590",9.3420000000000005,7373,29.4,43.2,31.9,87.6,0,238]
["nor666933",666933,"NOR 15278","Pondus","Arcona 380","ARCONA YACHTS","STEFAN QVIBERG",2013,null,"Martin Trangrud","CLUB","C",727,"14/4/2016","10:33:06",11.28,10.497,2.0939999999999999,3.8,6850,124.2,0.26,637.5,0.98319999999999996,686.5,0.59599999999999997,-2.5,1114.5,880.8,745.2,659.9,610,578.1,546.6,1042.3,834.7,715.9,643.6,603.20000000000005,579.79999999999995,552.6,900.5,717.9,617.29999999999995,557.1,519,493.7,461.5,900.5,717.9,617.29999999999995,557.1,519,493.7,461.5,1125.5,852,696.9,602.1,541.20000000000005,499.5,443.6,43.9,42.4,42.1,40.200000000000003,39.299999999999997,38.700000000000003,38.200000000000003,145.6,172.3,174.5,176.2,177,178.5,179.3,1053.4000000000001,868.5,759.3,691.2,663.4,649.4,636,681.6,569.70000000000005,506.9,478.5,467.2,461.8,456.8,638.5,537.5,488.8,466.1,453.5,447.3,441.8,603.29999999999995,513.70000000000005,476.3,455.8,438.4,424.5,412.5,606,515.70000000000005,477.6,457.3,439.7,421.7,391.1,674.3,564.20000000000005,498,469.6,450.3,431.1,392.1,727.3,596.9,519.9,481.3,459.8,441.1,402.7,851.6,676,576.9,513.4,479.9,459.6,423.2,1018,783.2,653.20000000000005,569.5,512.6,480.3,442.5,1175.5,893.2,731,628.5,556.70000000000005,506.9,457.1,0.89249999999999996,1.2078,1.3998999999999999,0.67659999999999998,0.97230000000000005,1.1754,619,0.96930000000000005,0.68200000000000005,98.8,0.9718,0.60399999999999998,4.2,617.4,"nor00000449",9.9160000000000004,7831,31.9,49.8,35.299999999999997,0,0,239]
["nor666998",666998,"NOR 15449","Haffsarkesteret","Arcona 380","ARCONA YACHTS","STEFAN QVIBERG",2013,null,"Truls Holm Olsen","CLUB","C",726,"21/6/2016","20:18:32",11.28,10.486000000000001,2.0950000000000002,3.8,6825,124.3,0.18,599.20000000000005,1.0402,648.9,0.68700000000000006,29.1,995.4,807.8,696.1,625.6,586.70000000000005,562.1,533,955.6,776.3,675.5,616.1,582.5,561.1,532.20000000000005,831.7,669.2,581.1,529.20000000000005,496.6,474.7,446.2,896.9,715.4,615.5,555.70000000000005,518,492.8,460.6,1019.1,785,652.1,570.20000000000005,516.70000000000005,479.2,427.5,43.8,42.4,42.1,40.200000000000003,39.299999999999997,38.700000000000003,38.200000000000003,144.4,148.5,150.69999999999999,156.4,172.5,180,180,1052.5,867.9,758.8,691.2,663.5,649.70000000000005,636.1,681.2,569.4,506.6,478.4,467.2,461.8,456.8,638.20000000000005,537.20000000000005,488.6,465.9,453.4,447.3,442,603.1,513.5,476.2,455.6,438.3,424.4,412.7,606,506.7,467.7,454.9,439,421.6,391.1,604.70000000000005,501.7,463,437.1,417.7,405.6,384.2,621.79999999999995,513.20000000000005,469.1,443.2,417,392.2,367.3,688,559,491.3,460.8,436.9,412.3,364.4,812.7,647.6,548.79999999999995,491.1,462.4,440.1,395.7,938.4,747.8,633.4,560,509.8,474.5,430,0.97209999999999996,1.2749999999999999,1.4521999999999999,0.74860000000000004,1.0313000000000001,1.2111000000000001,583.6,1.028,0.83799999999999997,176.1,1.0323,0.70299999999999996,41.2,581.20000000000005,"nor00001665",9.9109999999999996,7805,31.8,49.3,35.6,123.3,0,240]
["nor21680",21680,"NOR 15041","Swell","Arcona 410","ARCONA YACHTS","STEFAN QVIBERG",2011,null,"Leonard Bijl","CLUB","C",828,"1/4/2016","11:11:10",12.2,11.435,2.2010000000000001,3.88,7978,123.3,0.03,575.9,1.0721000000000001,629.6,0.71399999999999997,31.5,960.1,779,672.2,608.6,571.6,546.79999999999995,516.1,918.4,746.3,651.20000000000005,597.6,566.5,545.29999999999995,513.9,795,641.5,558.79999999999995,510.3,479.7,458.8,430.5,865.2,690.5,594.6,537.29999999999995,501.1,476.8,444.9,984.1,758,630,551.4,500,464,414.3,45,44.3,43.5,40.5,39,38.5,37.700000000000003,142.6,148.1,150.4,155.5,169.3,180,180,999.7,825.4,724.1,670.2,644.6,631.20000000000005,613.4,637.79999999999995,531.20000000000005,478.9,462.5,453.9,449.1,442.4,589.20000000000005,496.2,460.1,447.6,440.8,435.7,429.7,543.4,472,445.3,429.3,419.6,412.8,403.3,535.9,471.4,446.6,427.9,409.5,394.6,379.4,590.29999999999995,488.9,449.7,425.2,404.2,391.7,358.2,608.20000000000005,500.3,455.7,430.6,405.2,382.2,354.7,673.2,546.1,478.1,447.8,424.9,400.7,352.4,797.2,634.5,537.29999999999995,478.5,449.6,428.1,383.8,920.5,732.7,620.29999999999995,547.1,498.6,462.3,418.8,1.0188999999999999,1.3230999999999999,1.5014000000000001,0.7762,1.0633999999999999,1.2465999999999999,565.5,1.0609999999999999,0.88500000000000001,189.3,1.0682,0.72799999999999998,42.9,561.70000000000005,"nor00000176",10.682,9105,35,58,40.200000000000003,132.1,115,241]
["nor666769",666769,"NOR 15179","St?r","Arcona 410","ARCONA YACHTS","STEFAN QVIBERG",2011,null,"Kjell Ulrik Sandvig","CLUB","C",828,"1/4/2016","11:11:24",12.2,11.435,2.2010000000000001,3.88,7978,123.3,0.04,575.79999999999995,1.0704,630.6,0.71499999999999997,32.1,959.9,778.7,673.5,610.9,572.70000000000005,547.29999999999995,517.29999999999995,917,745.6,652,599.20000000000005,567.5,546,515.20000000000005,793.4,640.9,558.9,510.7,480.2,459.5,431.8,875,697.2,599.20000000000005,540.5,503.4,478.5,446.4,984.9,758.7,630.70000000000005,552,500.6,464.8,415.7,45.4,44.3,43.5,40.6,39,38.5,37.799999999999997,142.6,148.30000000000001,150.6,155.30000000000001,168.8,180,180,992.9,821,723.7,672.5,645.1,631,614.5,632.5,526.9,478.5,462.4,454,448.8,443,583.4,492.3,459.3,447.4,440.8,435.4,429.7,536.79999999999995,468.7,443.2,428.6,419.5,413,403.3,528,467.6,443.8,425.1,407.3,393.7,379.7,581.5,491.2,450.9,426.3,408.1,390.2,359.2,612.20000000000005,502.9,456.9,431.8,406.6,382.8,357.4,677.4,549.1,480,449.1,426.3,402.4,354.6,802.8,637.70000000000005,539.9,480.3,450.8,429.4,385.5,927,736.4,623.29999999999995,549.4,500.4,463.6,420.1,1.0214000000000001,1.3218000000000001,1.4993000000000001,0.77649999999999997,1.0609999999999999,1.2444999999999999,566.5,1.0591999999999999,0.88700000000000001,191,1.0671999999999999,0.72599999999999998,42.6,562.20000000000005,"nor00000177",10.648999999999999,9105,35,56.1,38.9,129.5,0,242]
["nor666717",666717,"NOR 14951","Arckaos","Arcona 410","ARCONA YACHTS","STEFAN QVIBERG",2011,null,"Kjell Petter Bruun","CLUB","C",828,"19/4/2016","16:59:28",12.2,11.435,2.2010000000000001,3.88,7978,123.3,0.05,576.5,1.0686,631.70000000000005,0.71199999999999997,31.2,961.9,780,674.7,612.5,573.5,547.70000000000005,518,918.5,746.7,653.1,600.4,568.20000000000005,546.4,515.9,794.3,641.70000000000005,559.6,511.2,480.7,459.9,432.4,880.8,701.1,602,542.5,504.8,479.7,447.4,986.8,760,631.6,552.70000000000005,501.2,465.1,415.8,45.8,44.3,43.5,40.6,39,38.5,37.799999999999997,144.1,148.30000000000001,150.6,155.19999999999999,168.3,180,180,993.2,821.2,724.2,674.1,645.4,630.9,615,632.20000000000005,526.70000000000005,478.6,462.4,454.1,448.7,443.3,582.9,491.9,459.3,447.4,440.8,435.4,429.7,535.9,468.2,443,428.6,419.6,413.1,403.2,526.79999999999995,467.1,443.5,424.8,407.2,393.8,380,580.1,492.7,451.7,427.1,408.4,390.2,359.9,614.6,504.4,457.7,432.6,407.6,383.4,356.8,680,551,481.1,449.8,427.1,403.3,355.8,806,639.9,541.6,481.3,451.5,430.1,386.5,930.7,738.8,625.20000000000005,550.79999999999995,501.6,464.5,421,1.0202,1.3201000000000001,1.4979,0.77500000000000002,1.0589,1.2431000000000001,567.20000000000005,1.0578000000000001,0.88400000000000001,189.5,1.0656000000000001,0.72399999999999998,41.9,563.1,"nor00000471",10.625,9105,35,54.3,39.9,129.69999999999999,0,243]
["nor666850",666850,"NOR 15410","Blanke Arc ^2","Arcona 410","ARCONA YACHTS","STEFAN QVIBERG",2011,null,"Einar Unhjem Johansen","CLUB","C",828,"30/4/2016","22:28:54",12.2,11.435,2.2010000000000001,3.88,7978,123.3,0.13,574.70000000000005,1.0733999999999999,628.9,0.71099999999999997,29.6,964.1,781.8,673.3,606.70000000000005,569.70000000000005,545,515.20000000000005,923.4,749.5,652,595.9,564.4,543.4,513.29999999999995,792,639.9,557.79999999999995,509.5,478.9,458.1,430.1,860.9,687.6,592.5,535.79999999999995,500,476.2,445.7,986.2,758.7,629.9,550.9,499.4,463.4,413.3,43.9,42.4,42,40.200000000000003,38.6,38.200000000000003,37.4,144.1,148.19999999999999,150.69999999999999,155.6,169.5,180,180,1009.3,831.5,726.1,665.7,640.29999999999995,627.1,610.70000000000005,649.79999999999995,536.9,486.5,462,452.9,448.2,442.1,589.1,493.7,463.9,450,440.1,435,430.3,530.20000000000005,464.7,443.5,433.6,423.8,412.8,404,515.70000000000005,460.6,437.4,418.3,406.8,398.8,380.2,553.20000000000005,481.9,449.8,425.8,404.1,385.4,356.1,605.1,500.4,456.3,431.5,406.5,382.9,350.7,673.1,546.9,478.8,448.4,425.8,401.9,354.2,795.9,634,537.5,479.2,450.2,429,385.2,919,732,620.5,547.70000000000005,499,462.8,419.7,1.0226,1.3246,1.5037,0.7732,1.0643,1.2501,565.29999999999995,1.0615000000000001,0.86899999999999999,178.8,1.0690999999999999,0.72699999999999998,42.8,561.20000000000005,"nor00000839",10.75,9105,35,56,41.5,129.4,122.2,244]
["nor667043",667043,"NOR 15443","Sara Charlotte","Arcona 410","ARCONA YACHTS","STEFAN QVIBERG",2011,null,"Henrik Torgersen","CLUB","C",830,"22/9/2016","14:01:10",12.15,11.436999999999999,2.202,3.88,8003,123.4,0.02,576.4,1.0656000000000001,633.4,0.71299999999999997,32.299999999999997,960.6,779.7,675.8,615.4,576.9,549.5,519.5,916.8,746.3,654.1,603.1,571.29999999999995,548.29999999999995,518.4,792.1,640.9,559.6,511.9,481.6,460.9,433.3,906.2,718.6,614.29999999999995,551,510.6,483.8,451,986.8,760.5,632.5,553.79999999999995,502.2,466,416,45.8,45,43.5,41.3,39.5,38.799999999999997,37.799999999999997,144,148.1,150.4,155,167.6,180,180,988.1,818.5,724.5,678.6,650.9,633.6,617,627.79999999999995,523.29999999999995,478.6,462.9,454.8,449.2,444,577.79999999999995,488.6,459.3,447.8,440.7,435.7,429.4,529.4,465,441.3,428.8,420.3,414.1,401.9,519,463.2,440.3,421.7,405.2,394.5,381.2,567.29999999999995,491.2,452,427.6,409.1,389.2,360.7,615.6,505.4,458.2,433.3,408.6,384.4,355.3,682.4,553.1,481.9,450.2,427.7,404,356.9,808.1,641.70000000000005,543.1,482.2,452.1,430.9,387.6,933.2,741,627,552.20000000000005,502.9,465.4,422.1,1.0237000000000001,1.3183,1.4944,0.77569999999999995,1.0553999999999999,1.2382,568.70000000000005,1.0549999999999999,0.89100000000000001,195.3,1.0638000000000001,0.72399999999999998,42.7,564,"nor00002029",10.56,9133,35,54.3,31.3,129,0,245]
["nor666860",666860,"NOR 15924","Feelgood","Arcona 430","ARCONA YACHTS","STEFAN QVIBERG",2007,null,"christer lie","CLUB","C",946,"30/5/2016","22:08:12",13.15,12.555,2.3260000000000001,3.94,9685,118.4,0.1,569.20000000000005,1.0769,626.79999999999995,0.69099999999999995,13.8,971.1,782,674.7,607.79999999999995,566,537.79999999999995,507.1,921.6,745.8,649.1,592.5,558.4,535.79999999999995,505.7,790.1,635.9,552.20000000000005,502.5,471,449.5,421.6,871.6,691.7,591.79999999999995,531.6,493.2,467.5,434.8,990.2,758,626,544.70000000000005,491.4,454.1,402.5,46.1,45,44.1,41.2,39.6,38.700000000000003,38.4,143.6,147.80000000000001,150.69999999999999,153.19999999999999,161,180,180,986,812.1,716.2,661.4,631,615.5,599.1,623.9,518.4,467.9,449.4,439.9,434.3,428.5,572.4,480.3,446.2,433.5,425.9,421,414.8,523.4,452.9,427.8,415,406.2,399.7,389.4,512.4,450.1,426.3,408.5,392.2,381.2,367.3,560.29999999999995,481,442,418.1,395.2,376.5,349.2,618,505.6,449.6,423.7,400.9,377.5,340.4,691,556.70000000000005,480.4,442.7,420.4,398.8,354,828.2,651.20000000000005,548.4,482.7,444.9,423.4,382.6,956.3,752,633.20000000000005,554.1,501,460,415,1.024,1.3408,1.5347,0.77,1.0644,1.2657,560.6,1.0703,0.84,156.9,1.0781000000000001,0.70099999999999996,23.5,556.6,"nor00001418",11.374000000000001,10986,40.9,59.7,44.9,126.2,111.3,246]
["SSF",6263,"SWE 6","Salt 2.0","ARCONA 465","ARCONA YACHTS","STEFAN QVIBERG",2015,null,"Staffan Wincrantz","INTL","C",906,"29/5/2016","08:48:16",14.218,13.366,2.4740000000000002,4.25,10194,125.6,0.09,535,1.1545000000000001,584.6,1.1519999999999999,159.6,901.4,724,621.5,565.29999999999995,532.6,507.2,477.4,860.7,691.9,601.20000000000005,553.29999999999995,524.5,502,472.2,745,597.9,518.6,472.1,442.7,422.6,394.9,802.1,638.6,548.9,495.4,461.3,438.2,408.1,730.6,581.4,500.1,451.9,421.1,399.1,365.9,44.5,43.3,42.2,40.4,39.1,38.700000000000003,38.6,143.1,145.6,147.4,153.30000000000001,160.5,180,180,940.7,764.1,667.7,624.9,602.6,585.70000000000005,571.5,604.6,497.5,444.5,428.1,420.5,416.2,406.5,563.20000000000005,467.5,427.7,414.3,407.4,403.2,392.6,528,446.5,415.4,398.3,387.3,380.2,372.6,528.79999999999995,447.4,416.1,396.5,377.2,361.3,346.4,549.9,448.9,410.5,392.1,377.8,363.6,338.3,565.70000000000005,458.7,415.6,389.5,366.3,352,326,628.20000000000005,503.5,437,407.8,383.2,356.8,303.39999999999998,746.6,592.20000000000005,498.1,440.8,411.4,388.8,340.5,862.1,683.8,575.20000000000005,505.7,462.6,428.7,383.3,1.0859000000000001,1.4302999999999999,1.6309,0.8306,1.1458999999999999,1.3435999999999999,0,0,0.94699999999999995,185.6,1.1536,0,0,520.1,"SSF00001471",12.393000000000001,11591,45,76,57.3,183.8,0,247]
["SSF",6264,"SWE 6","Salt 2.0","ARCONA 465","ARCONA YACHTS","STEFAN QVIBERG",2015,null,"Staffan Wincrantz","INTL","C",906,"15/6/2016","21:47:32",14.218,13.366,2.4740000000000002,4.25,10194,125.6,0.09,535,1.1545000000000001,584.6,0.75600000000000001,23.1,901.4,724,621.5,565.29999999999995,532.6,507.2,477.4,860.7,691.9,601.20000000000005,553.29999999999995,524.5,502,472.2,745,597.9,518.6,472.1,442.7,422.6,394.9,802.1,638.6,548.9,495.4,461.3,438.2,408.1,918.2,704.6,583.79999999999995,509.7,461.2,427,378.9,44.5,43.3,42.2,40.4,39.1,38.700000000000003,38.6,143.1,145.6,147.4,153.30000000000001,160.5,180,180,940.7,764.1,667.7,624.9,602.6,585.70000000000005,571.5,604.6,497.5,444.5,428.1,420.5,416.2,406.5,563.20000000000005,467.5,427.7,414.3,407.4,403.2,392.6,528,446.5,415.4,398.3,387.3,380.2,372.6,528.79999999999995,447.4,416.1,396.5,377.2,361.3,346.4,549.9,448.9,410.5,392.1,377.8,363.6,338.3,565.70000000000005,458.7,415.6,389.5,366.3,352,326,628.20000000000005,503.5,437,407.8,383.2,356.8,303.39999999999998,746.6,592.20000000000005,498.1,440.8,411.4,388.8,340.5,862.1,683.8,575.20000000000005,505.7,462.6,428.7,383.3,1.0859000000000001,1.4302999999999999,1.6309,0.8306,1.1458999999999999,1.3435999999999999,0,0,0.94699999999999995,185.6,1.1536,0,0,520.1,"SSF00001545",12.393000000000001,11591,45,76,57.3,183.8,0,248]
["FIN00100","L-0100","FIN-100","Aquamarine","ArconA-400","Boo Marin AB","STEFAN QVIBERG",2001,"ESF","Kalle Luoto","INTL","C",730,"26/4/2016","22:15:20",11.994999999999999,10.992000000000001,2.0950000000000002,3.79,7370,119.8,0,599.6,1.0321,654,0.69,33.4,995.9,808,697.1,632.29999999999995,594.1,568.79999999999995,543.4,949.9,772.7,674.7,620.70000000000005,589.9,569.4,545.1,829.1,668.2,581.6,530.9,499.5,478.8,453.2,871.7,698.7,604.4,548.70000000000005,514,491.1,462.3,1022,787.4,654.6,573.20000000000005,520.1,483.1,431.9,44.5,43.2,43,41.3,40.1,39.299999999999997,39.6,144.30000000000001,148.9,150.9,155.6,170.9,180,180,1023.7,849.2,746.7,696.5,673.2,660.7,653.29999999999995,660.4,554.1,496.6,476.1,468.2,464,460.5,618,522,479.3,461.9,454.4,450,446.2,582.4,499.6,467.3,448.7,435,427,419.7,582.70000000000005,499.9,467.8,448.7,430.9,414.3,395.2,617.20000000000005,508.7,465.9,441.3,419.8,401.8,382.3,636.29999999999995,522.20000000000005,472.5,447.1,423,399,367.1,706,572.6,497.7,464.2,441.6,418.2,372.8,838.4,664,560.9,496.8,465.5,444,400.9,968.1,766.7,647.4,568.1,515,477,433.5,0.97609999999999997,1.2727999999999999,1.4383999999999999,0.74839999999999995,1.0243,1.1934,0,0,0.86099999999999999,195.2,1.0279,0,0,583.70000000000005,"FIN00012879",10.092000000000001,8432,32.5,52,47.2,110.3,87.6,249]
["GER141682","GER6752","GER 6752","NOREIA","ARCONA-400","Boo Marin AB","STEFAN QVIBERG",2001,null,"PETER KROEBER","CLUB","C",350,"1/4/2016","09:09:48",11.994999999999999,11.023999999999999,2.1019999999999999,3.79,7514,122.2,0.2,610,1.0164,664.1,0.67400000000000004,30,1021.2,826.4,710.9,639.79999999999995,601.1,575.9,546.4,978.4,793,689.7,630.5,597.79999999999995,576.70000000000005,547.5,847.8,681.3,591.29999999999995,538.79999999999995,506.3,485,457.8,912.6,727,625,564.29999999999995,526.20000000000005,501.2,470.6,1042.2,801.5,665,581.4,527.20000000000005,489.8,438.7,44.4,42.9,42.6,41.7,40.5,39.9,40.1,140.1,148.69999999999999,149.5,155.5,170.6,180,180,1082,888.9,778,714.8,688.5,675.6,659.9,696.8,580.70000000000005,513.4,484.6,474.5,469.5,463.5,651,546.20000000000005,491.9,469.7,459.8,454.9,450.7,613.79999999999995,519.29999999999995,477.6,457.4,443.2,433.2,424.9,616,510.8,473.3,458.2,442,426,402.2,612,505.5,464.3,441.7,428.7,417.7,398.2,629.4,517.79999999999995,470.3,445.3,421.5,403.6,382.8,696.7,566,493.9,462,439.3,415.9,370.5,831.7,661.6,557.5,493.8,463.7,442.3,399.3,960.3,764,643.79999999999995,564.79999999999995,513.70000000000005,476.1,432.8,0.95309999999999995,1.2548999999999999,1.4200999999999999,0.73070000000000002,1.0084,1.1819,594.29999999999995,1.0096000000000001,0.82099999999999995,178.1,1.0125,0.67800000000000005,34.200000000000003,592.6,"GER20014043",9.8759999999999994,8585,32.700000000000003,49.8,35.1,123,0,250]
["nor8555",8555,"NOR 10851","Nirvana","ARCONA-400","Boo Marin AB","STEFAN QVIBERG",2001,null,"Nils Eldby","CLUB","C",797,"12/5/2016","19:32:20",11.98,11.052,2.1110000000000002,3.79,7746,119.4,0.22,607.4,1.0175000000000001,663.4,0.67900000000000005,31.3,1010.3,819,708.9,640.20000000000005,608.1,578.79999999999995,547.79999999999995,968.3,786.8,685.6,626.5,594.20000000000005,572,544.70000000000005,842.1,677.6,588.9,537.1,505,483.8,456.6,904.2,721,620.20000000000005,559.9,522,496.9,465.4,1035,797.2,662.5,579.79999999999995,525.79999999999995,487.9,435.2,44,42.4,42.3,41,39.6,38.799999999999997,38.700000000000003,144,148.19999999999999,148.19999999999999,149.5,152.30000000000001,176.1,178.3,1061.4000000000001,875,768.8,700.1,671.1,656.9,642,686.4,574.70000000000005,509.8,480.4,469,463.8,458.9,642.6,541.20000000000005,489.8,467.1,455.5,450.1,445.5,606.79999999999995,515.1,476.2,456.3,441.1,429.4,419.2,609.1,508,467.2,449.6,440,424.9,398.7,611.20000000000005,505.9,465.3,441.8,418.7,403.3,383.8,630.4,519.9,472.3,447.9,424.8,401.2,366.3,701.8,571.29999999999995,497.5,464.8,442.9,420.6,376.9,830.7,660.8,562.1,502.6,475.3,455.4,421.6,959.2,763.1,649,580.29999999999995,545.1,500.7,453.5,0.96060000000000001,1.2585,1.423,0.73799999999999999,1.0075000000000001,1.1749000000000001,593.5,1.0109999999999999,0.85199999999999998,198,1.0169999999999999,0.69299999999999995,43,590,"nor00001095",10.074999999999999,8829,32.9,50.8,35.6,0,107.9,254]
["SUISU3353","SUI3353","SUI 3","IMPERATOR 2","AXION 33.5","WACKER","J.CORBY",2006,"YCK","ROLF ZWICKY","CLUB","C",525,"28/4/2016","20:00:06",10.199999999999999,9.4380000000000006,2.403,3.16,4505,138.5,0,582.6,1.0601,636.70000000000005,0.80400000000000005,92.1,906.6,746.3,664.8,625.20000000000005,593.4,571.70000000000005,540.9,866.8,717.3,647.70000000000005,609.70000000000005,581.6,560.70000000000005,533.29999999999995,778.6,639.20000000000005,567,526,500.1,481.5,453.2,826.7,673,591.29999999999995,543.6,513.6,493.2,465.4,954.7,748.8,634.9,565.79999999999995,520.5,487.7,439.2,42.6,41.2,38.6,37.200000000000003,35.9,35.4,35.299999999999997,144.1,147,150.19999999999999,152.80000000000001,176.2,178.1,140.5,928.8,780.1,717.7,686.6,662.7,651.29999999999995,643.6,609.6,526.79999999999995,504.3,494.4,488.1,480.4,475,573.9,509.2,490.5,481.5,475.5,468.4,459.4,546,496.6,474.3,461.4,453.2,447.8,433,546.29999999999995,497.5,472.3,450.2,433.4,424.2,415.8,563.1,494.2,470.2,453.4,437.4,422.6,385.8,578.1,500.6,467.2,441.8,424.7,409.8,379.4,648.29999999999995,530.6,487,457.2,425.6,394.1,348.6,765.9,617.1,529.9,491.3,467.9,443.6,379.5,884.4,712.5,611.79999999999995,563.79999999999995,524,492,438.2,1.0512999999999999,1.2863,1.4256,0.81669999999999998,1.0538000000000001,1.1935,0,0,1.153,366.1,1.0508,0,0,571,"SUI00002182",9.4489999999999998,5323,24.3,52.5,36.5,0,127.7,301]
["nor4970",4970,"NOR 6300","NN","BANNER 1/2 TON","IN Fiberbade AS",null,1985,null,"Martin Kamperhaug","CLUB","C",433,"12/5/2016","19:33:32",9.1660000000000004,7.3479999999999999,1.7010000000000001,3.18,2712,105.5,0,673.2,0.9234,731,0.67400000000000004,76.400000000000006,1063.5,876,769.7,708.5,672,653.1,624.6,1014.7,840.2,751,703.1,674.6,656.7,629.29999999999995,907.7,741.8,654.6,604.5,573.79999999999995,553.4,526.70000000000005,935.6,761.6,669.5,616.4,583.6,561.70000000000005,533.29999999999995,1114.5,870.2,733.9,651,597,558.6,503.4,42.7,42.6,40.5,39.200000000000003,38.200000000000003,38,38.200000000000003,147.4,152.1,154.69999999999999,172.7,180,180,180,1069.8,907,824.7,788.7,769.9,762.3,756.4,701.5,603.9,570.1,557.5,550.70000000000005,546.5,540.29999999999995,660.3,582.70000000000005,555.29999999999995,541.29999999999995,533.1,528.29999999999995,522.29999999999995,627.6,567.79999999999995,541.4,520.9,505.8,498,491.6,629.6,568.5,541.1,517.9,496.8,480.7,466,675.5,579.20000000000005,543,512.4,484.5,467.9,449.2,701.5,591.20000000000005,550.6,521.20000000000005,492.6,466.8,431.9,779.7,639.6,573.79999999999995,542,513.6,486.6,439.1,915.6,731.8,624.70000000000005,569,539.70000000000005,512.79999999999995,464,1057.2,845,714.7,628.29999999999995,574.1,544,492.7,0.89790000000000003,1.1196999999999999,1.2414000000000001,0.69599999999999995,0.91990000000000005,1.0430999999999999,666.4,0.90029999999999999,0.91500000000000004,304.3,0.91110000000000002,0.68300000000000005,89,658.5,"nor00001103",7.2590000000000003,3281,16.5,32.6,26.2,49.7,0,351]
["nor10238",10238,"NOR 12363","Kvitungen","BAVARIA 30 Cruiser","Bavaria Yachtbau","Jacopin & Jakopin",2005,null,"Hans Kristian Olsen","CLUB","C",523,"6/4/2016","17:17:16",9.32,8.2629999999999999,1.851,3.29,4183,125.6,0.4,707.9,0.88429999999999997,763.3,0.57299999999999995,23.1,1181.9000000000001,957.1,830,740.7,681.2,650.79999999999995,625,1132.5999999999999,922.9,804.2,728.3,681.7,656.2,629.79999999999995,986.8,792.7,686.5,623.20000000000005,583.5,557.5,525.9,1032.4000000000001,824.9,710.6,642.20000000000005,599.20000000000005,571.29999999999995,538.5,1211.2,930.9,771.2,672.5,608.4,564.20000000000005,505,43.8,42.1,42.2,41.6,40,39.200000000000003,39.200000000000003,148.5,152.9,156.9,161.30000000000001,180,180,180,1219.7,1014.2,898.4,816,768.6,749.2,741.3,791.2,667.2,592.70000000000005,556.9,538.6,529.29999999999995,524.29999999999995,743.6,628.5,568,541.4,525,513.79999999999995,505.8,704.9,597.5,551,528.79999999999995,512,496.7,475.1,708.6,600.70000000000005,548.20000000000005,521.6,501.5,490.8,466.2,732.3,606.20000000000005,549.29999999999995,522.6,500.4,478.1,442.8,761.6,628.70000000000005,559.1,529.70000000000005,508.1,486.4,445.6,850.1,692.8,596,548.9,523.9,502.8,461,990.9,781.5,663.8,585.6,546.20000000000005,523.1,483,1144.2,899.9,761.7,665.4,593.9,552.29999999999995,508.6,0.81779999999999997,1.0809,1.2386999999999999,0.63109999999999999,0.87250000000000005,1.0405,688.1,0.87190000000000001,0.67100000000000004,142.4,0.87419999999999998,0.58099999999999996,31.2,686.3,"nor00000341",7.48,4876,20.8,25.4,24.6,0,48.2,377]
["nor667055",667055,"NOR 15539","NN","Bavaria 32 Cr","Bavaria Yachtbau","Farr",2009,null,"Stig Klovstedt","CLUB","C",587,"7/9/2016","17:24:00",9.75,8.9380000000000006,1.5569999999999999,3.35,4830,126.3,0.34,697,0.88290000000000002,764.5,0.57799999999999996,20.6,1165.3,947.1,825.1,746.8,693.5,654.4,625.1,1125.9000000000001,917,801.7,730.2,682.8,652.6,626.4,969.8,779.6,676,614.5,575.70000000000005,550.20000000000005,519.79999999999995,1041.5999999999999,828.9,710.9,639.5,594.20000000000005,564.6,530.4,1191.8,918,761.6,664.1,599.70000000000005,554.70000000000005,494,44.9,43.2,42.9,43.3,42,41.1,41.7,146.1,147.6,146.80000000000001,148.19999999999999,174.2,176.6,178.5,1262.8,1041.0999999999999,919.8,838.3,780.2,754,744.3,809.9,679.6,599.9,554.4,530.9,518.6,511.8,757.1,639.20000000000005,567.5,534.1,515.79999999999995,503.9,493.6,715.2,604.9,544.70000000000005,518.29999999999995,503.1,489.3,466.3,693.3,575.5,524.5,500,485.3,477.2,459.4,687.3,569.9,522.1,497.7,475.4,453,426.4,711.1,587.4,529.79999999999995,503.3,481.6,459.2,418.2,787.8,644.4,558.70000000000005,520.4,497.7,476.8,436,924.8,738.8,632.5,567.5,533,512.29999999999995,479.3,1067.8,853.1,730.3,655.29999999999995,606.79999999999995,554.9,506,0.83299999999999996,1.0965,1.2542,0.6391,0.86960000000000004,1.0334000000000001,679,0.88370000000000004,0.70099999999999996,164.3,0.88460000000000005,0.58799999999999997,28.9,678.3,"nor00001981",7.6420000000000003,5612,22.5,27.7,20.3,0,70.7,395]
["knw","nedo8776","NED 8776","SPUR","BAVARIA 36","BAVARIA","JAKOPIN & JAKOPIN",1999,9588229,"Joost van Avendonk","CLUB","C",657,"5/8/2016","11:04:30",11.04,9.8000000000000007,1.52,3.61,5000,92.1,0.33,685.7,0.90759999999999996,743.7,0.56399999999999995,4.9000000000000004,1189.9000000000001,939.9,801.7,715.6,666.1,635.6,606.1,1121.0999999999999,898.9,776.3,703,663.1,641.4,616.70000000000005,966,770.7,663.8,600.70000000000005,561.79999999999995,537,507.5,966,770.7,663.8,600.70000000000005,561.79999999999995,537,507.5,1203.8,913.5,749.3,649.20000000000005,584.9,540.9,481.8,44.7,43.3,43.1,42.5,41.6,41.4,41.6,170.3,171.9,173.8,175.2,176,177.7,179,1147.3,946.3,838.4,772.7,748.3,739.4,732,736.8,615.70000000000005,548.9,516.9,506.3,502,497.3,687.6,578.1,523,498.7,488.5,484.3,481.1,647.4,548.1,504.6,483.5,469,459.5,453.6,649.20000000000005,549.5,505.1,483.2,466.5,450.2,428.3,725.3,605.6,531.1,497.5,477.3,458.7,420.4,784.5,641,555.20000000000005,509.7,485.8,467,429.3,907.9,718.7,612.70000000000005,543.6,506.1,484.4,448.1,1073,824.7,688.1,600.20000000000005,539.9,505.2,466.5,1232.5,933.6,764.9,658.5,583.9,531.70000000000005,480.1,0.83320000000000005,1.1234,1.2850999999999999,0.63390000000000002,0.89929999999999999,1.0678000000000001,673.1,0.89139999999999997,0.67400000000000004,133.4,0.90339999999999998,0.57299999999999995,16.600000000000001,664.2,"knw00005679",8.6340000000000003,5882,25.1,31.9,28,0,0,441]
["GRE000053","GR3000","GRE-3000","ANEMOESSA","BAVARIA 36 CRUISER","BAVARIA","J  & J",2004,"SEANATK","LOUMOS VASILEIOS / LOUMOU PANAGIOTA","CLUB","C",400,"2/5/2016","14:11:24",10.96,9.9329999999999998,1.548,3.61,5500,110.9,0.41,676.6,0.91669999999999996,736.3,0.56799999999999995,0.8,1166.3,934,802.3,713.4,655.7,621.4,593.20000000000005,1117.5999999999999,900.2,777.8,701,652.79999999999995,624.79999999999995,597.20000000000005,955.2,762,655.29999999999995,591.20000000000005,550.79999999999995,524.4,493.4,1014.8,804.5,687.4,616.4,571.29999999999995,541.70000000000005,506.7,1178.4000000000001,898.7,738.4,638.9,573.9,529.20000000000005,469.9,45.5,44,43.5,43.3,42.1,41.2,41.6,146.4,150,150.4,154.4,168.6,180,180,1241.8,1013.2,889.2,804.3,750.2,726.9,716.2,790.8,655.29999999999995,577.20000000000005,529.9,506.6,496.2,490.6,733.3,613.20000000000005,543.20000000000005,508.5,490.7,480.3,473.2,687.3,577.9,519.4,493.2,476.9,463.9,445.4,689.6,580.1,513.70000000000005,484.9,467.1,458.7,436.6,694.2,568.1,506.6,479.3,457.5,438.3,408.5,714.1,583.70000000000005,514.29999999999995,484,462.4,440.3,402.6,791.2,640.79999999999995,546.70000000000005,501.7,477.6,456.9,415.1,944.6,740.3,619.70000000000005,544,502.2,479.5,440.6,1090.8,854.8,715.4,622.4,561.20000000000005,515.9,470.1,0.84109999999999996,1.1373,1.3186,0.64280000000000004,0.90359999999999996,1.0898000000000001,0,0,0.65800000000000003,114.4,0.9153,0,0,655.5,"GRE01005771",8.4130000000000003,6408,25.9,24.4,34.1,79.8,64.8,467]
["ESP564001","E5640_C","ESP-5640_C","TERRAL V","BAVARIA 38 CR","BAVARIA",null,2000,"C.N.MELILLA","RAFAEL GARRICA CARCANO","CLUB","C",600,"4/7/2016","13:16:34",11.91,10.45,1.99,3.87,7375,129.4,0.35,654.6,0.94850000000000001,711.6,0.58099999999999996,-3.8,1136.5,905.2,776.7,689.2,634.5,599,566.6,1085.5999999999999,870.7,749.9,674.2,628.6,600.79999999999995,571.1,927.3,738.2,633.79999999999995,571,531.20000000000005,504.8,472.7,972.8,770.3,657.6,589.4,546,517.4,482.4,1146.4000000000001,871.8,714.8,617.5,554,510.1,451.1,45.5,44,43.7,43.5,42,41.3,40.4,146.30000000000001,149.9,152.4,154.1,166.4,180,180,1184.7,963.7,843.3,760.3,715.9,693,675.7,755,623.70000000000005,546.5,503.8,484.7,476.5,469.9,700.9,583.5,516.29999999999995,485.7,470,460.9,453.4,657,549.1,495.8,472.2,456.3,443.1,425.7,659,551,495.5,467.4,450.6,441,414.5,684.2,557.79999999999995,493.7,466.1,444.8,423.7,393.8,711.1,578.70000000000005,503.7,471.6,450.9,430.5,391.2,796.4,638.9,544.29999999999995,492.8,467.2,447,407.1,942.5,733.3,616,539.4,492.6,468.4,430.5,1088.3,846.8,710.2,618.20000000000005,553.1,505,457.6,0.86650000000000005,1.1771,1.37,0.66120000000000001,0.93400000000000005,1.1331,634.4,0.94579999999999997,0.67,106.5,0.94699999999999995,0.58699999999999997,1.3,633.6,"ESP00018643",9.0820000000000007,8369,31,38.700000000000003,44.6,86.8,81.3,517]
["GER141070","GER6011","GER 6011","LUTZIFER","BAVARIA 38 MATCH","BAVARIA","JAKOPIN",2003,null,"DR. MONIKA LUTZ UND DR. MARTIN LUTZ","INTL","C",600,"2/6/2016","17:11:46",11.84,10.964,2.4129999999999998,3.75,7057,113,0.2,600.79999999999995,1.0349999999999999,652.20000000000005,0.69199999999999995,34.9,999.7,807.8,695.3,630.20000000000005,592.1,566.1,534.4,952.9,772.1,672.5,617.9,587.1,566.1,534.4,833.3,670.3,582.5,531.4,499.8,478.9,451.8,889.2,709.9,611.79999999999995,553.70000000000005,517.4,493.4,462.8,1023.7,787.7,654.4,573,520.5,484.2,434.6,43.2,41.8,41.3,39.9,38.700000000000003,38,37.9,144.4,148.69999999999999,150.5,155,169,180,180,1028.8,847.7,743,692.3,668.7,655.9,635.9,669.9,559.20000000000005,500,477.9,469.4,464.8,457.1,629.20000000000005,528.4,482.4,463.9,455.8,451.3,445.1,596,506.1,469.7,451.2,438.3,430,423,600.1,508.5,471.3,451.8,435.8,420.6,400.4,619.20000000000005,508.4,464.2,440.7,427,416,398.4,637.70000000000005,521.5,470.6,445,421.5,402.6,382.2,706.9,571.9,496.7,462.5,440,417.4,372.6,840.7,665,560.9,496,463.9,442.6,400.5,970.7,767.9,647.5,568,515.5,476.4,433,0.97050000000000003,1.2728999999999999,1.4377,0.74690000000000001,1.0271999999999999,1.2038,587.70000000000005,1.0208999999999999,0.85099999999999998,186.8,1.0282,0.70199999999999996,45,583.5,"GER11001517",10.134,8101,31.4,44.2,40,109.2,0,543]
["CLUBA42DK","TITI","ITA-TITI","TITI'","BAVARIA 42","BAVARIA","J&J DESIGN",2000,"Y.C.QUARTU SANT'ELENA","COSSU SALVATORE","CLUB","C",851,"26/5/2016","22:05:58",12.83,11.589,1.927,3.98,8683,121.5,0.05,596.70000000000005,1.0250999999999999,658.5,0.68,25.4,998.7,810.1,702.1,636.20000000000005,603.1,575.70000000000005,547.20000000000005,954.7,776.8,678.1,621.4,589.9,568.9,545.9,826.5,665.5,578.6,527.79999999999995,496.3,475.6,450,867.8,694.9,600.1,543.5,507.9,484.7,456.6,1023.1,787.2,653.4,570.9,516.79999999999995,478.5,424.5,45.6,44.3,44.3,43,41.6,41.3,41.3,143.9,147.9,148.19999999999999,149,151.19999999999999,175.5,178.2,1036.8,859.1,758.1,698.2,670.2,656.2,649.9,661.8,554.70000000000005,493.9,466.6,456.3,451.2,447.6,615.1,518.79999999999995,471.9,451.3,441.7,436.6,432.2,575,491,456.9,438.3,424.3,414.1,405.3,572.5,489.8,456.3,437,421.9,406.2,382.9,610.29999999999995,502,456.2,432.8,410.9,390.6,370.2,629.20000000000005,516.9,463.8,438.5,417.1,394.9,353.8,701.7,569,492.1,455.7,433.9,413.2,371.9,831.9,659.2,559.5,497.2,465.7,445.6,414.2,960.6,761.2,646.1,574.1,536,495.2,444.5,0.97860000000000003,1.2803,1.4478,0.74629999999999996,1.016,1.1803999999999999,583.9,1.0276000000000001,0.873,207.8,1.0314000000000001,0.69299999999999995,35.299999999999997,581.70000000000005,"CLU00020054",10.368,9845,35.200000000000003,52.1,56.4,0,115,588]
["CRO041/16","CRO1457","CRO 1457","Auckland","Bavaria 42 Match","Bavaria","Jakopin",2004,"CROATIA","Adriatic Challenge d.o.o.","CLUB","C",818,"8/3/2016","14:45:22",12.555,11.303000000000001,2.464,3.76,7662,115.6,0.18,599.5,1.0371999999999999,650.79999999999995,0.67,20,1012.5,815.9,701.2,627.6,586.79999999999995,559.4,534.20000000000005,964.5,780.1,675.8,614.4,580.4,559,536.29999999999995,837.1,671.2,581,527.70000000000005,494.6,473.1,447.3,881.4,702.9,604.6,546,509.2,485.2,455.7,1032.3,791.1,654,569.79999999999995,515.29999999999995,477.7,427,44.1,42.6,42.4,40.799999999999997,39.299999999999997,38.9,38.9,144.6,149,151.1,154.4,165.7,180,180,1040.0999999999999,855.8,748.4,683.3,656.3,642.5,636.29999999999995,671.6,560.29999999999995,496.6,468.8,459,454.1,450.3,627.70000000000005,526.70000000000005,477,455.5,445.6,440.6,436.2,590.79999999999995,500.8,463.7,443.9,429.3,419.4,411.5,591.79999999999995,501.8,464.3,444.9,428.4,412.2,389.3,625.9,511.8,462.6,437.8,416.2,403.4,383.5,645.5,527,469.9,443.5,421.3,398.6,368.8,716.9,579.6,499.9,461.6,439.1,417.8,374.8,853,672.1,566.5,499.8,462.9,441.4,401.3,985,776.1,654,571.9,517.29999999999995,476.2,432.2,0.96389999999999998,1.2786999999999999,1.4576,0.73829999999999996,1.0264,1.2122999999999999,0,0,0.80200000000000005,153.9,1.0317000000000001,0,0,581.6,"CRO00061757",10.427,8775,33.200000000000003,47.8,45.5,103.4,0,607]
["CRO156/16","CRO2255","CRO 2255","Spirit 2","Bavaria 44","Bavaria","Jakopin",2003,"CROATIA","Albert jedrenje, d.o.o.","CLUB","C",895,"26/4/2016","14:13:46",13.645,12.109,1.9370000000000001,4.13,9600,112.3,0.38,675.1,0.9153,737.4,0.51,-41.4,1244.3,966.6,810.7,712.3,645.20000000000005,602.5,559,1169.5999999999999,919.3,779.6,691.7,634,599.6,565.9,980.4,770.3,652.20000000000005,580,533.6,502.9,466.2,980.4,770.3,652.20000000000005,580,533.6,502.9,466.2,1230.5,918.7,739.7,628.70000000000005,556.4,507,443.3,46.7,45.4,44.6,44.5,43.9,42.9,43,169,169.6,170.4,171.4,172.1,172.6,176.2,1217.9000000000001,976.9,846,763.6,708.2,681.1,663.4,767.6,623.6,543.5,493.3,465.7,453.6,445.8,704.4,579,506.7,467.5,447.6,436.9,428.8,653,541.4,478.5,449.7,433.3,420.7,402.6,653.29999999999995,542,479,449.8,433.4,419.9,393.7,745.2,596.1,511.6,465,441.9,425.7,393.6,793.2,633.1,541.6,482.6,451.6,433.2,401.5,925.3,717.1,602.9,528.79999999999995,479.1,451.4,419.3,1103.0999999999999,837.2,688,594.5,529,482.3,436.7,1270.7,956.4,775.5,660.9,582.29999999999995,524,454.6,0.8135,1.1515,1.3815,0.61060000000000003,0.90059999999999996,1.1309,0,0,0.56699999999999995,45.8,0.91930000000000001,0,0,652.70000000000005,"CRO00062697",9.8780000000000001,10826,37.700000000000003,41.5,50.9,0,0,633]
["CRO187/16","CRO1850","CRO 1850","Bastian","Bavaria 49","Bavaria","Jakopin",2003,"CROATIA","Albert jedrenje d.o.o.","CLUB","C",993,"20/9/2016","11:10:48",15.4,13.029,2.0960000000000001,4.4800000000000004,11000,103.2,0.36,657.8,0.93630000000000002,720.9,0.51100000000000001,-50.7,1228.5,951.4,794.8,695.3,627.79999999999995,585.6,540.20000000000005,1151.8,901.8,761.3,672.5,614.4,579.9,545.1,961.5,752.9,635.1,562.6,515.9,484.7,447.1,961.5,752.9,635.1,562.6,515.9,484.7,447.1,1209.3,899.5,721.2,610.29999999999995,537.9,488.2,424,46.8,45.6,44.9,44.6,44,43,43.5,169.8,170.2,170.9,171.8,172.5,173.1,176,1195.2,954.1,822,738.4,682.9,656.9,640,752.4,607.5,527.1,476.1,446.9,435,427.3,689.4,562.9,490.8,449.4,428.3,417.5,410.1,638.20000000000005,525.9,462.1,431.2,413.8,400.3,383.1,638.70000000000005,526.6,462.6,431.5,414.2,399.9,372.5,734,582.9,497.5,448.3,423.8,406.8,373.7,782.1,620,527.9,467.8,434.5,415,382.1,915.2,706.1,590.4,515.9,464.7,434.8,401.1,1094.2,828.9,678.7,584,518.1,470,420.2,1261.8,948.7,767.6,652.1,572.70000000000005,514.20000000000005,440.4,0.82769999999999999,1.1842999999999999,1.4350000000000001,0.61929999999999996,0.92100000000000004,1.1656,0,0,0.56499999999999995,34.799999999999997,0.94369999999999998,0,0,635.79999999999995,"CRO00071192",10.603999999999999,12370,43.3,44.8,62,0,0,683]
["CRO166/16","CRO2389","CRO 2389","Marina Hramina 66","Bavaria CR 41","Bavaria","Farr",2010,"CROATIA","S - Leasing d.o.o","CLUB","R",796,"27/4/2016","12:14:04",12.426,11.082000000000001,2.2799999999999998,3.94,9461,116.4,0.25,678.5,0.90869999999999995,742.8,0.53300000000000003,-24.8,1208.3,952.4,813.7,723.7,660.4,614.79999999999995,566.4,1161.5999999999999,920.4,786.7,702.1,643.79999999999995,603.79999999999995,566.9,975.4,770.7,656.2,586.29999999999995,541.20000000000005,511.1,474.6,1063.2,831.6,699.8,617.5,563.6,527.4,485.1,1204.7,910.5,740.9,634.70000000000005,564.70000000000005,516.4,454.2,45.1,43.8,42.7,42.4,42.2,40.700000000000003,39.5,145.1,146.19999999999999,146.30000000000001,145.9,147.6,174.1,177.5,1311.5,1044.4000000000001,900.1,807.9,735.2,686.2,659.2,838.3,678.5,590.79999999999995,531.20000000000005,492.7,472.6,459.5,779.5,638.29999999999995,557.1,504.6,476.2,460.2,445.3,733.3,600.79999999999995,519.70000000000005,477.4,463.8,450.3,428.5,692.4,564.70000000000005,492,460.4,444.6,438.6,425.9,689.2,561.9,490.8,460,440.7,422.2,395.4,718.6,583.70000000000005,504,466.9,446.3,428.3,391.8,809,643.70000000000005,549,490.5,461.9,443.3,408.7,957.1,745.1,629.79999999999995,553.9,507.1,478.2,445.4,1105.2,860.4,727.2,639.6,585.6,543.4,473.5,0.82050000000000001,1.1408,1.3574999999999999,0.62480000000000002,0.89170000000000005,1.1101000000000001,0,0,0.60699999999999998,77.8,0.91549999999999998,0,0,655.4,"CRO00062714",8.9580000000000002,10542,36.9,38.6,30.1,0,99.1,733]
["CRO171/16","CRO2392","CRO 2392","Controvento","Bavaria CR 45","Bavaria","Farr",2010,"CROATIA","Navigo, d.o.o.","CLUB","C",945,"1/5/2016","12:29:50",13.734,12.667999999999999,2.109,4.3499999999999996,12600,115.7,0.4,646.29999999999995,0.94699999999999995,712.8,0.55400000000000005,-28.7,1161,912.8,777.2,690.3,631.4,595.5,551.20000000000005,1118.7,884,753.8,672.3,618.5,583.79999999999995,548.5,931.9,734.9,624.79999999999995,557.79999999999995,515,486.7,452.5,1025.0999999999999,800.5,672.5,592.79999999999995,540.5,505.3,463.9,1152.0999999999999,869.1,705.9,603.79999999999995,536.5,489.9,428.5,46.5,45.3,44.3,44,43.6,42.9,42.5,144.80000000000001,146.4,146.69999999999999,146.4,147.4,149.69999999999999,176.4,1279.9000000000001,1016.5,873.8,783.3,716.8,674.3,651.6,807.6,649.70000000000005,563.79999999999995,507.2,469.5,449,437.2,743.3,605.5,527.5,477.3,448.8,433.4,421.4,692.7,569.79999999999995,497.3,455.3,434.8,421.3,401.6,669.3,541.70000000000005,468.6,434.5,420.9,415,399,655.4,530.20000000000005,460.8,430.1,411,393,371.5,678.1,547.79999999999995,472.1,435.8,415.7,397.6,361,760.5,602.79999999999995,513,458.1,430.7,412.5,377.3,902.5,700.7,589.4,517.29999999999995,472.9,447.6,416.8,1042.0999999999999,809.1,680.6,597.29999999999995,546.1,516.79999999999995,450.8,0.85780000000000001,1.2001999999999999,1.4252,0.65100000000000002,0.9335,1.1482000000000001,0,0,0.64600000000000002,89.6,0.96099999999999997,0,0,624.29999999999995,"CRO00062757",9.9689999999999994,13899,46.4,42.6,47.1,0,146.69999999999999,747]
["CRO182/16","CRO2418","CRO 2418","Domo","Bavaria CR 56","Bavaria","Farr",2013,"CROATIA","Top Sailing, d.o.o.","CLUB","C",1251,"15/9/2016","09:36:10",16.16,15.186999999999999,2.3809999999999998,4.76,18600,116.6,0.4,607.20000000000005,1.0086999999999999,669.2,0.57299999999999995,-40,1112.0999999999999,867.7,731.9,647,588.5,552.79999999999995,512.1,1069,837.9,709.1,628.9,576.1,542.20000000000005,507.3,883.7,693.4,586.4,521,479.2,451.5,418.3,974.1,757.5,633.70000000000005,556.20000000000005,505.1,470.6,429.3,1094.5,820.9,662.9,564.1,499,454.1,395.4,46.7,45.4,44.5,43.9,43.6,43.2,42.1,143.6,146.30000000000001,146.80000000000001,146.9,147.5,149,175.6,1223.5,962.8,820.7,732.1,668.6,627.5,601.29999999999995,770.5,613.6,528.4,474.1,436.3,415.4,403.4,706,569.4,493.5,444.6,415.2,399.7,388.4,654.5,533.70000000000005,464.6,422.7,401,387.6,369.5,636.6,511.1,439.4,403.4,390.9,384.8,366.7,623.29999999999995,499.9,430.3,397.9,379.5,363.4,345.6,643.79999999999995,515.70000000000005,441.8,403.8,383.9,367,331.8,727.2,570.1,482.8,427.7,399,381.4,347.9,866.6,669.1,556.9,486.6,440.2,414.1,384.3,1000.7,772.6,643.1,561.79999999999995,508.3,478.1,423,0.90180000000000005,1.2822,1.5387,0.68189999999999995,0.99399999999999999,1.2352000000000001,0,0,0.65400000000000003,65.900000000000006,1.0244,0,0,585.70000000000005,"CRO00071085",11.754,20360,60.2,60.1,59.8,0,195.5,773]
["CLUBAVA40","MARGA","ITA-MARGA","MARIO","BAVARIA-40","BAVARIA","J & J",2000,"LNI BRINDISI","GALASSO ROBERTO","CLUB","C",500,"12/5/2016","20:12:40",12.21,10.458,1.9350000000000001,4.01,7848,117.6,0.41,688.5,0.89290000000000003,755.9,0.53900000000000003,-14.5,1206.9000000000001,958.1,823.4,735,676.2,635.5,587.6,1161.4000000000001,926.5,796.5,714.7,660.1,624.29999999999995,586,981.7,778.9,666.3,598,554.20000000000005,524.9,488.4,1057.7,831.9,704.5,625.9,574.70000000000005,540.4,499.3,1211.0999999999999,919.6,751.9,647.1,577.9,529.9,466.4,45.9,44.4,43.5,43.5,42.9,41.5,41,145.4,146.4,146.30000000000001,146.1,147.9,174.4,177.7,1306.8,1050,911.9,821.6,753.6,713.2,686.7,828.9,676.9,592.20000000000005,535.1,503.1,486.4,474.1,765.7,633.20000000000005,554.70000000000005,509,485.9,472.2,457.9,715.9,597,525.6,491.2,472.9,459.3,437,714.6,583.5,509.2,476.9,458.4,448.1,432.9,702.8,574.5,504.4,474,453.8,434.2,402,728.5,593.5,515.29999999999995,479.9,458.8,439.3,402.1,812.9,650.29999999999995,555.79999999999995,500.9,474,454.7,418.1,958.6,750.1,636.4,561.6,518.5,491.7,459.1,1106.9000000000001,866.2,734.9,648.4,598.70000000000005,557.70000000000005,488.5,0.81699999999999995,1.1213,1.3197000000000001,0.62360000000000004,0.87849999999999995,1.0753999999999999,666,0.90090000000000003,0.63400000000000001,107.5,0.90080000000000005,0.54300000000000004,-11.3,666,"CLU00019858",8.532,8831,31.9,31.3,38.1,0,95.3,834]
["nor9954",9954,"NOR 12845","Bolgen & Meg","BavariA-40 Cruiser","Bavaria Yachtbau","JAKOPIN & JAKOPIN",2000,null,"Jan Roar Pedersen","CLUB","C",730,"19/4/2016","17:01:22",11.99,10.446999999999999,1.9550000000000001,4.01,8425,110.1,0.3,633.79999999999995,0.97750000000000004,690.5,0.64100000000000001,24.8,1055.5999999999999,859.1,747.7,670.8,623.29999999999995,592.70000000000005,564.5,1009.4,825.7,722.4,658,619.6,595.70000000000005,569.9,879.4,708.1,614.9,559.6,524.70000000000005,501.7,473.8,916,734.2,634.5,574.79999999999995,537.1,512.20000000000005,481.4,1084.4000000000001,834.9,692.7,604.79999999999995,547.20000000000005,507,452.2,44.9,43.4,43.7,43,41.4,40.799999999999997,40.299999999999997,145.80000000000001,150.6,152.9,155.30000000000001,171.7,180,180,1089.0999999999999,909,808.8,740.2,705.5,686.8,672.8,700,591.6,527.29999999999995,495.9,482.1,475.5,470.1,654.70000000000005,554.9,503.6,480.5,467.6,460.9,454.7,616.5,525.5,487.3,468.1,453.8,441.9,428.6,616.29999999999995,525.6,487.2,467.9,453.6,439.6,414.9,659.7,543.79999999999995,489.4,464.7,444.8,425.4,403.5,679.2,560,497,469.5,450.2,431.1,395.4,749.3,613,529.1,487.3,465,446.3,409.6,885.2,700.8,595.70000000000005,524.9,487.6,466.3,431.1,1022.1,809.2,686.6,601.5,541.1,498.5,456.2,0.91900000000000004,1.2044999999999999,1.3747,0.70509999999999995,0.96399999999999997,1.1445000000000001,618.70000000000005,0.9698,0.77,161.9,0.97309999999999997,0.64800000000000002,31.3,616.6,"nor00000475",9.2940000000000005,9411,32.4,42.7,48.6,95.3,0,849]
["AUS261200",2612,1236,"LOCAL HERO","BH 36","BASHFORD BOATS","Ian Murray & Ass",1995,"NSW 2041","Chris Matthews","INTL","R",680,"10/7/2016","15:07:56",10.97,9.891,2.2210000000000001,3.4,4211,119.6,0.18,607.1,1.0250999999999999,658.5,0.66900000000000004,22.9,1017.4,816.9,700.1,633.6,597,573.79999999999995,539.79999999999995,973.2,783.5,680.2,623.20000000000005,591,569.4,533.4,845.9,678.9,588.6,535.29999999999995,501.6,478.5,446.6,913.5,726.8,624.20000000000005,562.79999999999995,523.9,497.6,463.3,1037,796.3,660.1,576.4,521.5,482.5,427.2,44.1,42.3,41.7,39.9,38.6,38.1,37.700000000000003,144.19999999999999,147.69999999999999,150.1,156.6,173.2,180,180,1067.9000000000001,870.3,757.4,699.3,676.3,665.1,649.4,691.5,572.20000000000005,511.5,488,479.1,474.3,466.6,647.29999999999995,540.9,495.2,474.2,463,456.9,450.7,611.9,518.79999999999995,483,459.9,439.7,426.8,417.6,615.79999999999995,516.29999999999995,479.2,460.3,437.9,415.7,386.8,618.20000000000005,510.8,470.7,439.7,421.4,406.4,379.6,636,521.6,477.4,445.4,412.7,389.4,360.9,706.1,567.6,499.4,467.2,436.9,406.6,344.4,837.3,661.2,556.70000000000005,498.9,469,441.2,385.8,966.8,763.5,642.79999999999995,567.9,517.70000000000005,482.5,430.1,0.95630000000000004,1.2604,1.4410000000000001,0.73599999999999999,1.0198,1.1908000000000001,0,0,0.84499999999999997,189.6,1.0203,0,0,588,"AUS00000113",9.5050000000000008,5074,25.7,36.299999999999997,29.7,97.2,0,899]
["CLU137051","I13705","ITA-13705","WORK IN PROGRESS","BONIN 36","BONIN","COSSUTTI",2000,"C.D.V.ERIX","BRAMBILLA ALESSANDRO","CLUB","C",540,"22/6/2016","23:20:44",10.63,9.7159999999999993,1.764,3.67,4386,105.3,0.28000000000000003,649.9,0.95450000000000002,707.2,0.59499999999999997,2.8,1118.4000000000001,891.6,763.4,681.5,634.79999999999995,604.79999999999995,575.9,1066.3,855.3,738.3,669.5,630.20000000000005,605.1,577.6,915,730.5,629.4,569.29999999999995,531.20000000000005,505.9,474.3,962.8,764.4,654.9,589.29999999999995,547.9,520.4,485.8,1130.9000000000001,862.3,709.3,614.9,552.9,509.2,447.9,45.2,44,43.2,42.2,41.4,40.5,40.5,145.80000000000001,149.4,151,155.30000000000001,171.1,180,180,1165.3,947.1,828,754.6,721.4,704.3,695.8,743.7,612.70000000000005,542.29999999999995,507.9,494.6,488.1,483.2,689.7,573.70000000000005,516.9,491.3,477.8,470.8,464.6,644.79999999999995,542.6,498.9,476.6,458.1,443,430.1,645.79999999999995,543.4,499.3,475.5,456.5,436.5,405.4,676.8,551.20000000000005,496.7,468,439.6,416.7,391.8,698.7,566.9,504,473.8,446.8,419.2,372.1,777.5,623.6,535.1,493.4,467.2,440.7,388.5,927.9,724,605.5,531.1,493.7,469,420.2,1071.4000000000001,836,698.9,608.4,548.29999999999995,505.3,456,0.88090000000000002,1.1827000000000001,1.3653,0.67169999999999996,0.94450000000000001,1.1223000000000001,633.20000000000005,0.9476,0.71599999999999997,138.1,0.95309999999999995,0.60799999999999998,14.8,629.5,"CLU00020239",8.7739999999999991,5238,25.3,31.1,33,73.2,0,940]
["knw16968","K16968","NED 8496","Mariflex Challenge","BS CHALLENGE 67","Devonport Yachts","THOMAS",1990,4056585,"Dhr.  J. Daams","CLUB","C",1520,"23/3/2016","12:45:30",20.16,17.327999999999999,2.9020000000000001,5.28,39269,143.30000000000001,0.65,546.4,1.1195999999999999,602.9,0.66900000000000004,-18.899999999999999,963.5,768.8,658.7,587.1,536.20000000000005,502.4,460,918.8,735.8,634,569,525.79999999999995,497.7,462.2,777.9,618.1,529,474.7,439.6,416,386,817,646.6,551,491.9,453.4,427,393.7,968.6,734.3,599.1,514.5,458.8,420.3,369.9,47.4,45.7,44.9,45.5,44.4,43.4,41,141,147,148.80000000000001,151,153.1,159.6,180,1003.1,814.6,714.1,647.9,601.6,572.6,540.29999999999995,629.4,519.5,456.7,414.7,393.7,383.1,373.1,576.9,483,424.3,392.9,378,369.8,361.6,535.29999999999995,451,401,378.6,366.6,358,345.8,532.5,448.9,399.6,378,366,357,341.2,585,477.2,410.3,379.1,363.3,351.7,338.7,601.79999999999995,488.5,419.4,383.6,366.3,353.6,329.8,672.1,532.6,455.5,404.3,378.5,363.8,340.1,800.2,626,522.5,456,410.1,382.8,356,923.9,722.9,603.4,526.4,470.7,432.2,379.6,1.0301,1.4114,1.6658999999999999,0.77929999999999999,1.1004,1.3638999999999999,530,1.1319999999999999,0.77100000000000002,92,1.1306,0.67300000000000004,-16.7,530.70000000000005,"knw00004214",13.976000000000001,41447,86.4,100.7,148.69999999999999,293.5,0,974]
["SUISU1062","SUI1062","SUI 1062","MONIQUE-ANNE V","C+C 30 E","C & C Kiel","C & C",1977,"SCE / ZYC","Butz Konrad","CLUB","C",428,"30/3/2016","18:02:48",9.1519999999999992,7.1280000000000001,1.669,3.2,3450,112.7,0.24,710.7,0.86739999999999995,778.2,0.622,66,1145.9000000000001,947.6,825.2,751.5,709.5,687.8,664.8,1105.5999999999999,913.7,808.5,748.3,713.7,693.5,673.8,963.7,785.3,690.6,636.20000000000005,603.20000000000005,582.29999999999995,558,1035.2,835.2,727.5,664.7,626.29999999999995,601.9,573.5,1189.3,925.7,777.3,686.7,628.29999999999995,588.20000000000005,534.20000000000005,43.5,42.6,43.4,42.2,41.2,40.9,41.1,148.4,151.9,151.5,166.6,180,180,180,1209.8,1023.5,917.1,857.4,828.6,815.7,817,791.2,670.8,609.70000000000005,584,572.20000000000005,566.79999999999995,564.5,727.7,616.79999999999995,583.70000000000005,568,554.70000000000005,548,544,650.9,581.1,556.70000000000005,545.70000000000005,536.70000000000005,523,510.7,634.79999999999995,577.70000000000005,551.1,529.20000000000005,515.1,507.7,494.6,691,600.70000000000005,559.70000000000005,531.5,514.1,497,474.2,737.7,609,564.5,535.1,507.9,488.1,468.3,805.8,658.7,583.20000000000005,551.6,524.70000000000005,499.7,460.3,937,754.8,636.79999999999995,579,550.9,526.1,482.3,1082,871.6,733.3,645.70000000000005,590.4,560,512.70000000000005,0.84260000000000002,1.0648,1.1796,0.64490000000000003,0.86329999999999996,0.9859,0,0,0.79500000000000004,252.8,0.86150000000000004,0,0,696.5,"SUI00001979",6.5979999999999999,4011,18.3,18.3,33,79.900000000000006,0,1000]
["UKR0450_1","UKR0450_","UKR-450","Sadko","Carter-30","Verf im. L. Teligi","D. Carter",1975,null,"Odessa National Maritime University","CLUB","C",500,"17/6/2016","12:27:06",9.1,7.3,1.5589999999999999,3.09,3650,109.6,0.47,740.7,0.83789999999999998,805.6,0.58299999999999996,50.9,1192.5,986.9,864.8,781.6,729.3,703.6,680,1156.5,958.2,846.8,777.5,735.4,711.7,689,1015.2,822.8,719.2,658.6,621.1,597,568.79999999999995,1068.9000000000001,860.9,747.8,680.9,639.20000000000005,612.4,580.70000000000005,1237.2,962.6,806.7,710.1,646.6,602.20000000000005,541.1,44.3,43,43.9,43.5,42.4,41.8,42.1,148.69999999999999,152.9,153.69999999999999,165.1,180,180,180,1278.5999999999999,1083.5,969.9,893.8,852.3,834.4,832.1,827.4,706.2,631.6,596.9,579.5,572.20000000000005,569.1,777.2,661.7,603.4,578.1,562.4,553,548.29999999999995,735,628,584.29999999999995,562.6,545.6,530.9,514.1,736.8,629.70000000000005,580.20000000000005,554.5,543.9,528.4,500.5,748.9,622.9,574.20000000000005,546.70000000000005,520.9,500.7,484.8,767.4,635.29999999999995,579.6,551.29999999999995,526.70000000000005,502.7,468.9,831.1,687.4,603.29999999999995,567.79999999999995,542.79999999999995,518.4,477.1,958.2,772.8,662,596.4,565.9,542.79999999999995,499,1106.4000000000001,890.3,759.7,669.4,606.20000000000005,572.79999999999995,527.9,0.79810000000000003,1.0259,1.1533,0.61939999999999995,0.82989999999999997,0.9627,0,0,0.72699999999999998,217.7,0.83150000000000002,0,0,721.6,"UKR00007495",6.4409999999999998,4264,18.2,18.2,28.2,58.1,0,1050]
["AUS421600",4216,4462,"Tamika","Cavalier 345","Cavalier Yachts","L Davidson",1989,4179,"Mike  Hennessy","INTL","C",624,"22/8/2016","16:34:38",10.52,9.2970000000000006,1.669,3.37,6178,118.4,0.41,679.9,0.9143,738.3,0.59799999999999998,24.5,1132.3,920,801.8,718.5,662.1,631,603.79999999999995,1091.2,891.2,779.9,708.8,663.3,636.9,609,945.7,760.4,659.5,599.5,561.79999999999995,537.1,507.5,1011.9,806.9,693.4,624.9,581.5,553.4,520.70000000000005,1160,893.5,741.4,647.1,585.29999999999995,542.5,484.3,44.6,43,42.8,43.3,42,41.1,40.9,146.9,151.4,153.30000000000001,157,176.1,180,180,1209,1002.8,891.5,812.3,761.8,739.5,726.3,778.4,656.6,582.20000000000005,540.20000000000005,519.6,509.9,504.2,729,617.79999999999995,552.20000000000005,521.79999999999995,505.3,495.1,487.6,690.3,585.29999999999995,531.9,508.4,492.9,480,460.9,686.2,569.9,517.79999999999995,495.3,486.6,478.6,453,681.3,564.70000000000005,515.70000000000005,491.7,471,451.8,433.4,704.4,582.70000000000005,523.5,497.1,476.6,456,419.8,779.1,639.1,553.4,514,491.7,471.8,432.3,914.1,725.4,618.5,547.79999999999995,513.29999999999995,492.4,454.7,1055.5,837.2,712,624.70000000000005,562.29999999999995,522.5,481.3,0.85419999999999996,1.1241000000000001,1.2847999999999999,0.65780000000000005,0.90129999999999999,1.0739000000000001,0,0,0.71,153.6,0.90890000000000004,0,0,660.2,"AUS00000318",8.0280000000000005,7011,26,31.1,26.9,74.7,78.599999999999994,1065]
["SSF6245",6245,"SWE-1","Cheetah","Cheetah-30","Amble USA","Bob Ames",1995,"Sweden","Mikael Vesala","INTL","S",430,"15/6/2016","13:53:36",8.5779999999999994,8.5060000000000002,2.294,2.4900000000000002,1234,121.2,0.19,576.6,1.0593999999999999,637.1,0.64800000000000002,-14.3,977.1,778.1,680.9,626.4,585.29999999999995,548.70000000000005,486.3,936.6,752.1,658.8,604.79999999999995,567.1,538.29999999999995,497,802.5,646.4,560.29999999999995,506.8,469.6,441.3,398.8,917.4,727.3,621.70000000000005,557,514,482.9,437.5,996.9,764.7,631.9,547,487.1,440.8,370.6,45.8,43.7,39.4,37,35.700000000000003,35.1,34.6,142.6,145.69999999999999,151.19999999999999,148.5,145.30000000000001,138.6,145,1045.2,839.8,742.1,700.7,681.9,670.8,655.6,659.2,551.29999999999995,519.6,497.7,484.2,475.3,457.5,599.4,525.1,501.1,471.2,456.3,446.7,427.7,552.1,493.1,463.1,436.6,414,401.3,385.8,544.5,487.6,433.4,409.8,389.6,362.5,340.6,567.1,492.1,445.7,409.6,362.5,335.1,305.10000000000002,580.79999999999995,499.9,437.4,404.7,366.1,330.6,283.60000000000002,659.7,535,472.6,412.5,356.3,315,269.2,787.1,620.5,535.1,478.1,423.2,369.5,274.60000000000002,908.9,716.5,619.79999999999995,552.1,488.6,426.7,317.10000000000002,1.0095000000000001,1.3161,1.57,0.76910000000000001,1.0434000000000001,1.2628999999999999,0,0,0.876,184.8,1.0688,0,0,561.4,"SSF00001516",8.7940000000000005,1910,16.399999999999999,26.8,14.5,0,92.4,1099]
["CLUC21OD","I016C21","ITA-016C21","GREY HOUND","COMET 21 O.D.","COMAR","LUPOLI",2009,"C.N.TORRE DEL GRECO","DE LUCA FRANCESCO PAOLO","CLUB","S",245,"9/3/2016","10:40:20",6.19,5.7759999999999998,1.4330000000000001,2.36,636,97.3,0,692.9,0.88270000000000004,764.7,0.61699999999999999,42,1091.5,889.4,798.2,749.8,718.5,692.6,609.29999999999995,1049.9000000000001,865.3,777.6,730.7,698.8,672.1,607.4,936.2,765.5,674.7,620.4,583,552.9,499.3,1000.6,810.3,708.2,647.9,608.70000000000005,580.4,537.5,1144,894.2,753.9,665.8,603.6,554,471.6,42.6,41,37.799999999999997,36.4,35.799999999999997,36,37,145.5,148.9,151.4,176.3,177.9,143.30000000000001,138.69999999999999,1151.8,951.2,861.4,833,820.6,817.1,818.7,755.5,650.4,615.4,601.9,593.9,588,579.1,712.5,632.5,594.4,576.79999999999995,566.79999999999995,561.20000000000005,547.6,681.3,617.9,570.70000000000005,536.6,522.20000000000005,514.1,497,664.7,599.20000000000005,567.1,527.6,487.2,470.4,458,664.7,594.9,532.20000000000005,498,469.5,447.2,393,683.8,607.29999999999995,546.4,484.5,446.1,420.2,355.4,758.8,641.79999999999995,584.4,528.6,472,416.8,295.39999999999998,893.2,716.7,638,592.29999999999995,549.1,492,346.2,1031.3,827.6,735,666.6,616.4,568.1,399.8,0.87109999999999999,1.0835999999999999,1.2457,0.68149999999999999,0.87690000000000001,1.0106999999999999,684.1,0.87709999999999999,0.99399999999999999,393.1,0.88839999999999997,0.63800000000000001,64.900000000000006,675.4,"CLU00018540",6.101,1017,8.9,18.899999999999999,8.6,0,37.6,1140]
["CLU144761","I14476","ITA-14476","ID&A","COMET 36","COMAR","LUPOLI",2001,"C.N.V.ARGENTARIO","MASSACCESI AUGUSTO","CLUB","C",500,"18/3/2016","17:21:32",10.65,9.2989999999999995,2.1560000000000001,3.58,5805,114.6,0.25,646,0.95640000000000003,705.8,0.65500000000000003,43.5,1062.7,868.6,751,681.5,648.5,617.20000000000005,586.5,1021.9,834.3,728.9,668,634.5,611.29999999999995,585.1,891,718.9,626.5,573,540.29999999999995,519.1,492.7,961.5,768.1,661.9,598.70000000000005,559.29999999999995,533.70000000000005,502.8,1092.4000000000001,844.5,704.2,618.29999999999995,562.6,524.1,472,43.4,41.9,42.1,40.9,39.9,39.200000000000003,38.6,145.5,147.9,147,149.4,173.8,176.5,178.2,1123.9000000000001,934.5,823.5,751.3,720.6,705.8,690.6,731.6,615.79999999999995,546.79999999999995,516.1,503.5,498,493.9,687.9,580.20000000000005,525.6,502,489.5,483.3,478.5,652.20000000000005,552.79999999999995,511.2,490.3,475,463.1,451.9,645.20000000000005,537.9,498.5,486.2,475,460,435.1,638.79999999999995,532.1,493.6,469.1,451.2,440.4,423.4,660.4,544.4,499.9,474.6,450.6,428.9,407.1,737.8,598.1,522.29999999999995,491.5,468.6,445.8,405.4,867.3,695.2,587.6,529.6,503,485.1,450.1,1001.4,802.7,678.5,611.6,576.29999999999995,528.6,482.4,0.9083,1.1813,1.325,0.69899999999999995,0.94799999999999995,1.1002000000000001,631.6,0.94989999999999997,0.81799999999999995,210.2,0.95450000000000002,0.66600000000000004,52.7,628.6,"CLU00018897",8.6,6598,25.4,34.700000000000003,31.2,0,106.7,1155]
["GRE000358","GR1412","GRE-1412","AQUARIUS","COMET 850","COMAR","FINOT",1979,"IO KERKYRAS","STEFANOS KONTOGIORGIS","CLUB","C",400,"6/4/2016","14:35:52",8.4550000000000001,6.9870000000000001,1.345,2.87,3228,110,0.63,831.8,0.74519999999999997,905.8,0.45800000000000002,-5,1433.9,1148.5999999999999,991.8,884.3,805.8,757,722.9,1394.8,1122.8,972.4,877.1,811.6,768.4,736.8,1178.5999999999999,938.6,805.5,725,673.7,640.1,602.29999999999995,1252.5999999999999,991.9,845.9,756.3,698.7,660.9,618.20000000000005,1445.5,1103.3,906.3,782.8,701.1,644.5,570.5,47.1,45.7,45.2,45.5,45.6,44.6,44.4,148.30000000000001,152.19999999999999,154.30000000000001,158.4,178,180,180,1595.5,1300.5,1145.9000000000001,1040.0999999999999,961.4,910.5,889.8,1004.5,830,733.2,663.5,623.1,601.6,590.20000000000005,924.5,773.2,680.6,624.6,597.5,581,567.20000000000005,862.5,725.1,639.9,600,579,563.6,538.9,866.1,709.7,619.6,582.29999999999995,563.70000000000005,555.1,534.70000000000005,840.3,687.8,608.20000000000005,575,550.6,527,499.4,867,703.8,616,579.4,555,531.29999999999995,490.2,954.7,766.3,650.79999999999995,597.4,569.79999999999995,546.79999999999995,503.5,1101.9000000000001,864.8,728.3,638.6,595,570,527.5,1272.4000000000001,996.7,837.6,728.6,650.20000000000005,603.5,556.1,0.68140000000000001,0.9254,1.0814999999999999,0.52270000000000005,0.73170000000000002,0.89239999999999997,0,0,0.52500000000000002,102.7,0.746,0,0,804.3,"GRE01005504",5.5549999999999997,3760,16.899999999999999,11.7,22.3,49.9,0,1216]
["nor4220",4220,"NOR 2705","Indigo","COMFORT 32","Comfortbatar","Broderna Albinsson",1977,null,"Jan Einar Roos","CLUB","C",496,"18/5/2016","21:27:44",9.5,7.8879999999999999,1.681,3.29,4919,122.9,0.56999999999999995,712.3,0.87380000000000002,772.4,0.60799999999999998,52.8,1147.9000000000001,944.3,828.5,750.5,701.7,674.8,648.1,1104.3,911.5,805.6,742,704.2,681.1,655.6,976.9,791.1,691.5,633.5,597.70000000000005,574.5,546.29999999999995,1027.2,826.7,718,654,614.1,588.1,556.4,1192.4000000000001,926.2,775.7,683.2,622.70000000000005,580.6,522.70000000000005,43.4,42,43,42.4,41.2,40.5,40.1,147.80000000000001,152,153.30000000000001,159.30000000000001,180,180,180,1191.4000000000001,1006.3,905,840.9,808.8,791.2,780.3,779.2,663.1,598.20000000000005,570.6,557.20000000000005,550.5,545.6,736.2,625.4,576.29999999999995,554.20000000000005,541,533.1,527.1,701.1,599,560.4,540.29999999999995,525.1,512.20000000000005,496.3,706.6,603,562.6,538.5,525.79999999999995,510.8,485.1,735.3,608.6,557.4,531,508,490,473.1,755.9,623.5,563.6,535.79999999999995,512.79999999999995,490.4,458.6,824.8,677.9,589.1,551.70000000000005,528,506,466.3,956.6,765.1,653.79999999999995,583,550.6,528.70000000000005,488.3,1104.5,882.3,752,660.1,594.70000000000005,558.4,515.9,0.83030000000000004,1.0671999999999999,1.1980999999999999,0.6452,0.8649,1.0052000000000001,698.7,0.85870000000000002,0.76,219.1,0.86539999999999995,0.61299999999999999,60.5,693.3,"nor00001179",7.0979999999999999,5573,21.6,20.9,36.6,71.599999999999994,0,1231]
["ltuLT238","Banga_LT","LTU 238","BANGA","Conrad 30","Poland","Carter",1983,"Lithuania","A.Kalanavicius","CLUB","C",385,"3/6/2016","07:48:48",9.15,7.4189999999999996,1.589,3.09,4059,112.3,0.45,739.4,0.83850000000000002,805,0.57699999999999996,46.1,1205.5999999999999,992.5,864.4,777.9,727.6,701.9,677.4,1168.3,961,845.3,774.9,733.5,709.9,687,1018.1,822.7,717.4,656.1,618.6,594.9,567.70000000000005,1073,862.7,748.1,680.4,638.4,611.5,580,1243.8,964.4,805.6,707.7,644,600.20000000000005,541.4,44.7,43.2,44.1,43.9,42.5,42.1,42.6,148.4,152.6,150.19999999999999,161,180,180,180,1292.7,1087.9000000000001,974.8,896.4,857,838.8,834.1,833.7,709,631.79999999999995,594.29999999999995,578.70000000000005,572,568.5,782.5,664.2,601.4,574.5,560.29999999999995,553.4,549,739.1,627.9,581,558.79999999999995,542.70000000000005,529.79999999999995,516.70000000000005,740.3,629.29999999999995,574.79999999999995,557.9,542.20000000000005,526.6,500.9,738.4,612.9,565.5,538.29999999999995,517.29999999999995,506.1,489.1,764.5,623.20000000000005,570,542.20000000000005,516.70000000000005,494.1,473.1,841.5,681.9,590.5,557.29999999999995,532.5,508.3,468.5,968.6,777.6,653.20000000000005,585.5,556.5,533.70000000000005,490.7,1118.4000000000001,897.1,754.1,659.4,598.20000000000005,565.1,520.70000000000005,0.79469999999999996,1.0309999999999999,1.157,0.61419999999999997,0.83120000000000005,0.96550000000000002,0,0,0.70899999999999996,203.9,0.83350000000000002,0,0,719.9,"ltu00000367",6.484,4676,19,18.8,32.6,75.7,0,1292]
["UKR1302_1","UKR1302_","UKR-1302","MERCURY","Conrad-25RT","Conrad, Poland","Peterson",1978,null,"Odessa National Maritime University","CLUB","C",400,"21/6/2016","18:14:50",7.65,6.282,1.544,2.76,1739,98.2,0.04,732.2,0.85519999999999996,789.3,0.61599999999999999,72.2,1162,954.8,832.7,760,723.6,704.5,681.6,1114.2,918.8,814.5,757.6,727.2,709.4,690.3,994.2,809.3,711.3,655.1,620.9,598.9,572.1,1032.4000000000001,836.4,731.9,671.5,634.6,610.79999999999995,582.5,1212.3,944.9,795.4,704.6,645.70000000000005,604.1,544,42.2,41.7,40.5,39,38.200000000000003,38.200000000000003,38.9,149.19999999999999,153.69999999999999,156.80000000000001,180,180,180,180,1186.3,1000.2,895.6,845.8,827.5,820.8,828.9,784.1,667.2,621.70000000000005,600.70000000000005,591.4,586.6,585.9,741.9,642.70000000000005,606.5,585.4,571.9,565.5,562.1,707.6,626.79999999999995,594,569.9,549,534.9,525.20000000000005,712.8,629.5,589.6,559.1,543.6,526.4,501,737.1,630.70000000000005,590.4,558,527.6,501.9,479.1,765.6,644,598.6,567.79999999999995,538.1,510.8,464.9,849.8,697.5,624.29999999999995,589.1,559,530.4,481.5,985.2,789.4,673,617,585.29999999999995,556.9,505.6,1137.5999999999999,909.4,769.7,674.3,619.79999999999995,588.1,534.20000000000005,0.81769999999999998,1.0339,1.1468,0.63780000000000003,0.85289999999999999,0.96340000000000003,0,0,0.81899999999999995,283.2,0.84140000000000004,0,0,713.1,"UKR00007498",6.258,2186,12.9,19.899999999999999,16.3,33.200000000000003,0,1306]
["ESTEST999","Est0999","EST 999","FURIOSA","COOKSON 50 mod","COOKSON NZ","FARR",2004,"TJK","Amaco Sail OU","INTL","R",1100,"27/6/2016","19:09:46",14.99,14.262,3.55,4.25,7599,116.3,0,463,1.3128,514.20000000000005,0.84399999999999997,5.4,766.1,619.20000000000005,546.4,505.1,477.2,449.4,402.6,727.4,592.6,527.6,488.8,459.5,434.1,404.3,638,516.29999999999995,450.2,409.7,381.8,360.2,326.2,689.6,554.6,480.2,434.2,403.1,380.1,346.8,791.9,610.9,507.9,442.6,397,362,308.10000000000002,43.8,41.5,41,39.1,37.4,36.4,36,141.1,140.69999999999999,147.30000000000001,152.30000000000001,149.30000000000001,146.30000000000001,141,779.3,647,589.1,556.29999999999995,535.5,519.29999999999995,509.3,502.6,428.6,402.3,389.9,381,369.3,356.3,467.1,409.7,386.8,372.8,362.5,351.4,335.2,438.5,392.7,361.4,343.1,331.5,323.10000000000002,300.10000000000002,438.2,392.4,357.8,325.60000000000002,308.60000000000002,297.3,280.7,462.5,396.8,360.2,334.7,315.2,290,248.9,481.1,402,360.2,327.9,307.39999999999998,286.2,249,542.4,429.3,387.6,349.7,312,275,235.5,652,512.20000000000005,436.3,391.4,362.7,328.7,256.2,752.9,591.4,503.8,454,418.8,379.5,295.8,1.2734000000000001,1.6336999999999999,1.9178999999999999,0.97450000000000003,1.2946,1.5383,462.1,1.2986,1.181,235.3,1.3281000000000001,0.85199999999999998,18.3,451.8,"EST00001167",14.336,9156,42.7,96,69.400000000000006,0,257.2,1356]
["ARG550301","ARG5503","ARG-5503","GENESIS","CORUM 350","CORUM YACHTS","PGYD",2012,null,"ALDO CASASSA","INTL","C",611,"16/1/2016","07:28:48",10.38,9.4420000000000002,2.08,3.46,4853,112.8,0.11,623,0.99829999999999997,676.1,0.98,159,1036.8,838.6,720.1,651.1,612.20000000000005,588.79999999999995,558.9,991.2,803.8,699.1,640.79999999999995,608.9,588.5,558.29999999999995,863.6,695.1,604.20000000000005,550.9,517.70000000000005,495.7,467.2,919.7,734.8,633.70000000000005,573.79999999999995,536.5,512,480.8,856.3,682.5,587.1,530.20000000000005,493.8,468.3,432,44.1,42.8,42.3,40.5,39.4,39,38.700000000000003,145,149.19999999999999,151.5,157.19999999999999,175.8,180,180,1079.9000000000001,890.9,776.2,716.9,694.3,683.6,671.4,697.9,583.4,520.70000000000005,496.7,488.8,484.7,478.7,653.29999999999995,551.20000000000005,504.2,483.2,474,469.3,463.8,617.29999999999995,528.29999999999995,492.6,470.8,453.3,443.5,436.3,619.70000000000005,529.5,487.9,472.4,452.2,432.8,409.2,635,525.5,484.2,456,432.9,420.3,398.7,654.5,538.4,491,462.8,435.1,408.4,379.8,725.3,588.70000000000005,516.20000000000005,483,457.2,430.8,378.9,860.5,680.9,575.79999999999995,514.20000000000005,483.6,459.4,411.7,993.6,786.2,664,585.29999999999995,530.1,493.9,446.5,0.93610000000000004,1.2265999999999999,1.3895999999999999,0.71989999999999998,0.99270000000000003,1.1569,0,0,0.82499999999999996,190.9,0.9919,0,0,604.9,"ARG00001545",9.06,5669,26.1,37.4,34.799999999999997,90.1,0,1382]
["POR","Giuliett","Por8307","Giulietta","DC1200","DELMAR CONDE","DELMAR CONDE",2000,null,null,"INTL","C",660,"6/4/2016","01:07:28",11.97,11.534000000000001,2.423,4.3,7631,108.8,0.23,600.4,1.0371999999999999,650.79999999999995,0.66900000000000004,19.100000000000001,1009.9,814.6,702,628.9,586.79999999999995,558.9,528.6,962.9,779.7,677,615.9,581,558.4,528.5,837.6,672.1,582,528.6,494.9,472.3,443.2,890.4,709.5,609.70000000000005,550,512.29999999999995,487.2,455.4,1031.2,791.2,654.70000000000005,570.6,515.6,477.2,424.1,43.8,42.1,41.9,40.799999999999997,39.299999999999997,38.4,37.5,143.9,148.80000000000001,151.1,154.69999999999999,168.5,180,180,1042,857.1,751.9,686.4,656.9,641.5,624.29999999999995,675.1,564.20000000000005,500.5,472.2,460.5,454.7,449.5,632.6,531.70000000000005,481.2,459.1,447.1,441,435.1,598.1,506.7,468.1,448.2,432.7,420,407.5,601,509,464.7,447.7,432.7,416.1,387.1,619,508.7,462.8,438.6,416,402.4,381,639.29999999999995,523.9,470.1,444.6,422,398,365.6,711.7,576.9,498.7,462.3,440.2,418.4,372.9,846.7,668.7,564.9,499.7,463.9,442.8,401.4,977.7,772.1,652.1,571.29999999999995,516.70000000000005,476.2,433,0.9637,1.2754000000000001,1.4605999999999999,0.7399,1.0255000000000001,1.2173,0,0,0.80300000000000005,154,1.0302,0,0,582.4,"POR00000276",10.499000000000001,8792,33.9,51,37,104.1,0,1432]
["knwnone","NEDC8531","NED 8531","Bojangles","Dehler 31","Dehler","vd Stadt & prtnrs",1985,236024,"P. Engel","CLUB","C",494,"23/3/2016","12:43:34",9.43,8.0399999999999991,1.5149999999999999,3.1,3901,117.8,0.38,715.9,0.87229999999999996,773.8,0.56899999999999995,25,1194.0999999999999,968.8,840.3,748.8,691.1,663,638.1,1147,936,816.3,740.1,694.1,669.3,643.4,996.1,800.8,694.2,630.9,591.29999999999995,565.6,534.4,1038.5999999999999,831,716.9,648.79999999999995,606.1,578.29999999999995,544.79999999999995,1223,940.9,780.2,680.9,616.20000000000005,571.6,510.7,44.5,43,43,42.4,40.6,40.1,40.200000000000003,148.19999999999999,152.80000000000001,155.4,161.4,180,180,180,1254.3,1042.5999999999999,923.4,838,790.6,772.2,766.7,808.2,680.9,604.4,567.1,548.5,540.29999999999995,536,756.6,639.6,577.79999999999995,550.4,533.9,523.5,517.1,714.9,606.4,559.79999999999995,537.1,519.79999999999995,504.3,485,717.7,607.20000000000005,553.70000000000005,527.20000000000005,508.2,500.1,472.5,729.9,604.20000000000005,552.20000000000005,525.5,501.4,477.4,447.7,754.8,622.4,560.20000000000005,532,508.8,485.1,442.9,837.1,686,591.1,550.1,525.6,502.7,458.7,982,777,658.4,583.20000000000005,548.1,525.1,481.9,1133.9000000000001,895.1,757.2,659.6,591.5,553.9,509.4,0.8105,1.0685,1.2202999999999999,0.62419999999999998,0.86180000000000001,1.0217000000000001,696.8,0.86109999999999998,0.67200000000000004,151.5,0.86380000000000001,0.57799999999999996,34.1,694.6,"knw00004201",7.1959999999999997,4553,20.5,26.1,23.3,51.1,0,1467]
["nor21332",21332,"NOR 14501","Shadow","Dehler 32","Dehler Segelyachte","Judel/Vrolijk",2009,null,"Torbjorn Almeland","CLUB","C",657,"22/8/2016","10:48:50",9.8000000000000007,9.516,1.3939999999999999,3.24,4926,114.5,0.28000000000000003,658.7,0.9466,713,0.63,33.5,1092.9000000000001,884.6,767.8,689,643.5,617.9,590.9,1048.5,853,745.1,680.3,643.6,621.79999999999995,594.20000000000005,914,735.3,638.70000000000005,582.20000000000005,547.29999999999995,524.5,495.9,973.3,777.1,669.8,606.20000000000005,566.6,541,509.5,1120.4000000000001,863.2,717.5,628.20000000000005,570.1,529.6,473.1,43.9,42.1,42.1,41.5,40.1,39.299999999999997,38.9,145.9,150.69999999999999,152.5,157.6,180,180,180,1147.9000000000001,947.6,839.3,767.1,736.1,721.6,709.7,743.8,624,555.5,524.4,512.5,507.3,503.9,698.2,587.9,533.29999999999995,509.8,497.9,492.5,488.6,661.5,560.1,517.9,497.8,482.8,471.3,461.4,665.4,554.70000000000005,509.4,488.8,480.5,466.2,439.8,667,552,508.2,484,460.3,440.1,419.9,690,568.5,515,489.5,466.6,442.4,401.1,763.1,622.79999999999995,541.1,506.1,483.6,461.1,415,898.8,711.6,604.4,537.20000000000005,505.8,484.6,441.6,1037.9000000000001,821.7,696.4,611,551,514.29999999999995,472.1,0.88529999999999998,1.1607000000000001,1.3137000000000001,0.68269999999999997,0.93720000000000003,1.099,649.70000000000005,0.92349999999999999,0.76800000000000002,179.9,0.93879999999999997,0.64300000000000002,49.3,639.1,"nor00001896",8.548,5806,24.3,33.299999999999997,25.3,72.8,65,1472]
["GER141112","GER5933","GER 5933","GLUCKSSPIEL","DEHLER 34 SV","DEHLER","SIMONIS / VOOGD",2007,null,"KLAUS MIELCAREK","CLUB","C",440,"1/4/2016","09:15:56",10.515000000000001,9.8309999999999995,2.0049999999999999,3.47,6017,118.5,0.23,641.79999999999995,0.9667,698.2,0.65300000000000002,39.299999999999997,1060.5,862.7,747.5,674.4,632.4,608.1,580,1015.4,829.5,725.6,665.2,632.1,612.1,584,886.7,715,622.5,568.6,535.6,514.20000000000005,487.4,940.3,752.6,650.1,589.6,552,527.6,498.1,1089.5999999999999,840.8,700,613.79999999999995,558,519.29999999999995,466.3,44,42.5,42.6,41.7,40.5,40,40.200000000000003,145.5,150.4,152.5,157.5,180,180,180,1106.3,921.1,813.8,750.6,725.8,714.5,700.6,716,603.70000000000005,538,510.3,500.8,496.3,490.9,671.7,568.29999999999995,516.79999999999995,495.4,485.7,481.4,477.7,635.4,541.4,502.4,482.8,468.9,459.4,452.7,638.20000000000005,541.1,497.1,483.4,467.5,452.3,429.2,649.20000000000005,537.6,494,469.9,449.9,438.8,421.4,669.9,552.29999999999995,500.6,475.5,453.5,431,405.2,741.5,606.9,528.70000000000005,493.3,471,449.1,405.6,878.8,696.5,591.29999999999995,525.20000000000005,493.2,472.1,430.7,1014.7,804.2,681.3,598.1,538.9,501.6,459.5,0.9123,1.1899,1.3388,0.70199999999999996,0.95889999999999997,1.1182000000000001,627.79999999999995,0.95569999999999999,0.80700000000000005,196.1,0.96089999999999998,0.66100000000000003,46.8,624.4,"GER20014066",8.8729999999999993,6910,27.7,39.9,31.3,83.4,0,1522]
["knw16069","NED_6859","NED 6859","SUNSHINE 4","Dehler 36","Dehler","Judel Vrolijk",2000,148355,"A.J.,Pasman","CLUB","C",750,"27/5/2016","10:47:24",10.972,10.029999999999999,1.982,3.52,6462,123.3,0.23,633.20000000000005,0.98260000000000003,687,0.65300000000000002,32.4,1050,853.2,739.6,664,620.5,594.6,565.9,1005.7,820.4,716.7,654.29999999999995,618.9,597.4,568.70000000000005,877.2,706.5,614.1,559.79999999999995,526.1,503.8,475.9,929.7,743.6,641.70000000000005,581.1,543.20000000000005,518.5,488,1077.5999999999999,830.5,690.3,604.1,548,509,455.2,44.1,42.5,42.8,41.6,40.200000000000003,40,39.200000000000003,145.4,150.30000000000001,151.9,156.69999999999999,174.6,180,180,1096.2,910.1,805.1,736.3,706.6,692.3,676.5,708.9,596.1,531.70000000000005,502.1,490.3,485,480.4,664.1,560.29999999999995,510.4,488,476.1,470.5,466.3,627.20000000000005,533.4,495.8,476.2,461.2,449.5,439.1,629.20000000000005,534.9,491.7,473.6,460.7,445.4,419.3,646.29999999999995,533.29999999999995,488.7,464.5,442.1,427.6,409.3,665.7,547.4,495.1,469.9,447.9,425.2,393.6,734.9,600.1,521.79999999999995,486.9,464.9,443.3,400.8,869.3,689.5,584.70000000000005,518.9,487.2,466.3,425.8,1003.8,796.2,674.1,591.70000000000005,534.5,496.8,455.2,0.92200000000000004,1.2061999999999999,1.3674999999999999,0.70940000000000003,0.97250000000000003,1.1435,619.29999999999995,0.96879999999999999,0.79400000000000004,177.4,0.97550000000000003,0.66600000000000004,44.1,615.1,"knw00005389",9.1280000000000001,7386,28.5,41.1,34.5,91.3,0,1548]
["nor21820",21820,"NOR 14941","Sheep Dip","Dehler 38 13-","Hanse Yachts","Judel/Vrolijk",2013,null,"Kjetil Knudsen","CLUB","C",750,"6/4/2016","17:06:50",11.3,10.69,2.0099999999999998,3.76,7519,123.5,0.23,616.4,1.0079,669.7,0.65500000000000003,21.8,1035.7,839.2,723.6,645.6,602.9,576.29999999999995,547.5,993.3,806.6,701.8,637.6,600.70000000000005,577.79999999999995,549.1,859.2,689.8,597.6,543.1,508.9,486.3,458,922.9,735.4,632,570,530.9,505.3,474.1,1056.5,811.7,672.3,586.20000000000005,530.1,491.2,438,44.7,43.2,43.2,42.3,40.799999999999997,39.9,39.6,139.19999999999999,149.6,148.9,155.80000000000001,170.8,180,180,1102.0999999999999,908.1,800.2,725.4,690.6,673.9,657.9,707.8,591.9,523.79999999999995,489.3,474.9,468.9,464.4,660.2,555.20000000000005,499.7,474.3,461,454.7,449.7,621.20000000000005,525.6,483.4,462.8,447.6,435.2,423.1,622.4,522.6,475.7,454.8,444,432.5,405,622.20000000000005,512.4,469.3,445.4,426.6,409.4,388.6,637.5,523.5,474.6,450,426.8,403.8,375.9,702.5,570,496.8,465.2,443.4,421,377.5,839.5,667.2,560.4,495.4,466.3,445.8,404.8,969.3,770.4,647.1,565.70000000000005,515.20000000000005,478.6,437.1,0.9395,1.2421,1.4178999999999999,0.72,0.997,1.1798,601.4,0.99760000000000004,0.78200000000000003,155.9,1.0029999999999999,0.66800000000000004,32.700000000000003,598.20000000000005,"nor00000312",9.5830000000000002,8534,31.9,45.8,36.1,123.8,86.8,1598]
["knw17916","nedc7138","NED 7138","Blue","Dehler 39","Dehler","Judel & Vrolijk",1998,167297,"P.J.J.,Visser","CLUB","C",783,"23/3/2016","13:46:06",11.785,10.978999999999999,1.9510000000000001,3.79,7603,124.8,0.26,625.4,0.98540000000000005,685,0.64100000000000001,19.5,1054,849.9,736.3,662.2,624.9,593.29999999999995,560.6,1008.6,816.7,710.3,646.5,610.5,586.79999999999995,559.1,872,699.7,606.1,551.1,516.79999999999995,494.2,465.6,931.5,740.8,635.5,572.29999999999995,532.5,506.4,474.9,1075.5,825.4,683.3,595.70000000000005,538.29999999999995,498.1,442,44.6,43,42.8,42.1,40.700000000000003,39.9,39.200000000000003,144.1,147.6,147.5,148.4,151.19999999999999,175.6,178.3,1104.4000000000001,906.5,798.4,725.1,690.4,673.7,659.5,709.9,592.1,524,489.6,474.7,468.5,463.9,662.5,556,499.9,474.4,460.8,454,448.7,624.20000000000005,526.70000000000005,483.3,462.6,447.3,434.6,421,626.20000000000005,523.6,475.8,453.8,444.7,431.3,403.9,633,520.70000000000005,474.1,450.4,428.3,408.1,388,654.70000000000005,537.9,482.1,456.5,435.1,412.5,371.8,732.5,593.79999999999995,512.4,474.2,452.2,431.5,389.5,869.2,687.1,583.9,518.9,486.1,464.9,432.9,1003.7,793.3,674.2,599.20000000000005,559.29999999999995,512.9,461.7,0.92620000000000002,1.2249000000000001,1.3947000000000001,0.70899999999999996,0.97370000000000001,1.1460999999999999,610.4,0.98299999999999998,0.79600000000000004,177,0.9879,0.65300000000000002,29.5,607.4,"knw00004538",9.73,8665,32.799999999999997,45.3,36.6,0,103.4,1626]
["nor21601",21601,"NOR 14717","Alibi","Dehler 41 JV Dyp k","Dehler Segelyachte","Judel/Vrolijck",2011,null,"Harald Thomsen","CLUB","C",884,"14/6/2016","21:36:00",12.4,11.978999999999999,2.4359999999999999,3.94,9041,125.4,0.23,598.20000000000005,1.0285,656.3,0.65600000000000003,9.8000000000000007,1020.8,820.1,706.9,632,594.20000000000005,567.1,533.9,976.1,787.1,681.2,616.70000000000005,580.6,558.1,529.20000000000005,839,671.1,579.5,525.4,491.5,469.1,440.5,902.2,715.4,611.5,548.70000000000005,508.8,482.3,449.6,1036.4000000000001,792.6,653.79999999999995,568,511.8,472.4,417.5,44.8,43.4,42.9,42.2,40.700000000000003,39.799999999999997,39.299999999999997,143.19999999999999,147.30000000000001,147.69999999999999,148.5,150.5,174.8,178.1,1072.9000000000001,876.5,767.5,691.9,656.1,639.79999999999995,627.1,687.4,570.29999999999995,502.2,465.8,450.6,444.8,440.2,639.79999999999995,535.1,477.9,450.9,437.2,430.8,425.7,601,505.9,461.2,439.7,424,411.2,398.8,602.20000000000005,498.7,451.6,431.8,422.9,408.1,378.9,606.6,496.8,449.9,426.4,403.9,386.8,365.8,627,513.20000000000005,458.2,432.7,410.9,387.4,348.5,704.2,567.79999999999995,488.9,450.8,428.9,408,363.9,838.9,661.3,559.70000000000005,495.4,461.6,441.4,409.2,968.7,763.6,646.29999999999995,572,532.4,494.3,440.7,0.96099999999999997,1.2839,1.4704999999999999,0.73340000000000005,1.0178,1.2022999999999999,584.9,1.0259,0.80800000000000005,163.19999999999999,1.0337000000000001,0.67,21.9,580.4,"nor00001602",10.648,10251,38.4,53.9,41.2,0,126.5,1673]
["GER164855","GER7287","GER 7287","JOKALE","DEHLER 46","HANSE YACHTS","JUDEL/VROLIJK",2014,"CKA","JOERG KLASEN","CLUB","C",800,"20/4/2016","07:07:38",13.95,13.098000000000001,2.5529999999999999,4.3499999999999996,11853,113.3,0.2,558.20000000000005,1.1076999999999999,609.4,0.72299999999999998,22,943.3,760.7,652.5,588.20000000000005,551.29999999999995,525.6,494.5,901.1,727.3,630,575.5,544.70000000000005,524,493.7,779,624.6,540.9,491.8,461.3,441.1,415.1,840.8,668.5,573.4,516.4,480.4,456.4,425.5,960.2,736.4,609.29999999999995,531.29999999999995,480.7,445.7,398.2,44.1,42.6,42.1,40.9,39.6,38.9,38.9,141.80000000000001,147.1,149.9,153.19999999999999,160.30000000000001,180,180,986.4,807.1,702,647.79999999999995,622.29999999999995,608.29999999999995,589.1,636.6,528.6,465.3,439.6,430.3,425.3,418,594.79999999999995,497.1,445.5,424.9,416.9,412.5,406.9,560.5,472.3,432.5,413.3,400.8,393.6,386.9,563,464.7,430,414.7,399.5,385,365.6,564.70000000000005,463.4,422.1,401.8,390.2,380.3,362.6,583.1,477,429.4,406,384.9,367.8,347.7,653.9,528.5,456.6,423.5,402.7,382.3,340,779.6,618.6,522.29999999999995,460.3,426.5,406.3,367.9,900.3,714.3,603.1,528.6,480.3,442.8,399.9,1.0359,1.3737999999999999,1.5625,0.79220000000000002,1.0979000000000001,1.2971999999999999,545.5,1.1000000000000001,0.875,165.1,1.1061000000000001,0.73499999999999999,32.1,542.4,"GER11001272",11.863,13251,44.2,68.7,51.3,0,163.30000000000001,1688]
["pol91","SEPULKA","POL - 28","SEPULKA","Delphia 24 Sport","Delpia Yachts Kot","ANDRZEJ SKRZAT",2002,null,"Michal Jablonski","CLUB","S",330,"17/8/2016","23:07:38",7.32,6.798,1.58,2.4500000000000002,817,96.9,0.13,649.29999999999995,0.94830000000000003,711.8,0.64100000000000001,29.7,1043.9000000000001,840.8,744.9,703.9,666.5,628.6,557,1006.2,819.5,728.3,680.3,644.1,611.20000000000005,570,886.2,720.7,631.70000000000005,577.79999999999995,540.70000000000005,511.8,465.1,965.9,775.8,672.6,611,570.9,542.1,499.8,1082.4000000000001,841.3,705.6,620.20000000000005,560.4,514,441.5,42.9,41.9,38,36.1,35.1,34.9,35.700000000000003,144.4,148.80000000000001,151.9,148.4,145.5,143,142.4,1126.2,914.6,811.5,778.6,761.8,750.6,750.7,734.3,616.29999999999995,578.1,564.5,556,545.29999999999995,536.4,687.9,597,558.5,541.5,531.29999999999995,521.4,506.9,652,582.29999999999995,536.79999999999995,503.2,489,480.6,459.5,627,567.79999999999995,537.20000000000005,494.6,453.8,438.7,425.8,623.6,554.1,501.6,472.3,442.6,418.9,366.3,637.5,564.4,502.6,450.5,421.1,393.8,348.5,704.8,594.20000000000005,539.9,482.8,424.7,365.6,303.39999999999998,832.8,664.2,588.29999999999995,544.9,494.6,438.8,314.7,961.7,767,678.4,629.20000000000005,571.1,506.7,363.4,0.91859999999999997,1.1605000000000001,1.3487,0.71630000000000005,0.93799999999999994,1.1043000000000001,661.1,0.90759999999999996,0.93700000000000006,294.2,0.95099999999999996,0.69499999999999995,89.7,630.9,"pol00000113",7.077,1314,12.3,22.2,10.3,0,50.3,1714]
["CLU137881","I13788","ITA-13788","BELLE","DIXIE 30","FREETIME","LUPOLI",1985,"LNI TORRE DEL GRECO","BAGNO ANIELLO","CLUB","C",210,"9/3/2016","10:29:10",8.58,7.1050000000000004,1.698,2.8,2677,121,0.41,754.3,0.82779999999999998,815.4,0.54,25.6,1259.8,1023,883.4,787.4,730.6,699.2,668.7,1212.3,986.3,857.7,779,732.8,705.1,675.3,1051.2,844.1,731.3,664.6,623.1,596.29999999999995,564.1,1093.5,874.9,755,683.6,638.79999999999995,609.5,573.79999999999995,1289,991.4,821.8,717.3,649.4,602.70000000000005,540,44.3,42.9,43.1,42.4,40.9,40.1,39.5,148.30000000000001,152.5,150.9,159,180,180,180,1319.2,1097.3,971.5,885.8,841.4,818.1,802.9,851.9,717.2,635.4,597.29999999999995,579.6,571.1,564.79999999999995,798.4,672.2,606.70000000000005,578.79999999999995,562.79999999999995,552.70000000000005,544.79999999999995,752.8,634.79999999999995,586.4,563.20000000000005,546.20000000000005,531.6,513,754.7,636.5,587.29999999999995,561.29999999999995,546.1,529.6,500.8,780.1,640,580.9,551.9,527.4,509.2,491,805.3,655.4,587.29999999999995,556.70000000000005,531.70000000000005,507.1,473.4,898.7,724,614.79999999999995,573.4,547.79999999999995,523.79999999999995,479.5,1039.5999999999999,823.1,689.4,607.1,572,548.5,504.6,1200.4000000000001,948.7,795.4,689,619.9,580.29999999999995,534.5,0.76749999999999996,1.0153000000000001,1.1567000000000001,0.59140000000000004,0.81830000000000003,0.97030000000000005,732.4,0.81920000000000004,0.63600000000000001,150.4,0.82010000000000005,0.54200000000000004,27.4,731.6,"CLU00018457",6.3940000000000001,3218,15.2,14.4,23.8,46.1,0,1764]
["CLUDOLP81","I29D81","ITA-29D81","10 NODI","DOLPHIN 81","MAXI DOLPHIN","SANTARELLI",1992,"FRAGLIA VELA DESENZANO","ZILIOTTO MARCO","CLUB","S",420,"10/3/2016","15:04:34",8.0830000000000002,7.5819999999999999,1.5740000000000001,2.69,970,103.6,0,602.70000000000005,1.0124,666.8,0.64400000000000002,-0.7,991.3,800.3,704.9,654.6,618.29999999999995,585.29999999999995,519.79999999999995,949,771.9,684.7,635.20000000000005,599.6,570.20000000000005,528.20000000000005,832.6,673.4,586.1,532,494.4,465.3,419.4,906.8,726.9,627.9,567.4,527,497.4,453.6,1023.3,790.5,657.2,572,511.7,464.5,390.5,43.9,42.1,39.4,37.4,36.4,36,36.9,141.80000000000001,146.6,154.69999999999999,153.1,151.1,147,142.19999999999999,1042.3,849.8,764.8,730.4,713.1,704.8,701.7,674.3,571.5,534.29999999999995,513.6,500.6,492.3,478.7,630.4,552.4,512.29999999999995,486.2,472,463.3,448.4,598.1,536.6,489.5,448.8,428.4,416,402.5,599.4,528.20000000000005,488.1,442.6,399.1,375.3,352.9,593.5,518.29999999999995,459.1,428,396.9,370.3,311.89999999999998,608.20000000000005,528.5,465.5,410.9,380.5,355.6,302.89999999999998,683.8,562.79999999999995,503.7,446.9,390.6,336.7,272.39999999999998,814.3,650.20000000000005,560.4,504.1,452.9,403.4,292.7,940.3,750.8,644.9,578.70000000000005,523.5,465.8,337.9,0.97340000000000004,1.2558,1.4866999999999999,0.75349999999999995,1.0008999999999999,1.1862999999999999,0,0,0.93200000000000005,250.1,1.0246999999999999,0,0,585.5,"CLU00018782",7.97,1526,12.9,22.5,16.100000000000001,58.1,64.5,1785]
["GREF00081","GR49367","GRE-49367","SKORPIOS","DROMOR 26","DROMOR YACHTS","R. CARTER",1993,"SEANATK","ILIAS PALLIS","CLUB","C",350,"22/4/2016","21:02:34",7.89,6.835,1.593,2.98,3362,108.7,0.67,818.6,0.7621,885.8,0.48799999999999999,15.7,1380.2,1110.2,962.8,861.5,789.7,753.2,722.9,1336.5,1081.3,941,853.2,796.2,763.9,732.2,1149.3,919.3,793.1,717.9,671,640.9,606.1,1213.2,965,827.4,744.4,692,658.1,618.79999999999995,1403.8,1076.9000000000001,890.2,774.5,698.8,646.70000000000005,577,45.1,43.4,42.9,43.8,43.3,42.5,41.9,148.69999999999999,153.19999999999999,157.19999999999999,171.7,180,180,180,1493.7,1225.0999999999999,1084.4000000000001,990.9,925.4,895.8,881.8,956.4,799.9,707,648.5,619.70000000000005,606.6,600.4,893.2,753.1,664.7,621.9,600.29999999999995,587.4,578.9,844.1,712.5,635.6,603.20000000000005,584.1,568.9,547.1,851.2,705.5,622.9,590.4,576.70000000000005,567.6,538.6,839.7,690.8,616.4,584.6,559.79999999999995,536.6,516.70000000000005,864.1,708.8,624.4,589.70000000000005,565.29999999999995,541,501.7,952,770.8,659,607.70000000000005,580.5,556.9,513.5,1097,865,732.3,646,604.6,579.9,536.20000000000005,1266.7,995.2,841.2,732.1,653.9,610.6,563.9,0.70040000000000002,0.93840000000000001,1.0779000000000001,0.54210000000000003,0.75160000000000005,0.89890000000000003,0,0,0.57499999999999996,138.5,0.75770000000000004,0,0,791.8,"GRE01005716",5.6890000000000001,3913,17.100000000000001,15.1,22,46.9,0,1839]
["FRA16158a","F9684","FRA- 9684","HATHOR III","DUF 34 DK Le Tall","DUFOUR YACHTS","FELCI Umberto",2002,"13590 - MEYREUIL","VAN GAVER Paul","CLUB","C",680,"20/4/2016","17:59:58",10.3,9.4600000000000009,1.9319999999999999,3.48,5300,112.5,0.27,655.5,0.95079999999999998,709.9,0.61899999999999999,23.8,1097.9000000000001,888.6,768.4,685.8,637.9,610,583.9,1052.8,855.7,744.8,676.3,636.6,613,587.6,912.6,733.1,635.5,577.79999999999995,541.70000000000005,518.1,489.8,962.7,768.6,662,598.29999999999995,558.29999999999995,532.20000000000005,500.5,1122.0999999999999,862.4,714.6,623.5,564.20000000000005,523.1,467.1,44.6,43.1,43.1,41.9,40.299999999999997,39.9,39.6,146.19999999999999,150.5,151.5,157,174.4,180,180,1155.2,954.3,841.8,763.5,726.6,709.1,699.8,742.8,621.6,552.4,518.1,503.4,497.3,492.9,693.1,582.9,528,502.9,489.1,482.3,477,651.6,552.6,511,490.4,474.3,461.1,448.5,652.29999999999995,553.5,508.1,486.4,474,457.9,430,671.1,552.70000000000005,504.4,479.2,455.8,438.4,419.3,691,567.4,511.1,484.6,461.4,437.8,402.5,761.9,620,537.29999999999995,500.8,478,455.6,412,901.2,712.6,602.6,533.4,500.8,479.3,437.6,1040.5999999999999,822.9,695,608,549.20000000000005,510.8,468,0.8851,1.1673,1.331,0.67959999999999998,0.93979999999999997,1.1116999999999999,0,0,0.73699999999999999,155.1,0.94369999999999998,0,0,635.79999999999995,"FRA00004111",8.5549999999999997,6136,25.3,34,32.4,79.400000000000006,0,1854]
["CLUDUF325","FLIC","ITA.FLIC","FLIC","DUFOUR 325 GL","DUFOUR","FELCI",2007,"LNI POZZUOLI","CARUSO AURELIO","CLUB","C",480,"9/3/2016","10:29:18",9.85,8.9830000000000005,1.5469999999999999,3.41,4653,118.7,0.41,700.8,0.88,767.1,0.56000000000000005,9.8000000000000007,1190,959.5,832.1,746.5,692.4,653.1,620.20000000000005,1142.8,924.8,803,726.2,678.1,648.70000000000005,620.70000000000005,982.2,786.5,679.2,615,574.5,547.9,515.6,1032.2,820.3,702.8,631.9,587,557.79999999999995,523.79999999999995,1211.7,928.2,766.1,665.3,599.1,553.20000000000005,491.9,45.3,43.8,43.4,43.3,41.6,40.9,40.799999999999997,146,147,146.6,147.19999999999999,170,171.8,175.3,1255.8,1031,906.7,819.8,765,741.9,730.8,801.2,667.8,588.6,544.1,522.29999999999995,512.6,507.3,744.1,624.6,556.4,524.79999999999995,507.4,496.8,489.6,697.5,588,534.29999999999995,510.3,493.8,479.7,460.2,698.5,589.4,532,503.6,484.1,472.7,450,720.2,592.29999999999995,530,502.3,480.9,459,421.8,746.8,612.70000000000005,539.79999999999995,508.4,486.7,465.3,423.7,829.8,670.9,576,527.4,502.3,482,441.8,973.5,769.1,656,582.9,542,517.1,483,1124.0999999999999,888,757.5,673.1,619.79999999999995,564.4,509.7,0.82050000000000001,1.0944,1.2608999999999999,0.62809999999999999,0.86619999999999997,1.0375000000000001,681,0.88109999999999999,0.66900000000000004,141.9,0.88160000000000005,0.56799999999999995,16.3,680.6,"CLU00018458",7.8090000000000002,5424,22.6,24.2,29.5,0,58.5,1904]
["ESP101371","E10137_C","ESP-10137_C","CHENICA","DUFOUR 34","DUFOUR","Felci Yachts",2002,"ADEMAR","PRUDENCIO MOYA GONZALEZ","CLUB","C",628,"11/3/2016","05:21:48",10.3,9.41,1.948,3.48,5148,126.1,0.19,649.29999999999995,0.96050000000000002,702.8,0.623,22.4,1088.9000000000001,880.6,759.8,678.7,631.5,603.29999999999995,576.70000000000005,1040.4000000000001,845.1,734.4,667.2,628.70000000000005,605.5,579.9,903.8,726.2,629.6,572.4,536.4,512.70000000000005,483.6,943.1,754.1,650.4,588.6,549.79999999999995,524.29999999999995,492.4,1113.5,855.1,708.3,617.9,558.9,517.79999999999995,460.9,44.4,42.9,43,41.2,39.9,39,38.6,146.19999999999999,150.69999999999999,152.30000000000001,156.9,174.9,180,180,1125.5,930.6,818.2,744.3,711,694.4,684.7,726,607.4,540.9,510.8,498,492,487.2,678.9,570.5,520,497.1,483.8,476.9,470.9,638.4,543,505.4,485.1,468.5,454.7,441.3,638.29999999999995,543.5,505.1,481.1,468.4,450.8,422.5,668.6,551.29999999999995,503.9,479,455.3,432.5,410.9,692.2,568.79999999999995,511.9,485.2,462.8,439.5,396,770.5,627.4,541.79999999999995,503.1,479.9,457.7,413.9,911.4,719.3,608.4,537.29999999999995,502.9,480.9,439.2,1052.4000000000001,830.6,701.4,613,551.9,512.20000000000005,468.6,0.89390000000000003,1.1778999999999999,1.3451,0.68540000000000001,0.94969999999999999,1.1243000000000001,632.5,0.9486,0.74199999999999999,152.9,0.95230000000000004,0.63400000000000001,32.299999999999997,630.1,"ESP00016991",8.73,5988,24.9,34.5,35.299999999999997,72,72,1930]
["nor666679",666679,"NOR 14950","NN","Dufour 34 Performa","Dufour Yachts","Umberto Felici",2002,null,"Thore Hammarstrom","CLUB","C",613,"6/6/2016","21:17:14",10.3,9.4009999999999998,1.944,3.48,5174,108.3,0.17,650.1,0.95540000000000003,706.5,0.64100000000000001,36.299999999999997,1078.2,874.6,756.6,682.1,639.4,614.29999999999995,591.1,1031.4000000000001,840,733.9,672.6,638.5,617.79999999999995,595.9,899.3,724.6,630.4,575.6,541.9,520.20000000000005,494.6,944.6,756.7,654.4,594.1,556.9,532.79999999999995,503.8,1106.2,852.5,708.9,621,564.1,524.79999999999995,471,44.4,43,43.1,41.7,40.4,40.200000000000003,40.299999999999997,146,150.4,151.6,157.30000000000001,175.5,180,180,1120.5999999999999,929.8,821.3,758.3,731.5,718.9,715.4,722.7,606.9,542.9,515.70000000000005,506.1,501.5,498.9,676.2,570.9,522,500.8,491.1,486.3,482.9,637.20000000000005,544.1,507.4,487.6,473,462.9,455.3,638.1,544.79999999999995,507,488,471.1,454.7,431.9,666.4,549.9,503.5,478.4,455.2,440.7,421.7,686.6,564.20000000000005,510,483.8,460.3,436.3,405.1,757.9,616.5,535.6,500.3,477.3,454.5,410.4,897,709.5,599.9,532,500.2,478.6,436.2,1035.8,819.4,691.8,605.79999999999995,547.29999999999995,509.8,466.8,0.89980000000000004,1.1748000000000001,1.3233999999999999,0.69130000000000003,0.94769999999999999,1.1031,637.6,0.94099999999999995,0.79,190.8,0.94950000000000001,0.65400000000000003,49.9,631.9,"nor00001505",8.5779999999999994,5993,25.2,34.5,35.4,79.7,0,1978]
["nor9011",9011,"NOR 11519","saga","Dufour 365","Dufour Yachts","Felci",2006,null,"Paul Reite","CLUB","C",674,"24/5/2016","23:29:32",10.53,9.8539999999999992,1.7210000000000001,3.66,6638,109.4,0.42,681.8,0.91359999999999997,738.8,0.56899999999999995,3.9,1162.0999999999999,935.2,807.9,720.7,658.1,619.20000000000005,586.20000000000005,1114.2,902.4,783,706.4,654.79999999999995,622.79999999999995,590.5,959.5,767.2,660.8,596.4,555.1,527.79999999999995,494.8,1015.4,807,690.8,619.70000000000005,574,543.29999999999995,506.1,1180.5999999999999,903,743.6,644.29999999999995,579,534,474.6,45.1,43.3,42.7,43.1,41.9,40.6,39.9,146.9,150.80000000000001,152.19999999999999,154.80000000000001,169.7,179.8,180,1228.5999999999999,1009.5,889.8,808.7,747.5,715.8,694.1,786.8,658.8,581.79999999999995,534.4,509.4,496.1,487.2,733.8,619.70000000000005,548.9,514,495.2,483.1,472,691.7,586.20000000000005,526,499.2,483.4,470.6,449.6,694.3,588.79999999999995,522.20000000000005,491.6,474.8,467.6,446.3,705.3,581.1,515.4,487.6,468,448.6,421.5,725.3,596.9,523.70000000000005,492.3,472.3,453.2,415,800.2,652.9,557.4,509.8,486,467.5,430.1,948.8,745.6,629.4,553.4,509.8,487.4,452.9,1095.5999999999999,860.9,725.9,632.70000000000005,568.79999999999995,522.70000000000005,478.2,0.8377,1.1256999999999999,1.3109999999999999,0.64370000000000005,0.89759999999999995,1.0948,660.2,0.90880000000000005,0.65100000000000002,108.3,0.90810000000000002,0.57699999999999996,10.3,660.7,"nor00001294",8.3369999999999997,7543,27.5,26.9,33.4,78.8,0,2005]
["knw","nedo8755","NED 8755","Equilibre","DUFOUR 40","DUFOUR","FELCI",2003,178381,"Wim Hoogstad","CLUB","C",766,"23/5/2016","16:00:06",12.06,10.835000000000001,2.0649999999999999,3.89,7800,122.5,0.32,630.70000000000005,0.97919999999999996,689.4,0.624,11,1070.2,863,747.4,667.6,625,590.20000000000005,556.1,1022,827.9,718.1,649.6,609.9,584.5,556.79999999999995,883.3,707.5,611.29999999999995,553.9,517.79999999999995,493.7,462.9,929.6,739.4,633.9,570.20000000000005,529.79999999999995,503.1,470.2,1091,835.4,689.5,599.1,539.9,498.7,442.4,44.4,42.7,42.7,42.2,40.700000000000003,40.1,39.200000000000003,145.30000000000001,147.80000000000001,147.6,148.1,151.1,177.8,179.3,1106.8,910.9,801.8,723.5,684.7,666.1,651.29999999999995,713,595.9,524.9,487.9,471.5,464.8,459.7,666.1,559.20000000000005,499.6,472.5,458.2,450.4,444.3,627.5,528.29999999999995,482.3,460.7,445.2,432.4,417.7,628.4,529.29999999999995,479,454.2,439.7,430,402.7,649.79999999999995,533.5,479.1,454.4,434,413.2,386.7,674.7,554.20000000000005,489.1,460.8,440.4,420.1,380.9,755.9,612.4,525.1,480,456.6,437.3,398.9,895,705.9,600.1,529.6,491.3,467.4,435.7,1033.5,815.1,693,611.6,565.4,514.29999999999995,460.9,0.91249999999999998,1.2161,1.3980999999999999,0.69830000000000003,0.96450000000000002,1.1516,613.70000000000005,0.97760000000000002,0.75,147.30000000000001,0.98019999999999996,0.63400000000000001,19.399999999999999,612.1,"knw00005358",9.6769999999999996,8838,32,46.8,33,0,80.3,2055]
["POR","POR14C","POR-14","SUPER ACOR","DUFOUR 40 PERFORM.","DUFOUR YACHTS","FELCI",2003,"ANL","GONCALO VAZ GAGO BOTELHO","CLUB","C",735,"1/6/2016","13:35:10",11.99,10.824999999999999,2.0640000000000001,3.89,7806,117.6,0.3,621,1.0005999999999999,674.6,0.64400000000000002,17.600000000000001,1047.3,846.4,731.1,652.20000000000005,606.9,577.4,550.6,1001.7,812.8,705.8,639.9,602.1,579,554.6,867.7,695.8,601.9,546.20000000000005,511.3,488.6,461.5,916.4,730.3,627.6,566,527.20000000000005,501.7,470.8,1068.7,819.7,677.7,590,532.9,493.4,440,44.5,43,43.1,42.2,40.6,40.1,39.799999999999997,145.1,149.69999999999999,151.5,154.6,168,180,180,1090.3,899.7,792.2,718.8,685.2,668.3,658,701.9,587.4,518.9,485.4,471.8,465.8,461.3,655.7,551,495.2,470.6,457.8,451.6,446.5,617.79999999999995,521.6,479.2,458.6,443.9,432.2,420.5,619.4,523,478.3,456.6,444,429.2,403.9,643.29999999999995,526.79999999999995,475,450.4,429.4,413.4,395.5,663.2,542.79999999999995,482.4,455.7,435,413.8,380.6,734.6,596.29999999999995,512.9,473,450.8,430.8,391,869.8,686.8,580.6,512.1,474.1,452.8,415,1004.3,793.1,670,585.70000000000005,528.6,486.5,443.3,0.92949999999999999,1.2342,1.4120999999999999,0.71289999999999998,0.98770000000000002,1.1745000000000001,0,0,0.76400000000000001,146.30000000000001,0.996,0,0,602.4,"POR00000311",9.7289999999999992,8843,32.1,43.9,41,98.8,0,2070]
["nor9046",9046,"NOR 11604","Skagerrak","Dufour 44 Performa","Dufour Yachts","Umberto Felci",2002,null,". Firstcorp AS","CLUB","C",898,"18/5/2016","21:24:18",13.44,12.124000000000001,2.302,4.2300000000000004,10110,108,0.08,579.5,1.0680000000000001,632,0.70399999999999996,27.5,970.2,787.2,677.5,610.4,572.29999999999995,545.79999999999995,518.20000000000005,926,751.8,654.29999999999995,598.6,566.70000000000005,545.5,519.4,805,647.29999999999995,561.9,511.8,480.7,460.3,435.1,853.6,682.1,588.1,532,496.8,473.4,444.1,992.4,763.1,632.79999999999995,552.79999999999995,500.8,465,416.8,44.7,43.2,42.9,41.6,40.1,39.200000000000003,39.200000000000003,140.4,148.30000000000001,148.9,154,162.4,180,180,1005.7,830.2,729.1,673.9,646.6,631.79999999999995,618.70000000000005,647.1,541.5,481.6,457.1,447.8,442.8,438.7,604.6,509.2,462.3,443,434.6,429.8,425.3,568.79999999999995,484.2,449.1,431,418.4,410.1,402.3,569.1,484.5,449.4,431.2,416.1,401.8,381.7,599.4,491.2,445.7,422.8,407,396.6,377.8,615,503.1,451.7,427.2,405.7,385.2,363.5,679.5,549.9,476.3,442.7,421.7,401.1,359.9,809.6,644.5,542,477.5,444.8,424.7,386.3,934.8,744.2,625.79999999999995,547,498,459.8,417.7,1.0033000000000001,1.3199000000000001,1.4968999999999999,0.76819999999999999,1.0580000000000001,1.2452000000000001,567.4,1.0575000000000001,0.85399999999999998,171.3,1.0642,0.71899999999999997,39.299999999999997,563.79999999999995,"nor00001155",10.972,11341,38.9,57,58.5,148,0,2119]
["CYPsr0615","PAVLINA","CYP 101","PAVLINA","DUFOUR D 525","DUFOUR",null,2008,null,"TOTOS THEODOSIOU","CLUB","C",1104,"31/8/2016","14:13:38",14.99,13.888,2.0110000000000001,4.9000000000000004,16160,114.3,0.43,667.5,0.92390000000000005,730.6,0.499,-54.1,1243.4000000000001,964.7,808.3,708.6,638.70000000000005,588.70000000000005,535.79999999999995,1170.8,918.7,778,688.4,625.79999999999995,582.5,542.9,975.4,764.5,644.9,570.4,521.4,488,447.2,975.4,764.5,644.9,570.4,521.4,488,447.2,1225.7,912.7,731.9,618.6,543.79999999999995,492.3,426.2,47.5,46.4,45.5,45.1,44.8,44.1,42.8,167.6,168,168.8,169.7,170.5,171,173.5,1229,983.4,850.3,764.6,702,658.6,627.5,769.5,622.79999999999995,542.9,489.9,454.2,433.4,419.2,701.7,575.9,504.6,458.4,432.2,417.3,403.7,646.79999999999995,537.1,472.2,435.8,417,404.5,385.1,645.5,536.5,471.9,436,417.3,404.8,380.8,738.7,589.6,507.8,455.5,427.2,410.5,384.6,787.2,625.5,536.20000000000005,476.2,438.5,417.7,390.9,916.8,708,594.4,522.6,471.3,438.2,405.1,1093,828.2,679.1,586.5,522.9,475.4,421.9,1257.8,946,766.3,652.6,575.4,518.79999999999995,444.2,0.81659999999999999,1.1640999999999999,1.4267000000000001,0.61140000000000005,0.9052,1.1611,0,0,0.54900000000000004,26.9,0.93,0,0,645.20000000000005,"CYP00000309",10.757999999999999,17697,53.9,48.5,66.7,0,0,2145]
["SUISUI134","SUI134","SUI 134","FIORETTA","Dynamic 35","Moser","Kjaerulff",1985,"SCPf","Borner, Hans","CLUB","C",450,"3/10/2016","10:32:42",10.68,9.7560000000000002,1.5189999999999999,2.48,2929,115.7,0,600.4,1.0218,660.6,0.69499999999999995,38.200000000000003,992.7,802.3,698.7,640.1,606.4,582.70000000000005,549.20000000000005,940.8,764.2,676.9,629.5,599.1,575.29999999999995,544.4,822.8,666.3,583,534.4,503.6,481.9,450.6,860.3,693.5,603.70000000000005,550.9,517.5,494.6,463.7,1023,789.4,658.1,577.79999999999995,524.9,487,431.5,45.3,44.4,41.9,40,39,38.700000000000003,38.9,137.6,146.80000000000001,147.9,156.4,180,180,180,1008.3,831.6,755.1,716.8,698.8,685.2,678.7,644.1,539.4,510.3,498.1,491.2,487.2,479.4,597.20000000000005,513.20000000000005,492.9,482.8,475.8,471.8,460.4,557.6,495.7,472.4,458.9,449.4,442.5,431.5,556.79999999999995,495.4,465.9,440.4,424.9,415.1,406.2,600.79999999999995,503.7,467.1,444.6,424.7,405.8,369.9,621.79999999999995,512.4,472.7,435.2,410.7,392.1,355.4,699.7,557.5,495.3,461.7,425,387.3,324,846.2,669.5,556.20000000000005,495.9,464.7,431.3,363.7,977.1,773.1,642.20000000000005,563.4,514,480.3,419.7,0.98939999999999995,1.2637,1.4283999999999999,0.75209999999999999,1.0155000000000001,1.1717,0,0,0.92600000000000005,245,1.0223,0,0,586.9,"SUI00002383",9.218,3800,20.9,36.4,34.5,80.599999999999994,0,2171]
["SLOC10/16","SLO701","SLO 701","Sara","Elan 31s","Elan Begunje","Jakopin",1986,"Slovenija","Vladislav Kranjc","CLUB","C",496,"5/10/2016","13:15:22",9.91,8.1120000000000001,1.72,3.31,3736,113.6,0.21,695.2,0.89339999999999997,755.5,0.57399999999999995,16.2,1177.0999999999999,951.2,816.5,727.2,677.2,648,619.6,1128.8,915.2,792.9,719.3,676.9,651.5,625.29999999999995,972.9,779.3,673.6,611,572.1,546.9,516.9,1030,820.5,705,635.79999999999995,592.4,563.9,529.6,1197.0999999999999,917.6,758.1,659.7,595.70000000000005,551.4,491.6,44.8,43.9,43.9,43,41.7,41,40.799999999999997,147.6,151.1,148.9,157,175.5,180,180,1243.0999999999999,1026.2,903,821.3,782,762.8,753.6,798.7,665.8,587.1,549.9,533.4,526,520.70000000000005,746,622.20000000000005,559.4,531.9,516.1,507,499.8,701.9,587.70000000000005,539.79999999999995,516.5,498.7,483.9,467.4,703.8,588.6,533.4,511.3,497.6,480.7,453.4,704.8,577.70000000000005,528.20000000000005,499.4,474.2,458.4,440.3,731.5,592.79999999999995,534.9,505.2,478.7,454.5,423,812.2,658.8,560.79999999999995,522.9,496.5,471.5,428,962.3,758.9,632.1,555.79999999999995,522.4,497.9,453.4,1111.0999999999999,876.3,729.9,633.1,572.4,533.29999999999995,485.6,0.82830000000000004,1.1037999999999999,1.2615000000000001,0.63429999999999997,0.88449999999999995,1.0470999999999999,679.1,0.88349999999999995,0.68,146.19999999999999,0.88990000000000002,0.58399999999999996,27.4,674.2,"SLO00003228",7.3620000000000001,4390,20.100000000000001,22.9,31.1,0,73.900000000000006,2221]
["CRO193/16","CRO540","CRO 540","Polaris","Elan 333","Elan","Humphreys",1998,"CROATIA","Nautica, d.o.o.","CLUB","C",615,"29/9/2016","09:14:42",10.025,9.2319999999999993,1.913,3.43,4967,108,0.31,667.4,0.9375,720,0.61399999999999999,27.7,1112.9000000000001,899.6,778.9,696.3,647,618.9,592.6,1065,865.4,753.8,685.3,645.6,622.1,596.29999999999995,929.1,746.4,647.1,588.5,552,528.20000000000005,499.2,983.8,785,675.8,610.70000000000005,570.1,543.79999999999995,512.5,1139.5,876.2,726.8,634.9,575.29999999999995,534,477.6,43.6,41.8,41.8,40.799999999999997,39.299999999999997,38.5,38.6,146.30000000000001,150.9,152.69999999999999,157.5,180,180,180,1156.8,955,843.5,767.7,731.8,715,705.5,751.7,630.1,561,528.29999999999995,513.5,507.2,502.5,706.5,594.70000000000005,539,514.1,500.2,492.4,486.6,670.3,567.6,523.5,502.6,486.7,473.3,458.1,675.1,570.6,518.6,496.1,487.2,471.2,442.8,685.9,565.79999999999995,516.4,491.1,467.6,448,429.4,708.3,582.1,523.6,497,474.6,451.2,412.7,784.6,639.6,553.20000000000005,514.4,491.3,469.4,425.6,925.7,731.2,619.9,548.5,514.1,492.3,450.7,1068.9000000000001,844.2,714.2,625,562.1,522.70000000000005,479.7,0.86939999999999995,1.1467000000000001,1.3055000000000001,0.67079999999999995,0.92659999999999998,1.0956999999999999,0,0,0.73099999999999998,157.9,0.92759999999999998,0,0,646.79999999999995,"CRO00071289",8.4,5789,24,31,27.6,70.099999999999994,0,2236]
["ITA157641","I15764","ITA-15764","ASTRA","ELAN 340","ELAN","HUMPHREYS",2006,"C.N.DELLA VELA","DE LEO ANIELLO","INTL","C",400,"11/11/2016","17:10:02",9.9830000000000005,9.5679999999999996,2.0649999999999999,3.47,5312,112.4,0.28999999999999998,660.6,0.94310000000000005,715.7,0.63600000000000001,39.299999999999997,1092.0999999999999,886.4,768.9,691.2,646.6,621.79999999999995,596.29999999999995,1049.0999999999999,855.1,747.2,682.9,647.20000000000005,626.5,601,915.1,736.7,640.6,584.5,550.4,528.6,502.2,978,780.9,672.9,608.79999999999995,569.1,543.70000000000005,514.1,1120.3,864.1,719.1,630.4,573.1,533.79999999999995,481,43.6,41.8,42,41.3,40.299999999999997,39.700000000000003,39.5,146,150.69999999999999,152.69999999999999,157.69999999999999,180,180,180,1153.5999999999999,955.2,844.1,773,743.8,731.2,722.4,749,630.6,559,526.9,514.5,509.5,506.1,704.3,595,535.79999999999995,511.2,499.3,494.1,490.8,668.1,565.5,519.79999999999995,498.6,484.1,473.4,464.1,669.5,555.70000000000005,510.9,499.3,483.4,468.5,443.4,665.7,551.1,506.2,482.3,465.8,455.2,438.9,686.6,566,512.79999999999995,487.3,464.7,442.8,421.3,757.3,619.6,539.6,504.2,481.8,459.7,415.5,892.5,708.1,602.29999999999995,535.6,503.9,482.8,440.9,1030.5,817.6,693.8,609.4,549.4,512.4,470.3,0.88390000000000002,1.1574,1.3027,0.68240000000000001,0.93459999999999999,1.0914999999999999,645.20000000000005,0.92989999999999995,0.77500000000000002,187.7,0.93579999999999997,0.64300000000000002,47.4,641.20000000000005,"ITA00020792",8.5150000000000006,6183,25.2,34.200000000000003,25.3,75.8,0,2278]
["CRO028/16","CRO1835","CRO 1835","Whiskey","Elan 350","Elan Yachting","Rob Humpreys",2010,"CROATIA","S-Leasing, d.o.o.","CLUB","C",684,"8/3/2016","15:14:14",10.5,10.135,2.1440000000000001,3.54,5350,121,0.2,610.4,1.0155000000000001,664.7,0.68300000000000005,35.1,1010.9,818.2,706,641.1,611.5,582,551.79999999999995,969.7,785.8,685,627.79999999999995,596,572.70000000000005,543.29999999999995,844.7,680.3,592,540.5,508.5,486.8,458,915,729.4,627.4,566.5,528.1,502.7,470.6,1035.7,798.5,664.5,582.4,528.70000000000005,490.9,438.1,43.5,41.9,41.5,39.700000000000003,38.5,37.799999999999997,37.1,144.1,147.9,148,150.1,153.19999999999999,176.4,177.8,1068,876.5,768.2,700.9,672.6,658.4,643.70000000000005,693.5,578.1,516.20000000000005,488.7,477.4,471.9,467.7,650.1,545.9,498.5,476.3,463.6,457.6,452.5,614.5,522.5,486,465.5,448.1,434.2,422.8,614.29999999999995,512.29999999999995,475.8,464,448.7,430.4,398.7,608.1,507.2,470.2,443.5,425.2,412.2,388.4,625.70000000000005,517.9,476.6,450,421.7,396.1,369.1,698.6,565.20000000000005,498.2,468.6,443.7,417.1,362.9,826.1,658,557.6,503.5,481.1,460.3,416.4,953.9,759.8,643.79999999999995,581.29999999999995,550.5,505.7,459.8,0.95899999999999996,1.2506999999999999,1.4138999999999999,0.73809999999999998,1.0073000000000001,1.1677,0,0,0.86699999999999999,209.9,1.0128999999999999,0,0,592.4,"CRO00061809",9.6069999999999993,6270,27,38.5,31.2,0,108.6,2311]
["knw23329","NEDC7643","NED 7643","Joris K","Elan 37x2.05","Elan","Humpreys",2003,131380,"J.M.,Kakebeeke","CLUB","C",711,"23/3/2016","13:32:38",11.215,10.202,2.0790000000000002,3.59,6705,122.3,0.27,629.5,0.99270000000000003,680,0.65400000000000003,30.2,1047.4000000000001,848.7,734.3,657.7,613,584.9,557.9,1000.5,814.1,709.5,646.29999999999995,609.6,586.79999999999995,560.6,874.3,703.2,610.5,555.79999999999995,521.70000000000005,499.4,471.9,925.2,739.3,637.20000000000005,576.4,538.20000000000005,513,481.9,1073.8,826.3,685.9,599.6,543.6,505.1,452.8,43.7,42,42.2,41,39.299999999999997,38.5,37.9,145.4,150.1,151.19999999999999,155.9,172.5,180,180,1083.7,896.8,791.2,722.6,690,672.8,659.8,703.8,590.6,526.5,497.7,485.1,479.2,473.9,660.9,556.6,506.6,484.7,472.3,465.8,460,625.5,530.9,492.8,473.6,459.2,447.3,434.5,628.6,533.29999999999995,491.6,473.4,459.6,445,418.8,650.4,534.9,488,464.3,443.3,429.7,411.4,669.2,549.20000000000005,494.3,469.2,448.4,426.5,395.9,738.1,601.9,521.4,485.6,464.1,443.7,402.1,875.6,693.4,587,518.70000000000005,486.2,465.8,427.2,1011.1,800.7,677.3,592.9,536.1,496.9,456,0.92449999999999999,1.2143999999999999,1.3802000000000001,0.71199999999999997,0.98109999999999997,1.1601999999999999,614.5,0.97640000000000005,0.77900000000000003,160.80000000000001,0.98250000000000004,0.66600000000000004,40.9,610.70000000000005,"knw00004457",9.3719999999999999,7663,28.8,38.6,37.6,93.1,0,2361]
["GRE000892","GR1581","GRE-1581","VENCEREMOS","ELAN 40 SD FK","ELAN YACHTS","HUMPHREYS ROB",2002,"NOPF","ISTIOPLOIKI DROMI MCPY","CLUB","C",730,"21/3/2016","23:03:04",11.913,10.667,2.0569999999999999,3.84,7900,118.5,0.27,636.70000000000005,0.97109999999999996,695.1,0.623,14.3,1080.3,868.6,751.3,672.8,630.20000000000005,596.6,563,1036,836.4,725.3,656.8,616.20000000000005,590.29999999999995,561.79999999999995,892.2,714,616.9,559.4,523.5,499.9,470.7,957.7,759.5,649.4,582.79999999999995,540.5,512.70000000000005,479,1098.5999999999999,841.4,695,604.5,545.4,504.4,448.6,44.5,42.8,42.5,42.3,40.700000000000003,39.6,39.200000000000003,144.69999999999999,147.6,147.4,148.19999999999999,150.9,175.6,178.5,1143.5,934,820.3,740.1,695.6,675.3,660.2,735.4,611.20000000000005,537.9,497.9,479.8,472,466.1,686.4,574.1,511.1,481.9,466.9,458,451.1,647,543.4,492.5,469.9,454.7,442.1,425.3,647.20000000000005,533,481.5,459.7,451.4,440.1,413.9,644.5,528.79999999999995,479.4,455.7,434.8,416.6,398.2,666.6,546.5,487.4,461.3,440.8,419.6,382.7,744.2,602.6,518.4,478.6,456.6,436.9,397.5,880.9,695.7,590.79999999999995,524.4,490.4,469.2,438.4,1017.1,803.3,682.2,605.5,564.79999999999995,518,465.8,0.90390000000000004,1.2057,1.38,0.69269999999999998,0.95799999999999996,1.1394,0,0,0.751,153.30000000000001,0.97199999999999998,0,0,617.29999999999995,"GRE01005258",9.4049999999999994,8914,32.5,45.3,33.200000000000003,0,103.5,2387]
["FRA16061b","F9449","FRA- 9449","XLR8","ELLIOT 10.5","PARTRIDGE","ELLIOTT Greg",1987,"98800  -  NOUMEA","VERGE Jean Christophe","CLUB","C",600,"7/4/2016","09:18:34",10.5,10.246,2.2130000000000001,4.07,3260,117.4,0,565.29999999999995,1.0815999999999999,624.1,0.70699999999999996,15.4,940.9,757.6,656.5,604.4,573,551.20000000000005,505.2,897.4,724.1,637.4,590.9,560.6,537.70000000000005,499.8,782.1,630.70000000000005,548.79999999999995,499.8,467.7,444.3,409.5,845.7,675.8,582.9,527,490.7,465.2,430,965,743.1,617.29999999999995,538.79999999999995,485.7,446.1,386.2,44.1,43.2,40.799999999999997,39.5,38.299999999999997,37.799999999999997,37.799999999999997,141.30000000000001,139,148.6,156.6,174.6,180,140.80000000000001,979.6,796.2,709.1,674.3,655.1,646,636.79999999999995,632.20000000000005,522.1,485.3,471.9,463.5,457.3,446.8,590.1,499.1,468.9,453.1,441.9,434.2,422.2,554.20000000000005,483.8,450.6,423.1,407.2,397.1,386,556.1,481.6,450.3,415.8,386.2,366.9,349.4,557.79999999999995,476.7,433.7,407,384,364.3,323,576,484.3,440.5,398.1,369.6,349.5,311.2,654,522.20000000000005,468.5,428.1,386.7,345.4,283.3,781.2,622.70000000000005,523,470,433.2,396.3,323.5,902.1,719,603.9,534.5,490.9,456.4,373.6,1.0374000000000001,1.3454999999999999,1.5533999999999999,0.79479999999999995,1.0770999999999999,1.2514000000000001,0,0,0.98399999999999999,247.2,1.0904,0,0,550.20000000000005,"FRA00003997",10.028,4188,26.6,48.6,31.6,104.3,118.1,2437]
["SUISU1413","SUI1413","SUI 14","ESSE 750","Esse 750","Proteus Yachts","U.Felci",2011,"SCSta","Roner, Daniel","CLUB","S",220,"1/5/2016","16:10:40",7.5,7.2539999999999996,1.722,2.0699999999999998,1005,123.5,0,637,0.96870000000000001,696.8,0.69199999999999995,59.2,1002.9,812.1,735.8,693.9,652.20000000000005,617.79999999999995,568.9,962.6,791.5,716.4,671.9,635.79999999999995,611.79999999999995,577.4,858.1,702.3,620.20000000000005,571.6,539.20000000000005,515.1,480.2,934.1,753.8,657,599.9,563.4,537.6,500.7,1052.0999999999999,822.6,694.8,615.4,560.70000000000005,519.1,456.7,42.9,40.700000000000003,38.299999999999997,37,36.4,36.4,36.9,143.5,147.5,151.5,148.4,145.4,142.5,144,1059.2,872.9,813.3,784.1,759.3,752.3,750.2,690.6,592.29999999999995,571.5,561.4,549.70000000000005,544.29999999999995,538.9,647.5,571.70000000000005,553.5,543.29999999999995,532.70000000000005,522.20000000000005,514.79999999999995,617.1,554.5,525,509.6,500.2,489.5,473.4,606.9,557.20000000000005,513.1,480.3,465.6,457.5,439,601.1,541.70000000000005,511.3,482.1,456.9,419.3,394,616,541.20000000000005,495.6,466,437.6,411,369.2,689.7,573.79999999999995,517.29999999999995,460.4,406.9,378.4,332.9,819.7,650.70000000000005,569.70000000000005,522.9,472.1,418.5,335.5,946.5,751.4,658.3,603.79999999999995,545.1,483.2,387.5,0.95479999999999998,1.1759999999999999,1.3374999999999999,0.74380000000000002,0.95430000000000004,1.1101000000000001,0,0,1.0109999999999999,331,0.96389999999999998,0,0,622.5,"SUI00002195",7.2539999999999996,1508,12.6,23.9,11.9,0,60.2,2471]
["GER142024","E85118","E85 118","MAITRESSE","ESSE 850","PROTEUS YACHTS","FELCI",2004,"LSC","CORNELIUS WIEDEMANN","CLUB","S",280,"26/4/2016","12:47:28",8.5,7.976,2,2.2000000000000002,1236,118.6,0,609.4,0.99860000000000004,675.9,0.71399999999999997,54.2,964.7,781.4,710.6,672.9,635.20000000000005,604,551.9,924.2,760.7,692.2,653.20000000000005,621.20000000000005,598.79999999999995,567.70000000000005,820.6,671.5,593.29999999999995,547.4,516.9,494.3,460.5,891.1,720.9,629.79999999999995,576.20000000000005,541.70000000000005,517.5,483.5,1011.9,790.8,667.6,591,537.6,496.4,432.8,44.2,41.8,40.1,39.799999999999997,39.299999999999997,39.1,40.1,142.69999999999999,146.1,151.5,148.80000000000001,145.80000000000001,142.1,145.4,1013.1,838.6,792.7,772.7,754.7,747.2,752.7,652,562.79999999999995,545.20000000000005,536.70000000000005,528.20000000000005,522,519.20000000000005,607.29999999999995,541.20000000000005,525.5,516.4,507.7,497.6,491.4,577.5,519.4,494.4,480.6,471.6,461.2,445.7,579.29999999999995,520,473.4,449.8,436.7,429,409.7,575.1,513.29999999999995,480.3,453.3,422.6,389.5,374.6,590.79999999999995,513.6,468.5,439.5,410.3,383.9,348.6,665,546.9,490.7,434.9,384.5,356.8,313.3,793.4,627.20000000000005,543.29999999999995,496.4,446.6,399,304.10000000000002,916.2,724.2,628.6,573.20000000000005,515.70000000000005,460.7,351.2,0.99929999999999997,1.2294,1.3933,0.7732,0.98519999999999996,1.1396999999999999,612.70000000000005,0.97929999999999995,1.0980000000000001,369.9,1.0032000000000001,0.73699999999999999,80.7,598.1,"GER11001292",7.7229999999999999,1837,14.9,28.1,17.5,0,72.3,2477]
["knwnone","nedc7462","NED 7462","Flicka","Etap 21I","Etap Yachting","Mortain&Mavrikios",1998,9572033,"Sjaak van 't Hof","CLUB","R",350,"23/3/2016","13:38:26",6.2779999999999996,6.1189999999999998,0.69099999999999995,2.46,1370,95.9,0.37,843,0.71550000000000002,943.4,0.49,33.1,1390.9,1145.5,1006.1,916.1,857,830.1,824,1355.6,1116.8,986.9,909,863.3,840.3,837.3,1157.5,936.6,818.2,749.3,707.7,682.2,656.7,1202.8,967.2,839.8,765.5,720.7,693.5,666.2,1430.2,1108.4000000000001,924.7,810.2,734,679.8,603.6,48.5,47.7,48.2,48.2,47.4,47.3,49,146.30000000000001,146.9,146.6,174.9,176.9,178.5,178.5,1545.5,1297.4000000000001,1162.2,1073.0999999999999,1032.4000000000001,1020.9,1060,964.2,814.4,726.4,677.4,656,649.5,661.3,881.2,747.6,674.3,641.9,624.4,617,618.79999999999995,814.3,693.8,642.9,616.9,596.9,579.29999999999995,565,809.1,678,628.1,598.70000000000005,571.1,555.6,532.4,802.8,673.1,624.9,593.5,561.6,532,485.1,836.4,689.4,632.6,600.5,568.9,538.79999999999995,485.9,922.6,753.3,658.9,620.1,590.29999999999995,560.20000000000005,507.6,1070.5999999999999,860.5,736.2,667.6,631.9,606.9,556.70000000000005,1236.2,993.7,850.1,759.1,681.6,639.29999999999995,588,0.7006,0.90269999999999995,1.0086999999999999,0.5323,0.71020000000000005,0.80879999999999996,829.2,0.72360000000000002,0.65200000000000002,248,0.72660000000000002,0.501,45.5,825.8,"knw00004493",4.9960000000000004,1825,11.4,15,8.8000000000000007,0,29.4,2527]
["knw26703","NEDc8169","NED 8169","Pendragon","Excalibur 36ft","Souther Ocean Supp","van de Stadt",1968,8033606,"G.A.P. Kemmerling","CLUB","C",543,"23/3/2016","13:07:04",10.98,9.0500000000000007,1.792,3.03,7831,115.9,0.71,715.5,0.86750000000000005,778.1,0.53900000000000003,1.1000000000000001,1225.0999999999999,984.1,852.2,760.1,693.5,651.70000000000005,614.20000000000005,1182.2,955.1,828.8,747.4,692.5,658,620.70000000000005,1009.9,806,693.2,624.9,581.4,552.6,518.29999999999995,1079.5,855.6,730.2,653.4,603.70000000000005,570.5,530.6,1240.8,948.4,780.3,675.3,606.20000000000005,558.70000000000005,496.7,45.8,44.2,43.5,44.4,43.8,43,41.6,146.69999999999999,150.5,152.30000000000001,154.5,171.4,180,180,1328.9,1085.8,957.9,868.5,802.4,766.8,735.1,845.1,703.3,620.5,563.1,532,516.79999999999995,506.1,784.3,659.6,580.5,536.4,514.9,502.1,491,736.4,621.20000000000005,550.79999999999995,519.4,502.6,489.7,470.5,739.3,614.20000000000005,538.20000000000005,507,492,485.6,467.3,730.2,599.9,530.20000000000005,502.4,483.3,467.6,443.2,750.8,615.9,538.4,507,487.5,469.2,437.1,825.9,671.3,573.6,524,500.9,483.1,447.4,971.1,764.2,647.4,569.5,524.29999999999995,502.6,469.4,1121.3,882.3,746.5,651.6,584.70000000000005,536.5,493.4,0.79569999999999996,1.0743,1.2522,0.61109999999999998,0.85140000000000005,1.0415000000000001,693,0.86580000000000001,0.61699999999999999,107.4,0.86599999999999999,0.54300000000000004,4.7,692.8,"knw00004323",7.4809999999999999,8550,28.2,28.4,35.799999999999997,90,76.8,2553]
["knw4867","NED_5053","NED 5053","TENDERFOOT","F & F 65 STD","F&F Boats","Jac de Ridder",1992,152009,"J.,de Ridder","CLUB","S",275,"23/3/2016","14:17:10",6.5049999999999999,6.2089999999999996,1.238,2.5099999999999998,886,94.6,0.24,770.8,0.80769999999999997,835.7,0.503,1.3,1304.5,1049.4000000000001,903,802.3,745.5,721.2,688.6,1260.9000000000001,1018.7,884.1,799.1,747.3,720.7,682.6,1079.8,865.5,747.6,676.2,629.9,598.20000000000005,555.70000000000005,1153.7,918.7,788.8,710.4,660.2,626.5,583.6,1325.4,1016.1,838.9,727.8,653.1,598.79999999999995,519.20000000000005,44.6,43.3,42.5,41.2,39.799999999999997,39.5,40.9,148.19999999999999,152.19999999999999,153.5,171.7,180,180,180,1417.5,1159.5999999999999,1016.7,918.3,863.5,851.8,857.3,911.9,757.8,672.8,629.1,605,596.20000000000005,591.9,852.4,714.3,645.4,610.9,583.9,568.1,561.1,804.7,675.6,619.6,593.5,562.1,533,511.3,759.6,642.79999999999995,595.6,558.79999999999995,542.6,523.1,475.7,752.6,638.6,591.29999999999995,545.6,501.7,471.4,433.8,778.7,650.79999999999995,600.20000000000005,556.5,513.6,469.2,398.7,883.8,714.1,626.6,585.29999999999995,543.4,503,417.8,1031.9000000000001,814.3,687.8,620.6,582.5,544,469.2,1191.5,939.1,789.4,686.3,627.6,590.5,519.79999999999995,0.74770000000000003,0.99270000000000003,1.1565000000000001,0.57350000000000001,0.8014,0.94399999999999995,747.2,0.80300000000000005,0.626,156.69999999999999,0.80469999999999997,0.51800000000000002,16.3,745.6,"knw00004715",5.7489999999999997,1326,11.3,13.5,8.9,31.3,0,2603]
["TUR","TUR2502","TUR-2502","Nafiz II","Farr 25 OD","OD Yachting","Farr",2008,null,"Kerem Sivrioglu","CLUB","S",405,"4/4/2016","13:19:34",7.6189999999999998,7.3970000000000002,1.7929999999999999,2.5,930,120.9,0,620.1,0.98099999999999998,688,0.64300000000000002,11.4,1010.1,814.9,723.5,680.1,643.4,606.5,539.70000000000005,969.5,790.7,704.2,657.9,623.4,592.1,554.20000000000005,850.5,690.2,603.29999999999995,550,513.1,484.3,438.3,928.2,745.5,645.6,585.20000000000005,545.29999999999995,516.4,474.1,1046,810.7,677.1,592.1,531.70000000000005,484.2,409.7,44.1,42.7,39.9,38.5,38,37.700000000000003,38.299999999999997,143.30000000000001,147.30000000000001,151.4,148.19999999999999,145.19999999999999,142.9,142.80000000000001,1073.7,879.4,790.6,763.2,751.1,741.5,740,694.6,587.29999999999995,550.70000000000005,536.70000000000005,528.20000000000005,520.5,508.7,648.1,567.29999999999995,529.5,509,498.1,492.2,474.2,613.5,551.29999999999995,504.7,466.5,450.3,441,421.2,602,540.70000000000005,504,456.6,413.9,395,378.5,597.1,524.79999999999995,472.8,442.8,411.2,383.8,325,611.9,535.70000000000005,470.7,423,394.2,363.9,315,688.7,570.6,511.2,452.5,394,337.4,282.3,819.7,649.9,568,517,463.9,408.3,294,946.5,750.4,656.4,597,535.70000000000005,471.5,339.4,0.95569999999999999,1.2168000000000001,1.4268000000000001,0.73970000000000002,0.96899999999999997,1.1428,0,0,0.95399999999999996,283.7,0.99299999999999999,0,0,604.20000000000005,"TUR01005462",7.5270000000000001,1469,12.5,23,13.4,0,63,2646]
["SSF6277",6277,"SWE 6100","Happy Yachting","Farr 30","Carroll Marine","Farr",1996,null,"Happy Yachting / Martin Angsell","INTL","R",525,"5/7/2016","07:05:18",9.4179999999999993,8.8040000000000003,2.1070000000000002,3.04,2092,124.7,0,584.20000000000005,1.0558000000000001,639.29999999999995,0.73,42.5,932.6,758,669.7,625.20000000000005,595.20000000000005,570.70000000000005,518.70000000000005,892.9,731.4,653.9,611.6,581.5,556,522.70000000000005,793.6,646.9,568.4,521.5,489.9,466,428.7,861.6,694.5,603.9,549.6,514.20000000000005,488.8,453.1,971.8,756.8,635.9,560.6,508.8,469.1,407,42.6,41.7,38.5,36.9,35.9,35.200000000000003,35.5,143.4,146.1,153.9,162.6,180,180,143.1,973.4,801.5,725.7,695.4,679.6,666.7,661.6,636.29999999999995,542.1,513.20000000000005,500.6,492.5,485.7,473.5,596.6,525.1,497.6,481.2,470.7,464.1,448.2,566.9,512.29999999999995,479.2,451.3,435.8,426.4,413.2,568.20000000000005,512.1,479.4,444.2,413.6,393.6,376.8,566.20000000000005,500.4,463.4,439.7,416,393.2,341.6,582.5,509,462.5,424.6,401.2,380.2,335.5,651,537.29999999999995,492.5,448.1,403,357.6,307.2,772.3,618.70000000000005,535,492.6,452.5,411.4,325.5,891.7,714.4,613.6,555,510.8,474.7,375.8,1.0266999999999999,1.2887,1.4797,0.79859999999999998,1.0488,1.2111000000000001,0,0,1.069,315.60000000000002,1.054,0,0,569.29999999999995,"SSF00001621",9.0129999999999999,2823,17.3,36.1,20.399999999999999,87.2,85.2,2678]
["ESP466403","E4664","ESP-4664","PAIRO 8","FARR 39 ML","LINDSAY","B. FARR",1994,"M.R.C.Y.B.","JOSE LUIS FREIRE","INTL","R",829,"10/8/2016","10:18:54",12.04,11.209,2.7669999999999999,3.76,5768,127.8,0.02,572.9,1.0854999999999999,621.79999999999995,0.71499999999999997,27.3,951.5,768.4,660.5,600.9,565.5,541,510.1,902.6,730.6,637.29999999999995,587.5,558.1,536.4,504.3,793.4,639.1,555.9,506.7,475.4,453.7,424.2,840.1,672.5,581,526.4,491.5,467.5,434.6,976.8,751.6,624.20000000000005,545.9,494.4,457.8,406.6,43.1,41.9,40.6,38.4,37.4,36.5,35.700000000000003,141.5,147.6,149.80000000000001,155.6,169.8,180,180,958.4,789.4,692.4,649.70000000000005,628.6,615.9,602.20000000000005,625.20000000000005,521.9,476.9,460.6,452.6,447.7,441,587.6,497.8,464.1,447.6,438.4,432.1,425.5,556.5,481.7,453.5,432.9,415.2,404.7,394.6,559.5,482.9,454.3,432.8,410.2,390.2,366.7,596.5,492,452.9,423.9,402.4,387.2,361.8,615.9,503.8,459.6,431.2,400.7,373.6,345.7,686.5,552.29999999999995,483,451.9,425.4,397.1,339.6,818.1,647.29999999999995,544.4,483.4,453.7,429.1,377.2,944.7,747.4,628.6,552.20000000000005,502.5,466.2,418,1.0209999999999999,1.3308,1.5194000000000001,0.78490000000000004,1.0784,1.2604,562.20000000000005,1.0671999999999999,0.90400000000000003,194.7,1.0782,0.73199999999999998,43.1,556.5,"ESP00019006",10.887,6835,30.7,49.9,41.8,106.3,0,2693]
["ESP250691","E25069","ESP-25069","VAGALUME","FARR PLATU 25","BENETEAU","B. FARR",1995,"R.C.N.SANXENXO","LUIS VIDAL CAPELLIN","INTL","S",300,"11/5/2016","19:18:06",7.5119999999999996,7.03,1.5640000000000001,2.5499999999999998,1262,110.7,0.1,684.2,0.90469999999999995,746.1,0.64700000000000002,62.1,1089.8,888.3,778.3,723.3,692.3,670.6,635.1,1044.8,858.1,765.4,718,688.7,665.9,632.29999999999995,926.8,755.6,665.2,612.70000000000005,579.29999999999995,555.70000000000005,521.20000000000005,991.5,800.2,697.8,638.29999999999995,601.20000000000005,575.79999999999995,540.29999999999995,1134,883.8,744,658.5,601.4,559.4,495.8,42.7,41.7,40,38.700000000000003,38.4,38.200000000000003,39.1,145.6,149.6,155.5,173.9,180,180,180,1145.8,952.6,855.1,821.9,807.9,799.3,800.2,749.2,634.4,593.70000000000005,579.70000000000005,572.9,569.5,562.9,704.5,609.9,577.29999999999995,560.6,552.1,547.4,537.6,667.8,592.70000000000005,561.4,534.9,515.20000000000005,505.9,500.4,660.3,583.5,561,531.20000000000005,500.8,476.5,456.3,659.1,579.20000000000005,536.20000000000005,508.3,487.7,468.1,431.5,679,588,545.1,499.5,467.1,447,408,752.3,621.20000000000005,570.9,531.4,488.9,445.5,366.8,895.2,713.6,613,567.6,530.4,491.5,412.2,1033.7,824,701.4,624.70000000000005,576.70000000000005,541.79999999999995,470.1,0.87970000000000004,1.1025,1.2376,0.6825,0.90290000000000004,1.0185,679.3,0.88329999999999997,0.93100000000000005,330.2,0.89939999999999998,0.66200000000000003,82,667.1,"ESP00017904",6.8159999999999998,1772,12,21,11.1,43.7,0,2754]
["CLUPLAT25","I25285","ITA-25285","BREAK WIND","FARR PLATU 25","BENETEAU","FARR",1997,"DIPORTO VELICO VENEZIANO","ROSSETTI PAOLO","CLUB","S",390,"12/5/2016","20:13:44",7.5119999999999996,7.0640000000000001,1.571,2.5499999999999998,1310,114.2,0.03,677.1,0.91810000000000003,735.2,0.64600000000000002,54.7,1078.3,877.3,768.2,712.4,680.7,659.8,621.5,1036.7,849.3,755.9,706.8,676.5,653.9,611.1,920.1,749.1,658.3,605.1,570.70000000000005,545.79999999999995,508.1,986.4,795.8,693.5,633.5,595.5,569.1,531.9,1121.4000000000001,873.5,734.7,649.1,591.6,548.6,483.1,42.7,41.7,39.6,38,37.4,37.299999999999997,37.5,146,149.6,155.69999999999999,174.7,180,180,180,1137.5,941,841.4,802.3,785.6,778.3,772.7,744.8,629.29999999999995,588.9,572,564,559.9,551.20000000000005,700.7,606.5,573.79999999999995,554,542.9,536.6,526.6,664.7,591.4,559.6,531.1,508.1,495.7,486.9,664.5,583.20000000000005,554.4,528.20000000000005,498.6,471.2,443.8,661.2,579.9,536.6,497.8,477,456.2,420.3,680.2,588.29999999999995,545.9,500.6,457.1,433,392.2,751.2,619.29999999999995,570.6,531.4,489.2,446.1,351,882.6,704.6,608.79999999999995,566.6,529.79999999999995,491.2,407.2,1019.1,813.7,695,622.4,575.9,541.4,470.3,0.88570000000000004,1.1148,1.2615000000000001,0.69030000000000002,0.91610000000000003,1.0374000000000001,675,0.88890000000000002,0.93100000000000005,320.10000000000002,0.91110000000000002,0.67200000000000004,85.4,658.6,"CLU00019865",6.9969999999999999,1830,12.2,20.7,12.9,42.5,0,2769]
["knw26673","nedc8189","NED 8189","Nosy Roa","Feeling 32DI","Alliaura Marine","M Joubert",2000,4088121,"P.A. Hessels","CLUB","C",400,"23/3/2016","13:05:00",9.68,9.2859999999999996,2.0179999999999998,3.42,5956,104.3,0.49,740.7,0.83609999999999995,807.3,0.50700000000000001,-10.199999999999999,1291.5,1030.5999999999999,887.9,788.3,712.7,669.6,632.79999999999995,1260.7,1011.6,872.1,780.3,716.8,678.9,640.1,1051.5,837.1,717.5,644.4,597.6,566.79999999999995,530.4,1107.3,876.5,746.9,667.3,615.79999999999995,581.70000000000005,541.5,1294.5,986.3,808.4,696.7,622.79999999999995,571.9,505,49.2,47.5,46.2,45.7,45.1,43.8,42.5,147.30000000000001,151.6,154.80000000000001,157,180,180,180,1486,1193.0999999999999,1035.9000000000001,926.2,841.7,799.9,768.9,922.2,750.3,658.9,590.29999999999995,548.79999999999995,531.9,521.1,834.5,693.3,610.79999999999995,554.79999999999995,527.5,513.9,503.5,766.5,646,570.4,532.1,512.20000000000005,498.5,479.8,761.1,639.9,557.70000000000005,520.29999999999995,506.6,497.9,474.1,724.8,603.1,537.29999999999995,509.2,489.4,470.7,450.5,742.2,616.9,544.4,513.29999999999995,493.5,474.7,437.3,809.2,667.9,577,530.4,506.7,488,450.2,950.1,752.4,643.79999999999995,568.79999999999995,529.20000000000005,507.3,472.3,1097,868.1,740,650.4,583.6,539.20000000000005,496.6,0.76300000000000001,1.0395000000000001,1.2231000000000001,0.58140000000000003,0.82040000000000002,1.0126999999999999,716.3,0.8377,0.56899999999999995,86.4,0.83679999999999999,0.51500000000000001,-3.8,717,"knw00004317",7.242,6802,25.1,24,31.9,71,0,2805]
["GER142147","FII99","FII   99","ONE GROUP","FIGARO 2","BENETEAU","LOMBART",2003,null,"STEFAN HEIDENREICH","INTL","R",500,"8/9/2016","09:37:48",10.057,9.8930000000000007,2.077,3.45,3105,109.5,0.05,596.5,1.0325,653.79999999999995,0.67800000000000005,21.6,994,801.4,688.1,631.29999999999995,597.1,574,539.79999999999995,945.8,763.6,668.2,619.4,589.5,566.6,531,826.4,665.6,578.79999999999995,527.4,494.3,471.1,437.8,879.7,703.3,607.20000000000005,550.1,513.6,488.3,453.3,1018.1,783.5,650.6,568.5,513.70000000000005,474,416.1,43.8,42.8,41.1,39.200000000000003,38.299999999999997,37.799999999999997,38,140.30000000000001,147.4,149.6,157.19999999999999,180,180,180,1023.4,836.5,734.4,697.3,679.3,667.5,658.9,662.6,547.5,502.6,488.7,481.3,476.7,466.9,619.6,521.5,487.6,472,463.1,457.2,444.2,583.6,504.8,473.6,447.4,430.3,420.9,412,585.9,506,474.5,444.6,415.1,392.8,374.7,605.9,505.6,465.8,429.3,409.2,388.5,356.4,626,515.70000000000005,474.1,435.4,396.3,372.8,341.3,698.3,559.9,498.3,464.7,428.6,392,319.60000000000002,835.4,663.6,555.70000000000005,498.3,466.8,433.9,366.4,964.7,766.2,641.70000000000005,565.29999999999995,514.9,480.6,420.6,0.98070000000000002,1.2781,1.4641999999999999,0.75190000000000001,1.0291999999999999,1.1906000000000001,588.4,1.0198,0.90400000000000003,224.2,1.0338000000000001,0.69399999999999995,38.4,580.4,"GER20015170",9.5329999999999995,4011,23.3,39.200000000000003,27.7,80,0,2844]
["nor5791",5791,"NOR 8516","Motvind","FIRST 24","BENETEAU","Groupe Finot",1982,null,"Havard Eriksen","CLUB","C",366,"19/4/2016","17:03:10",7.3,6.5330000000000004,1.2210000000000001,2.5099999999999998,1868,100.6,0.34,776.1,0.79900000000000004,844.8,0.54,38.1,1279.2,1044.3,905.1,812.3,762.6,739.5,719.2,1239.5,1013.4,887.3,812.4,770.2,747.7,729.2,1071.9000000000001,864.7,752.9,687.5,647.5,622.1,593,1124.9000000000001,903.1,782.5,711.7,668.3,640.79999999999995,609.1,1313.1,1014.8,845.6,741.4,673.4,626,560.20000000000005,45.4,44.1,44.3,43.4,42.2,42.6,43.5,148.9,153.1,152.6,170.5,180,180,180,1379,1151.8,1021.6,939.2,900.2,886.3,897.2,882.1,744,663.9,626.20000000000005,608.29999999999995,602.5,602.5,822.2,695.8,633.5,605.79999999999995,588.79999999999995,581.29999999999995,579.29999999999995,772.3,659,612.6,588.4,569.20000000000005,552.29999999999995,538.70000000000005,773,653.70000000000005,602,575.4,554.4,540.9,514.6,767.6,642,595.79999999999995,565.4,535,511.3,479.7,790.3,653.79999999999995,601.5,570.9,540.79999999999995,512.1,469.5,885.9,716.7,623.29999999999995,588.4,559.79999999999995,531,480.3,1021.4,813.2,685.8,616.79999999999995,586.1,559.5,508,1179.4000000000001,936.8,788.5,685.3,625.1,592.70000000000005,541.29999999999995,0.75480000000000003,0.98329999999999995,1.1069,0.58099999999999996,0.79400000000000004,0.91500000000000004,759.3,0.79020000000000001,0.67500000000000004,205.4,0.79500000000000004,0.55300000000000005,52.5,754.7,"nor00000486",5.7939999999999996,2345,13.5,14.8,16.899999999999999,41.2,29.5,2894]
["JPN160260","JC160260","JPN 5390","TOMBOY-1","FIRST 27.7","BENETEAU","GROUP FINOT",2002,"SHONAN","FUYUKI MIZUHO","CLUB","C",571,"31/3/2016","03:04:50",8.3000000000000007,8.4030000000000005,1.837,3.01,2917,104.2,0.19,675.8,0.91510000000000002,737.6,0.626,41.5,1112.2,899.6,778.3,714,676.4,648.9,618.5,1070,867.3,758.6,698.8,664.6,641.20000000000005,608.20000000000005,932.3,751.9,655.5,599.6,565,541.79999999999995,510.5,1007.5,803.7,692.5,626.9,586.20000000000005,559.4,525.4,1141.0999999999999,881.5,735.3,645.9,587.29999999999995,545.79999999999995,487,43.6,42,41.7,40.1,38.700000000000003,38.1,37.9,145.9,147.69999999999999,147.9,150.19999999999999,174.9,177.4,177.6,1185.2,971.9,852.9,785.1,758.9,746.8,734.6,769.7,640.9,573.4,545.70000000000005,536.1,531.29999999999995,525.29999999999995,722.3,605.70000000000005,554.29999999999995,531.1,520.20000000000005,514.70000000000005,510.9,684.1,580.79999999999995,540.5,517.5,498.3,485.9,477.5,673.9,565.6,527.29999999999995,513.29999999999995,495.7,475.1,446.4,666.8,560.20000000000005,521.70000000000005,489.2,465.5,451,425.8,689.7,571.6,528.5,496.9,463.4,433.1,401.2,766.1,620.5,550.1,518,487.3,456.2,392.2,899.9,716.5,609.5,557,530.6,509.1,453,1039.0999999999999,827.4,703.8,642.9,593.9,551,502.5,0.87009999999999998,1.1284000000000001,1.27,0.67100000000000004,0.9103,1.0475000000000001,668.6,0.89739999999999998,0.81699999999999995,235.8,0.91379999999999995,0.64400000000000002,63.3,656.6,"JPN00016028",7.819,3677,20.3,28.4,22.1,0,75.8,2920]
["SUISUI228","SUI228","SUI 228","BELUGA","First 28","BENETEAU","J. Finot",1980,"SCOZ","Frank Rudolf","CLUB","C",320,"25/4/2016","15:38:22",8.4779999999999998,7.1529999999999996,1.6759999999999999,2.99,3020,109.6,0.3,708.3,0.88039999999999996,766.7,0.64400000000000002,77.400000000000006,1121.0999999999999,928.4,811.3,739.9,701.9,681.9,659.2,1085.7,899.2,797.9,738.9,705.9,686.8,668.6,961.2,782.5,688.1,634,601.4,580.6,556,1036.8,835.7,727.2,663.8,624.9,600.20000000000005,572.29999999999995,1167.5999999999999,912.4,769.1,681.8,625.29999999999995,586.20000000000005,532.29999999999995,42.8,41.7,42.4,40.799999999999997,40.1,39.9,40.5,148,150.9,153.6,170.7,180,180,180,1206.0999999999999,1019.1,909.5,846.3,820.9,810,814.9,791.6,672.1,610.70000000000005,584.79999999999995,573.4,568.29999999999995,566.29999999999995,747.8,637.1,591.1,569.4,556.29999999999995,549.79999999999995,546.20000000000005,711.6,613.1,576.70000000000005,555.29999999999995,537.70000000000005,523.79999999999995,512,703.9,598.4,569.9,556.29999999999995,538.1,519.9,493.4,687.6,589.70000000000005,552.9,528.20000000000005,514.20000000000005,502.7,485.5,705.9,597.6,558.29999999999995,527.6,500.9,486.8,468.7,770.6,635.20000000000005,576.79999999999995,546.1,517.29999999999995,491.2,450,897.3,725.3,622.29999999999995,573.4,545.4,518.70000000000005,472.7,1036.0999999999999,837.7,713.1,633.4,582.9,553.79999999999995,503.5,0.84630000000000005,1.0688,1.1829000000000001,0.65869999999999995,0.87680000000000002,0.995,0,0,0.83499999999999996,275.60000000000002,0.86919999999999997,0,0,690.3,"SUI00002163",6.69,3577,17.3,21.2,23.8,76.599999999999994,0,2935]
["nor4842",4842,"NOR 5848","Alfred","FIRST 30E MH","BENETEAU","BERRET JEAN",1980,null,"Stein Strome","CLUB","C",457,"25/8/2016","16:25:10",9.3000000000000007,7.633,1.708,3.24,3399,107.8,0.28999999999999998,709.7,0.87649999999999995,770.1,0.58899999999999997,37.4,1170.9000000000001,951.4,825.5,744.4,696.1,669.9,645.5,1124.0999999999999,917.1,802.7,735.7,697.6,675.2,652.70000000000005,982.3,791.3,688.3,628.1,591.1,567.4,539.4,1029.3,824.5,713.1,647.5,606.9,580.70000000000005,549.4,1203.7,928.7,773.1,677.6,615.6,572.4,513,44.1,42.9,43.3,42.3,41.1,40.9,40.9,147.80000000000001,151.4,152.6,159.30000000000001,180,180,180,1220.4000000000001,1015.2,901.2,832.9,801.5,786.9,784.2,789.8,662.7,594.29999999999995,564.29999999999995,551.4,545.29999999999995,542,740.9,623.29999999999995,571.20000000000005,547.6,533.79999999999995,526.6,521.6,700.1,594.70000000000005,554.20000000000005,532.6,515.70000000000005,502,488.7,702.9,596.79999999999995,555.29999999999995,530.29999999999995,515.20000000000005,498.2,471.7,736,605,551.9,523.5,498.2,478,459.4,758.4,620.29999999999995,558.6,529,503.7,479.6,443.1,832.1,677,585.29999999999995,546.20000000000005,520.5,496.6,453.2,971.2,769.2,651.20000000000005,578.6,544.79999999999995,521,477.3,1121.5,887.6,749.8,656,590.6,552.9,506.8,0.82399999999999995,1.0762,1.2139,0.6361,0.86919999999999997,1.0116000000000001,695.8,0.86229999999999996,0.72899999999999998,194.4,0.87029999999999996,0.59899999999999998,48.9,689.4,"nor00001914",7.0309999999999997,4001,19.100000000000001,20.9,29.2,58.6,0,2998]
["ESP521902","E5219","ESP-5219","TREBOLISIMO DOS","FIRST 31.7","BENETEAU","FINOT",1998,"R.C.M.T.P.UMBRIA","FRANCISCO AZCARATE CABALLERO-INFANTE","INTL","C",450,"8/4/2016","17:26:16",9.49,9.0340000000000007,1.974,3.22,4340,100.1,0.37,685.8,0.91279999999999994,739.5,0.59399999999999997,25.7,1151,925.4,799.2,714.7,664.5,634.9,609.20000000000005,1098.5999999999999,889.2,772,701.5,661.7,638.4,614,957.6,767.9,664.6,603.79999999999995,566.29999999999995,542.4,514.1,1004,800.5,688.8,622.5,581.4,554.9,523.29999999999995,1175.7,901.8,746.6,651.6,590.29999999999995,548.29999999999995,491.6,43.5,41.7,41.5,40.6,39.200000000000003,38.299999999999997,38.1,147.1,151.1,153.80000000000001,157,180,180,180,1181.2,971.8,856.2,781,748.6,733,726.2,768,643.20000000000005,570.70000000000005,537.70000000000005,525.20000000000005,519.70000000000005,515.9,721.9,607.79999999999995,548.4,523,510.6,505.1,500.9,685.4,579.70000000000005,533,510.9,495.5,484.1,474.9,690.9,584.5,533.70000000000005,508.9,496.2,480.5,454.8,717.8,589.9,531.1,504,481.1,461.7,442.9,741.9,608.29999999999995,539.4,510.1,488.2,465.3,426,824.7,669.2,574.70000000000005,529,504.4,482.8,438.4,970.7,761.7,644.70000000000005,567.5,528,505.1,463.7,1120.8,879.1,742.1,648.4,580.5,536.9,492.2,0.84250000000000003,1.1183000000000001,1.2714000000000001,0.65010000000000001,0.90259999999999996,1.0669,669.5,0.8962,0.70599999999999996,153.80000000000001,0.90369999999999995,0.60299999999999998,36.1,663.9,"ESP00017517",8.173,5131,23,25.3,28.6,58.5,0,3010]
["knw27009","nedc8163","NED 8163","Secondo","First 31.7","BENETEAU","Finot",1998,4053651,"H. Witvoet","CLUB","C",400,"23/3/2016","13:07:12",9.49,8.9329999999999998,1.94,3.22,3867,108.2,0.34,686.8,0.91269999999999996,739.6,0.58199999999999996,16.100000000000001,1163.7,933.4,803.3,714,659.1,630.4,603.79999999999995,1116.0999999999999,900,778.8,703.3,658.2,633.20000000000005,605.20000000000005,964.4,771.1,665.4,602.6,563.4,538,507.2,1036,821.3,702.2,630.5,585.70000000000005,556.79999999999995,523.29999999999995,1181.8,904.7,747,649.79999999999995,586.9,543.6,485.4,43.6,41.9,41.3,40.700000000000003,39.200000000000003,38.4,38.1,146.5,150.5,151.69999999999999,157.19999999999999,180,180,180,1235.2,1006.8,882.1,795.1,748.1,730.8,723.5,801,665.3,586.29999999999995,544.29999999999995,525.20000000000005,517.6,513.29999999999995,752.3,629.29999999999995,560.9,528.79999999999995,511.9,502.3,496.8,714,599.9,542.79999999999995,517,499.5,484.5,467.1,706.4,581.6,526.79999999999995,506.6,497.7,483.7,452.2,698.5,574.79999999999995,523.5,496.5,471.5,455.6,435.8,720.8,590.70000000000005,530.70000000000005,502.5,477.6,451.5,416.5,797.9,649,559.6,520.29999999999995,495.7,471.2,422.6,946,744.7,628.20000000000005,555,520.20000000000005,497.1,451.4,1092.3,860,724.5,632.9,570.20000000000005,529.9,484,0.83560000000000001,1.1188,1.2834000000000001,0.64370000000000005,0.90200000000000002,1.0755999999999999,666.4,0.90029999999999999,0.67800000000000005,133,0.90390000000000004,0.59099999999999997,24.9,663.8,"knw00004324",7.9930000000000003,4642,22.1,24.6,19.8,63.9,0,3060]
["knw165118","GER7227","GER 7227","LOORA","FIRST 31.7","BENETEAU","FINOT",1998,null,"JAN PIETER LOOCK","CLUB","C",550,"11/5/2016","15:06:30",9.49,8.9710000000000001,1.9239999999999999,3.22,3723,108.4,0.31,681.4,0.91990000000000005,733.8,0.58399999999999996,14,1154.2,925.1,795.4,708.3,654.4,626.1,598.6,1105,890.7,770.9,697.3,653.1,628.1,598.79999999999995,956.7,765,660.2,597.9,558.70000000000005,532.9,501,1024.4000000000001,813,695.9,625.5,581,551.9,517.70000000000005,1172.5,897.4,740.9,644.29999999999995,581.5,537.79999999999995,477.7,43.6,42,41.3,40.700000000000003,39,38.200000000000003,37.799999999999997,146.5,150.5,151.69999999999999,157.30000000000001,175.7,180,180,1216.3,992,868.8,786.5,741,724.1,716.1,788.6,655,578.6,540,521.70000000000005,514.1,509.7,740.5,619.6,554.4,525,508.2,498.3,492.5,702.6,590.9,537.70000000000005,513.1,495.1,478.7,460.5,704.5,579.70000000000005,525.5,501.2,491.1,476.6,444.1,696.8,573.1,522.29999999999995,494.6,467.1,446.2,424.5,719.3,589,529.5,500.8,474.3,446.9,403.8,796.7,647,557.6,518.79999999999995,493.4,467.5,416.6,945.8,743.3,626.1,552.9,518.5,494.8,446.8,1092.0999999999999,858.3,722.1,630.1,567.9,528.20000000000005,481.1,0.8427,1.1269,1.2958000000000001,0.6492,0.90980000000000005,1.0835999999999999,663,0.90500000000000003,0.68799999999999994,135.80000000000001,0.91120000000000001,0.59799999999999998,27.8,658.5,"knw00005223",8.09,4502,22.1,25.6,21.1,64.599999999999994,0,3075]
["pol15","VATAHA","POL 13347","VATAHA","FIRST 32","BENETEAU","BERRET JEAN",1981,"81-603 GDYNIA POLAND","PAWEL WILKOWSKI","CLUB","C",300,"26/8/2016","12:43:38",9.7850000000000001,8.5719999999999992,1.8620000000000001,3.32,5192,105.6,0.51,722.9,0.8528,791.5,0.57299999999999995,33.299999999999997,1193.4000000000001,973.1,851.5,771.6,722.5,684.7,652.4,1149.3,939.3,823.4,751.9,708.5,681.1,655,1001,806.4,701.2,639.4,601.1,576.5,547.6,1063,848.7,730.7,660.1,615.9,587.5,555.1,1227.5999999999999,948.1,789.2,690.8,626.4,581.70000000000005,521.6,44.2,42.2,42.2,42.2,41.2,40.299999999999997,39.9,146,147.1,146.1,147.19999999999999,174.7,176.4,178.5,1264.7,1047.9000000000001,932.1,849.9,804.4,784.1,773.8,817.3,691.1,612.70000000000005,570.1,550.1,542,537.20000000000005,766.8,650.6,583,550.6,534.5,525.6,520,726.7,617,561.5,536.20000000000005,520.5,508.3,493.4,730.5,610.20000000000005,550.29999999999995,528.20000000000005,520.29999999999995,507.2,481.7,727,604,547.9,522,501.2,484.5,467.9,752.9,622.4,556.4,527.5,506.4,485.1,451.3,831.2,680.8,588.9,544.9,521.4,501.6,462.6,971.8,777.9,667.6,600.4,561.9,538.1,505.7,1122.0999999999999,898.3,770.9,693.3,640.5,585.20000000000005,530.9,0.80759999999999998,1.0564,1.1950000000000001,0.62309999999999999,0.84089999999999998,0.98970000000000002,707.1,0.84860000000000002,0.70899999999999996,190.7,0.85319999999999996,0.57599999999999996,37.700000000000003,703.2,"pol00000124",7.3730000000000002,5913,23.3,23.5,28.9,0,68.099999999999994,3136]
["ESP484001","E4840","ESP-4840","GOLAFRE II","FIRST 33.7","BENETEAU","BERRET JEAN",1997,"M. REDES","BENITO JOSE CALVO CASTRO","INTL","C",500,"14/3/2016","22:17:06",9.798,9.2509999999999994,2.0979999999999999,3.33,4701,109.6,0.3,667.9,0.93720000000000003,720.2,0.61699999999999999,30.6,1113.2,899.3,777.2,695,648,621,595.9,1065.0999999999999,864.7,752.2,684.4,646.4,623.9,599.6,929.2,746.6,647.5,589.29999999999995,553.29999999999995,530.1,502.1,981.7,783.6,675,610.5,570.4,544.5,513.1,1139.4000000000001,876.2,727,635.6,576.5,535.79999999999995,480.8,43.6,41.8,41.8,40.6,39.1,38.299999999999997,38.1,146.30000000000001,150.69999999999999,152.4,157.30000000000001,180,180,180,1157,954.4,840.3,765.1,733.1,718.1,711.6,751.6,630.29999999999995,560,528.9,516.20000000000005,510.7,506.8,706,594.70000000000005,539,515,502.2,496.1,491.5,669.4,567.29999999999995,524.5,503.3,487.4,474.8,463.4,673.3,570.5,520.6,500.8,487.7,471.3,443.7,687.9,567.29999999999995,518.1,492.6,469.1,453,433.8,710.2,583.70000000000005,525.29999999999995,498.3,474.9,450.4,416.7,785.1,639.20000000000005,553.1,515.20000000000005,491.9,469,423.6,926.1,731.2,619.6,548.6,514.9,493,449.9,1069.4000000000001,844.3,714.1,625,562.79999999999995,523.9,480.2,0.86929999999999996,1.1462000000000001,1.3003,0.67079999999999995,0.92759999999999998,1.0916999999999999,653.20000000000005,0.91859999999999997,0.73799999999999999,163.6,0.92710000000000004,0.626,41.2,647.20000000000005,"ESP00017127",8.4350000000000005,5528,24.2,30.9,28.8,70.900000000000006,0,3157]
["nor9437",9437,"NOR 12144","FS 2","First 34.7","BENETEAU","B. FARR",2005,null,"Jan Vidar Nordstrand","CLUB","R",584,"13/4/2016","20:58:56",9.99,9.0730000000000004,1.9910000000000001,3.37,4476,126.5,0,626.5,0.98340000000000005,686.4,0.70199999999999996,61.3,1010.9,827.1,718,666.7,635.5,608.5,582.5,968.3,792.7,699.2,651.29999999999995,623,601.5,576.29999999999995,853.9,693.3,608.29999999999995,559.70000000000005,530,510.4,485.1,909.1,731.8,636,579.9,545.1,522.29999999999995,493.9,1047.5,813.8,682.8,603.1,551.20000000000005,514.70000000000005,464,43.5,42.6,41.7,40,39,38.200000000000003,38.200000000000003,145,148,148.4,150.5,174.6,177.2,177.8,1048.5,875.4,773.9,729.4,707.7,695.2,688.3,683,575.1,526,509.1,501.6,497.6,493.8,641.70000000000005,547.6,511.2,494.9,487.3,482.8,479,606.5,529.1,499.8,480.2,465.4,457.3,450.3,608.29999999999995,530,497.6,480.3,460.8,443.2,424.6,623.70000000000005,526.1,490.7,463.1,445.5,433,412.2,642.9,536.20000000000005,497.3,469.3,440.8,417.4,392.6,716,581.20000000000005,517.79999999999995,488.5,462,435.5,383.8,843,674.6,573.4,523.6,499.2,480.1,435.7,973.4,778.9,662.1,603.9,563.4,521.70000000000005,476.7,0.95169999999999999,1.2107000000000001,1.3459000000000001,0.73450000000000004,0.97919999999999996,1.1148,617.70000000000005,0.97140000000000004,0.94,277.89999999999998,0.98080000000000001,0.71699999999999997,76.2,611.79999999999995,"nor00000439",8.7270000000000003,5254,23.3,36,37.200000000000003,0,99.5,3176]
["FRA16197a","F13508","FRA-13508","ELISA","FIRST 345 SK Sdt","BENETEAU","BERRET JEAN",1984,"35136  -  St JACQUES DE LA LANDE","GERAUD Herve","CLUB","C",583,"12/5/2016","18:09:10",10.55,8.8160000000000007,1.526,3.5,5802,118.3,0.48,713.6,0.86919999999999997,776.6,0.54600000000000004,4.8,1215.4000000000001,979,847.3,757.4,692.2,653.79999999999995,624.4,1176.3,951.8,826.8,747.5,693.8,660.9,632,1004.8,802.8,691.4,624.4,581.9,554,521.70000000000005,1078.2,855.1,730.5,654.4,605.5,573.29999999999995,535.4,1232.0999999999999,943.5,777.8,674.2,606,558.6,495.6,45.9,44.3,43.8,44.8,43.7,42.9,42.7,147.1,151,152.6,155.6,173.5,180,180,1331.2,1090.0999999999999,959.8,873.1,808,774.5,759.4,846.2,704,619.9,565.70000000000005,537.20000000000005,522.70000000000005,514,785.4,659.2,579.70000000000005,539.70000000000005,519,506.4,494.4,737.5,620.6,551.79999999999995,521.79999999999995,504.6,490.9,469,739.7,607.70000000000005,537,508.3,495.7,488.5,464.4,721.4,591.4,529.4,502,480.4,460.4,440.5,741.5,607.4,536.4,506.4,484.7,463.8,427.6,813.2,661.8,567.20000000000005,523.20000000000005,499.3,478.8,439.9,952.2,751.8,637.5,560.70000000000005,522.70000000000005,500.4,462.3,1099.5,867.8,734.7,641.70000000000005,576.5,533.20000000000005,489.3,0.80059999999999998,1.0764,1.2483,0.61519999999999997,0.85489999999999999,1.0347,0,0,0.63200000000000001,119,0.86799999999999999,0,0,691.3,"FRA00004316",7.3330000000000002,6578,25.4,25.4,27.7,78.099999999999994,0,3226]
["nor20945",20945,"NOR 13920","Smil","First 35 09-","BENETEAU","Farr",2009,null,"Ragnar Wisloff","CLUB","C",645,"20/5/2016","10:37:48",10.66,9.7210000000000001,2.2029999999999998,3.64,5697,112.7,0.2,624.29999999999995,0.99160000000000004,680.7,0.68600000000000005,49.1,1025.8,834.9,720.9,655.9,620,598.9,569.70000000000005,986.1,803.6,704.1,649.5,619.6,600.6,570.70000000000005,858.9,693.7,605.6,554.79999999999995,523.79999999999995,503.6,477,929.6,743.6,642.29999999999995,582.79999999999995,546.1,522.4,492.8,1053.5,814.7,680.3,598.4,545.5,508.7,457.4,43.9,42.5,42.4,41,40.1,40.299999999999997,40.299999999999997,145.1,149.19999999999999,150.30000000000001,157.80000000000001,180,180,180,1093.4000000000001,906.2,797.3,742,720,710.4,696.9,707.4,593.20000000000005,530,505.3,497.1,493.1,487,662.5,558.4,509.7,489.7,481.8,477.9,473.1,625.5,532.5,495.7,476.1,462.2,454.3,448.6,617.5,518,491.9,476.3,459.4,443,422.7,612.4,513.5,478.1,457.9,445.2,434,415,630.6,524.6,484.5,457.9,433.3,418.9,398.1,700.3,568.29999999999995,503.9,474.9,450.1,424.7,376.3,829.7,661.3,558.4,502.7,475.9,452.8,407,958.1,763.6,644.6,569.9,519.9,487.4,442.4,0.94410000000000005,1.2213000000000001,1.3654999999999999,0.72560000000000002,0.98750000000000004,1.1378999999999999,615.6,0.97470000000000001,0.872,227.5,0.98680000000000001,0.70299999999999996,65.900000000000006,608,"nor00001204",8.9109999999999996,6561,27.8,41,32,116.2,113.4,3276]
["knw18185","NED_7097","NED 7097","AQUA VITESSE Ricoh","First 36.7","BENETEAU","B. FARR",2001,233582,"R.,Rot","CLUB","C",650,"23/3/2016","13:46:38",10.64,9.6120000000000001,2.2309999999999999,3.46,5755,120,0.28999999999999998,644,0.97319999999999995,693.6,0.63100000000000001,24.3,1076.9000000000001,870.8,751.6,669.9,621.9,594,568.20000000000005,1028,835.3,725.5,657.4,618.4,595.70000000000005,571,897.5,720.7,624.4,567.29999999999995,531.5,508.1,479.8,946.4,755.2,650,587,547.5,521.70000000000005,490.3,1102,846.5,701.1,611.79999999999995,553.79999999999995,513.70000000000005,459.1,43.4,41.8,41.7,40,38.799999999999997,37.9,37.799999999999997,146.1,150.6,152.9,156.80000000000001,175,180,180,1108.0999999999999,916.3,805.3,728.7,694.2,678.6,670.3,721,604.6,538.29999999999995,507,492.8,487,482.7,678,571.20000000000005,519,494.6,480.5,473.1,467.7,643.1,546.20000000000005,505.5,484.7,468.1,454.2,440.7,647.20000000000005,549.29999999999995,501.9,478.3,468.6,452.8,424.5,667,549.4,500.5,475.4,452.3,431.2,412,689.3,566,508.2,481.4,459.8,437.5,397.3,765.4,624.1,539.9,500.3,477.2,455.8,413.3,905.7,714.8,605.70000000000005,535.4,500.1,478.3,437.7,1045.8,825.4,697.9,611.1,549.6,509.4,466.1,0.89939999999999998,1.1884999999999999,1.3574999999999999,0.69310000000000005,0.9617,1.1415,625.79999999999995,0.95879999999999999,0.74299999999999999,146.80000000000001,0.96199999999999997,0.64500000000000002,35.4,623.70000000000005,"knw00004542",9.0050000000000008,6624,26.8,36.299999999999997,32.799999999999997,75.8,0,3302]
["ESP8463R1","E8463_R","ESP-8463_R","LUNA VI","FIRST 36.7","BENETEAU","B. FARR",2001,"R.C.N.ALGECIRA","ANTONIO INFANTE MORENO","INTL","C",170,"7/6/2016","19:15:14",10.64,9.6159999999999997,2.2320000000000002,3.46,5763,118.8,0.21,636.4,0.97809999999999997,690.1,0.67100000000000004,47.3,1048,850.8,733.9,666.4,626.5,602.4,572.5,1002,815.4,712.5,656.4,625.1,604.9,575,878,708.2,617.20000000000005,564.70000000000005,532.70000000000005,512,485.4,935.7,748.8,647.20000000000005,587.6,550.79999999999995,527,497.2,1076.5,831.1,693,609,555,518,467.6,43.2,41.7,41.4,40,38.9,38.299999999999997,38.6,145.19999999999999,150,151,157.5,180,180,180,1091.7,902.4,792,739.1,716,703.9,687.1,711.6,595.70000000000005,533.1,510.2,501.9,497.6,490,669.4,563.4,514.70000000000005,495.6,487.8,483.6,477.6,634.9,540.5,502.2,482.9,470,462.5,456.5,638.70000000000005,536.20000000000005,501.2,484.1,467.9,452.9,433.6,641.29999999999995,533.1,492.3,469.6,457.3,446.9,429.3,661.4,546.79999999999995,498.8,473.5,450.6,433,413.7,731.5,597.79999999999995,523.4,490.6,467.8,445.1,401.6,869.7,692.1,585.70000000000005,521.79999999999995,491.4,469.8,427.7,1004.2,799.2,675.7,593.79999999999995,537,500.9,457.9,0.92230000000000001,1.1997,1.3434999999999999,0.71099999999999997,0.97219999999999995,1.1302000000000001,619,0.96940000000000004,0.82899999999999996,204.7,0.96940000000000004,0.67100000000000004,47.3,619,"ESP00018304",8.8889999999999993,6632,26.8,39.799999999999997,30.4,91.7,0,3316]
["ITA144121","I14412","ITA-14412","BETTA SPLENDENS","FIRST 36.7","BENETEAU","FARR",2001,"VELADOC R.T.","SCHIAVI IDA c/o VELADOC RACING TEAM","INTL","C",560,"9/3/2016","09:32:34",10.64,9.5449999999999999,2.218,3.46,5498,112.4,0.14000000000000001,636.79999999999995,0.97660000000000002,691.2,0.66,40.1,1052.5,855.1,737.4,667.1,626.29999999999995,601.70000000000005,576.79999999999995,1005.5,819.4,714.8,656.2,624.1,604.1,580.6,880.1,709.5,617.6,564,531.29999999999995,510.3,484.8,927,742.6,642.20000000000005,583.1,546.6,523,493.9,1081.0999999999999,833.7,694,608.6,553.5,515.5,463.8,43.6,42.3,42.1,40.6,39.700000000000003,39.200000000000003,39.299999999999997,145.69999999999999,150.30000000000001,152.19999999999999,157.30000000000001,180,180,180,1084.4000000000001,901.8,791.1,733.8,710.8,699.4,693.4,704.7,592.4,530,505.6,497.5,493.5,490.4,661.8,559.5,512,491.9,483.4,479.1,476,626.29999999999995,535.9,499.7,479.7,465,456.3,449.9,628.70000000000005,537.4,498,480.9,463.5,446.9,425.9,654.29999999999995,540.6,495.6,470.4,448.1,435.9,417.4,675.4,555.4,502.6,476.4,453.1,429.6,401.4,747.9,609.4,530.29999999999995,494.5,471.3,448.5,404.6,883.9,700.1,593.20000000000005,527,494.6,472.7,430.3,1020.6,808.4,683.7,600.5,541.79999999999995,503.9,460.3,0.91879999999999995,1.1996,1.3491,0.7077,0.9698,1.1277999999999999,623.70000000000005,0.96199999999999997,0.81299999999999994,194.9,0.96899999999999997,0.67200000000000004,52.1,619.20000000000005,"ITA00018436",8.9139999999999997,6354,26.4,38,35.200000000000003,81.900000000000006,0,3366]
["CLU139101","I13910","ITA-13910","BLITZ","FIRST 36.7","BENETEAU","FARR",2001,"N.N.Y.C.","BALDARI LUCIANO","CLUB","C",630,"12/9/2016","18:20:50",10.64,9.5869999999999997,2.2269999999999999,3.46,5665,117.5,0.04,630.9,0.98899999999999999,682.5,0.66600000000000004,40.1,1040.8,845.8,729.6,658.9,617.6,592.9,568.4,992.5,809.2,705.8,647.1,614.70000000000005,594.6,571.4,871.3,702.8,612,559,526.4,505.1,479.5,911.9,731.6,633.5,575.70000000000005,539.9,516.70000000000005,487.8,1070.5,825.6,687.3,602.79999999999995,548.20000000000005,510.5,458.6,43.4,42.1,41.9,39.700000000000003,38.799999999999997,38.1,38.200000000000003,145.69999999999999,150.4,152.4,157.4,176.4,180,180,1061.9000000000001,883.7,775.5,717.8,693.9,682,676,692,582.20000000000005,523.6,500.8,492.7,488.5,485.9,650.6,551,507.5,488.3,479.5,474.9,471.2,615.9,529.6,496.4,477,462.1,452.7,445.5,617.9,531.20000000000005,496.1,475,461.1,444.4,422.6,651.4,539.79999999999995,495.8,470.9,447.4,428.6,410.2,674.9,555.29999999999995,502.8,476.9,454,430.8,395.3,747.2,609.6,530.29999999999995,494.8,471.9,449.4,406.1,883,699.7,593.29999999999995,526.9,494.7,473.1,431.3,1019.7,808,683.7,600,541.29999999999995,503.8,460.8,0.92859999999999998,1.2093,1.3628,0.71560000000000001,0.98150000000000004,1.1443000000000001,616.9,0.97270000000000001,0.81499999999999995,188.8,0.97860000000000003,0.68,52.1,613.1,"CLU00020486",9.1210000000000004,6530,26.7,39,39.1,82.2,73.900000000000006,3392]
["AUS508400",5084,"B40","BRAVO","FIRST 40","BENETEAU","Farr",2008,4551,"Robert Robertson","INTL","R",790,"19/7/2016","13:35:08",12.28,11.205,2.4769999999999999,3.9,7689,133,0.18,578.5,1.0803,624.79999999999995,0.71299999999999997,29.9,962.3,778.2,668,602.4,565.79999999999995,541,510.9,921.2,745.3,647.29999999999995,591.70000000000005,560,538.4,507.6,803.9,646.20000000000005,561,510.8,479.2,457.7,428.8,871.6,693.9,596,537.4,500.4,475.7,444.4,984.1,757.4,629.1,550.29999999999995,498.9,462.8,411.9,43.2,41.6,41,39,38,37.299999999999997,36.4,142.5,147.69999999999999,149.80000000000001,155.69999999999999,169.8,180,180,1008.2,826.7,719.6,660.4,634.4,620.1,603.70000000000005,656.6,546.4,487.3,463.1,453.1,447.7,441.9,616.4,516.9,471.7,451.6,440.3,434.2,428.1,583.79999999999995,495.7,460.9,441.4,425.3,412.3,400.5,588.4,491.4,454.2,439.1,425.8,408.6,379.3,588.79999999999995,487,449.1,425.7,405.8,392.2,370.6,605.4,497.5,455,429.5,403.6,385.3,353.4,670.5,542.5,476.2,446.8,423.2,398.4,348.5,793.7,631.9,533.70000000000005,476.7,448.8,426.9,381.7,916.5,729.6,616.29999999999995,544.4,497.2,461.9,418.1,1.0059,1.3214999999999999,1.5057,0.77559999999999996,1.0719000000000001,1.2596000000000001,0,0,0.86899999999999999,175,1.0697000000000001,0,0,560.9,"AUS00000247",10.715,8762,34.5,54.4,38.1,138.80000000000001,105.6,3442]
["AUS4204",4204,"W1424","MAYFAIR","First 40 2.48","BENETEAU","Farr",2008,"QLD 4106","James Irvine","INTL","R",798,"10/7/2016","16:32:06",12.24,11.243,2.4900000000000002,3.9,7952,132.80000000000001,0.18,582.4,1.0717000000000001,629.9,0.70599999999999996,29.3,971.3,786.2,674.8,606.70000000000005,569.70000000000005,544.6,514.9,929.9,752.8,653.6,596.5,564.20000000000005,542.70000000000005,512.6,809.5,650.70000000000005,564.79999999999995,514.20000000000005,482.6,461.2,433.1,875.9,697.7,599.6,540.9,503.8,479,446.9,992.7,763.7,633.9,554.20000000000005,502.4,466.4,416.8,43.4,41.8,41.4,39.6,38.5,37.700000000000003,36.9,141.6,148,149.30000000000001,155.5,169.1,180,180,1019.7,836.8,729.3,667.1,640.4,626,609.5,662.6,551.79999999999995,490.7,465,454.5,449.1,443.5,621.5,520.9,473.9,453.2,441.7,435.7,429.9,587.79999999999995,498.2,462.3,442.9,427.3,414.6,402.8,589.1,489.2,455.3,444.1,427.9,411,382.4,587.4,486.9,449.8,426.1,410.8,399.2,378.3,605.6,498.8,456.4,431.4,406.3,385.4,362.7,674.1,545.4,477.9,448.1,425.2,401.3,353.1,799.3,637.1,537.20000000000005,478.2,450.1,428.7,384.9,923,735.6,620.29999999999995,546.29999999999995,498.9,463.2,420.2,0.99880000000000002,1.3129,1.4942,0.7681,1.0628,1.2505999999999999,0,0,0.85299999999999998,169.6,1.0620000000000001,0,0,565,"AUS00000115",10.632,9036,34.799999999999997,54.1,39.4,139.5,134.69999999999999,3468]
["ESP550201","E5502","ESP-5502","GAIFAR II","FIRST 40.7","BENETEAU","B. FARR",1997,"M.R.C.Y.BAYONA","PABLO OSUNA ANDRADE","INTL","C",500,"10/8/2016","11:58:24",11.923999999999999,10.66,2.419,3.77,7183,122.2,0.02,598.6,1.0347999999999999,652.29999999999995,0.70599999999999996,43.4,985.9,800.5,693.5,632.79999999999995,594.79999999999995,568.79999999999995,540.70000000000005,936.8,763.6,669.8,619.29999999999995,590,569.4,542.29999999999995,824,665.5,580.79999999999995,531.70000000000005,501.4,481.4,456.3,858.2,690.2,599.29999999999995,546,512.70000000000005,490.7,462.3,1016.2,784.2,653.6,573.9,522.29999999999995,486.6,438.3,43.7,42.7,41.9,40,39.4,38.799999999999997,38.200000000000003,144.6,149.19999999999999,151.19999999999999,155.6,171.6,180,180,992.9,825.5,732.1,690.8,669.6,656.8,643.5,645.20000000000005,541.29999999999995,493.1,477.6,470.3,466.1,461,605.79999999999995,513.70000000000005,477.4,463.9,457.2,453.1,449.1,571.6,494.8,465.7,449.1,438,431.6,425.1,572.4,495.6,466.2,447.8,431.2,417.1,402.5,624.29999999999995,513.79999999999995,469.5,445.3,426.9,416.3,397.8,643.9,528,476.3,450.9,428,405.9,382.4,714,579.9,503.7,468.6,446.2,424.2,381,847.9,671.6,567.5,502.3,469.7,448.4,407.3,979.1,775.5,654.9,574.70000000000005,520,480.9,437.8,0.98399999999999999,1.2726,1.4291,0.75570000000000004,1.0266,1.1951000000000001,586.4,1.0232000000000001,0.88600000000000001,209.6,1.0285,0.71199999999999997,50.1,583.4,"ESP00019007",10.003,8183,31.3,47.3,53.7,103.1,0,3509]
["nor8862",8862,"NOR 11445","Sees","FIRST 40.7","BENETEAU","Bruce Farr",1997,null,"Svein Morten Sorensen","CLUB","C",732,"19/4/2016","17:04:00",11.99,10.59,2.4089999999999998,3.77,6983,123.2,0,593.79999999999995,1.044,646.6,0.70599999999999996,39.6,980.5,795.8,687.7,626.5,588.4,562.79999999999995,535,931.9,758.8,664.4,613.4,583.6,562.79999999999995,536,818.3,660.7,576.20000000000005,527,496.4,476.1,450.4,850.7,684.2,593.9,540.79999999999995,507.6,485.4,456.6,1009.5,778.6,648.4,568.70000000000005,517.1,481.1,431.9,43.9,42.9,41.9,39.799999999999997,39.1,38.299999999999997,37.9,144.5,149.19999999999999,151.19999999999999,156,172.1,180,180,989.1,821.7,725.7,682.9,660.8,647.6,635.5,641.29999999999995,538,489.9,474.2,466.9,462.5,457.4,601.20000000000005,510.7,474.8,460.7,453.6,449.2,444.7,566.5,491.9,463.3,445.7,433.4,426.4,419.3,566.5,492,463.7,444.6,426.6,411.5,395.9,619.20000000000005,510.1,467.4,442.4,420.4,408.5,388.5,638.79999999999995,523.79999999999995,474,448.5,424.5,401.1,373.1,708.9,575,500.3,466.4,443.6,420.6,376.2,841.6,666.7,563,499,467.3,445.7,403.2,971.8,769.9,649.70000000000005,570.20000000000005,516.1,478.1,434.5,0.99039999999999995,1.2828999999999999,1.4459,0.76,1.0361,1.208,583,1.0291999999999999,0.88300000000000001,202.3,1.0369999999999999,0.71799999999999997,51,578.6,"nor00000492",10.076000000000001,7972,31.1,50.9,52.4,102.2,0,3532]
["CRO177/16","CRO13464","CRO 13464C","Mareus","First 40.7","BENETEAU","Farr",1997,"CROATIA","Ivan Drinkovic","CLUB","C",760,"25/5/2016","11:43:36",11.923999999999999,10.648,2.42,3.77,7183,121.8,0.01,598.6,1.0378000000000001,650.4,0.69699999999999995,36.799999999999997,990.6,804.7,693.5,629.1,590.5,564.6,537.79999999999995,943.2,767.9,670.1,616.20000000000005,585.5,564.70000000000005,539.29999999999995,827.4,667,580.70000000000005,530.20000000000005,499,478.5,453,867.8,696,602.4,547.1,512.5,489.6,460.6,1018.2,784.8,652.79999999999995,572.1,519.70000000000005,483.4,434.1,43.6,42.6,42.1,40.1,39.200000000000003,38.4,38,144.6,149.30000000000001,151,155.6,170.9,180,180,1006.7,836.8,734.5,685.9,662.7,649.4,638.9,655,549.5,494.6,475.2,467.3,463,459.8,615.5,520,479.1,462,454.3,449.6,445.2,581.70000000000005,499.5,468,449.6,435.8,427.6,420,583.1,500.4,468.9,450,432.7,416.6,397.2,623.4,512.6,468.7,444.1,423.1,411.6,391.8,642.70000000000005,526.5,475.4,449.9,426.6,403.6,377.1,712.1,577.9,501.6,467.3,444.9,422.5,379.2,844,669.1,565.4,500.3,468.4,447.1,405.7,974.6,772.6,652.5,572.20000000000005,518.29999999999995,479.8,436.7,0.97799999999999998,1.2747999999999999,1.4391,0.75190000000000001,1.0297000000000001,1.2032,0,0,0.85799999999999998,190.1,1.0303,0,0,582.4,"CRO00063163",10.063000000000001,8192,31.4,48.7,47.7,104.5,0,3558]
["nor9445",9445,"NOR 11590","Pluto","FIRST 40.7","BENETEAU","Farr",1997,null,"Thomas Magnussen","CLUB","C",732,"3/8/2016","10:40:48",11.99,10.581,2.4089999999999998,3.77,6969,123.1,0,594.20000000000005,1.0447,646.1,0.70499999999999996,39.200000000000003,981.8,796.8,687.3,625.5,587.79999999999995,562.20000000000005,536,933.7,759.8,664.2,612.6,582.70000000000005,561.9,537.20000000000005,819.7,661.5,576.5,527,496.3,476.1,450.9,857.1,688.4,596.79999999999995,542.79999999999995,509,486.6,458.1,1009.9,778.7,648.29999999999995,568.5,516.79999999999995,481,432.2,43.7,42.6,41.8,39.700000000000003,39.1,38.200000000000003,38.1,144.5,149,150.69999999999999,155.80000000000001,171.4,180,180,994.5,825.4,726.6,682.2,659.9,646.6,637.9,645.79999999999995,541.5,491.1,474.1,466.5,462.3,458.5,606,513.79999999999995,476.2,460.6,453.3,448.8,444.5,571.9,494.7,465,446.9,433.6,426.1,418.9,572.70000000000005,495.2,465.8,446.7,428.8,412.9,395.7,618.79999999999995,509.6,467,442,421,409.4,389.3,637.70000000000005,522.9,473.5,447.9,423.7,400.2,373.9,706.9,573.1,498.6,465.3,442.4,419.2,374.6,839.2,665.2,561.4,497.6,466.5,444.9,402.3,969,768.1,648,568.70000000000005,515.6,477.8,434.2,0.98809999999999998,1.2829999999999999,1.4459,0.75900000000000001,1.0369999999999999,1.208,582.79999999999995,1.0295000000000001,0.878,199.1,1.0371999999999999,0.71799999999999997,51.1,578.5,"nor00001795",10.082000000000001,7958,31,49,51,107.5,0,3608]
["nor7453",7453,"NOR 9155","Havhesten","FIRST 41 S5","BENETEAU","BERRET JEAN",1988,null,"Magnus Lingj?rde","CLUB","C",743,"1/4/2016","10:58:54",12.6,10.632999999999999,2.0019999999999998,3.9,7841,111.9,0.14000000000000001,620.70000000000005,0.99409999999999998,679,0.67600000000000005,40,1026.8,836.8,724.1,655.7,617.29999999999995,593,567.4,984.7,803.3,704.5,648.9,616.9,596.20000000000005,571.5,856.4,690.9,602,550.6,519.1,498.7,473.8,913.2,731.9,633.1,574.79999999999995,538.6,514.9,486,1054.3,813.8,677.8,594.5,540.5,503.1,451.9,44.7,43.2,43.7,42.9,41.7,41,40.700000000000003,145.1,149.9,147.80000000000001,156.4,172.6,180,180,1078.3,899.2,800.6,745.7,718.5,704.7,695.4,694,585.29999999999995,523.1,498,488.3,483.4,480.2,649,548.6,500.3,480.9,472.3,467.6,464,611.29999999999995,520.29999999999995,484.4,466.4,453.9,445.2,437.8,612.1,520.4,480.4,465.5,450.2,435.9,415.5,622,513.9,473.4,451.3,435.3,424.6,407.3,638.9,523.4,478.1,453.5,430.1,413.4,391.8,714.6,573.4,498,468.4,446.1,423.2,380.6,844.6,670.6,560.9,496.7,469.3,448.5,406.5,975.2,774.4,647.70000000000005,565.70000000000005,516.1,481.3,439.5,0.94530000000000003,1.2294,1.3794,0.72440000000000004,0.9869,1.1451,612.6,0.97940000000000005,0.84399999999999997,206.1,0.99170000000000003,0.68500000000000005,51.9,605,"nor00000119",9.327,8846,32.299999999999997,48.8,43.3,139,120.7,3634]
["AUS280700",2807,77777,"GALILEO","FIRST 44.7","BENETEAU","FARR",2003,"NSW 2107","Salvatore Ridulfo","INTL","C",883,"29/8/2016","12:24:10",13.352,11.971,2.6389999999999998,3.97,9888,125.6,0.02,562.4,1.1043000000000001,611.20000000000005,0.754,44.1,924.5,753.3,649.79999999999995,591.29999999999995,557.29999999999995,532.6,506.4,883.4,719.5,629,579.79999999999995,551.29999999999995,531,506,774.9,625.6,545.6,499.1,470.3,451.2,426.9,829.3,664.5,574.6,521.20000000000005,487.7,465.4,437.1,951.4,735.1,612.9,538.20000000000005,489.9,456.5,411,43.6,42.6,41.7,39.799999999999997,38.9,38.1,37.6,142.5,147.69999999999999,149.30000000000001,154.9,164.8,180,180,954.4,791,694.6,648.9,626.4,612.5,601.70000000000005,620.29999999999995,519.79999999999995,468.4,450.2,442.4,438,434.4,582.1,491.9,453.3,437.5,430.1,425.5,420.7,549.1,472.3,442.4,425.3,412.6,404.8,396.6,549.9,472.8,443.3,425.6,409.6,394.4,374.9,579,477.5,438.6,418.8,407.4,396,376.4,594,487.5,444,420.2,397.8,383.9,363.8,655.5,531.5,465.2,436,414.5,392.4,348.9,774.7,619.79999999999995,523.9,467.3,438.3,418.2,377.6,894.5,715.7,605,533.6,488.2,452.6,411.2,1.0451999999999999,1.3552,1.5250999999999999,0.80459999999999998,1.0962000000000001,1.2761,0,0,0.93400000000000005,202.9,1.0960000000000001,0,0,547.5,"AUS00000325",11.28,11096,38.5,61.3,58.3,164.6,0,3668]
["POR","POR4508","POR-4508","FUNBEL","FIRST 45","BENETEAU","BRIAND",2008,null,"ANTONIO MANUEL DE SOUSA NORONHA","INTL","C",900,"8/6/2016","10:48:02",13.664999999999999,12.362,2.7610000000000001,4.2,11319,120.5,0.22,574.29999999999995,1.0838000000000001,622.79999999999995,0.69899999999999995,19.5,971.3,782.3,671,600.6,561.5,534.20000000000005,503,924.3,746.5,645.6,586.5,553.9,532.79999999999995,503.6,803.3,643.5,556.4,505,473,451.9,425.4,857.6,682.1,585.20000000000005,527.1,490.5,466.3,436.1,989.3,757.7,626.1,545.29999999999995,493.1,457.2,409.1,43.5,42,41.6,40.200000000000003,38.700000000000003,38.5,37.5,144,148.19999999999999,150.5,153.30000000000001,161,180,180,996.9,818.5,713,650.9,624.9,610.79999999999995,591.6,646.79999999999995,539.1,476,448.3,438.3,433.2,427.3,606.5,508.6,457.5,435.9,425.9,421.1,416.5,573.79999999999995,484.6,445,425.8,412.5,402.9,394.7,577.4,487.2,444.2,427.3,412.8,399,376.5,599.4,489.3,440.6,417.5,399.9,389.7,372.3,617.5,503.6,447.6,422.6,402.4,382.3,358.7,686,554.20000000000005,477.8,440.3,419.1,400,361,819,646.1,544.79999999999995,479.4,442.5,421.9,385.8,945.7,746.1,629.1,550.29999999999995,498.1,457.7,414.4,1.0031000000000001,1.3363,1.5261,0.76990000000000003,1.0724,1.2751999999999999,0,0,0.83,148.1,1.0774999999999999,0,0,556.79999999999995,"POR00000325",11.443,12563,42.4,59.4,53.7,142.1,0,3698]
["ESP457101","E4571_C","ESP-4571_C","BARAKA MAR","FIRST 53 F5","BENETEAU","B. FARR",1991,"C.N.TORREVIEJA","CLEMENTE GUIJARRO APARICIO","CLUB","C",490,"11/3/2016","01:12:50",15.757,13.971,2.5569999999999999,4.5,14305,132.19999999999999,0.32,598.70000000000005,1.0305,655,0.59299999999999997,-28.4,1086.2,851,716.7,631.9,577.9,541.4,499.8,1012.9,800.9,681.4,607.9,562.70000000000005,534.70000000000005,502.8,859.7,679.4,578.9,517.9,478.9,452.8,420.3,859.7,679.4,578.9,517.9,478.9,452.8,420.3,1083.7,812.6,657.6,562.20000000000005,500.4,458.3,403.1,45.2,43.8,43,42.5,40.9,39.700000000000003,39.1,146.4,152.4,159.1,167.6,170.9,172.8,178.7,1021.2,825.9,716.5,650.4,615.5,595.9,577.1,651.79999999999995,535,468.6,435.2,421.3,414.3,407.5,605.20000000000005,501.7,445.1,420.2,408,401.4,394.4,566.70000000000005,474.2,428.9,408.5,395.1,384.1,370.9,568.9,476.4,430.3,409.4,394.9,381.6,357.5,641,531.79999999999995,459.3,423.3,404.9,389.8,358.4,698.1,562.6,485.9,439,414.8,398.5,367.2,833.6,649.1,546.9,481.1,438.7,415.3,384.4,997,759.2,625,540.20000000000005,481.6,441.2,401.2,1151.2,876.1,717,613.4,540.4,486.9,422.5,0.93030000000000002,1.294,1.5305,0.69689999999999996,1.0150999999999999,1.2618,581.4,1.0319,0.66600000000000004,64.8,1.0330999999999999,0.59499999999999997,-26.7,580.79999999999995,"ESP00016603",12.256,15838,49.8,64.2,76.3,0,0,3759]
["TUR","TUR983","TUR-983","Nomos","First Class 7.5","BENETEAU","Finot",2003,null,"Adil Balkaya","CLUB","S",415,"25/3/2016","13:16:22",7.5,7.5970000000000004,1.952,2.58,1111,96.5,0.18,651,0.94599999999999995,713.6,0.58699999999999997,-6.9,1101.4000000000001,877.8,752.8,691.2,655.9,621.79999999999995,555.6,1056.5999999999999,845.4,732.9,670.1,631.70000000000005,601.1,544.79999999999995,912.2,731.1,631.70000000000005,570.9,529.9,499,451.4,1003.1,794.1,678.5,608.5,562.70000000000005,530.29999999999995,483.9,1118.7,856.9,707.4,613.20000000000005,548.29999999999995,499.2,424.7,43.7,41.5,39.9,37.200000000000003,35.6,35,34.700000000000003,144.1,147,149.19999999999999,150.19999999999999,146,143.69999999999999,135.4,1177.2,947.1,817.1,750.4,727.2,716,699.8,766.6,626.70000000000005,567.70000000000005,538.6,524.6,516.4,500.9,719.6,598.20000000000005,552.20000000000005,518.5,499.1,489.2,474.8,681.9,577.29999999999995,538.29999999999995,498.2,461.7,445.3,432,645.29999999999995,555.29999999999995,513.9,489.2,457.5,420.9,386.9,641.29999999999995,551.29999999999995,495,446.2,421.2,398.5,357.5,665.3,561,508.3,451.3,399.9,374.6,329.4,749.5,601.6,541.20000000000005,491.4,439.4,389.4,292.3,888.3,700.2,596.29999999999995,547.5,506.2,456.9,356.3,1025.7,808.5,688.6,632.1,584.5,527.6,411.4,0.88619999999999999,1.1729000000000001,1.3862000000000001,0.68210000000000004,0.9395,1.1148,0,0,0.79400000000000004,198,0.95379999999999998,0,0,629.1,"TUR01005365",7.7590000000000003,1741,14.2,20.399999999999999,14.3,0,58.5,3774]
["CLUFOC730","PENELO","ITA-PENELO","PENELOPE","FOCUS 730","WWW.NAUTI.PL","PIESNIEWSKI J.",2007,"CLUB NAUTICO AUGUSTA","NERI ANDREA","CLUB","C",320,"9/3/2016","10:46:54",7.35,6.5279999999999996,1.8360000000000001,2.48,1387,108.3,0.31,753.3,0.8226,820.6,0.54900000000000004,30.2,1240.8,1008.4,873.5,799,740.2,711.1,683.9,1195.5999999999999,972.5,850.6,779.5,734.5,708.2,678.7,1041.9000000000001,840,730.9,666.6,626,598.70000000000005,563.1,1104.2,882.1,760.5,688.1,642.79999999999995,613,576.29999999999995,1274.5,984.5,819.9,718,650.29999999999995,601.79999999999995,531.20000000000005,43.3,42.1,41.8,40.1,38.9,38.299999999999997,38.6,146.80000000000001,147.4,147.69999999999999,151.1,176.5,178.3,178.2,1319.6,1088.7,954,874.3,831.4,815.1,812.7,858.4,715.2,639.9,607.5,589,578.9,573.6,806.4,675.4,617.9,591.29999999999995,571.79999999999995,557.4,547.6,763.2,647,602.1,575.5,553.4,532.29999999999995,507.5,751.5,631.6,586.29999999999995,553.1,530.29999999999995,520.70000000000005,489.9,748.2,629.79999999999995,586.1,552.79999999999995,519.79999999999995,489,450.5,777.9,645.5,594.6,561.70000000000005,529,498.3,431.6,863,700.9,620.20000000000005,583.29999999999995,552.1,521.4,464.3,1006.4,803.8,686.8,628.79999999999995,595,570.4,520.29999999999995,1162,928.2,793,723.6,649,607.20000000000005,555.1,0.77759999999999996,1.012,1.1518999999999999,0.60019999999999996,0.81659999999999999,0.95309999999999995,736.9,0.81420000000000003,0.69399999999999995,199.6,0.81910000000000005,0.55900000000000005,42.3,732.5,"CLU00018590",6.181,1857,11.3,15.6,9.9,0,26.6,3825]
["CLU160461","I16046","ITA-16046","SILVER SURFER","FRANCHI 28 OD","FRANCHI YACHT","PICCO",2002,"FRAGLIA VELA MALCESINE","SCALA LORENZO","CLUB","S",480,"18/7/2016","22:35:50",8.2100000000000009,7.9690000000000003,1.87,2.54,1968,115.9,0.11,662.1,0.93440000000000001,722.4,0.66,54.9,1065.7,862.7,751.1,703.2,668.5,644.1,605,1024,832.5,735.2,685.5,654.20000000000005,630.1,586.70000000000005,904.6,733.5,643,590.70000000000005,557.5,533.79999999999995,497.5,984.1,788.1,681.9,619.5,580.20000000000005,553.5,517.5,1102.3,856.1,718.5,634.5,578.79999999999995,537.79999999999995,476.1,42.5,41,39.9,37.799999999999997,36.700000000000003,36,36,145.30000000000001,148,149.6,151.5,175.7,177.7,140.4,1126.4000000000001,925.2,815.6,769,748.1,736.9,722.3,739.3,617.20000000000005,567.4,549.20000000000005,541.20000000000005,536.79999999999995,526.5,696.6,590.70000000000005,552.79999999999995,534,524.6,519.1,508.9,662.1,573.20000000000005,540.79999999999995,516.6,496.9,486.3,478.3,659.2,563.29999999999995,535.4,515.79999999999995,490.8,467.1,443.2,652.1,558.29999999999995,518.79999999999995,485.8,467,449.8,417.4,670.2,567,526.6,486.7,449,427,388.8,741.2,603,548,513.20000000000005,475,436.4,352.7,870.4,693.1,594.70000000000005,553.79999999999995,527.70000000000005,499.4,422.3,1005,800.3,686.7,637.29999999999995,588.79999999999995,551.29999999999995,487.7,0.90039999999999998,1.1448,1.2886,0.7,0.93259999999999998,1.0621,656.4,0.91410000000000002,0.93,305.3,0.93179999999999996,0.68300000000000005,81.5,643.9,"CLU00020329",7.7549999999999999,2619,15.2,22.9,17.899999999999999,0,62,3849]
["ARG011001","ARG110","ARG-110","JABEQUE Reloaded","G 28","ARTESANAL - HOOD","PGAN",2006,null,"H. MONES RUIZ / D. ABUD","INTL","R",440,"12/11/2016","10:59:58",8.61,7.6349999999999998,1.871,2.2000000000000002,1891,130.69999999999999,0.08,652.1,0.94920000000000004,711.1,0.64100000000000001,36.299999999999997,1082.3,870.5,742.1,684.7,649.9,627.4,596.1,1032.5999999999999,833,725.8,674.7,645.70000000000005,623.70000000000005,590,900.5,726,632.5,578.1,544.20000000000005,521.1,489.2,953.5,763.5,660.6,600.5,563.20000000000005,538.20000000000005,504.8,1106.5999999999999,852.4,709.6,622.4,565.4,524.70000000000005,466.4,43.9,43.2,40.799999999999997,39.1,38.4,38.1,38.6,145.1,148.9,152.19999999999999,161.4,180,180,180,1124.5,921.5,795.6,760.3,745.9,735.1,733.7,726.8,602.1,548.79999999999995,535.6,529.70000000000005,525.5,518.20000000000005,679.3,574.20000000000005,533.5,518.29999999999995,511.5,507.7,496.4,640.1,555.70000000000005,520.9,493.4,480.3,473.7,463.7,641.9,552.6,519.5,491.8,462.8,443,432.1,654.70000000000005,551.70000000000005,510.1,472,452.3,433,402.8,678.1,563.29999999999995,519.20000000000005,480.4,441.7,414.5,381.5,756.9,609.9,545,509,473,437.2,357.9,900.8,709.7,598.29999999999995,542.4,508.9,475.7,407.9,1040.0999999999999,819.5,688.6,609.20000000000005,553.9,519.70000000000005,458.5,0.89949999999999997,1.1698999999999999,1.3210999999999999,0.69130000000000003,0.94989999999999997,1.0865,0,0,0.85,238.7,0.94589999999999996,0,0,634.29999999999995,"ARG00003456",7.6749999999999998,2446,15.8,25,18.2,49.2,0,3899]
["GRE001025","GR1458","GRE-1458","TILEMACHOS","GIB SEA-352 MASTER","GIBERT MARINE","Joubert/Nivelt",1988,"NAOKTh","AGGELAKIS TILEMACHOS","CLUB","C",500,"14/4/2016","10:50:28",10.083,8.8049999999999997,1.71,3.48,4760,108,0.37,720.6,0.86360000000000003,781.6,0.53700000000000003,3,1240.0999999999999,989.4,851.5,757,694.7,661.2,634.70000000000005,1192.0999999999999,957.6,826.9,744.4,694.3,667.2,640.9,1018.5,811.7,697.7,629.5,586.9,559.5,528.1,1069.5999999999999,847.7,724.4,650.20000000000005,603.6,573.5,538.9,1253,955.2,785,679.7,611.20000000000005,564.20000000000005,501,45.6,44.2,43.7,43.7,42.4,41.6,41.3,147.80000000000001,151.1,154.4,157.4,174.6,180,180,1315.6,1071.9000000000001,940.7,849.1,796.7,777.1,771.4,837.5,693,609.6,559.5,537.1,529.1,525.4,777.1,648.79999999999995,574,538,520.29999999999995,511.3,506.7,729.4,611.6,549.6,522.5,505.1,491.2,475.7,732.6,614.6,548.20000000000005,516.6,500.4,489.1,460.2,752.2,614.4,543.4,513.1,489.9,466.6,440.1,777.5,632.79999999999995,552.79999999999995,518.5,495.8,473.4,430.9,864.3,692.7,591.9,538.70000000000005,511.8,489.8,446.3,1008.6,786,663.1,581,536.5,511.9,470.2,1164.7,906.9,762.3,664.8,592.6,545.29999999999995,498.1,0.78920000000000001,1.0690999999999999,1.2353000000000001,0.60550000000000004,0.85199999999999998,1.0233000000000001,0,0,0.626,119.1,0.86140000000000005,0,0,696.5,"GRE01005627",7.4950000000000001,5534,24.5,26.2,29.9,59.8,0,3925]
["GRE000468","GR49514","GRE-49514","D.X.M.","GIBSEA 96","GIBERT MARINE","JOUBERT & NIVELT",1986,"IO KERKYRAS","RIKOUDIS STEFANOS","CLUB","C",541,"31/3/2016","12:48:46",9.75,8.3209999999999997,1.72,3.3,4509,116.7,0.35,744.1,0.83799999999999997,805.5,0.51400000000000001,0.5,1296.7,1022.7,872.3,777.4,718.9,682.5,653.29999999999995,1224.2,979.3,844.3,761.7,714.1,687.4,664.2,1053.8,838.4,720.1,649.9,606.6,579,547.70000000000005,1053.8,838.4,720.1,649.9,606.6,579,547.70000000000005,1309.3,992.3,812.6,702.7,632.1,584.1,521.29999999999995,45.1,43.6,43.9,43.7,42.2,41.8,41.9,166.6,167.2,168.3,169.1,169.3,171.5,174.7,1259.2,1034.4000000000001,915.5,839.3,803.7,787.4,783.1,807.6,672.6,594.4,557.4,543.79999999999995,537.70000000000005,534.4,754.6,630.79999999999995,565.70000000000005,538.6,525.70000000000005,520,516.20000000000005,712,596.5,546.20000000000005,523.4,507.7,495.7,485.7,715.9,599.9,547.9,524.4,507.2,491.2,465.8,807.7,659.6,574.5,537.6,516,496.6,458.6,861.3,699.3,600.20000000000005,549.4,524.1,504.5,466.5,987.3,778.6,662.9,585.20000000000005,545.29999999999995,522.79999999999995,486.1,1166.5999999999999,895.1,746.3,650.5,582.79999999999995,545.5,505.8,1334.2,1011,829.1,715.5,634.1,577.6,523.4,0.76300000000000001,1.0370999999999999,1.1931,0.58199999999999996,0.82840000000000003,0.99170000000000003,0,0,0.60399999999999998,117,0.83340000000000003,0,0,719.9,"GRE01005425",7.3259999999999996,5231,22.4,23.9,35.799999999999997,0,0,3940]
["pol61","bryza33","POL 7017","Bryza33","GP33","MKZ Bryza","Wojciech Denderski",2009,"Polska","MKZ BRYZA","INTL","R",440,"21/6/2016","10:12:58",9.98,9.7140000000000004,2.2450000000000001,2.78,2692,114.1,0.15,605.79999999999995,1.0144,665.4,0.66500000000000004,19.899999999999999,1023.7,819.7,695.8,639.70000000000005,608.1,584.6,543.70000000000005,981,784.5,680,628.70000000000005,598.5,574.6,541.9,844.3,677.2,587.1,534.29999999999995,500.9,477.5,444.5,921.3,730.8,626.4,564.4,525.20000000000005,498.4,462.7,1037.9000000000001,796.3,659.9,576.20000000000005,520.9,480.8,421.5,44.2,43.4,42.3,40.299999999999997,39.5,39.6,39.799999999999997,140.30000000000001,146,149,156.5,173.5,180,146.1,1096.5999999999999,883.7,760.6,721.2,704.6,692.5,683.8,705,572.9,511.4,496.4,489.7,485.4,476.7,656.5,539.6,494,478.8,471.5,467.2,454.4,616.5,517.9,480.5,452.9,438.9,431.4,419.4,603.70000000000005,505.9,481.9,451.7,419.4,400.1,388.2,599.29999999999995,499.8,460.7,439.3,418.2,398.9,358.8,617.9,508.5,465.7,424.9,402.6,383.7,346.4,689.7,549.70000000000005,490.6,452.9,412.6,371.8,316,823.5,654.4,546.6,491.4,457.2,421.1,349.6,950.9,755.6,631.1,558.29999999999995,511.7,476.8,403.7,0.95840000000000003,1.2636000000000001,1.4434,0.73229999999999995,1.0142,1.1736,597.29999999999995,1.0044999999999999,0.877,217.7,1.0192000000000001,0.68,36.4,588.70000000000005,"pol00002624",9.1440000000000001,3563,22.8,33.9,21.8,86.2,0,3984]
["CLU139671","I13967","ITA-13967","LIBERA","GRAND SOLEIL 343 G","DEL PARDO","JEZEQUEL",1986,"R.Y.C.C.SAVOIA","MOSCHERA LUIGI","CLUB","C",500,"21/3/2016","23:45:36",10.414999999999999,8.9039999999999999,1.8120000000000001,3.4,5486,114,0.47,696.7,0.89449999999999996,754.6,0.57799999999999996,20,1167.2,944.4,820.6,733.3,676.4,643.5,615,1121.9000000000001,912.8,795.6,721,675,648.20000000000005,620.4,972.9,780.7,675.5,612.79999999999995,573.5,547.9,518,1024.5999999999999,817.1,702.5,633.6,590.1,561.70000000000005,528,1193.4000000000001,917,759.2,661.4,597.6,553.70000000000005,494.8,44.7,42.9,42.9,43,41.7,40.700000000000003,40.200000000000003,147.30000000000001,151.1,153.19999999999999,155.9,173.9,180,180,1229.5,1016.5,900.8,818.4,770.8,749,735.9,790.8,664.8,587.79999999999995,546.4,527.29999999999995,519.29999999999995,513.9,739.4,624.29999999999995,558.1,528.20000000000005,512.4,503.3,497.1,698,590,537.79999999999995,514.5,498.6,485.9,469.7,701,593.5,539.79999999999995,511.1,499.4,485.6,460,725.5,596.4,533.29999999999995,505.7,484.2,464.3,445.9,745.8,612.5,540.79999999999995,510.4,489.2,468.4,431.5,817.8,667.6,573.5,528,504,483.6,444,956.8,755.9,642.9,566.29999999999995,527.29999999999995,505,467.1,1104.8,872.4,740.4,648.1,582,537.9,494.1,0.82889999999999997,1.0992,1.2598,0.63929999999999998,0.88149999999999995,1.0529999999999999,677.3,0.88580000000000003,0.68200000000000005,144.1,0.88870000000000005,0.58599999999999997,27.3,675.1,"CLU00018922",7.7809999999999997,6267,24.7,22,37.200000000000003,73.2,0,4015]
["nor21619",21619,"NOR 15039","FORZA","Grand Soleil 39","Del Pardo","Claudio Maletto",2011,null,"Hans-Christian Grande","CLUB","C",781,"1/4/2016","10:58:20",11.82,11.03,2.5369999999999999,3.69,8067,126.4,0.21,597.1,1.0375000000000001,650.6,0.70599999999999996,41.7,988,803.5,692.2,626.4,597.1,569,537.4,947.5,770.5,670.8,613.79999999999995,583.20000000000005,561.4,532.6,825.3,665,579,529.20000000000005,498.8,478.7,452.7,895.4,713.7,613.79999999999995,554.1,516.79999999999995,492.4,462.4,1012.9,781.4,650.6,570.70000000000005,519.29999999999995,483.9,436,43.5,41.9,41.8,40.299999999999997,38.9,38.1,37.299999999999997,143.9,147.9,147.6,149.69999999999999,152.4,176.1,178.4,1040.9000000000001,861.4,753.5,686.8,659.4,644.9,627.20000000000005,676,567.70000000000005,502.9,475.5,466,461.1,455.6,634.20000000000005,534.9,484.4,463.1,453.4,448.6,445,599.79999999999995,509.1,471.7,452.6,438.9,429.6,422,599.20000000000005,497.2,466.5,453.6,438.7,423.9,401.6,594.6,493.2,456.4,436.1,424.4,414,395.3,611.9,504.6,462.6,439.1,416.1,399.7,378.9,684,553.70000000000005,484.6,455.4,434,411.6,366.8,809.8,645.79999999999995,546.5,490.2,466.6,447.9,412.2,935.1,745.6,631,566.1,534.79999999999995,493.1,447.7,0.98050000000000004,1.2794000000000001,1.4366000000000001,0.75349999999999995,1.0293000000000001,1.1963999999999999,583.9,1.0275000000000001,0.876,203.6,1.034,0.72299999999999998,55.1,580.20000000000005,"nor00000114",10.243,9127,33.6,51.2,38.700000000000003,0,140.5,4065]
["ESP631802","E6318","ESP-6318","ANTIGUA CRAIOVA","GRAND SOLEIL 40","DEL PARDO","PAPERINI",2000,"C.C.N.ARRECIFE","CHARTER LANZAROTE S.L.","INTL","C",585,"3/9/2016","09:53:14",11.99,10.868,2.4369999999999998,3.79,8103,119.8,0.32,650.70000000000005,0.95679999999999998,705.5,0.58199999999999996,-3.2,1137.7,904.6,767.3,680.5,627.20000000000005,591.79999999999995,558,1065.8,856.1,736.2,661.5,617.70000000000005,591.79999999999995,565,919.3,732.9,630.1,568.5,529.70000000000005,504.4,474,919.3,732.9,630.1,568.5,529.70000000000005,504.4,474,1150.0999999999999,871.6,712.9,615.5,552.9,510.4,455.1,44.2,42.6,42.6,41.6,40,39.4,38.799999999999997,143.30000000000001,168,169.4,170.7,171,172.8,176.4,1084.2,895.3,785.9,715.6,682.2,664.6,650.70000000000005,699.8,586.5,518.1,486.4,473.7,467.6,462.2,655.1,551.20000000000005,495.8,472.2,460.2,454.3,448.7,617.79999999999995,522.29999999999995,480.4,460.6,446.8,435.9,425,619.20000000000005,523.4,481.2,461.3,446.5,432.7,408.7,687.5,576.6,504,473,455,439,405.4,738.6,608.29999999999995,527.5,485,463.2,446.7,413.9,861.5,684.7,586,519.29999999999995,483.2,463.2,432.1,1031.5999999999999,796.1,665.1,581.1,520.9,485.4,449.4,1191.2,913.9,748.6,645.4,572.29999999999995,519,465.4,0.87360000000000004,1.1835,1.3706,0.66100000000000003,0.94430000000000003,1.1479999999999999,633.6,0.94699999999999995,0.66,95.6,0.94969999999999999,0.58599999999999997,1,631.79999999999995,"ESP00019154",9.7880000000000003,9169,32.6,43.6,45.4,0,0,4091]
["ITA154091","I15409","ITA-15409","INDIGO","GRAND SOLEIL 40 SD","DEL PARDO","PAPERINI",2000,"LNI MANFREDONIA","DI CANDIA LORENZO","INTL","C",650,"4/4/2016","20:45:42",12.016,11.16,2.1970000000000001,3.79,8210,116.1,0.34,622.5,0.99850000000000005,676,0.64400000000000002,19.100000000000001,1049.9000000000001,846.9,731.9,655.1,608.79999999999995,577.9,548.79999999999995,1004.7,814.1,707.4,642.29999999999995,603.9,579.5,552.1,869.2,697.2,603.4,547.79999999999995,513,490.2,462.4,918.6,732.3,629.5,567.9,528.9,503.2,471.5,1071,821.5,679.4,591.79999999999995,534.79999999999995,495.4,442.5,44.9,43.1,43,42.3,40.6,39.5,38.6,145.19999999999999,149.69999999999999,151.80000000000001,154.30000000000001,166.8,180,180,1094.4000000000001,901.2,793.1,722.7,686.7,667.4,652,701.9,587.4,519.1,486.7,473.8,467.2,461.2,654.6,550.79999999999995,495.2,471.4,459.6,453.5,447.5,614.5,519.79999999999995,478.6,458.9,445.3,434.6,423.2,614.4,520.1,478.7,459.3,444.8,431,406.6,648.4,531.5,477.5,453.2,433.9,420.6,402.1,667.3,546.79999999999995,484.6,457.9,437.8,417,387.2,737.1,597.1,515.1,474.5,452.7,433.6,393.5,870.7,686.4,581.29999999999995,513.4,475.3,454.5,418,1005.4,792.6,670.7,587.5,530.9,488.3,445.7,0.9284,1.2307999999999999,1.4075,0.7117,0.98529999999999995,1.1745000000000001,606.9,0.98860000000000003,0.76300000000000001,146,0.99319999999999997,0.65300000000000002,27.3,604.1,"ITA00019139",9.85,9317,33,42.1,45.3,101,0,4141]
["CLU431711","I43171","ITA-43171","SOUND OF SILENCE","GRAND SOLEIL 43 BC","DEL PARDO","BOTIN/CARKEEK",2005,"Y.C.PUNTA ALA","BIANCHI ALESSANDRO","CLUB","C",750,"8/4/2016","18:59:30",12.95,11.978999999999999,2.3450000000000002,3.92,9413,120.9,0.12,587.70000000000005,1.0485,643.79999999999995,0.68600000000000005,22.5,991,799.2,688.1,620.70000000000005,586.6,559.20000000000005,526.79999999999995,943,762.9,661.6,603.6,571.79999999999995,550.4,523.29999999999995,818,656.9,569.70000000000005,518.6,486.9,466,439.4,861.2,687.5,591.79999999999995,534.6,498.6,474.8,445.6,1011.9,776.1,642.5,560.6,507.3,470.1,418.5,44.5,43,42.7,41.1,39.5,39,38.1,143.5,147.6,147.9,148.69999999999999,150.69999999999999,172.4,178.4,1012.3,833.4,728.5,668.1,639.9,625,612.20000000000005,651.79999999999995,544.1,482.8,457.5,447.9,442.8,438.2,608.70000000000005,511.4,464.2,444.6,435.4,430.2,425,571.9,486.3,451.3,433.4,420.1,410.3,401.1,572,486.5,451.8,433.7,418.6,403.7,380.7,608.79999999999995,499,452,429.2,408.6,391.3,371.8,629.5,515.70000000000005,460.2,435,414.7,393,355.5,706,570.1,490.8,452.5,431.1,411.5,370.4,839.7,662.5,560.9,496.4,462.7,442.5,412.1,969.7,764.9,647.70000000000005,573.20000000000005,533.29999999999995,493.4,441.3,0.98729999999999996,1.3030999999999999,1.4782999999999999,0.75409999999999999,1.0392999999999999,1.2186999999999999,574,1.0454000000000001,0.85399999999999998,182.5,1.0497000000000001,0.69699999999999995,31.5,571.6,"CLU00019239",10.984,10613,37.200000000000003,53.8,56.1,0,120.3,4177]
["BRA243001","BRA2430","BRA 2430","ANGELA VI","GRAND SOLEIL 46","DEL PARDO","BOTIN/CARKEEK",2008,null,"PETER DIRK SIEMSEN","INTL","C",1124,"13/10/2016","11:51:08",14.1,12.845000000000001,2.6110000000000002,4.25,12137,130.30000000000001,0.23,571.1,1.0878000000000001,620.5,0.69099999999999995,12.2,971.3,781.4,672.2,599.5,557.79999999999995,529.70000000000005,499.9,925.7,747.2,646.9,585.9,550.79999999999995,528.70000000000005,500.9,800.6,640.79999999999995,553.4,501.4,468.7,447,420,853.7,678.6,581.6,523.1,486.1,461.6,431.4,987.8,755.8,623.5,541.79999999999995,488.7,451.8,401.8,44.3,42.6,42.4,41.3,39.799999999999997,39.299999999999997,38.299999999999997,141.5,148,150.5,153.30000000000001,160.69999999999999,180,180,1006.3,823.8,721.6,654.5,622.9,606.5,589.79999999999995,648.29999999999995,539.29999999999995,476.4,445.5,432.5,426.6,421.4,605.1,506.8,455.4,432.2,420.2,414.1,408.3,569.5,480.3,440.9,421.7,408,396.9,384.8,571.29999999999995,481.8,439.2,420.1,408.1,394.5,369.6,593.29999999999995,484.4,435.8,412.9,393.4,379.6,361.6,611,498.2,442.6,417.8,398.1,378.2,347.9,678.5,547.5,472.3,435.4,414.5,396,357.6,810.9,640,539.20000000000005,474.3,437.5,417.2,381.9,936.3,739,622.70000000000005,544.4,492.6,452.9,410.1,1.0066999999999999,1.3436999999999999,1.5442,0.7702,1.0741000000000001,1.2844,0,0,0.81599999999999995,137.19999999999999,1.0831999999999999,0,0,553.9,"BRA11002131",11.629,13471,43.3,66,51.8,142.5,0,4216]
["CLUGRS463","PANRH","ITA-PANRH","PANTA RHEI","GRAND SOLEIL 463","DEL PARDO","J & J",1998,"C.N.R.TRAIANO","BOLOGNA LUCIANO","CLUB","C",600,"2/5/2016","23:01:48",13.98,12.067,2.2250000000000001,4.4000000000000004,11255,129.6,0.14000000000000001,606.29999999999995,1.0041,672.3,0.624,-2,1048.5999999999999,847.4,732.6,655.7,603.29999999999995,566.1,526.6,993,804.6,698.3,631.5,588.79999999999995,560,528.70000000000005,847.4,680.1,588.1,532.6,496.6,471.9,439.6,918.6,727.6,620.70000000000005,555.20000000000005,512.9,484.6,449.7,1067.2,814.4,669.4,579,519.4,477.7,422,46.5,45,45,43.9,41,40.1,39.1,141.6,144.19999999999999,150.5,154.1,156.6,175.6,179.1,1055.3,869.9,764.2,698.2,657.3,630.1,608.1,666,554.79999999999995,490.4,460.8,447.5,440.1,431.6,610.4,511.6,463.1,443,432.6,425.5,416.8,558.70000000000005,476.9,445.3,428.5,415.2,404.5,392.6,548.5,473.8,445.5,429.1,414.3,399.7,376.3,605.79999999999995,516.20000000000005,461.3,436.2,419,401.9,368.9,653.4,534.9,473.5,445.7,427.6,410.4,376.4,750.4,606.1,521.5,470.7,445.2,428.4,396.7,902.2,714.4,606.9,530.79999999999995,481.4,452.6,419.5,1041.8,824.9,701.1,613.1,549.29999999999995,502.1,445.2,0.95189999999999997,1.2611000000000001,1.4648000000000001,0.71199999999999997,0.98650000000000004,1.2040999999999999,594,1.01,0.73,118.3,1.0103,0.627,0.4,593.9,"CLU00019635",10.606999999999999,12475,40.799999999999997,50.8,49.1,0,0,4231]
["SUISU1094","SUI1094","SUI 109","ONDEIA","Grand Surprise Lac","Archambault","Joubert/Nivelt",2000,"SIMPL","Ryl, Michael","CLUB","C",618,"23/5/2016","16:52:46",9.5399999999999991,9.3230000000000004,2.0630000000000002,2.98,2539,112.1,0,591.29999999999995,1.0304,655.1,0.70699999999999996,35,958.9,778.1,681.2,637.70000000000005,610.1,587,534.70000000000005,914.4,745.6,662.9,619.70000000000005,590.9,567.70000000000005,521.6,807.2,655.6,574.70000000000005,527,495.5,471.8,433.3,860.6,693.8,603.29999999999995,549.1,513.9,488.9,453.1,994.3,771.1,645.29999999999995,567.29999999999995,514.20000000000005,473.9,411,43.6,42.8,39.9,38.5,37.200000000000003,36.700000000000003,36.4,143.5,146.30000000000001,149.6,151.6,174.7,177.2,141.1,983.4,812.7,731,696.3,676.3,668,655.5,637.79999999999995,539.29999999999995,507.3,494.3,486.2,480.7,468.3,597,519.5,491.4,476.6,466.3,459,445.7,562.9,505.2,473.9,446.8,432.2,422.9,412.3,563.29999999999995,505.4,473.4,439.5,410.1,392.3,376.5,589.20000000000005,506,462.8,430.6,406.9,387.4,347.5,607.5,513.9,473,428.8,391.8,370.8,329.6,682,549.9,498.1,460.3,420.1,378.9,300.60000000000002,809.2,643.79999999999995,546.79999999999995,502.7,474.7,442.7,358.5,934.4,743.4,631.4,579.20000000000005,544,506.1,414,1.0081,1.2788999999999999,1.4599,0.7772,1.0274000000000001,1.1776,0,0,1.0549999999999999,324.39999999999998,1.0395000000000001,0,0,577.20000000000005,"SUI00002293",9.2609999999999992,3365,20.3,33.5,33.4,0,90.3,4281]
["CLUH22OD","I106H22","ITA-106H22","H22 RACING ACCADEMY","H22 ONE DESIGN","LION YACHTS SIA","HUMPHREYS",2002,"AVAL-CDV","MOTTURA LORENZO","CLUB","S",280,"3/5/2016","22:00:46",6.74,6.49,1.516,2.4900000000000002,789,101.5,0,677.3,0.89359999999999995,755.4,0.622,35.9,1077.3,878,785.3,746.1,712.5,678.4,602,1039.4000000000001,855.9,768.3,723.9,692,662.8,612.79999999999995,917.3,749,659.3,605.70000000000005,568.9,539.9,490.7,996.5,804.1,700.5,639.29999999999995,599.79999999999995,571.4,529.29999999999995,1124.5999999999999,878.2,739.4,651.79999999999995,589.79999999999995,540.29999999999995,460.1,43.6,42.7,40,39.5,39.200000000000003,39.299999999999997,40.200000000000003,144.6,148.5,150.9,148,145,143.4,140.4,1158.5,958.8,865.5,839.8,829.6,822.9,823.4,752.2,637.9,599.5,586.79999999999995,580.20000000000005,574.79999999999995,563.79999999999995,705.3,615.29999999999995,579,560.70000000000005,550.6,544.70000000000005,528.4,668.3,599,555.29999999999995,518.6,501.8,492.7,476.7,643.4,581,551.4,511.6,469.2,447.5,431,640.20000000000005,569.6,513.1,484,456.1,432.5,380.6,656.9,580.9,519.5,463.1,433.9,409.4,359.3,730.7,614.4,557.20000000000005,501.1,444.6,390.7,307.7,862.7,690.4,611,565,515.6,462.5,329.6,996.1,797.3,705,652.4,595.4,534,380.6,0.88880000000000003,1.1093999999999999,1.2764,0.69040000000000001,0.8861,1.0254000000000001,675.4,0.88829999999999998,0.98899999999999999,376.1,0.90580000000000005,0.64,59.1,662.4,"CLU00019658",6.407,1251,11,20.399999999999999,11,0,51.8,4307]
["GER142005","GER7167","GER 7167","CHARLOTTE","HANSE 291 WINGKEEL","YZ GREIFSWALD","BEYER",1992,"YCLL","JORG PAULSEN-WORM","CLUB","C",455,"1/4/2016","09:21:28",8.86,7.9450000000000003,1.101,2.69,3004,116.4,0.38,740.6,0.83950000000000002,804,0.53300000000000003,11.9,1261.7,1013.7,872.6,776.5,715.7,685.7,658.2,1215,980.1,849.2,769.3,720.2,692.7,663.1,1039.5999999999999,831.4,717.5,649.79999999999995,607.70000000000005,580.4,547.4,1096.3,872.5,748.9,674.9,628.5,598.5,563.29999999999995,1279.5999999999999,979.1,807.8,702,633,585.20000000000005,519.6,45.3,43.8,43.6,43.9,42.4,41.5,41.2,148,152.19999999999999,151.6,159.69999999999999,180,180,180,1346.4,1105.2,973.9,887.3,833.1,811.3,802.7,859.7,717,631.70000000000005,586.9,565.20000000000005,556.6,551.70000000000005,800.7,671.9,598.20000000000005,566.29999999999995,548.6,538.5,532.20000000000005,754.7,634.6,576.4,550.79999999999995,533.4,518.29999999999995,499.9,750,617.6,561.6,535.29999999999995,521.79999999999995,512.1,484.7,740.8,610.29999999999995,558.1,530.79999999999995,504.7,479.3,454.3,772.8,627.4,565.5,536.6,511.1,484.7,437.5,873.3,699.1,593.79999999999995,554.20000000000005,528.9,503.9,454.8,1019.3,799.7,668.8,587.29999999999995,552.79999999999995,529.20000000000005,482.1,1177,922.2,771.3,665.8,598.29999999999995,560,513.6,0.7752,1.0374000000000001,1.1898,0.59330000000000005,0.83020000000000005,0.98850000000000005,721.6,0.83150000000000002,0.627,135.6,0.83560000000000001,0.54300000000000004,22.7,718,"GER20014104",6.8049999999999997,3641,18.7,21.2,18.7,51,0,4336]
["nor21449",21449,"NOR 14546","Julie","Hanse 350","Hanse Yachtbau","Judel/Vrolijk",2009,null,"Arne Henriksen","CLUB","C",673,"6/4/2016","16:59:24",10.48,9.82,1.873,3.55,6338,130.4,0.35,662.9,0.93279999999999996,723.6,0.59599999999999997,12.2,1123.2,904.1,782.9,702,655.29999999999995,619.29999999999995,585.9,1078.8,871.9,756.6,684.7,640.5,612.79999999999995,584.1,929.5,743.9,642.29999999999995,581.9,543.79999999999995,518.70000000000005,487.8,996.3,790.1,675.4,605.9,561.79999999999995,532.9,498.9,1142.9000000000001,875.7,723.2,628.6,566.6,523.5,465.1,44.7,43.1,42.7,42.6,40.799999999999997,40.299999999999997,40,145.9,147.6,147.19999999999999,147.9,150.6,175.7,178.3,1191.5,975.2,856.9,773.5,721.5,699.5,686.7,765.1,637,561,518.4,497.5,487.5,481.7,714.3,598.9,532.6,501.6,484.5,473.6,465.6,674.2,567.20000000000005,513.1,489.3,473.2,459.3,438.4,678.1,559.79999999999995,502.6,476.8,460.4,453,431,675.1,553.9,500,474.9,453.3,431,401.6,698.1,572.4,508.4,480.5,459.2,437.3,394.9,775.8,628.1,540,498,475,454.5,413.6,913.5,721.4,614,546,511.1,489,457.1,1054.8,833,709,630.5,589.1,539.1,485.2,0.86719999999999997,1.1577999999999999,1.3309,0.66590000000000005,0.9194,1.0962000000000001,642.70000000000005,0.9335,0.71799999999999997,149.80000000000001,0.93369999999999997,0.60599999999999998,19.8,642.6,"nor00000283",8.6359999999999992,7242,28.5,32.700000000000003,31.6,0,76.8,4382]
["nor9269",9269,"NOR 11643","Spiralis","Hanse 370","Hanse Yachts","Judel/Vrolijk",2005,null,"Sven Olav Olvin","CLUB","C",755,"1/4/2016","10:57:50",11.25,10.632999999999999,2.02,3.75,7421,113.4,0.28999999999999998,635.6,0.97970000000000002,689,0.61799999999999999,9.4,1082.8,869.7,749.9,666.7,615.20000000000005,585.4,557.79999999999995,1038.4000000000001,838.4,725.9,654.9,612.29999999999995,588,560.4,893.2,714,615.79999999999995,557.1,520.20000000000005,496,466.9,954,756.7,647,580.70000000000005,538.9,511.7,479.7,1098.9000000000001,840.5,692.9,601.6,542,500.7,444.5,44.7,43.1,42.5,42.2,40.700000000000003,39.700000000000003,39.1,145.19999999999999,149.9,152.30000000000001,155.4,171.1,180,180,1148.2,938.2,823.2,741.3,697.4,679.6,667.7,736.8,612.4,539.70000000000005,498.4,479.9,473.1,468.5,687,575.4,512.6,482.2,466.6,458.8,453.5,646.6,544.4,493.5,470.4,454.4,441,426.8,648.5,536.1,483.1,460.4,452.2,438.7,410.1,647.70000000000005,532,480.7,456.1,434.1,415,396.3,668.8,548.5,488.4,461.5,440.6,418.6,380.2,743,603.20000000000005,520.20000000000005,479.7,457.1,436.6,394.7,881.1,693.9,586.79999999999995,516.9,480.2,458.6,419.5,1017.5,801.3,676.7,592.20000000000005,533.1,491.1,447.9,0.90190000000000003,1.2084999999999999,1.3925000000000001,0.69140000000000001,0.96630000000000005,1.1588000000000001,616.70000000000005,0.97299999999999998,0.72199999999999998,128,0.97509999999999997,0.63200000000000001,20.100000000000001,615.29999999999995,"nor00000110",9.3740000000000006,8443,32.299999999999997,46.6,26.9,91.8,0,4397]
["GRE001144","BUL922","BUL-922","HORIZONT","HANSE 400","HANSE","JUDEL/VROELIJK",2008,"YC PORT BOURGAS","HORI…ONT 2002 LTD","INTL","C",750,"22/4/2016","21:00:20",12.026999999999999,11.143000000000001,1.9710000000000001,4.04,8583,110.9,0.19,606.20000000000005,1.0201,661.7,0.66700000000000004,23.3,1017.3,824.2,713.1,639.6,597.79999999999995,571,546.4,976.1,793.5,691.4,629.70000000000005,594.5,573,550.29999999999995,842.8,677.5,587.79999999999995,534.79999999999995,501.9,480.4,454.6,897.6,716.5,616.79999999999995,557.20000000000005,519.9,495.4,465.8,1039.2,798.9,662.1,577.79999999999995,522.70000000000005,484.3,431.8,45.3,43.8,43.5,42.6,41.2,41.1,41.2,144.5,149.4,151.69999999999999,155.19999999999999,169.7,180,180,1077.3,889,783.1,713.5,682.7,668.3,661.7,688.9,576.5,511.5,478.5,466.1,460.6,456.8,640.70000000000005,540.1,487.2,463,451.4,446.2,442,600.70000000000005,510.7,470.8,450.8,436,424.8,415.7,600.5,507.8,463.9,447.3,435.3,420.4,395.4,609,503.7,460.9,437.7,416.3,402.5,384,627.79999999999995,518.20000000000005,468,443.3,421.3,398.8,368.4,698.7,568.70000000000005,495.2,460.6,438.8,417.5,375.9,829,657.6,557.4,494.1,461.4,440.6,401.1,957.3,759.4,643.1,565.70000000000005,512.9,473.6,431.1,0.95850000000000002,1.2617,1.4350000000000001,0.73309999999999997,1.0088999999999999,1.1874,0,0,0.81100000000000005,168.5,1.0182,0,0,589.29999999999995,"GRE01005715",9.9510000000000005,9669,35.4,50.3,48.3,0,118.8,4447]
["GRE000819","GR1324","GRE-1324","MYTHOS","HANSE 400e","HANSE","JUDEL/VROELIJK",2006,"NO NEAS ARTAKIS","STAVRIANOPOULOS NIKOS","CLUB","C",600,"27/6/2016","13:39:38",12.026999999999999,11.010999999999999,1.964,4.04,8400,112.3,0.28999999999999998,652.79999999999995,0.9536,707.8,0.56799999999999995,-11.7,1156.3,910.6,771.2,680.9,627.5,593.79999999999995,559.29999999999995,1088.8,869.6,745.3,667.2,622.1,596.79999999999995,567.9,929.4,737.9,631.6,567.79999999999995,527.70000000000005,501.5,470.1,929.4,737.9,631.6,567.79999999999995,527.70000000000005,501.5,470.1,1161.5,877,714.9,615.4,551.20000000000005,507.4,449.5,45.1,43.7,43.4,42.7,41.6,41.8,41.1,172.9,175.5,180,180,180,180,180,1123.9000000000001,921.7,807.3,729.9,695.2,680.2,665,718.4,598,526.1,486.2,470.5,464.5,460,668.1,560.29999999999995,498.7,468.9,455.1,449.3,445,627.20000000000005,528.9,479.8,456.6,440.9,428.9,418.5,627.9,529.5,480.1,457,440.9,425.2,398.6,696.9,574.6,502.2,468.1,448.8,432,397.9,742.9,608.5,527.70000000000005,481.6,457.8,440.5,406.8,869.1,687.6,586.6,519.20000000000005,479.6,457.4,424.5,1032.7,792.6,660.2,575.79999999999995,516,479.1,440.8,1188.7,899.4,735.2,631.79999999999995,559.70000000000005,507.3,453.6,0.86180000000000001,1.1839999999999999,1.3794999999999999,0.6532,0.94169999999999998,1.1455,0,0,0.65,90.5,0.9486,0,0,632.5,"GRE01006319",9.6910000000000007,9464,34.5,53.7,31.4,0,0,4473]
["knw","nedo8802","NED 8802","Touchdown","Hanse 540","Hanse Yachts","Judel/Vrolijk",2007,260245,"Ron van der Plas","CLUB","C",1206,"31/10/2016","12:01:14",16.079999999999998,14.821,2.7210000000000001,4.8600000000000003,18500,126.4,0.32,588,1.0539000000000001,640.5,0.60699999999999998,-26.1,1064,834.6,702,616.1,564.1,529.6,490,990.6,785.7,669.5,596.1,551.6,525.20000000000005,495.2,844.1,667.5,568.70000000000005,508.6,470.4,445.2,414.6,844.1,667.5,568.70000000000005,508.6,470.4,445.2,414.6,1063.2,797.7,645.9,552.5,492.3,451.5,398.8,44.7,42.9,42.3,42,40.700000000000003,39.799999999999997,38.799999999999997,143.5,172.8,176,180,180,180,180,995,809.2,706.1,636.9,602.9,586.1,568.79999999999995,638.29999999999995,528.79999999999995,463.5,427.2,412.5,406.5,401.5,594.5,497,439.7,412.4,399.8,394.2,389.3,559.1,470.1,423.5,402,388.7,378.9,369.2,561.1,471.9,424.5,403.1,389.5,377.5,354.7,625.1,521.79999999999995,456.1,418.2,399.5,385.9,358.7,688,557.20000000000005,482.2,433.8,408.7,393.4,366.7,816.2,637.79999999999995,540.6,476.6,433.6,409.8,382.1,981.3,748.8,617.70000000000005,535.9,478.2,436.9,396.7,1133.0999999999999,860,697.9,595.4,525.29999999999995,473.1,411.3,0.94730000000000003,1.3170999999999999,1.5570999999999999,0.71099999999999997,1.0385,1.2897000000000001,571.79999999999995,1.0492999999999999,0.67700000000000005,62.6,1.0519000000000001,0.61399999999999999,-20.6,570.4,"knw00005886",12.907999999999999,20192,60.1,86.4,59.9,0,0,4529]
["nor8406",8406,"NOR 10455","Frokna","Hansson 31",null,"Edwardson og Hanss",2000,null,"Arild Heldal","CLUB","C",597,"3/6/2016","21:12:30",9.6,8.9529999999999994,1.8240000000000001,2.77,3507,124.6,0.23,662.1,0.93510000000000004,721.9,0.61099999999999999,25.3,1125.0999999999999,904.3,774.8,691.8,649.4,625.9,595.4,1072.2,866.5,751,684.2,648.4,626.70000000000005,594.70000000000005,918.8,739.1,642,585.20000000000005,550,526.79999999999995,496.4,997.9,794.4,683,617,576,549.4,516.4,1144.0999999999999,876.4,725,632.70000000000005,573.29999999999995,532.6,477.6,43.6,42,42,40.4,39.1,38.5,38.200000000000003,146.19999999999999,150.30000000000001,148.80000000000001,158.19999999999999,180,180,180,1172.4000000000001,961.5,843.7,770.1,743.3,731.3,718.6,744.3,612.5,553.4,533.5,522.79999999999995,518,512.79999999999995,679.1,566.70000000000005,529,518.4,507.6,502.4,498.7,618.79999999999995,537.5,508.6,494.2,486,477.3,467.8,609.9,537.20000000000005,510.3,488.4,466,454.2,441.6,671.9,555.70000000000005,513.9,485.5,462.9,446.7,410.7,694.4,568.79999999999995,520.4,492.2,462.5,433.9,404.9,775.4,630.29999999999995,543.6,510.7,484.2,455.8,398.5,933.4,733.5,611.29999999999995,540.9,510.9,486.4,434.2,1077.8,847.2,705.9,613.4,555.5,520.6,472.3,0.88049999999999995,1.1552,1.3077000000000001,0.66520000000000001,0.92900000000000005,1.0881000000000001,656.1,0.91449999999999998,0.73899999999999999,167.4,0.9304,0.628,44.4,644.9,"nor00001466",8.2360000000000007,4303,21.8,27,23.3,73.900000000000006,0,4537]
["nor21798",21798,"SH 5598","ocean girl","HR 312","Hallberg Rassy","Olle Enderlein/C R",1985,null,"Arild Haraldstad","CLUB","C",474,"30/4/2016","22:28:30",9.42,7.6749999999999998,1.5960000000000001,3.09,4900,122.3,0.68,766.1,0.81310000000000004,830.2,0.52700000000000002,22.7,1290.0999999999999,1034.7,894.3,804.8,747.1,713,685,1229.8,999.3,872.5,794.4,748.7,722.6,697.8,1067.9000000000001,857.1,742.5,675,633.4,606.6,574.9,1067.9000000000001,857.1,742.5,675,633.4,606.6,574.9,1319.3,1010.6,835.8,728.7,659.5,612.20000000000005,549,44.8,43.3,44,44.2,43,42.3,42.2,155.19999999999999,164.4,171.3,173.1,174.2,178.1,179.2,1285.5999999999999,1075.0999999999999,963.1,890.6,854.2,835.9,827.2,827.4,701,624.20000000000005,588.5,574.70000000000005,567.9,563.29999999999995,775.7,657.7,594.79999999999995,568.29999999999995,555.4,549.20000000000005,544.6,733.1,621.79999999999995,574.9,552.4,537.1,525.6,515.70000000000005,735.4,624.20000000000005,576.1,553.4,535,520.1,497.1,805.5,669.4,593.6,561.70000000000005,541,522.1,486.2,853.9,708.5,615.5,572.20000000000005,548.70000000000005,529.6,492.3,970.1,780,670.6,599.5,565.79999999999995,544.70000000000005,507.4,1123.5999999999999,873.7,740,648.9,591.4,562,523.79999999999995,1294.5,994.4,825.6,719.1,640.1,590,542.70000000000005,0.75600000000000001,1.0003,1.1367,0.58069999999999999,0.80410000000000004,0.94940000000000002,749.7,0.80030000000000001,0.63700000000000001,159.69999999999999,0.80730000000000002,0.53,28.6,743.2,"nor00000836",6.649,5525,23.6,23.3,34.200000000000003,0,0,4598]
["JPN160040","JC160040","JPN6678","ROOT","HUNTER 306","HUNTERMARINE",null,2004,null,"Riichiro Tsukamoto","CLUB","C",460,"29/3/2016","12:58:42",9.1199999999999992,7.6459999999999999,1.536,3.27,3193,119.5,0.39,852.5,0.73880000000000001,913.6,0.40400000000000003,-45.7,1550.5,1205.7,1013.8,888.7,797.7,733.5,690.7,1506.6,1182.7,1001.2,882.7,799,743.5,710.8,1248.3,977.3,823.4,727.8,665.5,624.29999999999995,578.5,1248.3,977.3,823.4,727.8,665.5,624.29999999999995,578.5,1531.9,1148,925.6,785.4,692.6,628.79999999999995,548.5,47.9,46.6,46.1,45.9,45.7,44.4,44.6,180,180,180,180,180,180,180,1652.7,1319,1138.2,1015.3,922.1,858.7,838.5,1036.0999999999999,833.6,722.7,645.20000000000005,594,566.9,554.6,946.5,769.6,668.3,601.29999999999995,566.1,546.20000000000005,530.79999999999995,873.9,716.1,622.20000000000005,571.70000000000005,546.29999999999995,528.4,499.4,875.2,715.7,620.70000000000005,570.70000000000005,544.5,523.5,484.9,952.4,761.3,650.79999999999995,583.9,551.4,529.79999999999995,490.4,1016.5,801.2,680.5,601.79999999999995,561.1,537.6,498,1148.5,887,743.9,649.9,588.29999999999995,555.5,514.6,1303.9000000000001,991.5,817.5,708,629.79999999999995,579.5,531,1448.2,1092.4000000000001,889.4,762,673.3,608.29999999999995,542.9,0.63759999999999994,0.91239999999999999,1.1155999999999999,0.48980000000000001,0.72270000000000001,0.92020000000000002,815.6,0.73560000000000003,0.438,25.3,0.73429999999999995,0.41199999999999998,-39,817.1,"JPN00016016",5.9859999999999998,3798,19.5,20.5,15,0,0,4613]
["BRA201603","BRA2016","BRA2016","STAND BY ME","ILC 25","CARABELLI","HORACIO CARABELLI",1998,null,"LARS GRAEL","INTL","R",355,"5/10/2016","13:16:46",7.8049999999999997,6.87,1.726,2.58,1257,93,0,680.8,0.90329999999999999,747.2,0.64800000000000002,62.7,1091.0999999999999,883.4,780.5,727.1,695.2,672.9,643.70000000000005,1037.5999999999999,849.4,762.8,720.2,693.3,671.9,642,922.6,751.4,661.5,610.20000000000005,578.4,556.6,525.9,963.6,780.3,683.1,627.20000000000005,592.6,569.1,537.9,1137.0999999999999,883.9,743.1,657.4,600.9,559.79999999999995,499.5,43.2,42.4,40.4,39.6,39.4,39.299999999999997,40.6,145.9,149.9,154.1,170.1,180,180,180,1100.8,915,845,821.9,812.8,804.3,812.9,717.4,611.1,583.1,573.79999999999995,568.9,564.6,560.70000000000005,673.3,589.5,564.1,554,548.29999999999995,544.70000000000005,535.4,639.4,573.5,541.20000000000005,522.5,513,507.9,495.9,642.20000000000005,574.4,538.70000000000005,506.7,484.7,474.6,468.6,676.5,580.1,535.5,495.6,475.4,457.1,425.4,703.5,592,546.5,504.2,463.8,436,401.8,789.1,638.20000000000005,574.29999999999995,535.1,496.1,457.9,372.1,936.4,737.6,625.1,570,533.1,496.9,422.8,1081.3,851.7,716.1,632.29999999999995,577.5,541.6,474.6,0.8851,1.1093999999999999,1.2343,0.68369999999999997,0.9,1.0112000000000001,0,0,0.95299999999999996,347.8,0.90200000000000002,0,0,665.2,"BRA11002123",6.7359999999999998,1721,12.3,21.1,15.4,35.1,0,4639]
["nor8756",8756,"NOR 10078","Sweet Jane","IMX 38","X-Yachts","Niels Jeppesen",1992,null,"Dag Oyvind Askheim","CLUB","C",666,"19/4/2016","17:05:12",11.37,9.8330000000000002,2.1019999999999999,3.66,5472,113,0.18,624.6,0.99539999999999995,678.1,0.65700000000000003,28.7,1040.7,842.8,727.1,654,613.1,588,558.9,997.7,810.1,705.9,644.70000000000005,610,588.29999999999995,560,867.5,697.6,605.70000000000005,551.70000000000005,518,495.6,467.1,932.5,743.6,639.79999999999995,577.70000000000005,538.70000000000005,512.9,481.4,1064.7,819.6,680.5,594.9,539.1,500.1,446.4,43.9,42.6,42.5,41,40.1,39.5,39.1,144.80000000000001,149.4,151,156.5,173.5,180,180,1096,903.9,794.3,726.5,698.3,684.6,672.6,709.5,592.4,527.6,498.7,486.9,481.4,477,664.8,558,507.6,484.8,471.9,465.5,460.4,628.4,532.70000000000005,493.4,472.3,455.1,441.5,429.8,630.5,524,484.1,470.3,454.2,436.7,409.2,627,520.1,480.4,453.6,432.1,420.3,400.2,647.20000000000005,533.79999999999995,487.4,460.6,434,409.7,383.1,720.9,584.6,511.7,479,454.1,429.1,382,853.3,677,572,510.2,479.9,456.6,411.3,985.4,781.7,660,581.6,528,491.3,445.3,0.9325,1.2237,1.3907,0.71679999999999999,0.98699999999999999,1.1571,611.4,0.98140000000000005,0.80700000000000005,179.5,0.98970000000000002,0.67200000000000004,42,606.29999999999995,"nor00000500",9.1419999999999995,6366,27.6,37.700000000000003,33.9,98.7,101.8,4688]
["MLT1618MC","GEISHA","MLT4041","GEISHA","IMX40","X Yacht","jappesson",2000,"Malta","DAVID PIZZUTO","CLUB","C",650,"20/10/2016","09:46:36",12.1,10.728999999999999,2.5510000000000002,3.78,6783,124.3,0,577.5,1.0677000000000001,632.20000000000005,0.76200000000000001,61.9,935.5,763.8,659,610.70000000000005,587.9,562.79999999999995,533.20000000000005,894.3,728.9,640.70000000000005,596.79999999999995,572.29999999999995,552.4,523.29999999999995,788.8,639.4,560.5,515.6,488.3,469.8,444.2,855.8,686.6,594.70000000000005,540.5,506.6,484.2,455.4,966.7,750.1,628.79999999999995,555.4,508,474.6,427,42.7,41.7,40.799999999999997,38.799999999999997,38.1,37.5,37.1,143.6,147.19999999999999,148.19999999999999,150.80000000000001,153.1,176.2,177.5,970.2,804.5,706.9,667.9,649.70000000000005,639.20000000000005,625.1,636.70000000000005,532.29999999999995,485.4,470.2,463.6,460,452.4,600.20000000000005,507.9,472,457.3,450.5,446.5,439.5,570.1,492,462.2,443.6,430.3,423.1,416.7,571.29999999999995,484,463.9,444.1,425.4,408.8,391.7,567.6,480.4,448.6,432.9,419.9,407.5,385.5,584.1,489,454,426.7,406.9,393.5,368.8,658.1,530.70000000000005,474.3,446.8,420.7,394.7,342.7,780.2,626.29999999999995,529.29999999999995,479.8,459,438.6,393.4,900.9,723.2,611.1,553.4,526.20000000000005,486.5,441.3,1.0303,1.3152999999999999,1.4614,0.7944,1.0649,1.2097,568.4,1.0555000000000001,1.022,281,1.0653999999999999,0.77600000000000002,74.8,563.20000000000005,"MLT00000735",10.362,7810,31.4,52.3,42.4,0,155.80000000000001,4738]
["ITAK4702","K4702","K-4702","OJALA' II","IOR ONE TON","ROYAL HUISMAN","SPARKMAN & STEPHENS",1966,"LNI LA SPEZIA","HOLLAND SUSAN","INTL","C",600,"9/3/2016","09:28:26",11.51,9.0310000000000006,1.974,3.5,8421,118.8,0.5,685.3,0.90110000000000001,749.1,0.60399999999999998,32.4,1123.3,925.3,812.2,729.2,677.6,645.9,616.79999999999995,1083.0999999999999,895.2,788.3,719.3,677.4,651.9,625,946.2,764.2,665.2,606.5,569.70000000000005,545.70000000000005,517.6,991,796.1,689.1,624.9,584.29999999999995,557.6,525.29999999999995,1160.8,898.5,748.6,655.1,593.5,550.70000000000005,492.8,45,43.5,44.4,44.6,43.3,42.7,42.1,147.5,151.80000000000001,152.6,155.9,174.2,180,180,1184.5,1001.3,898.8,823,783.1,761.9,745.6,763,652.4,579.20000000000005,540.1,522.70000000000005,514.6,508.2,716.6,611.20000000000005,548.79999999999995,520.79999999999995,505.3,497.1,490.9,677.8,575.79999999999995,528.70000000000005,506.7,491.4,478.4,466.1,677.4,575.6,527.4,503.8,492.2,478.6,453.9,700.1,579.29999999999995,523.20000000000005,497.7,477.7,462.4,448.3,720.8,597,531,502.9,482.5,463.3,434.5,788.8,652.6,561.5,519.29999999999995,496.5,477.4,442,919.9,736.5,629.79999999999995,555.5,519,497.9,462.6,1062.2,849.4,725.6,635.5,572.1,529.79999999999995,488.1,0.85409999999999997,1.1115999999999999,1.2633000000000001,0.65900000000000003,0.88780000000000003,1.0499000000000001,670.3,0.89510000000000001,0.73399999999999999,179.8,0.8992,0.61099999999999999,39.4,667.3,"ITA00018410",7.8079999999999998,9210,29,29.5,53.6,99.7,99.1,4764]
["ITA9981","I998","ITA-998","LOW NOISE II","ITALIA 9.98 F","ITALIA YACHTS","POLLI",2014,"Y.C.CHIAVARI","GIUFFRE' GIUSEPPE","INTL","C",630,"19/5/2016","12:10:12",10.3,9.4359999999999999,1.905,3.54,4649,118.1,0.08,626.20000000000005,0.9879,683.3,0.66100000000000003,32.4,1036.7,840.8,727.4,660.2,620.4,597.1,567,995.4,809.6,708.8,651.9,618.70000000000005,597.6,566.79999999999995,866.2,698.1,607.5,554.29999999999995,521,498.8,469.5,925,739.8,638.70000000000005,578.70000000000005,541.1,516.20000000000005,484.5,1063.4000000000001,820.3,682.7,597.79999999999995,542.1,502.7,447.5,44.6,43.3,43,42.2,41.1,40.5,40.4,145.1,149.19999999999999,151.1,157.6,180,180,180,1095,905.4,799.1,741.2,714.7,702.5,690.6,705.2,589.79999999999995,529,502.1,492.1,487.3,482,658.7,554.9,508.8,487,475.6,469.8,465.8,620.20000000000005,529.5,494.6,473.1,454.5,441.5,432.6,621.1,529.9,489.4,473.1,453.1,433.5,406,632.6,524.6,483.7,454.4,433.2,420.8,398.6,650.6,535.79999999999995,489.9,461,432,406.2,380.2,718.9,581.9,512,480,453.1,426.3,374.1,847.3,672.3,568.4,510,480.7,455.7,407.4,978.4,776.3,655.6,579.20000000000005,526.1,491.7,443.4,0.93489999999999995,1.2184999999999999,1.3815999999999999,0.71899999999999997,0.98150000000000004,1.1409,614.4,0.97650000000000003,0.84199999999999997,208.3,0.98519999999999996,0.67800000000000005,47.6,609,"ITA00019936",8.7769999999999992,5461,25,37.4,32.700000000000003,93.2,0,4779]
["CLU127111","I12711","ITA-12711","HAKUNA MATATA","J.O.D. 35","JEANNEAU","ANDRIEU",1991,"A.S.P.E.R.","ARRU ALESSIO","CLUB","R",350,"3/11/2016","16:39:26",10.632,9.7530000000000001,1.9990000000000001,3.49,4123,107.1,0.26,646.1,0.96140000000000003,702.1,0.60799999999999998,10,1105,881.7,754.1,676.5,631,603.1,571.4,1050.5,843,728.1,663,626.79999999999995,603.70000000000005,572.1,907.4,725.2,625.79999999999995,567.1,530.20000000000005,505.6,473.5,954.9,758.7,650.79999999999995,586.6,546.1,519.1,483.9,1120.2,855.3,705,612.6,552.29999999999995,509.9,450.2,43.8,42.4,41.6,40.5,39.299999999999997,38.700000000000003,39.200000000000003,144.9,149.6,152.5,156.5,180,180,180,1133.5,922.9,804.5,740,713.5,700.3,686.5,732.6,605.79999999999995,536.4,507.7,497,491.4,485,685.3,571,515.29999999999995,492.4,480.9,474.9,469.5,646.79999999999995,543.9,500.7,478.3,460.5,447,435.8,651.1,541.20000000000005,494.5,474.6,457.9,437.5,407.6,663.8,544.5,495.3,467.2,438.8,419.8,395.4,692.1,564.20000000000005,504.4,475.1,448,419.9,377.6,781.3,627.29999999999995,539.20000000000005,497.1,471,444.3,390.7,932.3,727.9,610.1,535.79999999999995,497.3,472.4,422.4,1076.5,840.5,703.7,612.9,548.5,505.9,456.4,0.88870000000000005,1.1893,1.3652,0.67949999999999999,0.95330000000000004,1.1284000000000001,628.9,0.95409999999999995,0.73799999999999999,149.9,0.95789999999999997,0.61399999999999999,16.100000000000001,626.4,"CLU00020730",8.9480000000000004,5011,24.7,38.5,21,57.6,0,4840]
["CLU137341","I13734","ITA-13734","JOD L","J.O.D. 35","JEANNEAU","ANDRIEU",1991,"Y.C.QUARTU SANT'ELENA","RICCI FRANCO","CLUB","R",550,"19/10/2016","20:57:58",10.632,9.7769999999999992,2.0059999999999998,3.49,4242,107.7,0.02,623.4,0.99319999999999997,679.6,0.65,24.1,1044.8,841,724.2,656.8,616.1,590.29999999999995,560.20000000000005,988.2,800.2,698.8,644.1,612,589.6,559.29999999999995,864.3,695.7,604.6,551.1,517.29999999999995,494.5,464.2,897.5,719.6,623,565.79999999999995,529.79999999999995,505.3,472.3,1070.2,821.8,681.5,595.29999999999995,538.79999999999995,498.7,441.9,43.9,42.6,41.8,40.1,38.799999999999997,38.5,38.299999999999997,144.6,149.5,150.80000000000001,157.1,180,180,180,1048.4000000000001,865.2,764.3,719.1,696.5,683.1,672.5,679.1,568,516,498.5,490.2,485.4,479.5,636.1,538.4,499.5,483.3,474.9,469.6,463.9,600,517.70000000000005,486.5,466.1,450,440.7,431.4,601.20000000000005,518.20000000000005,486.8,464.4,441.8,422.6,402.2,642.70000000000005,531.1,488.2,459.3,429.9,411.8,386.4,667.3,547.1,496,467.5,438.1,408.6,366.9,748.3,603.9,523.5,487.9,461.4,433.3,377.6,901.6,707.4,592.6,521.6,488.4,463.4,411.6,1041.0999999999999,816.8,684,594.6,535.70000000000005,497.5,448,0.93689999999999996,1.2246999999999999,1.3943000000000001,0.71589999999999998,0.98619999999999997,1.1529,612.5,0.97960000000000003,0.81899999999999995,188.8,0.98860000000000003,0.66100000000000003,36.4,606.9,"CLU00020640",9.2010000000000005,5134,24.9,42.7,32,68.599999999999994,0,4847]
["AUT030/16","AUT118","AUT  118","LA WALLY","J/V 36","Martin","Judel/Vrolik",1995,"Austria","Simma Hanspeter","CLUB","C",500,"24/5/2016","14:55:20",11.05,9.6639999999999997,1.86,3.2,3542,115.6,0,586.9,1.0364,651.29999999999995,0.752,63.5,939.4,766.4,678.4,636.20000000000005,612.5,586.4,547.5,898.3,737.3,661.8,622.70000000000005,596.4,572.70000000000005,547.6,793,647,570.6,526.79999999999995,499.2,479.4,449.5,849.4,686.7,599.4,548.20000000000005,515.79999999999995,493.9,465.3,979,762.8,642.29999999999995,568.79999999999995,519.70000000000005,483.5,428.7,44.2,43.2,41.4,40.6,39.9,39.4,40,143.19999999999999,145.69999999999999,149.4,151.80000000000001,174.4,177.2,141.6,974.8,813.2,746.2,715,698.2,683.4,682.6,628.4,532.70000000000005,504.3,493.1,486.6,481.2,475.4,586.5,508.6,486.8,476.7,470.1,465.5,454.9,550.79999999999995,492,466.9,451.3,441.5,435.4,424.4,550.4,491.6,463.2,437.3,418.5,408.5,399.6,568,488.6,459.2,439,420.8,406.1,368.8,583.9,495.2,457.1,426.6,407.6,390.7,358.7,658.4,529.4,479.9,445.6,410.4,375,325.5,782.8,623.20000000000005,528.9,483.7,457.7,429.5,357.2,904,719.6,610.70000000000005,557.29999999999995,526.70000000000005,489.5,412.5,1.0304,1.284,1.4327000000000001,0.79139999999999999,1.0302,1.1671,0,0,1.113,358.4,1.0427999999999999,0,0,575.29999999999995,"AUT00001768",9.1929999999999996,4376,22.5,41.2,35.799999999999997,0,114.8,4904]
["GRE001172","ESP9297","ESP-9297","ANDARIN","J-105","J BOATS EUROPE","ROD JOHNSTONE",1991,"NAOEF","DIMITRIOS NATHANAIL","CLUB","R",420,"13/7/2016","20:24:08",10.57,9.548,2.004,3.35,3859,106.8,0.18,627.9,0.98509999999999998,685.2,0.65600000000000003,29.9,1053,843.9,722.8,659.4,631,601.29999999999995,567.9,1009.8,810.8,703.2,645.9,614,589.70000000000005,555.4,872.7,700.8,608.5,554.9,521.5,498.6,466.5,955.4,757.2,648.29999999999995,583.6,543,515.9,480.9,1071.4000000000001,823.2,683.3,598,542.4,503,446.9,44.1,42.2,41.4,39.700000000000003,38.4,38.1,37.700000000000003,143.80000000000001,147.30000000000001,147.80000000000001,150.19999999999999,152.69999999999999,176.7,177.7,1121.5999999999999,909.6,789.4,727,700.8,686.8,669.9,726.7,598.6,531,505.4,495.2,489.5,482.6,680.4,565,512.70000000000005,491.4,479.6,473,467.1,643.5,540.6,499.7,477.6,459.3,445,433.5,624.29999999999995,521.4,492.6,477.7,457.7,436.8,406.6,619.70000000000005,516.9,478.7,452,435.8,421.7,394.8,639.6,527.20000000000005,485.6,453.6,422.2,403.4,374.8,718.9,576.29999999999995,507.4,475.8,445.1,414.2,350.3,852.5,673.9,568.20000000000005,512.6,489.2,465.8,409.4,984.3,778.2,656.1,591.79999999999995,561.29999999999995,515.9,465.9,0.92789999999999995,1.2188000000000001,1.3808,0.7117,0.98,1.1321000000000001,0,0,0.84499999999999997,212.8,0.98540000000000005,0,0,608.9,"GRE01006419",8.9930000000000003,4709,24.3,34,24.5,0,98.3,4930]
["GER142012","GER7117","GER 7117","TOP JOB","J-111","J-BOATS","JOHNSTONE",2011,null,"NORBERT BURKERT","CLUB","C",720,"4/4/2016","13:09:44",11.085000000000001,10.488,2.222,3.27,4529,123.4,0.12,579.70000000000005,1.0634999999999999,634.70000000000005,0.72799999999999998,40.200000000000003,955.4,771.2,661.5,611.5,588.29999999999995,563.79999999999995,523,914,737.8,644.4,597.70000000000005,570.70000000000005,548.29999999999995,510.9,798.9,644.6,562.4,514.79999999999995,484.8,463.4,431.1,874.3,697.7,601.20000000000005,543.79999999999995,507.4,482.8,449.7,979.4,756.1,630.70000000000005,554.29999999999995,504,467.5,412.8,43.3,42.1,40.799999999999997,38.6,37.700000000000003,37,36.4,143.4,146.5,148.5,151.19999999999999,151.30000000000001,176.3,142.1,1002.6,820.4,714.3,671.8,651.6,639.79999999999995,623.4,652.1,540.1,490,474.1,466.6,462.2,452.5,611.5,513.4,476.1,460,452,446.8,436.8,578.29999999999995,495.5,465.1,443.8,427.3,418.4,410.2,580.29999999999995,488,466.2,444.3,420.8,400.4,379.7,573.4,482.9,448.4,428.3,411.9,395.8,366.7,589.1,490.4,453.8,420,396.2,379,346.4,663,529.9,474.2,443.9,411.2,377.8,315,786.6,625.29999999999995,527.20000000000005,478,455.6,432.4,366,908.3,722.1,608.79999999999995,551.29999999999995,525,487.7,422.7,1.0161,1.3141,1.4843999999999999,0.78190000000000004,1.0619000000000001,1.2171000000000001,572,1.0489999999999999,0.98699999999999999,261.3,1.0646,0.749,60.8,563.6,"GER20014276",10.185,5487,26.3,39.1,34.1,0,129.5,4980]
["knwnone","nedc6667","NED 6667","J Quattro","J-120","J-Composit","R. JOHNSTONE",2001,4022266,"J. van der Wal","CLUB","C",400,"22/4/2016","13:25:58",12.244,11.319000000000001,2.1739999999999999,3.67,7121,117.5,0.17,590.4,1.044,646.6,0.71599999999999997,43.4,981.2,792.9,680.8,622.4,595.29999999999995,569.6,536.9,939,758.2,661.7,610.9,581.70000000000005,558.9,528.4,815.1,656.8,572.4,524,494.4,474.6,447.6,883.2,705.3,608,550.1,513.70000000000005,489.4,458.8,1003.4,773.2,643.9,565.5,515,479.8,430.7,44.4,43,42.6,40.799999999999997,39.299999999999997,38.200000000000003,37.799999999999997,143.4,147.4,146.6,150.4,151.9,175.5,177.8,1031.2,845.7,744.6,693.5,666.7,649.5,631,664.5,552.20000000000005,495.2,475.7,466.6,461.4,454.6,621.1,520.1,477,460.9,453,448.1,442.7,584.70000000000005,497,463.5,446.7,434.4,426.6,418.4,586.6,494.7,463.9,445.3,429.4,414.3,394.9,584.6,485.7,452,437.8,425.4,413.3,390,598.9,493.5,454.7,430.2,412.5,398.7,373.6,679.7,539.1,473.3,445.6,421.1,394.8,347.2,806.4,640.79999999999995,534.4,477.7,455.5,437.7,396.1,931.1,740,617.1,551.4,523.9,489.7,442.7,0.99450000000000005,1.2936000000000001,1.4483999999999999,0.76100000000000001,1.0395000000000001,1.1973,577.6,1.0387,0.91900000000000004,228.7,1.0439000000000001,0.72199999999999998,49.4,574.70000000000005,"knw00005118",10.295,8241,33.1,47.1,44.7,0,159.6,4995]
["ISR043/16","ISR717","ISR 717","Ursa Minor","J-24","J-BOATS","JOHNSTONE",1977,"ISRAEL","Polevoy / Kunik","CLUB","R",400,"25/3/2016","13:27:30",7.3179999999999996,6.4859999999999998,1.224,2.69,1271,95.3,0,726.4,0.85440000000000005,790.1,0.56699999999999995,28.7,1190.7,967.9,838.8,760.5,718.9,696.8,669.9,1139.5999999999999,932,819.3,755.9,719.7,697.8,669.9,998.7,808.3,705.5,644.6,605.6,578.79999999999995,542.70000000000005,1032.8,832.8,724.9,661.3,621.29999999999995,594.5,559.4,1228.0999999999999,949.4,791.7,693.9,628.1,579.29999999999995,504.8,44.7,43.7,42.5,41.1,39.9,39.5,40.5,148.19999999999999,152.1,153.80000000000001,171.4,180,180,180,1235.3,1028.8,912.8,853.6,827.4,817.1,825.5,795.3,670.7,615.70000000000005,590.5,578.4,572,570.20000000000005,744,638.5,597.20000000000005,571.9,554.29999999999995,545.5,540.20000000000005,701.3,617,581.4,551.1,524.79999999999995,507.7,496.8,701.5,617.70000000000005,581.9,544.6,522.20000000000005,495.7,461.1,731.6,621.1,577.70000000000005,538.6,501.6,465.7,421.4,755,632.5,585.1,547.79999999999995,511.5,475.7,388.4,839.8,689.9,609.4,572.29999999999995,536.1,502,428.6,992.5,786.2,666.9,603.6,569.6,535.9,473,1146,907,764.8,667.5,610.4,576.4,514.1,0.81200000000000006,1.0454000000000001,1.1911,0.62539999999999996,0.85070000000000001,0.97509999999999997,0,0,0.75600000000000001,232.9,0.84909999999999997,0,0,706.6,"ISR00062151",6.3029999999999999,1726,11.9,16,18.8,35.299999999999997,0,5040]
["CLUJ24ITA","I85J24","ITA85J24","J-LAG","J-24","J-BOATS","JOHNSTONE",1977,"Y.C.VERONA","FRONTI ANDREA","CLUB","R",400,"9/5/2016","20:34:10",7.3179999999999996,6.4859999999999998,1.224,2.69,1271,95.3,0,726.4,0.85440000000000005,790.1,0.56699999999999995,28.7,1190.7,967.9,838.8,760.5,718.9,696.8,669.9,1139.5999999999999,932,819.3,755.9,719.7,697.8,669.9,998.7,808.3,705.5,644.6,605.6,578.79999999999995,542.70000000000005,1032.8,832.8,724.9,661.3,621.29999999999995,594.5,559.4,1228.0999999999999,949.4,791.7,693.9,628.1,579.29999999999995,504.8,44.7,43.7,42.5,41.1,39.9,39.5,40.5,148.19999999999999,152.1,153.80000000000001,171.4,180,180,180,1235.3,1028.8,912.8,853.6,827.4,817.1,825.5,795.3,670.7,615.70000000000005,590.5,578.4,572,570.20000000000005,744,638.5,597.20000000000005,571.9,554.29999999999995,545.5,540.20000000000005,701.3,617,581.4,551.1,524.79999999999995,507.7,496.8,701.5,617.70000000000005,581.9,544.6,522.20000000000005,495.7,461.1,731.6,621.1,577.70000000000005,538.6,501.6,465.7,421.4,755,632.5,585.1,547.79999999999995,511.5,475.7,388.4,839.8,689.9,609.4,572.29999999999995,536.1,502,428.6,992.5,786.2,666.9,603.6,569.6,535.9,473,1146,907,764.8,667.5,610.4,576.4,514.1,0.81200000000000006,1.0454000000000001,1.1911,0.62539999999999996,0.85070000000000001,0.97509999999999997,715.7,0.83830000000000005,0.75600000000000001,232.9,0.84909999999999997,0.59199999999999997,55.4,706.6,"CLU00019791",6.3029999999999999,1726,11.9,16,18.8,35.299999999999997,0,5070]
["nor6679",6679,"NOR 8965","NN","J-24",null,"JOHNSTONE",1977,null,"Jon Waage","CLUB","R",400,"6/4/2016","16:04:56",7.3179999999999996,6.4859999999999998,1.224,2.69,1271,95.3,0,726.4,0.85440000000000005,790.1,0.56699999999999995,28.7,1190.7,967.9,838.8,760.5,718.9,696.8,669.9,1139.5999999999999,932,819.3,755.9,719.7,697.8,669.9,998.7,808.3,705.5,644.6,605.6,578.79999999999995,542.70000000000005,1032.8,832.8,724.9,661.3,621.29999999999995,594.5,559.4,1228.0999999999999,949.4,791.7,693.9,628.1,579.29999999999995,504.8,44.7,43.7,42.5,41.1,39.9,39.5,40.5,148.19999999999999,152.1,153.80000000000001,171.4,180,180,180,1235.3,1028.8,912.8,853.6,827.4,817.1,825.5,795.3,670.7,615.70000000000005,590.5,578.4,572,570.20000000000005,744,638.5,597.20000000000005,571.9,554.29999999999995,545.5,540.20000000000005,701.3,617,581.4,551.1,524.79999999999995,507.7,496.8,701.5,617.70000000000005,581.9,544.6,522.20000000000005,495.7,461.1,731.6,621.1,577.70000000000005,538.6,501.6,465.7,421.4,755,632.5,585.1,547.79999999999995,511.5,475.7,388.4,839.8,689.9,609.4,572.29999999999995,536.1,502,428.6,992.5,786.2,666.9,603.6,569.6,535.9,473,1146,907,764.8,667.5,610.4,576.4,514.1,0.81200000000000006,1.0454000000000001,1.1911,0.62539999999999996,0.85070000000000001,0.97509999999999997,715.7,0.83830000000000005,0.75600000000000001,232.9,0.84909999999999997,0.59199999999999997,55.4,706.6,"nor00000220",6.3029999999999999,1726,11.9,16,18.8,35.299999999999997,0,5096]
["SUISU1323","SUI1323","SUI 132","JOY","J-70","J BOATS","JOHNSTONE",2012,"ZSC","Sigg, Jorg","CLUB","S",340,"25/4/2016","16:53:06",6.91,6.4829999999999997,1.3839999999999999,2.25,811,103.5,0.04,680.5,0.89400000000000002,755,0.57999999999999996,6.7,1125.2,907.7,793.2,734.3,698.7,669.7,602.6,1087.0999999999999,883,775.8,714.8,678.3,650.6,597.79999999999995,939.3,759.2,661.3,601.9,561.6,531,482.5,1027.2,820.5,707.1,639.1,595.29999999999995,564.5,521.1,1154.7,891.8,742,647.20000000000005,580.79999999999995,529.4,448.6,44.5,43.7,42.3,39.700000000000003,38.799999999999997,38.799999999999997,39.6,144.69999999999999,147.5,150,149.1,176.9,143.1,136.30000000000001,1229.2,1006.3,882,816.1,797.8,792.4,794,790,653.9,598,569.6,557.79999999999995,552.20000000000005,543.5,736,622.1,579.4,546.1,528.6,520.6,510.7,690.8,599.70000000000005,561.20000000000005,521.29999999999995,486.7,471.5,461.2,652.9,575.6,538.79999999999995,514.29999999999995,480.3,440.4,405.1,646.29999999999995,569.4,511.2,470.2,444.8,419.2,371,667,579,523.4,467.1,419.5,393.1,339.4,748.4,614.1,557.20000000000005,505.9,454.2,400.9,295,884.4,700.7,610.1,565.1,527.4,473.6,356.2,1021.2,809.1,704.5,652.5,599.6,546.9,411.2,0.86370000000000002,1.1144000000000001,1.3004,0.66410000000000002,0.88870000000000005,1.0356000000000001,0,0,0.84499999999999997,270.8,0.90739999999999998,0,0,661.2,"SUI00002166",6.59,1242,10.5,16.100000000000001,10,0,45.6,5146]
["ESP101801","E1018J80","ESP-1018_C","OKOFEN","J80","J COMPOSITE","JOHNSTONE",2008,"M.R.C.Y.B.","JAVIER DE LA GANDARA","CLUB","R",338,"12/8/2016","00:22:22",8.032,7.1150000000000002,1.498,2.4900000000000002,1425,115.5,0.12,665.3,0.91820000000000002,735.2,0.63900000000000001,41.7,1076.8,873.6,762.7,715.4,681.2,658.9,604.5,1039.2,847,748.4,697.6,666,641.9,593.4,907.8,737.3,646.6,593.4,558.79999999999995,533.1,491.3,990.4,793.2,686.5,623.6,584,556.79999999999995,518.9,1112.0999999999999,863.9,724.5,638.29999999999995,579.70000000000005,535.1,464.5,44.1,43.7,41.4,39.799999999999997,39,38.5,38.799999999999997,144.80000000000001,147.69999999999999,150,151.4,176.6,177.4,137.4,1164.9000000000001,959.5,843,797.6,778.4,769.1,761.2,754.3,628.29999999999995,576.70000000000005,557.4,548.29999999999995,543.20000000000005,533.1,705.2,598.79999999999995,559.70000000000005,537.9,525.5,518.4,508.4,664.5,579.29999999999995,544.5,514.5,491.5,478.7,469.1,639.9,561.79999999999995,539.1,513.4,483.7,456.7,427.7,632.4,554.5,509.6,483.5,463.5,444.2,402.2,650.6,562.29999999999995,516.4,471.6,442.5,421.2,373.2,726.4,595.4,543,500.5,458.8,415.2,326.39999999999998,856.3,682.2,591.1,549.9,518.20000000000005,482.9,387.9,988.7,787.7,682.5,633.1,583.9,548.79999999999995,447.9,0.89639999999999997,1.1372,1.2914000000000001,0.69220000000000004,0.91739999999999999,1.048,658.6,0.91110000000000002,0.94299999999999995,326.8,0.92459999999999998,0.65900000000000003,63.9,648.9,"ESP00019016",7.0629999999999997,1946,13.2,21.5,13.6,0,63.1,5161]
["nor666887",666887,"NOR 215","SMILEY","J-80 OD","J/Boats","JOHNSTONE",1995,null,"Tor  Ekelund","CLUB","S",340,"30/5/2016","21:59:50",8.032,7.2370000000000001,1.5009999999999999,2.4900000000000002,1438,104.9,0.15,665.3,0.92200000000000004,732.1,0.64100000000000001,43.6,1076.2,871.5,760.3,712.7,678.2,654.70000000000005,599,1037.3,843.9,745,694.1,661.6,636,588.6,908.2,737.4,646.5,593.29999999999995,558.6,532.9,491.7,991.2,794.4,687.6,624.4,584.29999999999995,556.79999999999995,518.5,1111.5,863.2,723.9,637.9,579.70000000000005,535.70000000000005,466.7,44,42.3,40.5,38.700000000000003,37.799999999999997,37.1,37.4,144.9,147.69999999999999,149.80000000000001,151.4,176.5,177.4,138.1,1158.3,950.8,835.2,790.7,770.7,758.7,750.1,751.9,626.70000000000005,576.9,559.1,550.29999999999995,545.20000000000005,534.20000000000005,704.1,598.6,560.70000000000005,540.20000000000005,528.9,522.20000000000005,510,664.6,579.79999999999995,545.79999999999995,516.5,494.7,483.5,474.7,643.6,565.20000000000005,543.29999999999995,515.6,485.1,459.2,434.7,635,556.6,512.79999999999995,487.9,467.5,447.5,407.9,653.79999999999995,564.1,518.20000000000005,473.1,446,424.6,378.3,730.9,597.79999999999995,544.5,501.4,458,413.3,329.3,861,686.1,593.5,551.29999999999995,519.6,482.2,387.8,994.1,792.2,685.4,634.79999999999995,585.6,550.6,447.8,0.89629999999999999,1.1372,1.292,0.69310000000000005,0.92059999999999997,1.0552999999999999,0,0,0.93300000000000005,316.2,0.92569999999999997,0,0,648.20000000000005,"nor00001385",7.1849999999999996,1976,13.6,21.5,14,0,65,5199]
["SUISUI17","SUI17","SUI 17","GILBERTE J","J-97 SD","JOHNSTONE","JOHNSTONE",2009,"YCK","U.P.und C. RUTISHAUSER","CLUB","C",525,"16/3/2016","21:37:52",9.61,8.5269999999999992,1.6220000000000001,3.35,3730,122.7,0.2,653.5,0.94230000000000003,716.3,0.65,44.3,1073.2,873,756.9,693.3,657.9,630.79999999999995,604.79999999999995,1036.2,843.8,739.9,680.8,646.79999999999995,624.4,598.6,898.8,726.3,634.1,580.79999999999995,547.9,526.20000000000005,498.3,979.2,781.8,673.8,609.79999999999995,570,544.20000000000005,512.9,1102.0999999999999,852.8,712.2,626,569.6,529.70000000000005,473.7,44.3,43.9,43.1,41.6,40.5,40,40.1,145.30000000000001,147.80000000000001,148.4,150.5,174.6,177.2,177.7,1161.5,959,844.1,772.8,743.2,730.3,724.3,748.7,624.5,558.5,529.1,516.5,511,508.1,699.6,587.29999999999995,537.4,514.29999999999995,500.5,493.4,488.6,659.6,560.9,522.29999999999995,501.1,483,468.1,453.9,641.70000000000005,541.9,507.7,495,481.5,463.9,433.5,632.20000000000005,535.29999999999995,499.8,470.8,451.5,438.7,417.7,651.29999999999995,544.6,506,476.4,447.1,422.6,395.9,725.4,587.70000000000005,525.79999999999995,495.9,467.8,440.8,387.2,852.9,681.5,580,532.1,508.1,488.3,441.7,984.8,786.9,669.8,613.70000000000005,572.6,531.29999999999995,485.3,0.90280000000000005,1.1653,1.3071999999999999,0.69369999999999998,0.93669999999999998,1.0751999999999999,0,0,0.84699999999999998,239.9,0.94299999999999995,0,0,636.29999999999995,"SUI00001946",7.9969999999999999,4425,20.8,29.8,24.8,0,93,5236]
["FRA16144b","F21717B","FRA-21717B","WHISPER 4 EVER","JPK 10.10","JPK Composites","VALER Jacques",2010,"17000 - LA ROCHELLE","MAINDRON Laurent","CLUB","C",480,"7/4/2016","10:35:24",9.99,9.3520000000000003,1.972,3.39,4035,109.9,0.18,633.70000000000005,0.9819,687.4,0.65600000000000003,33.9,1055.0999999999999,850.5,730.1,661.5,623.29999999999995,600.5,569.70000000000005,1011.6,817.6,711.2,652.9,620.79999999999995,599.79999999999995,567.1,879.7,707.2,614.29999999999995,560.20000000000005,526.70000000000005,504.3,474.4,948,754.9,649.1,586.5,547.6,522,489.6,1077.4000000000001,829.2,689.1,603.5,548,509.1,454.4,43.7,42.3,41.8,40.1,39,39.1,39,145,149,151,157.6,180,180,180,1116.5,914.9,797,737.4,714.7,703.9,691.6,723,600.79999999999995,534.4,508.7,499.9,495.6,489.6,677.3,567.1,516,494.2,484.6,479.7,474.8,640.4,542.5,503.3,481.3,464,452.6,445,643.9,533.9,499.6,482.6,463.1,442.5,414.9,637.6,528.5,488.1,461.8,446.7,433.2,409.3,656.3,540.1,494.5,465.2,434.7,415.9,390.5,726.3,586.9,517.6,485.4,458,429,369.3,860.6,680.8,574.79999999999995,515.70000000000005,486.1,460.7,407.8,993.8,786.2,663.1,585.6,531.9,497.1,447.7,0.92,1.2073,1.3655999999999999,0.70840000000000003,0.97750000000000004,1.1352,0,0,0.82299999999999995,199.2,0.97609999999999997,0,0,614.70000000000005,"FRA00004004",8.7759999999999998,4834,23.7,32.700000000000003,25.3,82.7,0,5262]
["ESP101571","E10157","ESP-10157","DRAC BLAU III","KAYTERET 770","J. COMPANY","J. COMPANY",1977,"C.V.P. ANDRATX","CARLOS MELLIN GARCIA","INTL","C",320,"23/5/2016","17:43:12",8.1829999999999998,6.5540000000000003,1.4870000000000001,2.91,2095,100.7,0.28999999999999998,757.1,0.82279999999999998,820.3,0.55900000000000005,41.1,1235.5,1014.1,881.3,792.4,738.3,713.9,690.7,1196.5999999999999,983.3,863.2,788.6,743.8,720.2,697.7,1044.0999999999999,843.3,734.7,670.8,631.29999999999995,605.9,576.29999999999995,1105.8,887.2,767.8,696.9,652.79999999999995,624.4,591.20000000000005,1273.5,986.7,823.7,722.8,656.8,610.79999999999995,547.4,44.2,43,43.4,42.1,41.1,40.5,41.3,148.5,152.19999999999999,153.30000000000001,169.7,180,180,180,1328.9,1114,987.6,903.8,858,842.8,847.4,858.9,724.6,647.9,611.79999999999995,593.29999999999995,585.79999999999995,583.9,804.9,679.4,620.20000000000005,593.29999999999995,575.5,564.5,559.4,759,646,600.79999999999995,577.1,557.29999999999995,539.79999999999995,521.20000000000005,761.9,645,592.4,565.9,554.1,537,506.1,760.9,634.5,587.1,555.9,526.5,506.3,487.4,782.5,647.20000000000005,593.20000000000005,561.79999999999995,532.5,505.9,468.7,854.4,700.3,616.4,580.20000000000005,551.29999999999995,523.70000000000005,477,989.1,792.6,675.1,610,578.20000000000005,551.5,502.8,1142.0999999999999,914.1,774.9,681.1,618.70000000000005,585,534,0.77510000000000001,1.0065999999999999,1.1372,0.60009999999999997,0.81620000000000004,0.94889999999999997,739,0.81189999999999996,0.68700000000000006,196.8,0.8155,0.56899999999999995,52.1,735.8,"ESP00018003",6.0069999999999997,2572,13.8,14.3,19.2,45.9,0,5312]
["GER142030","GER7141","GER 7141","MUCK","LA KREUZER",null,"BJORN OLSEN",1959,"YCLL","HANS-ARTHUR GRAEPER","CLUB","C",240,"1/4/2016","09:27:10",9,6.6980000000000004,1.546,2.4500000000000002,3270,159.19999999999999,0.68,833.7,0.74299999999999999,908.4,0.48099999999999998,19.2,1416.2,1127,970.3,878.4,819.8,786.6,766.4,1358.3,1094.8,952.4,870.4,824.9,801.1,785.8,1169.4000000000001,934.6,807,732.7,688.2,661.2,633,1169.4000000000001,934.6,807,732.7,688.2,661.2,633,1439,1099.5,907.5,790.2,714.8,663.2,594.20000000000005,45,43.4,43.9,45.1,44.7,44.6,45.7,159.80000000000001,167.1,172.1,173.5,174.6,178.5,179.5,1440.1,1190.2,1060.2,992.4,962.2,951.4,962.9,923.4,774.4,682.8,641,626.9,621.4,623.70000000000005,862.2,723.9,642.1,610.20000000000005,599,594.20000000000005,592.70000000000005,812.8,679.4,614.20000000000005,587.70000000000005,573.1,564.79999999999995,559.4,817.4,683.5,615.9,587.29999999999995,568.6,553.70000000000005,534.5,884.5,730.3,635.9,595.20000000000005,571.6,551.1,522,942.3,771.2,661.2,606.6,579.4,558.5,519.1,1061.7,845.2,721,637.70000000000005,597.5,573.79999999999995,533.9,1214.5,940,792.4,690.5,625.1,591.9,550.20000000000005,1392.3,1063.9000000000001,880.5,764.5,677.4,621.79999999999995,569.9,0.6885,0.92379999999999995,1.042,0.53080000000000005,0.73760000000000003,0.85729999999999995,810,0.74080000000000001,0.60199999999999998,179.2,0.74380000000000002,0.48299999999999998,22.1,806.7,"GER20014126",5.6130000000000004,3739,18.7,18.399999999999999,23.8,0,0,5362]
["ARG323701","2PUNCH","ARG-3237","PUNCH","LEF 34","AST. LEF","GABRIEL SCHROEDER",1988,"BUENOS AIRES","ALFREDO GARCIA","CLUB","C",375,"10/6/2016","17:57:42",10.4,8.91,1.667,3.64,4783,103.9,0.27,673.3,0.92300000000000004,731.3,0.61299999999999999,31.1,1117.0999999999999,907.5,787,707.7,660.5,632.5,605.79999999999995,1072.4000000000001,874.8,764.5,698.4,660.1,636.5,611.4,933.6,751.6,653,595,558.9,535.4,506.9,988.6,790.5,682,617.5,577.20000000000005,550.70000000000005,518.5,1146.0999999999999,883.4,734.2,642.20000000000005,582.29999999999995,540.5,483.2,44.7,43.3,43.5,42.5,41.5,40.700000000000003,40.6,146.5,150.5,151.9,157.19999999999999,180,180,180,1173.2,974.9,863,791.7,758.5,741.2,731.9,754.7,634.79999999999995,565.79999999999995,533.9,520,513.6,508.9,706.1,596.29999999999995,541.9,517.9,504.3,497.1,491.4,666.4,566.6,525.20000000000005,504.3,488.5,474.9,460.4,669.3,568.70000000000005,525.6,502.9,488.5,472.6,445,691.9,570.29999999999995,519.70000000000005,493.6,470.1,452.8,435.4,711.4,584.4,525.9,498.2,474.5,451,417.8,781.3,636.6,552.20000000000005,514.70000000000005,490.9,467.8,424.9,918.9,727.6,616.70000000000005,547.4,514.29999999999995,492.1,449.8,1061.0999999999999,840.2,710.9,623.79999999999995,562.5,523.70000000000005,479.7,0.86609999999999998,1.1347,1.2873000000000001,0.66679999999999995,0.91339999999999999,1.0723,0,0,0.747,177.9,0.91720000000000002,0,0,654.20000000000005,"ARG00002622",8.0120000000000005,5555,24.2,26.7,34.9,80,0,5392]
["UKR0702.2","UKR0702_","UKR 702","Surprise","LES 35","LES VCSPS","Chaykin V.V.",1989,null,"Kulibaba Valeriy","CLUB","C",614,"3/6/2016","20:16:04",11.353999999999999,9.3119999999999994,2.0830000000000002,3.61,5898,116,0.23,657.3,0.94879999999999998,711.4,0.61299999999999999,21.3,1107.5,894.8,769.5,685.6,638.70000000000005,609.9,582.20000000000005,1054.0999999999999,855.4,742.1,674.4,636.1,612.4,586.79999999999995,917.3,735.9,637.1,578.70000000000005,542.4,518.79999999999995,490.4,961.9,768.1,661.7,598.29999999999995,558.5,532.29999999999995,500.3,1130.8,867,717,624.9,565.29999999999995,524.29999999999995,468.9,43.8,42.2,42.7,41.3,40.1,39.299999999999997,39.1,146.69999999999999,151.19999999999999,149.4,156.19999999999999,174.2,180,180,1131.3,937.4,827.1,755.9,723.4,706,694.4,734.7,615.9,547.29999999999995,517.4,504.6,498.2,492.6,690.2,579.29999999999995,526,503,490.1,482.8,475.9,653.70000000000005,552,511.2,490.5,474.7,461.9,448,657.5,554.79999999999995,509.2,486.6,474.6,458.7,433.3,677.4,556,506.6,480.9,457.4,439.6,422.3,701.3,572.6,513.9,486.7,463.5,440.9,407.5,788,638.20000000000005,542.29999999999995,504,480.5,458.3,417.6,938.5,738,616.5,538.6,504.1,481.9,441,1083.7,852.2,711.9,615.29999999999995,554.1,513.79999999999995,469.9,0.87939999999999996,1.1658999999999999,1.3290999999999999,0.67420000000000002,0.93840000000000001,1.1125,0,0,0.72299999999999998,146.19999999999999,0.94099999999999995,0,0,637.6,"UKR00007489",8.5589999999999993,6718,27.8,37.299999999999997,37.700000000000003,87.5,0,5402]
["nor6852",6852,"NOR 9333","Cavatina","LUFFE 43","Luffe Yachts","Oluf Jorgensen",1994,null,"Erik Rasmussen","CLUB","C",801,"30/4/2016","22:46:36",13.05,11.090999999999999,2.0739999999999998,3.71,7345,110.5,0.03,589.6,1.0470999999999999,644.6,0.71299999999999997,40.9,973,791.5,685.4,624.4,588.6,562.79999999999995,536.4,927,756,663.2,612.79999999999995,583.29999999999995,562.4,537.6,812.5,655.9,572,523.29999999999995,493.3,473.6,449.1,856.9,688,596.29999999999995,542.20000000000005,508.5,486.3,459,1001.7,773.1,644,565.1,513.9,478.4,430.3,44.3,43.4,43,41.2,40,39.700000000000003,39.4,144.5,148.4,149.30000000000001,154.80000000000001,165.7,180,180,992.3,827.4,734.9,691,668.6,654.9,645.5,641,538.79999999999995,488.4,471.4,463.6,459.2,455.4,600.6,509,471,456.6,449.6,445.6,441.6,566.4,488.2,458.3,441.4,429.8,423.1,416.5,567.6,488.3,458.3,439.9,423.4,409.2,393.5,613.5,502.6,458.4,434.9,420.6,408.4,389.5,629.29999999999995,513.79999999999995,464.1,438.4,414.2,395.5,374.4,695.9,561.20000000000005,487.2,454.6,431.8,408.6,363.8,825.9,654.29999999999995,550.70000000000005,488.1,456.4,435.1,392.7,953.7,755.6,635.9,557.70000000000005,508.6,470.7,427.2,0.99750000000000005,1.2927,1.4528000000000001,0.7651,1.0388999999999999,1.2068000000000001,581.5,1.0318000000000001,0.89800000000000002,211.2,1.0438000000000001,0.72499999999999998,54.2,574.79999999999995,"nor00000879",10.215,8433,31.7,43.1,56.4,125.7,0,5452]
["SUISU1065","Sui1065","SUI 106","BE SMARTER","M 2","Moser","J.Kjaerulff",1977,"YCAu","Graf Roger","CLUB","C",393,"16/5/2016","10:57:20",8.6449999999999996,7.0069999999999997,1.708,2.33,2443,144.69999999999999,0.08,707.7,0.88249999999999995,764.9,0.66900000000000004,97.3,1107.5999999999999,913.8,799.2,739.5,709.4,687.5,658.4,1064.3,880.7,786.8,739.3,712.2,691,669.1,950.6,777.8,687.9,637.6,607.29999999999995,587.6,562,1015.5,821.7,719.3,661.2,626.29999999999995,603.9,575.5,1159.0999999999999,907.9,768.7,685.1,631.5,594,540.6,41.7,40.9,40.9,39.299999999999997,38.6,37.799999999999997,38.200000000000003,147.69999999999999,151.1,154.30000000000001,175.4,180,180,180,1159.7,979.1,881.5,846,831.1,815.8,811.7,770,651.1,610.29999999999995,596.4,590.20000000000005,587.20000000000005,578.70000000000005,729.1,626.6,594.29999999999995,579.9,573.4,570,560.9,694.5,610.29999999999995,580.9,562.1,548.9,541.9,537.9,679.4,599.5,581.79999999999995,560.70000000000005,541.1,524.4,507.6,672.7,592.4,559.29999999999995,541.6,527.70000000000005,515.70000000000005,497,697.1,600.29999999999995,564.20000000000005,532.6,511.2,497.9,477.7,776.1,638.6,583.20000000000005,552.79999999999995,522.1,492.5,450.2,914.1,734.5,626.9,579.9,551.6,523,470.7,1055.5,848.5,717,633,587.79999999999995,559.20000000000005,505,0.85860000000000003,1.0645,1.1667000000000001,0.66790000000000005,0.88070000000000004,0.98960000000000004,0,0,0.90400000000000003,327.9,0.86760000000000004,0,0,691.6,"SUI00002278",6.6189999999999998,2957,15,24.1,16.600000000000001,63.4,0,5478]
["ESP724401","E7244","ESP-7244","SARANTIN II","MALBEC 290","OCEANTECH","OCEANTECH",2002,"C.N.CULLERA","VICENTE SALVADOR SANJUAN PELLICER","INTL","C",320,"11/3/2016","02:40:02",8.5500000000000007,8.2309999999999999,1.9,3,3104,109.8,0.24,690.6,0.90490000000000004,745.9,0.61599999999999999,44.8,1135.5999999999999,921.5,795.1,718.3,674.9,652.1,622.1,1087.5999999999999,886,773.7,710.6,676.4,655.6,624.6,953.4,768.8,669.8,612.4,577.20000000000005,554.20000000000005,524.5,1010.4,808.9,699.4,635.1,595.4,569.6,537.79999999999995,1166.8,900.9,751.1,659.8,600.9,559.9,502.6,43,41.4,41.3,39.799999999999997,38.6,38.1,37.9,146.69999999999999,151.30000000000001,152.69999999999999,161.4,180,180,180,1184,981.5,861.9,798.2,773.4,762,749.2,773.5,649.4,581.70000000000005,555.79999999999995,546.5,542,536,728.7,614.4,562.79999999999995,541.4,531.20000000000005,526.20000000000005,521.6,692.1,589.29999999999995,549.4,528.20000000000005,512.4,501,493.2,693,580.9,539.9,523.1,510.3,492.3,466.3,696.9,581,538.6,511.3,487.2,471.3,450.7,720.7,595.4,545.4,518.1,491.2,464.7,431.2,797.6,652.4,570.79999999999995,536.5,511.1,484.6,433.2,941.5,746.3,633,566.29999999999995,535.5,511.6,462.4,1087.0999999999999,861.5,728.4,638.4,576.29999999999995,542.29999999999995,494.9,0.84930000000000005,1.1053999999999999,1.2417,0.65629999999999999,0.9,1.044,674.3,0.88990000000000002,0.76400000000000001,203.5,0.89480000000000004,0.624,53.1,670.6,"ESP00016749",7.6159999999999997,3798,18.899999999999999,26.3,19.399999999999999,54.6,47.9,5515]
["FRA16075a","GBR1010N","GBR- 1010","FLOWER POWER","MAT 1010 (N?001)","M.A.T ( TURKEY)","MILLS Mark",2011,"83400 -  HYERES","OLSTHOORN Karel","CLUB","R",500,"4/3/2016","17:56:52",10.15,9.1989999999999998,1.9630000000000001,3.31,4369,137,7.0000000000000007E-2,624.4,0.98850000000000005,682.9,1.07,205.2,1019.3,831.4,719,658.7,624,604.5,575.20000000000005,982.9,802.7,705.7,653.29999999999995,623.70000000000005,604.70000000000005,574.70000000000005,856.6,693,606,555.70000000000005,524.79999999999995,504.1,476.1,931.3,745.4,644.29999999999995,584.79999999999995,547.79999999999995,523.6,493.2,829.3,668.4,581,529.20000000000005,495.9,472.1,437,44.3,43.9,43.2,42.1,41.2,41,41.2,141.80000000000001,148.19999999999999,151.5,159.19999999999999,180,180,180,1097.9000000000001,912.6,803.1,751.1,730.2,721.5,712.8,708.2,593,532.29999999999995,509.1,501,497.1,492.3,662,557.9,512.79999999999995,493.6,484.4,479.8,475.9,623.70000000000005,533.4,499.4,479.1,462.9,451.7,444,615.9,519.9,495,478.9,459.6,440.3,414.1,610.29999999999995,514.29999999999995,480.2,458.1,443.7,431.1,408.2,625.79999999999995,522.4,484.5,454.8,430.9,414,390.1,690.4,559.4,503.3,474.2,445.4,416.5,361.8,814.8,649.70000000000005,550.9,502.3,475.3,448.8,396.7,940.8,750.2,634.79999999999995,566.20000000000005,517.9,487.4,437.6,0.94789999999999996,1.2183999999999999,1.3644000000000001,0.72950000000000004,0.98609999999999998,1.1279999999999999,0,0,0.90600000000000003,253.5,0.9859,0,0,608.6,"FRA00002962",8.5519999999999996,5131,23.7,36.4,26.9,105.9,86.4,5553]
["nor21628",21628,"NOR 2713","HelmaX","Maxi 95","Maxi","Pelle Petterson",1973,null,"Lasse Kristiansen","CLUB","C",498,"1/4/2016","10:55:22",9.4499999999999993,7.9390000000000001,1.53,3.15,4347,117.5,0.55000000000000004,769.5,0.81210000000000004,831.1,0.503,3.5,1320.5,1052.2,903.3,806.8,740.9,701.1,669.4,1258.5,1015.4,880.3,793.8,739.4,708.4,680.5,1084.4000000000001,865.8,745.4,673.1,627.6,597.9,562.6,1084.4000000000001,865.8,745.4,673.1,627.6,597.9,562.6,1340.8,1021.3,839.1,726.7,653.6,603.6,538.29999999999995,45.3,43.7,43.7,44.3,43.1,42.1,41.8,156.9,164.7,170.7,173.2,173.6,177.3,179.2,1315.1,1091.0999999999999,969.6,886.7,835,811.1,799.8,842.1,709.3,628,584,562.70000000000005,553.20000000000005,547.79999999999995,786.5,665.2,594.1,563,545.70000000000005,535.1,528,742,627.29999999999995,571.4,546.9,530.20000000000005,516.1,496.3,744.9,630.29999999999995,573.29999999999995,548,530.70000000000005,512,482.8,823,681.5,596.79999999999995,559,537.29999999999995,518.9,482.4,876.7,720.4,622.9,570.9,545.20000000000005,526.1,489.4,997.8,793.8,680.6,603.1,563.5,541,504.6,1152.5999999999999,890.6,749.5,656.9,592.9,559.20000000000005,520.4,1326,1013.4,837,726.8,646.79999999999995,591,539.1,0.7419,0.99919999999999998,1.1564000000000001,0.56899999999999995,0.80079999999999996,0.96550000000000002,747.4,0.80279999999999996,0.58499999999999996,115.7,0.80579999999999996,0.50800000000000001,9.4,744.6,"nor00000096",6.8049999999999997,5005,22,20.7,28.9,0,0,5603]
["GER141996","GER7153","GER 7153","ALTER SCHWEDE","MAXI 999","MAXI","PETTERSON",1985,"YCLL","UWE BERTHOLD","CLUB","C",526,"18/5/2016","13:52:16",9.9120000000000008,8.2829999999999995,1.736,3.24,4396,118,0.35,699.8,0.88780000000000003,760.3,0.58099999999999996,25.8,1173.2,949.3,822.6,733.6,682.9,655.8,632.4,1123.4000000000001,914.9,797.7,725.7,685.1,662.2,640.1,973.2,782.1,678.4,617.4,579.79999999999995,555.70000000000005,527.5,1015.1,811.9,700.8,635,594.29999999999995,568.1,537.4,1199.8,922,764.1,667.1,604.20000000000005,560.6,500.9,44.8,43.5,43.7,42.9,41.8,41.2,41.7,147.6,152,152.9,158.9,180,180,180,1224.2,1016.2,903.2,823.6,788.4,772.4,769.6,786,659.8,587.4,552.9,538.6,532.6,529.20000000000005,733.4,617.29999999999995,560.5,535.6,522,515.5,511,690.2,584.1,541.79999999999995,520.9,505.2,492.4,479.7,691.7,585.1,538.4,514.20000000000005,503.1,487.5,460.7,712.4,587,536.5,510.3,486.5,464.3,444,736.9,604.6,543.9,516.29999999999995,493.3,469.7,429.1,821.9,669.8,573.29999999999995,533.70000000000005,509.7,487.2,443.8,971.8,764.9,644.1,566.9,532.4,509.8,467.4,1122.0999999999999,882.4,742.1,643.6,577.29999999999995,539.20000000000005,495.2,0.83030000000000004,1.0938000000000001,1.2403999999999999,0.63600000000000001,0.87829999999999997,1.0324,684.8,0.87619999999999998,0.69899999999999995,164.1,0.88270000000000004,0.59199999999999997,36.9,679.7,"GER20014744",7.4279999999999999,5092,22.9,29.9,27.4,60.9,0,5618]
["CLUMELG20","110M20","ITA-110M20","SATANA","MELGES 20","MELGES PERFORMANCE","REICHEL/PUGH",2008,"C.V.ERIX LERICI","CIRCOLO DELLA VELA ERIX","CLUB","S",223,"9/3/2016","10:50:44",6.1,5.5339999999999998,1.3879999999999999,2.15,514,122,0,679.4,0.90629999999999999,744.8,0.623,36.299999999999997,1071,867.4,786.7,741.4,702.2,661,579,1031.0999999999999,847.8,763.6,716.6,678.7,644,597.70000000000005,919.6,751.6,661.9,607.29999999999995,568.9,538.1,486.5,991.8,802.2,700.4,639.79999999999995,600,570.79999999999995,526,1122.7,877.2,739.1,651.70000000000005,589.4,540,461.7,42.8,41,37.4,35.799999999999997,35,35.200000000000003,35.700000000000003,144.69999999999999,149.5,151.1,147.80000000000001,144.6,136,144.1,1141.2,932.3,852.7,824.4,808.1,802.1,800.7,745.4,642.4,611,596.6,587.9,576.1,569.20000000000005,701.7,624.9,587.9,571.1,561.5,550.1,539.1,672,610.1,559.29999999999995,532.29999999999995,519,511.6,488.8,656,601.9,561.70000000000005,514.1,480.9,466.6,451.7,652,578.6,531.5,500.7,470.4,442.6,383.3,666.7,590.79999999999995,524.29999999999995,478.2,447.4,413.5,361.1,733.8,628.70000000000005,563.1,503.2,440.4,372.1,307.39999999999998,866.7,695,624.9,570.20000000000005,516.4,450.3,309.3,1000.8,802.6,720.7,658.4,596.20000000000005,519.9,357.2,0.88800000000000001,1.1029,1.2821,0.69640000000000002,0.89149999999999996,1.0538000000000001,669,0.89690000000000003,0.94299999999999995,328.1,0.90800000000000003,0.64200000000000002,56.8,660.8,"CLU00018620",6.048,844,8,16.100000000000001,9.1,0,40.1,5644]
["CLU186M32","I186M32","ITA-186M32","CAIPIRINHA","MELGES 32 OD","MELGES","REICHEL/PUGH",2005,"FRAGLIA VELA DESENZANO","REINTJES MARTIN","CLUB","R",629,"11/4/2016","22:49:40",9.68,9.0640000000000001,2.1629999999999998,3.01,1721,121,0,533.5,1.1453,589.29999999999995,0.75800000000000001,17.100000000000001,850,694.7,631,588.4,550.79999999999995,515.1,463,814.3,674,608.5,567.5,535.4,510.5,480.2,725.7,592.1,519.70000000000005,474.9,443.3,418.8,382.4,791.9,640.4,557.70000000000005,507.2,473.1,447.9,410.9,891.8,695.7,583.9,511.8,459.6,418.5,355.8,43.4,40.700000000000003,38.299999999999997,37,36,35.700000000000003,36.5,142,147,152.80000000000001,148.80000000000001,141.30000000000001,140,147.6,891.1,740.5,690.4,666.9,649.29999999999995,641.4,640.29999999999995,577.9,506.5,486.4,473.5,461.6,449.5,442.1,543.6,488.6,463.8,448.6,438.6,423.4,413.3,520.1,468.3,429.3,411.1,399.4,389.6,366.4,520.4,469.4,416.6,381.7,364.4,353,332.6,518.20000000000005,458.7,423.5,391,360.4,318.60000000000002,288.8,529.20000000000005,458.8,412.4,382.2,350.7,317.10000000000002,272.89999999999998,585,493.5,433.9,375.6,331.3,297.89999999999998,257.60000000000002,700.5,561.9,490.8,441.6,391.8,336.8,247.5,808.9,648.79999999999995,571.70000000000005,510,452.4,388.9,285.8,1.123,1.4053,1.6508,0.874,1.1211,1.3379000000000001,548,1.0949,1.099,271.7,1.1513,0.79400000000000004,59.6,521.20000000000005,"CLU00019280",9.5449999999999999,2457,18.100000000000001,42.6,23.6,0,121,5708]
["CLU148721","I14872","ITA-14872","LUNA PER TE","MILLENIUM 40","STARMARINE","LOSTUZZI",2002,"TREVISO SAILING CLUB","TRENTIN FEDERICO-SPORTING C.DUE VELE","CLUB","C",800,"6/4/2016","21:57:20",11.99,11.635999999999999,2.516,3.99,6688,120.7,0,550.6,1.1244000000000001,600.29999999999995,0.76200000000000001,36.4,896.9,730,630.5,580.29999999999995,555.4,530.6,496.7,856.9,697.7,611.6,565.4,537.70000000000005,515.5,480.5,756.6,612.20000000000005,534.70000000000005,489,459.4,438,406.1,819.5,657.2,568.1,514.29999999999995,479.5,455.1,421.4,925.9,716.7,598.6,525.6,476.9,441.3,389.1,42.8,41.3,39.9,37.4,36,34.9,33.799999999999997,143.5,146.5,149.5,151.30000000000001,152.5,176.5,143.30000000000001,927.9,765.3,669.2,623.1,600.1,586.70000000000005,568.70000000000005,607.70000000000005,509.5,466.3,448,438.7,432.6,421.7,572.6,487.8,455,436.3,424.5,416.7,406.4,543.4,473.5,445.9,423.8,402.8,390.1,377.1,546.1,471.6,441.5,424.6,402.3,379.8,349.2,555.6,469.7,435.6,404.5,385.6,370.1,341.2,571.70000000000005,477.7,442.4,411.6,379.3,354.4,324.39999999999998,632.79999999999995,515.9,462.5,434.3,404.9,375,313.60000000000002,749.8,601.70000000000005,512.5,466.1,444.8,422.8,367.8,865.8,694.8,591.79999999999995,537.5,510.7,474.6,424.7,1.0723,1.3792,1.5727,0.82979999999999998,1.1189,1.2879,538.20000000000005,1.1147,1.028,250.5,1.1216999999999999,0.78,50,534.9,"CLU00019194",11.561,7853,33.6,58.5,46.8,0,151.6,5743]
["GRE000576","GR49603","GRE-49603","PITHEAS","MIRAGE 28","THAMES MARINE",null,1979,"ANOZ","MARGARIS SPYRIDON","CLUB","C",300,"18/5/2016","20:21:28",8.5399999999999991,6.8209999999999997,1.4239999999999999,2.85,3717,118.7,0.71,826.2,0.74990000000000001,900.1,0.47299999999999998,8.1999999999999993,1411.4,1132.2,978.1,872.3,803.8,766,739.3,1357.7,1102.4000000000001,959.4,866.1,809.6,779.1,754.9,1158.3,927.4,800.6,724.9,677.8,647.70000000000005,614,1158.3,927.4,800.6,724.9,677.8,647.70000000000005,614,1434.2,1095.8,902.6,783,705.1,651.70000000000005,581.79999999999995,47.1,46,46.4,46.7,45.3,44.6,45.3,157,166.6,171.9,173.5,174.9,178.4,179.3,1466.4,1223.5,1091.9000000000001,992.3,937.3,913,909,922.9,778.2,690,635,611.5,602.79999999999995,599.1,850.6,720.1,642,606,587.79999999999995,579.9,575.6,790.8,668.5,611.5,585.5,567.5,553.20000000000005,540.20000000000005,787.4,666.1,610.5,585,563.29999999999995,542.70000000000005,521.79999999999995,853.7,709.8,627.70000000000005,592.29999999999995,569.5,548.79999999999995,511.1,907.1,748.9,649.70000000000005,602.79999999999995,577.5,556.4,517.29999999999995,1023.3,821.4,705,630.70000000000005,595.1,572.5,532.29999999999995,1179.0999999999999,917.4,776.3,680.5,621.29999999999995,590.70000000000005,549.4,1356.4,1041,864.2,752.3,670.2,619.1,569.6,0.6956,0.92900000000000005,1.0663,0.53069999999999995,0.74009999999999998,0.88180000000000003,0,0,0.56100000000000005,135.1,0.74880000000000002,0,0,801.3,"GRE01005987",5.6749999999999998,4247,19.8,18.3,29.9,0,0,5769]
["nor6355",6355,"NOR 4002","Brisen","MIXER CR","Maxi","Pelle Petterson",1981,null,"Egil Nystuen","CLUB","C",571,"1/4/2016","22:45:00",10.55,8.6029999999999998,1.911,3.22,5316,131.30000000000001,0.41,686.7,0.90959999999999996,742,0.59799999999999998,29.8,1143.3,926.7,803.8,717.5,666.4,638.20000000000005,611.5,1090.2,889.7,776.4,706.8,666.7,643.20000000000005,617.29999999999995,953.2,767,666,606.5,569.5,545.29999999999995,515.6,988.4,792,684.9,621.29999999999995,581.70000000000005,555.79999999999995,524.1,1173.8,902.9,749.3,654.9,593.79999999999995,551.70000000000005,493.9,43.8,42.2,42.7,41.6,40.1,39.299999999999997,39,147.5,152.4,154.19999999999999,158.19999999999999,180,180,180,1166.5999999999999,972.3,864.5,790.5,756.2,738.5,727.5,757.6,639.1,571.20000000000005,542.29999999999995,528.5,521.79999999999995,516.5,711.7,600.29999999999995,550,527.70000000000005,514.29999999999995,506.1,499.3,673.8,572.29999999999995,534.70000000000005,515,499.6,486.5,469.9,677,574.5,535.1,510.5,496.3,483.9,456.6,709.6,585.1,534.29999999999995,509,486.9,464.8,440.6,734.9,604.6,542.4,515.20000000000005,493.8,471.8,432,819.5,670.7,573.4,533,509.5,488.6,447.3,970,764.2,645.20000000000005,566.9,531.6,509.6,469.8,1120.0999999999999,881.1,743.1,644.5,576.5,538,495.6,0.84830000000000005,1.113,1.2642,0.6522,0.89890000000000003,1.0626,670.3,0.89510000000000001,0.71199999999999997,159.6,0.89980000000000004,0.60499999999999998,37.1,666.8,"nor00000191",7.87,6077,24.6,33.700000000000003,31.6,63.6,0,5784]
["CLUMUMM30","I3064","ITA-3064","BIANCA","MUMM 30","OVINGTON MARINE","FARR",1996,"C.V.CERNOBBIO","PEDRAZZONI ALFREDO","CLUB",null,530,"3/4/2016","18:28:46",9.4350000000000005,8.8320000000000007,2.129,3.04,2178,123.2,0,577,1.0618000000000001,635.70000000000005,0.73299999999999998,40.200000000000003,920.4,752.6,668.1,622.5,591.9,567.29999999999995,516.70000000000005,879.5,724.9,651.1,608.9,578.4,552.5,518.29999999999995,780.2,638,561.9,516.1,484.9,461.2,424,859.3,692.8,602.4,548.20000000000005,512.70000000000005,487.2,450.1,962.9,750.7,631.20000000000005,556.29999999999995,504.4,464.2,400.8,43.5,41.6,38.5,36.5,35.5,34.700000000000003,34.799999999999997,143.9,146.1,153.80000000000001,162.4,180,180,142.19999999999999,944.3,787.5,720.7,688.6,671.9,657.8,651.79999999999995,608.1,532.70000000000005,511.4,497.6,488.5,483,467.7,565.9,513.70000000000005,492.9,478.2,466.7,459.6,442.8,535.1,492.5,462.8,445,432.6,422.3,409,530.1,489.5,452.2,422.4,405.1,391.4,370.4,563.1,504.5,465.2,431.8,390.7,369.5,327.10000000000002,590.79999999999995,511.9,466,426,401.7,370.1,320.7,656.1,539.20000000000005,494.4,451.2,407,361.7,307.2,776.4,621.6,536.6,494.4,455.2,415,330.5,896.5,717.8,615.6,556.29999999999995,512,476.7,381.6,1.0442,1.3008999999999999,1.4952000000000001,0.80689999999999995,1.0531999999999999,1.2174,579.29999999999995,1.0358000000000001,1.08,318.10000000000002,1.0623,0.75,61.5,564.79999999999995,"CLU00019099",9.1180000000000003,2915,17.5,35.799999999999997,21.4,88.1,0,5845]
["AUS270900",2709,36111,"MAGIC","MUMM36 MOD","Cookson","FARR",1993,"NSW 2104","Pete Mcnamara","INTL","R",655,"15/8/2016","09:39:50",10.91,9.8569999999999993,2.3490000000000002,3.59,3845,120.2,0,579.79999999999995,1.0724,629.4,0.72499999999999998,37.6,947.4,767.1,661.5,609,576.20000000000005,554.5,519.29999999999995,904.6,733.7,643.9,597,568,546.20000000000005,508.9,797.6,645,563,514.6,483.5,461.3,428.6,857.6,687.6,595,539.79999999999995,504.6,480.1,446,976.3,754.9,630.1,553.29999999999995,502.3,465.4,411.1,43,41.8,39.6,37.6,36.299999999999997,35.5,35,142.80000000000001,147,151.19999999999999,158.30000000000001,180,180,180,978.3,803.7,705.2,666.3,647.1,635.79999999999995,622,638.9,533.79999999999995,493.2,478.2,469.9,464.6,453.4,600.6,512.4,480.6,463.1,452.9,446.3,435.3,568.79999999999995,498.2,469,444.4,425.6,415.7,406.3,572,499.7,470.4,444.2,418.3,396.6,374.6,588.6,496.8,458.8,431.9,413.9,396.2,365,605.6,505,466.2,429.8,399,381.1,348,671.2,542.20000000000005,487.5,455.3,421.5,387.7,319.2,793.7,632.6,535.70000000000005,487.8,457.8,426.9,364.2,916.5,730.5,617.79999999999995,551.70000000000005,505.3,473.1,416.6,1.0176000000000001,1.3105,1.4942,0.78739999999999999,1.0689,1.2346999999999999,0,0,0.96499999999999997,240.4,1.0652999999999999,0,0,563.20000000000005,"AUS00000300",9.952,4721,24,40.6,34,105.3,0,5867]
["AUS421300",4213,9090,"Quest","Nel/Mar 43","Carrol","Nelson/Marek",1995,"QLD 4553","Ian Coward","INTL","R",776,"15/7/2016","16:42:42",13.06,11.159000000000001,2.72,3.84,6347,140.69999999999999,0,550.29999999999995,1.1240000000000001,600.5,0.73699999999999999,23,915.3,741.2,636.79999999999995,579.6,547,524,491.8,869.4,703.8,614.4,566.70000000000005,538.29999999999995,517.6,484.1,761.8,613.9,534,486.6,456.2,434.9,404.8,817.5,653.20000000000005,563.1,509.1,474.4,450.6,418.3,939,722.9,600.29999999999995,524.5,474.2,438.1,386.4,43.1,42.1,40.799999999999997,38.700000000000003,37.4,36.6,36.1,140,145.4,148.1,155.6,168.3,180,180,934.2,766.4,670.8,629.79999999999995,609.70000000000005,598,583.5,609.4,505.9,461.7,445.3,436.7,431.3,420.8,572.1,482.6,449,431.3,420.9,414.1,404.9,541.29999999999995,467.6,438.7,415.9,397.6,386.9,376.6,544.29999999999995,463.1,433.6,416.1,393.9,373.4,348.4,553.1,464.4,429,399.2,380.5,366.2,340.1,574,474.7,437.7,407.3,377.5,352.2,323.2,647.6,521.6,461.1,431.4,403.1,375.4,317,776.3,620,522,463.7,434.9,408.7,357.9,896.4,715.9,602.79999999999995,529.4,484.4,449.9,400.1,1.0631999999999999,1.3849,1.5855999999999999,0.81499999999999995,1.1175999999999999,1.3039000000000001,0,0,0.94799999999999995,201.6,1.1211,0,0,535.20000000000005,"AUS00000205",11.2,7399,32.299999999999997,63.2,37.799999999999997,131.5,132.19999999999999,5909]
["GER99023","GER4000","GER 4000","PETER VON DANZIG","NISSEN 55","THYSSEN NSW","NISSEN",1992,"ASV","ASV KIEL","CLUB","C",960,"1/4/2016","09:30:34",17.010000000000002,14.503,2.9620000000000002,4.8499999999999996,19746,130.69999999999999,0.23,552.5,1.1177999999999999,603.9,0.71499999999999997,13.8,941.6,757.3,652,585.1,543.79999999999995,515.70000000000005,486.1,894.9,722.6,626.20000000000005,568.9,535.1,513.5,488.3,774,619.5,535.29999999999995,485.5,454.6,434.4,409.4,815.5,649.5,557.79999999999995,502.8,467.9,445,417.2,958.2,732.6,604.1,525.1,473.9,438.9,393,45.1,43.4,43.4,42.3,40.700000000000003,39.6,38.799999999999997,143.4,147.5,150.19999999999999,151.69999999999999,157.30000000000001,173.3,180,957.6,787.5,691.2,635.20000000000005,605.1,587.9,574.29999999999995,613.79999999999995,512.4,451.9,426,415.6,410,404.6,572.70000000000005,480.6,431.4,411.7,403.1,398.1,393,538.70000000000005,454.8,417.6,400.7,389.7,381.8,374,539.5,455.6,418.2,400.8,388.4,377.2,358.7,588.20000000000005,478.8,422.9,399.5,385,376.9,361,605.20000000000005,492.9,430.6,403.9,386.6,370.1,349.6,673.5,541.20000000000005,462.7,420.9,399.9,383.8,351,801.7,629.70000000000005,530.70000000000005,464.4,424.1,403,372.5,925.7,727.1,612.79999999999995,535.1,482.4,443.6,397.8,1.0408999999999999,1.39,1.5882000000000001,0.79459999999999997,1.1040000000000001,1.3192999999999999,538.9,1.1133999999999999,0.85099999999999998,143.69999999999999,1.1177999999999999,0.72199999999999998,19.600000000000001,536.79999999999995,"GER20014145",12.779,21425,61.6,80.5,101.5,211.5,0,5935]
["GRE001088","GR1714","GRE-1714","EVZAN","OCEANIS 311","BENETEAU","FINOT",1999,"IO PATRON","ANTONOPOULOS IOANNIS","CLUB","C",350,"7/4/2016","12:55:20",9.5399999999999991,8.7569999999999997,1.4550000000000001,3.23,3650,108.3,0.34,738.4,0.84860000000000002,795.4,0.51100000000000001,-6.9,1298.7,1018.9,863.8,764.8,705.9,670.7,646.9,1232.0999999999999,979.8,839.4,753.1,703.9,678,660.3,1052.4000000000001,834.5,714.1,642.29999999999995,597.70000000000005,569.5,538.9,1052.4000000000001,834.5,714.1,642.29999999999995,597.70000000000005,569.5,538.9,1303.8,985.2,804.2,693.4,622.20000000000005,574,510.6,45.3,43.8,43.5,43.1,42.1,41.7,43.6,174.3,175.8,177.5,178.5,178.8,179.4,179.8,1281,1043.0999999999999,914.8,831.3,793.4,779.1,786.1,817.5,675.7,594.70000000000005,551.70000000000005,533.6,527.4,525.70000000000005,759.8,632.79999999999995,563.20000000000005,531.20000000000005,515.70000000000005,508.9,505.9,713.5,597.29999999999995,541.5,516.1,498.9,485.2,472.6,716.9,600.20000000000005,542.9,516.9,498.7,481.2,450.6,801.2,653.1,568.9,529.6,507.2,487.7,447,856.5,692.7,595.9,542.79999999999995,516.1,496.3,456.3,987.1,775,657.9,580.79999999999995,538.1,514.29999999999995,476.2,1157.5,885.5,735.9,640.6,574.29999999999995,536,494.8,1316.4,994.7,812.7,698.4,618.29999999999995,562.29999999999995,507.7,0.76229999999999998,1.0477000000000001,1.2141999999999999,0.58250000000000002,0.83930000000000005,1.0065999999999999,0,0,0.59099999999999997,101.4,0.84289999999999998,0,0,711.8,"GRE01005540",7.6050000000000004,4395,20.9,24.6,21.2,0,0,5985]
["CLUOCE331","BLUEMI","ITA-BLUEMI","BLUEMI","OCEANIS 331","BENETEAU","FINOT",1999,"R.Y.C.C.SAVOIA","ROCCA LUIGI MARIA","CLUB","C",663,"7/4/2016","17:22:50",10.1,9.6029999999999998,1.667,3.42,4846,114.6,0.39,751.1,0.83550000000000002,807.9,0.47199999999999998,-32.1,1355.7,1055.5999999999999,888.7,782.4,709.3,660,617.1,1286,1013.6,862.1,765.8,701.4,661.3,627.4,1086.3,855.5,726,646.6,595.5,561.6,521.4,1086.3,855.5,726,646.6,595.5,561.6,521.4,1348.1,1011.4,818.3,698.5,620.29999999999995,566.9,498.2,45.9,44.4,43.5,43.3,42.7,41.6,40.9,169.9,170.6,171.7,173,173.6,174.4,177.6,1348,1083.7,941.2,847.8,783.3,746,725.9,855.4,699,611.29999999999995,554.79999999999995,525.29999999999995,509.7,499.7,790.2,654,573.1,529.70000000000005,508.3,494.6,481.5,738.5,616,544.9,512.4,494.2,479.5,453.8,741.4,618.79999999999995,547.1,513.9,495.2,479.5,443.9,829.9,671.6,580.5,529.20000000000005,503.9,485.9,449.9,889.7,710.6,610,545.20000000000005,512.79999999999995,493.2,458,1021,793.5,671.1,590.9,538.5,510.8,476.1,1195.5,909.4,751.2,653.29999999999995,583.5,536.9,492.9,1363.3,1027.4000000000001,836.3,716.9,635.20000000000005,574,508.3,0.73519999999999996,1.0330999999999999,1.2364999999999999,0.55989999999999995,0.82089999999999996,1.0286,726.8,0.8256,0.52100000000000002,48.5,0.83020000000000005,0.47799999999999998,-25.3,722.7,"CLU00019209",7.9039999999999999,5737,25.4,25.5,27.2,0,0,6011]
["ROU010/16","ROU246","ROU 246","Thea","Oceanis 38","BENETEAU","Finot",2013,"ROMANIA","Socitech Systems SRL","INTL",null,860,"29/6/2016","16:52:18",11.1,10.916,1.9790000000000001,3.99,7180,106.1,0,663.1,0.93189999999999995,724.3,0.56200000000000006,-13.6,1159.9000000000001,919.7,788.1,703.5,649.5,608.6,564.9,1116.3,889,763.1,685.1,633.6,597.20000000000005,562.6,945.5,750.2,641.79999999999995,576.1,533.79999999999995,505.2,469.4,1029.0999999999999,808.1,683.3,606.29999999999995,556.1,522.4,482,1163.5999999999999,883.7,723,622.6,556.29999999999995,509.9,448,45.4,43.8,42.8,42.2,41.9,40.4,39.4,145.4,146.80000000000001,146.80000000000001,146.9,148.6,173.9,177.4,1258.7,1008.7,872.7,784.5,722.1,679,656,803.8,655.7,573.4,519.5,488.8,471.4,459.6,747.8,617.4,542.1,497.4,474.4,459.5,444.8,704.3,586.70000000000005,517.1,480.8,463.6,449.3,423.2,686.5,560.6,492.4,462.6,444.6,436.9,418.8,674.1,550.70000000000005,487.4,459.4,437.8,415.2,383.6,697.5,568.29999999999995,497,465.1,443.4,421.4,377.5,778.4,622.79999999999995,533.4,484.5,459.4,439,397.5,918.9,719.4,609.29999999999995,539.1,499.7,475.4,443,1061,830.6,703.5,622.5,577,538.1,473.9,0.84850000000000003,1.1637999999999999,1.3708,0.6492,0.91679999999999995,1.1204000000000001,0,0,0.65800000000000003,105.1,0.93669999999999998,0,0,640.5,"ROU00063642",9.0809999999999995,8240,34.5,31.7,32.700000000000003,0,99.8,6060]
["ISR022/16","ISR22","ISR 22","Musly 2","Oceanis 393","Benetau","BERRET/ RACOUPEAU",2003,"ISRAEL","Shlomo Cohen","CLUB","C",769,"8/3/2016","14:22:40",11.624000000000001,10.824,1.526,3.99,7800,119.3,0.43,745.1,0.83299999999999996,810.4,0.46100000000000002,-43.8,1368.1,1061.8,892,785.2,711.3,659.5,610.5,1297.7,1018.8,864.8,767.9,701.5,657.8,622.1,1084.5999999999999,851.4,719.8,638.79999999999995,586.29999999999995,551.4,510.8,1084.5999999999999,851.4,719.8,638.79999999999995,586.29999999999995,551.4,510.8,1352.7,1010.8,813.9,691.2,610.6,555.4,485.2,47.8,46.2,45.2,45.1,45.5,44.5,43.7,168.4,168.9,169.7,170.7,171.5,171.7,175.2,1370.7,1096.4000000000001,950.8,858.6,792.9,751,728.3,859.2,696.2,608.4,549.1,512.6,493.5,482.9,784.9,645.6,565.1,514.9,489.5,475.2,464.2,726.3,604.1,529.79999999999995,492.1,473.3,460.4,441,728.7,606.6,532.29999999999995,493.8,474.3,460.7,433,824.7,662,571.29999999999995,512.9,483.3,465.7,436.6,887.3,702.1,601,532,493.3,472.4,442.9,1018.2,786,661.2,581.4,524.29999999999995,491.5,457.9,1196.3,906.7,744.9,645.6,576.1,524.5,473.9,1365.4,1027.2,833.3,711.8,629.70000000000005,568.1,492.8,0.73519999999999996,1.0430999999999999,1.2609999999999999,0.55559999999999998,0.81779999999999997,1.032,0,0,0.51200000000000001,42.1,0.83560000000000001,0,0,718,"ISR00061732",8.4359999999999999,8843,31.5,26.6,40.6,0,0,6075]
["nor10157",10157,"NOR 13558","Otilie","Oceanis 40","BENETEAU","BERRET/ RACOUPEAU",2005,null,"Karsten Lovdal","CLUB","C",750,"2/5/2016","21:39:50",11.87,10.805999999999999,1.79,3.93,7764,117.7,0.37,641.70000000000005,0.95650000000000002,705.7,0.60699999999999998,6,1094.4000000000001,881.3,762.8,684.5,637.4,604.6,569.29999999999995,1052.9000000000001,851.3,739,668.8,624.79999999999995,597.6,567,900.3,720.5,621.9,562.9,525.5,500.7,469.4,962.8,764,653.29999999999995,585.9,542.79999999999995,514.4,480.6,1111.3,850.7,701.6,608.70000000000005,547.4,504.5,445.7,46.1,44.7,44.2,44.2,42.7,42,41.7,145.1,147.9,147.80000000000001,148.19999999999999,150.19999999999999,175.3,178.1,1172.5,961,844.5,764.4,711.5,687.7,673,743.8,618.1,545.29999999999995,501.3,479,469.2,463.1,688,576.70000000000005,512.9,481.4,464.4,454.1,446.5,642.70000000000005,541.9,490.2,466.8,451.3,438,418.7,642.1,541.5,484.2,458.1,440.7,431.9,409,652.4,534.79999999999995,479.7,454.6,433.8,412.3,381.4,672.1,551.20000000000005,487.8,459.8,438.9,417.7,376.3,746,603.1,519.1,477,454.2,434.3,394.2,880.2,694.2,589.9,523.6,488.1,467.1,436.6,1016.3,801.6,681.1,604.6,563.4,521.4,465.6,0.89470000000000005,1.1959,1.3797999999999999,0.68330000000000002,0.94369999999999998,1.1257999999999999,623.1,0.96289999999999998,0.74,152.19999999999999,0.96260000000000001,0.61699999999999999,13.9,623.29999999999995,"nor00000947",9.2189999999999994,8779,31.8,39.200000000000003,38.799999999999997,0,91,6101]
["nor666682",666682,"NOR 15068","Timeout","Oceanis 50","BENETEAU","BERRET/ RACOUPEAU",2012,null,"Espen Fagerholdt","CLUB","C",903,"3/5/2016","13:56:18",14.75,12.321,2,4.76,12929,122.4,0.38,642.70000000000005,0.95179999999999998,709.2,0.54600000000000004,-32.6,1168.9000000000001,919.2,776.8,685.7,626.4,586,543.6,1098.4000000000001,871.8,745.2,665.5,614.9,583.5,551,923.3,729.8,621.6,555.70000000000005,513.6,485.7,452,923.3,729.8,621.6,555.70000000000005,513.6,485.7,452,1164.5999999999999,874.1,707.3,603.70000000000005,536,489.6,429.1,47.3,46,45.8,45.9,44.7,44.1,43.5,142.80000000000001,167.2,168.1,169,169.5,170.1,174.3,1144.0999999999999,927.3,812.5,738,694.3,669.6,649,718.5,588.79999999999995,516.70000000000005,472.2,451.7,442.1,434.7,658.6,544.79999999999995,480,447.3,432.2,424.9,417.9,609.4,507,453.6,430,416.2,405.7,393,606.70000000000005,504.8,451.6,428.5,414.1,401.8,380.6,679.2,562.4,483.8,443.3,423.3,408.4,379.2,737.2,594.9,510.7,458.4,431.9,415.2,385.9,862.3,673.9,569.4,499.9,455.8,432,402.3,1033.8,791.5,653.6,566.1,503.7,460.8,419.5,1193.7,911,741,633.4,558.4,502.5,438.2,0.86619999999999997,1.2048000000000001,1.4278,0.64649999999999996,0.93659999999999999,1.1634,626.5,0.95779999999999998,0.61899999999999999,67.099999999999994,0.96050000000000002,0.55000000000000004,-28.8,624.70000000000005,"nor00000971",10.254,14166,46.3,51,68.2,0,0,6151]
["per","PER5501","PER-5501","VENTOTENE","OCEANIS 55","BENETEAU","BERRET/ RACOUPEAU",2014,null,"JOSE GRANA M. Q.","CLUB","C",1108,"5/4/2016","17:35:58",15.99,13.992000000000001,2.2000000000000002,4.96,16880,122,0.25,561,1.093,617.6,0.68799999999999994,2.6,963,775.3,667.9,594.9,552.79999999999995,530.79999999999995,494.6,923.5,744.9,643.79999999999995,579.79999999999995,541.4,519.4,488.2,790.1,631,543.29999999999995,491,458.1,436.3,408.6,856.6,678.4,578.5,517.1,477.4,450.7,417.7,975.5,745.2,613.20000000000005,531.1,477.3,439.9,388.7,45.3,43.8,43.4,43.1,41.7,41.1,40.200000000000003,143.19999999999999,147.30000000000001,147.9,148.5,149.69999999999999,152,177.2,1024,836.3,731.6,657.8,613.5,592.5,576.1,653.5,542.1,475.9,435.4,416,408,401.7,606.79999999999995,507.5,448.8,418.9,403.8,395.2,388.3,568.70000000000005,478.4,429.9,407.4,393.1,381.4,366.3,569.1,474.8,421.8,400.3,392.5,381,357.3,573.4,467.8,416.9,394.3,376.1,362,345.5,588.6,480.9,424.4,399.3,380.8,362,331.3,657.2,529.9,454.9,416.2,395.6,378.1,343.2,781.1,618.6,523.20000000000005,460.7,426.1,408.6,380.9,901.9,714.3,604.1,532,492,469.1,413.1,1.0174000000000001,1.3714999999999999,1.5833999999999999,0.77659999999999996,1.0822000000000001,1.2912999999999999,0,0,0.83899999999999997,150,1.1021000000000001,0,0,544.4,"per00001659",12.148999999999999,18423,53,69.599999999999994,70.599999999999994,0,213.1,6166]
["CAN046/16","USA9700","USA 9700","Dark Star","One Off",null,"Bieker",2002,"USA","Jonathan MkKee","CLUB","C",922,"26/4/2016","08:39:10",13.41,12.792,2.9279999999999999,3.92,5390,115.8,0,497.4,1.2408999999999999,543.9,0.80900000000000005,18.100000000000001,825.5,660.7,573.9,530.1,503.1,476.4,428.7,784.3,631.1,555,513.4,485.1,461,427.5,687.2,554.6,483,440.2,411.5,389.9,356,747.7,598.29999999999995,516.20000000000005,466.4,433.4,409.8,376.3,847.6,652.5,542.5,474.2,427.8,393.1,340.2,43.3,41.9,38.9,36.700000000000003,35.200000000000003,34.1,33.299999999999997,142,143.1,148.19999999999999,152.30000000000001,149.4,147,142.19999999999999,846.6,688.2,611,576.70000000000005,558.29999999999995,543.5,530.5,549.1,458.1,429,416.4,408.2,401.8,386.3,512.29999999999995,439.8,416.6,401.8,391.7,384.6,367.5,481.2,425.5,399.1,378.8,365.1,356.3,343,482.6,426.3,393.8,366.2,349,332.3,316.10000000000002,498.5,425.1,393.2,368.7,349.6,329.9,291.5,517,431.1,390.1,362.2,337.5,319.2,284.8,581.70000000000005,460.6,415.6,377.4,339.7,305.39999999999998,260,696.5,548.5,464.9,417.4,387.9,354.4,283,804.3,633.29999999999995,536.79999999999995,483.5,447.9,409.2,326.8,1.1823999999999999,1.5266999999999999,1.7693000000000001,0.9083,1.2299,1.4511000000000001,0,0,1.095,226.1,1.2416,0,0,483.2,"CAN00062682",13.101000000000001,7630,35.700000000000003,70.8,42.6,0,181.8,6219]
["GER80384","GER3597","GER 3597","TANTE SCHMIDT","ONE OFF","AS-WERFT","NISSEN",1987,"HSRV","HEIKO STEPPAT","CLUB","C",280,"18/4/2016","19:38:52",9.35,7.9390000000000001,1.6839999999999999,3.02,3219,125.7,0.09,687.7,0.90090000000000003,749.2,0.60799999999999998,37.9,1136.5,924.5,798.1,722.9,678,654,628.6,1084.0999999999999,886,775.2,714.1,679.8,658.9,634.29999999999995,948.4,765.5,667.2,609.9,574.6,551.70000000000005,523.5,984.7,791.1,686.4,625,587,562.29999999999995,532.29999999999995,1168.9000000000001,901.8,750.9,658.5,598.4,556.20000000000005,496.5,44.2,43.8,43.4,42,41,40.5,40.700000000000003,147.19999999999999,151.69999999999999,152.69999999999999,161.30000000000001,180,180,180,1163.3,973.8,860.2,805.7,780.4,768.3,764.9,753.1,633.29999999999995,571.5,548.20000000000005,539,534.29999999999995,532,705.9,596.9,552.20000000000005,532.29999999999995,522,516.29999999999995,512.20000000000005,666.6,572.9,538.29999999999995,517.4,500.6,488,478.1,668.5,573.70000000000005,536.5,514.20000000000005,497.7,479,452.5,700.1,580.70000000000005,536.20000000000005,508.8,482,461,440.4,726.7,597.4,544.1,516,490,464.1,422.6,810.4,661.2,572,535.20000000000005,509.5,484.1,436.3,961,758.4,639.1,566.79999999999995,533.79999999999995,509.6,462.7,1109.7,875.2,736,640.1,575.5,539.79999999999995,492.2,0.85370000000000001,1.1089,1.2478,0.65500000000000003,0.89580000000000004,1.0377000000000001,672.4,0.89229999999999998,0.76200000000000001,204.3,0.8952,0.61199999999999999,42.3,670.2,"GER11001253",7.4039999999999999,3853,18.600000000000001,28.6,23.8,50.2,0,6241]
["nor",677027,"NOR 84","Galactic Viking","Open 60","Thierry Dubois","Nivelt",1999,null,"Bjorn w. Lindgren","CLUB","R",1613,"14/6/2016","21:50:16",18.59,18.324999999999999,6.9779999999999998,5.23,9000,91.9,0,410.1,1.4428000000000001,467.8,0.85099999999999998,-37.200000000000003,718.2,580.9,506.4,462.5,425.2,393.1,352.7,688.8,557.1,488.6,444.4,410.5,384.3,354.3,574.5,461.6,398.6,358.6,330.5,309.3,279,625.1,496.6,424.7,379.7,348.8,325.60000000000002,290.8,727.7,555.9,455.7,390.6,344.3,309,256.39999999999998,46.9,44,43.8,41.6,40,38.799999999999997,38.1,131.19999999999999,139.69999999999999,145.5,148.69999999999999,140.19999999999999,138.1,143.4,783.7,630.6,563.29999999999995,520.70000000000005,493.9,476.6,461.4,492.1,407.3,367.6,349.9,337.2,321.60000000000002,309.39999999999998,446,375.6,347.7,334.5,316.89999999999998,308.60000000000002,287,394,346.8,320.39999999999998,301.3,284.60000000000002,273.10000000000002,251.6,373.1,329,300.8,277.89999999999998,264.7,251.6,230.5,357.2,306.10000000000002,273,259.39999999999998,228.9,215.8,198.4,374.7,322.8,278.8,248.9,230.2,219.1,188.6,461.6,378.8,334.9,294.3,255.1,224.9,188,565.29999999999995,460,389.3,350.2,308.7,268.2,211.4,652.79999999999995,531.20000000000005,449.5,404.3,356.4,309.7,244.1,1.4052,1.8516999999999999,2.2442000000000002,1.0390999999999999,1.4131,1.7486999999999999,417.3,1.4379,1.087,131.9,1.4831000000000001,0.86399999999999999,-20.399999999999999,404.6,"nor00001620",17.387,11327,60.8,163.1,89.8,0,305.7,6302]
["CLU171101","I17110","ITA-17110","ALIAS","ORCA 50","ADRIASAIL","BISCONTINI/NAUTA",2014,"MARVELIA A.S.D.","FERRANTE ENRIQUES","CLUB","C",1164,"31/5/2016","18:05:26",14.97,14.502000000000001,2.9020000000000001,4.8,13075,121.9,0.04,505.2,1.1968000000000001,564,0.80200000000000005,26.8,850,686.8,595.6,543.79999999999995,517.6,499.3,468.2,808.2,654.4,574.29999999999995,530.9,505.2,486.2,455.6,694.9,561.6,490.3,448.7,422.4,404.1,377.6,766.3,611.20000000000005,526,474.9,442.2,419.9,390.8,870.9,669.6,556.1,486.4,440.6,407.7,359.3,45.8,44.5,42.2,40.6,39.299999999999997,38.5,39,141.9,144.5,145.5,150.6,151.80000000000001,174,177.2,870.9,715.9,639.1,599.4,578.29999999999995,564.29999999999995,550.20000000000005,551.9,460.5,424.5,408.8,401.4,396.8,388.6,506,429.2,405.5,394.8,388.4,383.9,374.3,461.7,404.4,386.5,375.6,367.3,360.3,350.7,450.5,400.4,377.8,360.1,349,340.2,326.7,483.7,421.3,388.6,367.8,343.8,323.89999999999998,299.10000000000002,531.5,433.3,394.6,368.5,343.1,328.2,293.5,599.79999999999995,477.8,416.6,388.9,364.6,339.3,287.7,718.1,569.5,478.1,422.9,396.8,378.1,336.1,829.2,657.6,552,488.3,456.8,434.3,386.2,1.1680999999999999,1.506,1.7036,0.87849999999999995,1.1917,1.3714,504.2,1.1899,1.0860000000000001,247.3,1.2112000000000001,0.80700000000000005,37.5,495.4,"CLU00020099",13.459,14702,55.4,100.5,67,0,243.9,6317]
["knw","nedo8723","NED 8723","Off line","Pion","v.d.Stadt","v/d Stadt & Prtnrs",1973,4061306,"Sjaak Broekhuizen","CLUB","C",448,"23/3/2016","12:11:30",9.0839999999999996,7.3360000000000003,1.7110000000000001,2.89,3580,124.9,0.44,722.4,0.86560000000000004,779.8,0.59199999999999997,47.8,1177,964.4,836.8,752.5,704.8,679.3,651.79999999999995,1130.5,927.4,813.6,746.4,707.8,684.4,658.2,994.2,803.6,701,641.20000000000005,604.4,580.6,551.5,1043.0999999999999,838.9,728.2,663,622.5,596,563.5,1216.2,941.7,786.4,691.2,629.70000000000005,587.1,528.9,43.1,41.9,42.8,41.2,40,39,38.6,148.30000000000001,152.80000000000001,150.30000000000001,162.4,180,180,180,1216.2,1023,912.4,843.1,809.7,791.8,781.4,796.1,673.8,609,581.70000000000005,567.9,561.1,555.9,751.3,636.1,588.9,566.5,552.29999999999995,544,537.29999999999995,714,611,573.70000000000005,552.79999999999995,536.20000000000005,522.1,506.3,719,614.4,568.5,544.70000000000005,535.1,519.70000000000005,492.3,732.6,610.9,566.1,538.9,513.79999999999995,494.9,478.3,758.2,623.79999999999995,572.1,544.29999999999995,519,494.7,462.7,850.2,689.1,594.70000000000005,560.6,535.79999999999995,511.6,469.4,985.4,785.8,659.7,589.4,559.4,536.4,492.6,1137.8,905.8,761.3,661.8,600,566.79999999999995,522.20000000000005,0.8145,1.0546,1.1856,0.63039999999999996,0.85840000000000005,0.99939999999999996,707.8,0.84770000000000001,0.72299999999999998,196.5,0.85429999999999995,0.59799999999999998,55.6,702.3,"knw00004136",6.8049999999999997,4169,18.399999999999999,20.3,27.4,62.2,58,6367]
["knw5218","nedi2884","NED 2884","SCHAAKMAT","Pion (OOD)","Lewin B.V.","v/d Stadt & Prtnrs",1973,145994,"B.A.,de Nijs","CLUB","C",460,"14/4/2016","09:44:46",9.0839999999999996,7.351,1.716,2.89,3652,126.8,0.37,733.9,0.8488,795.2,0.57199999999999995,39.6,1206,984.8,856.1,768.5,717.5,690.3,663.7,1157.3,948.3,831.1,761.1,720.6,696.7,671.3,1013.5,817.7,712,650.20000000000005,612,587.5,558.1,1051.3,845,732.9,666.9,625.9,599.29999999999995,567,1243.4000000000001,960.5,800.2,701.7,637.79999999999995,593.5,532.9,44.1,42.9,43.8,42.6,41.2,40.4,40.299999999999997,148.4,152.9,152.30000000000001,160.80000000000001,180,180,180,1244,1045.2,933.8,862,827,808.9,800.3,807.3,683.1,613.6,584,570.1,563.29999999999995,558.79999999999995,760,642.1,590.70000000000005,567.4,553.4,545.5,539.4,720.4,613.6,574.29999999999995,553,536.6,522.6,507.4,723.5,615.79999999999995,575.29999999999995,549.1,536.5,519.79999999999995,492.9,755,622.79999999999995,571.29999999999995,543.6,518.70000000000005,497.6,479.8,777.7,638.4,577.9,549.6,525.20000000000005,501.2,464.4,870.8,706.8,605,566.5,541.5,518,475.6,1011.5,802.6,675.8,598,564.79999999999995,541.70000000000005,498.5,1168,924.4,778.5,675.1,608,571.70000000000005,527,0.79869999999999997,1.0394000000000001,1.1722999999999999,0.61619999999999997,0.84060000000000001,0.98240000000000005,719.3,0.83409999999999995,0.69799999999999995,187.4,0.84079999999999999,0.57999999999999996,48.8,713.6,"knw00005057",6.6760000000000002,4243,18.600000000000001,19.899999999999999,31.2,57.4,0,6378]
["GRE000927","GR1606","GRE-1606","HERMES","POGO 12.50","POGO STRUCTURES","FINOT-CONQ",2011,"NAO LAVREOTIKIS","AFTIAS MICHALIS","CLUB","C",560,"15/3/2016","12:24:20",12.18,12.255000000000001,3.0129999999999999,4.5,5508,105.5,0.12,538.70000000000005,1.1281000000000001,598.29999999999995,0.70099999999999996,-5.2,938.1,744.3,630.5,574.5,546.79999999999995,521.29999999999995,478.2,889.5,706.3,607.79999999999995,558.1,528.70000000000005,504.2,466.8,754.1,604.1,522.29999999999995,473.4,441.5,418.6,384.8,824.8,653.4,558.5,501,463.6,437.5,401.5,945.9,719.8,591.5,512.20000000000005,459.1,420.4,363.7,43.8,42.7,41.1,38.6,37.700000000000003,36.700000000000003,36.4,142.19999999999999,144.9,146.19999999999999,150.5,150.9,177.1,144.19999999999999,960.9,770.1,662.4,620.9,599.6,584.4,572,620.9,503.3,450.9,435.8,427.4,421.5,408.9,566.79999999999995,470,436.4,420.4,410.5,403.4,388,503.2,438.6,417,396.1,381.1,371.8,358.8,485.9,430.4,397.9,380.1,364.3,346.1,330.8,516.20000000000005,448,417.3,378.4,344.6,323.2,300.39999999999998,569.4,469.9,426.5,389.2,350.2,318.3,285.39999999999998,662.1,522.6,452,418.5,384.5,348.2,281.60000000000002,792.6,622.20000000000005,518.29999999999995,457.5,428.6,402.3,332.9,915.3,718.5,598.5,528.1,494.1,458.2,384.4,1.0702,1.4213,1.6496,0.8024,1.1243000000000001,1.3196000000000001,0,0,0.92,184,1.1420999999999999,0,0,525.4,"GRE01005156",11.912000000000001,6812,37.1,63.9,41.9,0,136.30000000000001,6442]
["FRA16118a","F9787","FRA- 9787","DIOGENE","POGO 40 Cruiser SK","Chantier STRUCTURE","FINOT Jean Marie",2005,"98800 - NOUMEA   NOUVELLE CALEDONNIE","CHAILLOU Ludovic","CLUB","R",977,"22/3/2016","19:41:24",12.18,12.401999999999999,2.1339999999999999,4.4000000000000004,5322,111.9,0.05,544.5,1.1107,607.70000000000005,0.67400000000000004,-19,946.9,756.6,646.70000000000005,586.4,552.9,525.70000000000005,476.1,903.3,722.6,626,571.6,535.79999999999995,508,465,766.3,612.70000000000005,528.1,476.4,441.6,415.9,377.2,878,690.8,585.4,520.20000000000005,477.2,446.9,405.9,956.7,728.8,598,515.6,459.2,417.1,353.9,46.5,45.8,44.3,41.3,39.5,38.799999999999997,37.799999999999997,142.5,145.19999999999999,146.1,150.4,149.5,146.1,143.69999999999999,990.7,802.8,702.4,649.70000000000005,615.5,596.79999999999995,580.1,624.20000000000005,510.3,459,440.3,428.1,419.6,410.2,569.29999999999995,472.3,437.9,422.4,411.2,398.9,386,517.1,445.6,414.7,391.9,376,361.9,343.5,505.3,441.9,409.9,375.3,349.2,334.8,308.5,557,460.9,418.3,379.3,353.3,318.5,281.8,579.70000000000005,469.4,425.2,385.7,344.7,320.2,275.3,655.6,516.5,448.7,414.2,377.5,338.2,270.3,782.1,615.20000000000005,511.8,453,424.7,393.7,322.2,903.1,710.3,591,523.20000000000005,490.4,454.6,372.1,1.0530999999999999,1.4054,1.6638999999999999,0.79249999999999998,1.1023000000000001,1.3133999999999999,0,0,0.88600000000000001,170.1,1.1303000000000001,0,0,530.79999999999995,"FRA00003773",11.483000000000001,7437,36.9,50.9,41.5,0,169.2,6457]
["nor5847",5847,"NOR 5062","Fortuna VIII","POLO 86",null,"T Skjonsberg",1979,null,"Allan Strand","CLUB","C",420,"28/4/2016","20:50:40",8.57,7.2220000000000004,1.694,2.9,3675,107,0.6,741.1,0.84370000000000001,800,0.59099999999999997,57.7,1190.5,980.4,859,775.3,725.4,699.5,673.5,1147.5999999999999,947.7,836.6,768.8,729.3,706.2,681.4,1015.7,822.8,719.5,659.4,622.6,598.9,570.70000000000005,1073.3,863.5,749.7,682.6,641,614.20000000000005,582.20000000000005,1236.5,961.3,805.8,710.4,648.5,605.70000000000005,547.4,42.8,41.3,42,41.4,40.200000000000003,39.5,39.4,148.30000000000001,152.69999999999999,153.80000000000001,163.4,180,180,180,1246.2,1050.9000000000001,941.8,869.1,835.1,817.6,809.3,820,698.1,627.79999999999995,597.4,582.20000000000005,575.5,571.1,776.5,660.1,605.9,581.6,566.79999999999995,558.29999999999995,553,741.5,632.79999999999995,590,568.29999999999995,551.79999999999995,538.1,523.5,748.1,630.29999999999995,581.20000000000005,561.70000000000005,552.79999999999995,537.6,510.3,748.6,625.70000000000005,579.70000000000005,553.29999999999995,529.5,513.6,496.8,773.8,641.9,586.9,559.29999999999995,535.6,512.20000000000005,481.9,848.7,700.7,612.6,576.1,551.79999999999995,528.79999999999995,487.3,982.8,789.8,676,606.20000000000005,574.70000000000005,552.20000000000005,509.9,1134.8,909.9,776.2,681.5,615.70000000000005,581.29999999999995,537.70000000000005,0.7984,1.0259,1.1487000000000001,0.62190000000000001,0.83560000000000001,0.96950000000000003,726.8,0.82550000000000001,0.73,217,0.83279999999999998,0.59899999999999998,68.2,720.5,"nor00000810",6.5629999999999997,4225,17.899999999999999,16.899999999999999,26.7,56.8,57.2,6483]
["FRA16198a","F9175","FRA- 9175","CHINATOWN","PROTO 1/4 TON 1981","FONTAINE PAJOT","JOUBERT - NIVELT",1981,"33110 - LE BOUSCAT","LAPLACE Didier","CLUB","R",314,"7/6/2016","15:15:02",7.61,6.1829999999999998,1.514,2.64,1333,103.7,0.01,709.9,0.87229999999999996,773.8,0.61299999999999999,55.3,1136.4000000000001,929.5,812.6,747.8,712.7,692.2,664.5,1084.9000000000001,893.3,795.1,743.7,714.6,695.6,668.4,963.3,784.8,690,635,600.6,577.20000000000005,545.5,991.1,804.6,705.1,647.4,611.4,587.20000000000005,554.6,1184.4000000000001,921.5,774.2,683.9,623.70000000000005,579.1,510.5,43.5,42.9,41.1,39.799999999999997,39.200000000000003,39.1,40,148.30000000000001,152.4,156.5,180,180,180,180,1149.5999999999999,967.8,873.4,836.6,820.9,813.9,817.8,747.9,642.4,602.4,585,576.29999999999995,571.6,567.70000000000005,702.3,618.29999999999995,585.4,564.29999999999995,553,546.5,542.5,666.8,601.4,569,540.6,521.4,511.5,503.9,667.7,602,568.6,534.79999999999995,513.20000000000005,492.3,470.2,712.5,612.79999999999995,571.1,533.70000000000005,501,470.4,433.3,741.8,626.20000000000005,580.6,544.70000000000005,512.6,482.1,403.2,829.5,678.4,608.20000000000005,571.1,536.5,506,441.5,972.7,772.4,657.3,601.6,567.1,534.6,478.2,1123.2,891.1,751.8,659.1,604.6,570.6,511.3,0.84440000000000004,1.0646,1.1910000000000001,0.65349999999999997,0.87009999999999998,0.98260000000000003,0,0,0.86,301.3,0.86519999999999997,0,0,693.5,"FRA00004540",6.2770000000000001,1739,11.1,20.5,15.6,27.9,0,6533]
["ARG513001","ARG5130","ARG-5130","INFINITY PLUS","PRYD 26","ONE OFF","P. RASPO",2012,null,"LUIS E. SPROVIERI","INTL","S",450,"28/9/2016","17:00:12",7.9029999999999996,7.8760000000000003,1.9159999999999999,2.46,1276,105,0,627.6,0.98319999999999996,686.5,0.68500000000000005,46.9,1003.4,810.1,719.6,678.1,643.5,607.79999999999995,549.79999999999995,960.2,783.1,700.6,656.2,622.20000000000005,593.4,559.9,852,694.3,610.6,560.9,527.6,502.3,462.9,929.5,747.8,649.79999999999995,591.79999999999995,554.6,528.4,491.2,1044.9000000000001,813.2,683.7,603.4,548.4,506.6,443.2,42.3,41.6,38.4,36.9,35.9,35.5,36,143.6,146.5,150.19999999999999,149.69999999999999,145.80000000000001,143.19999999999999,143.80000000000001,1048.5999999999999,860.3,782.1,751.7,733,720.5,718.5,688.1,581.29999999999995,552.29999999999995,541,534.4,526.5,520.1,646.4,562.6,535.6,523.20000000000005,515.4,507.4,495.7,614.1,548.79999999999995,515.70000000000005,491.6,479.2,472,454,603.79999999999995,550.9,515.79999999999995,478.6,449.4,435.7,425.8,598.5,529.9,499.4,473.5,447.1,424.8,376,615.79999999999995,536.79999999999995,486.2,455.1,429.5,403.3,362.8,698.8,570.4,517.29999999999995,466.2,413.1,369.4,322.89999999999998,829.9,658.2,569.1,523.6,479.7,428.7,330,958.3,760,657.2,604.6,554,495,381.1,0.95850000000000002,1.1988000000000001,1.3721000000000001,0.74439999999999995,0.97219999999999995,1.1345000000000001,0,0,0.98299999999999998,303,0.98050000000000004,0,0,611.9,"ARG00003171",7.8840000000000003,1892,13.7,23.8,15.3,0,70.5,6571]
["RUS2772.2","RU2772_B","RUS 2772","BELKA 2","RAKETA 1200","RAKETA YACHTS","TIKHONOV MIKHAIL",2014,"Russia","SHUMARIN VASILY","CLUB","R",848,"12/9/2016","13:39:12",12,11.834,2.694,3.7,4503,116,0,519.4,1.1788000000000001,572.6,0.77100000000000002,15.8,863.5,689.7,601.29999999999995,559.79999999999995,532.5,503.6,456.1,822.3,661.1,583.5,542.70000000000005,513.70000000000005,487.8,458,718.6,579.29999999999995,504.3,459.5,429.7,407.2,372.1,785.8,627.20000000000005,540.1,487.4,452.7,428.2,394,885.8,682,567,495.5,446.6,409.6,353,43.6,42.7,39.9,38.6,37.4,36.700000000000003,36.6,141.9,143.4,149,152.1,148.6,145.5,140.4,897,724.4,646.9,616.70000000000005,598.9,584.4,577.9,580.70000000000005,477.8,446.6,435.1,427.9,419.5,409.3,542.5,458.2,430.9,418.2,409.2,400.7,385.9,510.2,445.9,411.7,388.9,376.8,369.2,350.4,512.4,447.5,414.1,376.9,351.5,339.8,326.39999999999998,514.70000000000005,439,401.7,378,355.7,337.9,287.7,533.4,445.9,401.9,366.5,344.9,325.89999999999998,284.89999999999998,600.1,478.3,431.5,391.4,350.1,310,265.10000000000002,718.7,567.20000000000005,481.3,434.9,403.7,366.2,289.60000000000002,829.9,655,555.70000000000005,502.9,466.1,422.9,334.4,1.1311,1.4631000000000001,1.6941999999999999,0.86919999999999997,1.1685000000000001,1.3691,516.20000000000005,1.1623000000000001,1.081,249,1.1879999999999999,0.79400000000000004,38.200000000000003,505.1,"RUS00008161",11.781000000000001,5660,32,60.2,39.1,0,163.9,6608]
["AUS2779",2779,"AUS 10001","WILD OATS XI","REICHEL/PUGH 30m","Mc Conaughy Boats","REICHEL/PUGH",2015,"NSW 1570","Sandy Oatley","INTL","R",2125,"10/7/2016","20:10:28",30.48,30.116,5.8949999999999996,5.09,28422,123.4,0,319.3,1.8945000000000001,356.3,1.2010000000000001,-1.3,528.9,428.7,386,353.9,327.5,307.39999999999998,279.5,507.4,415.1,370.1,341,318.7,302.8,280.5,437.2,355.5,310.89999999999998,283.10000000000002,263.7,248.7,226.3,474.1,382.3,331.9,300.60000000000002,278.7,261.5,233.4,547.5,423.7,352.6,306.7,274,248.8,211.2,47.1,42.6,40.700000000000003,39.9,37.799999999999997,36.299999999999997,35.299999999999997,137.69999999999999,140.30000000000001,137.6,139.19999999999999,141,145.1,151.6,576.20000000000005,474.3,427,399.7,376.9,365.8,353.2,363.2,310.2,288.39999999999998,277.2,265.89999999999998,258.7,247.9,333.9,292.2,276.3,266.2,253.6,244.9,233.4,296.39999999999998,271,255.5,243.3,232.2,220,204.5,287,261.3,243,229.8,218.9,209.8,185.9,294.10000000000002,265.3,237.3,219.2,204.3,192.2,175.2,298.5,264.60000000000002,247.9,222.2,203.8,187.7,168,339,277.8,251.4,226.5,209.9,194.6,170.2,417,331.7,298.7,266.8,240.8,215.5,177.6,481.5,383.1,344.9,308.10000000000002,278.10000000000002,248.9,205.7,1.8632,2.3559000000000001,2.7825000000000002,1.4098999999999999,1.8532999999999999,2.2355,0,0,1.64,209.5,1.9145000000000001,0,0,313.39999999999998,"AUS00000131",29.015999999999998,36406,115.3,374.1,214.5,0,961.6,6623]
["ESP716201","E7162","ESP-7162","RO YACHTS CLUB","RO 340","MOA","RONAUTICA",1997,"RO YACHTS CLUB","SIERRA UNAONE SL","INTL","C",450,"11/3/2016","02:33:54",9.5850000000000009,8.7840000000000007,1.996,3.26,4527,115.8,0.26,668.5,0.93110000000000004,724.9,0.63,41.1,1102.7,896.7,775.6,699.3,655.8,631.5,605.70000000000005,1057.8,862.7,753.5,690.5,656.1,635.6,610.6,924.6,745,648.29999999999995,592.1,557.79999999999995,535.79999999999995,509.1,979.8,783.9,677,614,575.20000000000005,550.1,519.5,1132.7,874.2,728,638.6,580.79999999999995,541.1,487.1,43.6,42.1,42.5,41.2,40,40,39.9,146.30000000000001,150.69999999999999,152.19999999999999,158.19999999999999,180,180,180,1151.7,958,844.4,778.5,752.7,740.7,732.9,748.6,629.20000000000005,560.70000000000005,532.70000000000005,522.5,517.70000000000005,514.9,703.3,592.1,539.6,517.70000000000005,506.8,501.9,498.4,666,564.6,525,504.5,489.4,478.1,469.6,669.6,566.9,520.9,505.3,488.2,471.9,446.9,682.2,562.79999999999995,517.20000000000005,491.5,471.2,460,441.3,704.3,577.79999999999995,524,497.3,473.1,449.6,425.3,777.4,632.6,549.79999999999995,514.4,490.7,467.4,423,912.5,723.6,613.29999999999995,545.79999999999995,514,491.8,448.4,1053.7,835.5,706.7,620,558.9,522.29999999999995,478.4,0.87480000000000002,1.143,1.2847999999999999,0.67520000000000002,0.92430000000000001,1.0750999999999999,654.29999999999995,0.91700000000000004,0.77600000000000002,195.4,0.92379999999999995,0.64,51.2,649.5,"ESP00016740",8.0709999999999997,5274,23.2,30.8,27.6,71.099999999999994,0,6684]
["GRE000031","ITA155","GRE-155","ARISTOTELIS","RODMAN 42","RODMAN","JUDEL/VROELIJK",2002,"ARISTOTLE UNIVERSITY THESSALONIKI","ARISTOTLE UNIVERSITY THESSALONIKI","INTL","C",820,"28/6/2016","12:34:02",12.4,10.839,2.4860000000000002,3.49,6151,132.80000000000001,0,571.4,1.0803,624.79999999999995,0.72299999999999998,31.8,948.6,768.1,659.7,603.1,570,547.20000000000005,516.4,906.1,734.1,640.6,591.70000000000005,563.6,543.5,511.4,790.6,636.9,554.29999999999995,505.9,475.6,454.9,426.8,846.5,676.6,583.9,528.79999999999995,494.1,470.7,439.7,971.9,748.9,622.79999999999995,545.4,494.7,458.6,407.5,43.7,42.9,41.8,40.5,39.5,39,38.700000000000003,143.30000000000001,146.69999999999999,149.69999999999999,155.69999999999999,169.6,180,180,985.4,811.5,708.4,666.2,646.79999999999995,636.29999999999995,623.70000000000005,639.20000000000005,530.70000000000005,477.3,460.5,453.3,449.2,440.6,598.5,502.1,462,445.6,438,433.4,424.5,564.6,483,451.1,429.3,414,406.1,399,566,480.7,452.3,429.7,407.4,388,370.3,577.9,479.4,442.1,415.6,401,386.3,363.4,596.70000000000005,490.3,449.3,419.6,390.2,372.7,347.3,665.3,536.1,471.8,441.4,413.7,386.4,329.2,789.6,627.6,529.1,473.1,444.1,418.6,368.2,911.7,724.7,611,540,493.2,458.2,409.1,1.0242,1.3354999999999999,1.514,0.78639999999999999,1.0758000000000001,1.2468999999999999,0,0,0.93300000000000005,215.7,1.0791999999999999,0,0,556,"GRE01006330",10.443,7151,30.6,56.9,37.200000000000003,120.2,0,6699]
["ESP231101","E2311_C","ESP-2311_C","COYANZA","RUSH 31 SK","JEANNEAU","Holland",1979,"C.M.MARZAGON","JUAN TALEGON CONTRERAS","CLUB","C",420,"11/3/2016","00:43:14",9.1999999999999993,7.5810000000000004,1.373,3.13,3250,118.4,0.18,719.6,0.85840000000000005,786.4,0.59399999999999997,47.6,1172.8,961.6,839.2,760.9,714,690.3,670.2,1131.8,930.9,820.4,755.8,718.9,697.9,679.8,988.3,799.5,698.4,639.70000000000005,603.9,581.29999999999995,555.5,1035.4000000000001,832.9,723.3,659.1,619.79999999999995,594.9,565.9,1211.2,939,785,690.4,628.6,585.29999999999995,525.20000000000005,45.4,44.4,45,43.9,43.2,42.8,43.7,147.9,151.6,152.69999999999999,161,180,180,180,1244.3,1045.7,934.6,867.6,837.1,824.2,829.2,797.5,674.2,605.9,575.4,563.79999999999995,558.6,557.4,745.6,631.4,579.6,557,544.9,539.20000000000005,536.29999999999995,701.8,600.4,561.6,541.20000000000005,525,511.7,500.4,702.1,600.79999999999995,561.9,538.9,523.5,506.3,480.7,732.5,605.9,557,529.70000000000005,503.7,483.6,466.4,751.9,618.70000000000005,562.29999999999995,534.20000000000005,508.6,484.2,448.9,819.9,671.1,585.70000000000005,550.29999999999995,525.29999999999995,500.4,457.2,953.7,760.6,646.6,579.6,548.9,525.70000000000005,480.8,1101.3,877.6,743.8,654.20000000000005,590.9,556.5,511.1,0.82040000000000002,1.0578000000000001,1.1836,0.63249999999999995,0.85229999999999995,0.98009999999999997,707.8,0.84770000000000001,0.75700000000000001,228.9,0.85540000000000005,0.60099999999999998,57.1,701.4,"ESP00016557",6.7530000000000001,3849,18.100000000000001,18.3,31.1,60.4,0,6730]
["knw27693","nedc8293","NED 8293","Adios","Salona 37","Salona","J&J design",2005,4090293,"J.G. van Oord","CLUB","C",640,"23/3/2016","12:59:48",11.3,10.432,2.0390000000000001,3.58,6641,120.9,0.31,631.5,0.98829999999999996,683,0.63800000000000001,20.6,1061.2,856.6,739.8,660.4,613.6,584.9,557,1014.9,823,714.8,648.29999999999995,609.9,586.79999999999995,559.70000000000005,881.6,707.2,612.1,555.70000000000005,520.4,497.2,468.8,935.9,745.6,640.5,577.6,537.9,511.9,479.8,1083.4000000000001,831.5,688.1,599.70000000000005,542.29999999999995,502.4,448,43.9,42.2,42.1,41.1,39.6,38.799999999999997,38.6,145.19999999999999,150,152.19999999999999,155.69999999999999,171.9,180,180,1105.3,909.9,800.2,725.7,690.9,674.6,661.4,715.4,598.5,529.79999999999995,496.6,481.9,475.9,471.5,670.5,563.79999999999995,507.7,482.5,469.1,462.1,456.8,634.20000000000005,536.1,492.4,471.5,456.3,443.7,430,637.29999999999995,537.79999999999995,487.2,465.8,456.6,441.4,413.5,649.29999999999995,534.1,485,460.8,438.9,421,402.5,670.4,550.29999999999995,492.4,466.2,445.3,423.2,386.6,743.6,605.29999999999995,523,484,461.8,441.3,399.2,880.9,695.7,589.1,519.9,484.6,463.4,424.1,1017.2,803.3,679.4,595.1,536.29999999999995,495.3,452.6,0.91510000000000002,1.2133,1.3874,0.70389999999999997,0.97609999999999997,1.1605000000000001,613.79999999999995,0.97750000000000004,0.75600000000000001,147.4,0.98060000000000003,0.64900000000000002,29.8,611.9,"knw00004287",9.4499999999999993,7634,29.6,41.2,29.9,84.3,0,6774]
["knw","nedc8484","NED 8484","Blond","Salona 41","AD Yachts","Jakopin & Jakopin",2010,4028701,"M. Dinant","CLUB","C",870,"23/3/2016","12:47:10",12.5,11.718,2.246,3.82,7990,125,0.23,589.1,1.0377000000000001,650.5,0.67,14.9,1009.5,810.9,698.9,627.29999999999995,591.6,562.29999999999995,531.4,968.4,780.3,676.1,614,578.29999999999995,554.5,526.5,818.9,658.3,571.29999999999995,519.9,487.6,465.8,437.3,906.9,718.7,614.29999999999995,551.20000000000005,511.1,484.4,451.1,1024.0999999999999,783.8,647.29999999999995,563.29999999999995,508.5,470.2,418,44.4,42.8,42.3,41.5,40.1,39.1,38.9,143.6,147.69999999999999,148.1,149.30000000000001,151.19999999999999,176.6,179.1,1074.2,874.4,765.2,691.6,655,637.6,624.79999999999995,677,556,495.4,469.8,454.1,447.5,442.2,609.70000000000005,505.2,466.1,454.2,441.5,433.4,427,545.6,469,442.8,432.7,424.8,414.9,398.7,529.20000000000005,463.8,439.1,420.1,405.4,397.3,382.9,571.20000000000005,489.2,450.3,426.2,403.4,382.4,356.9,618.6,506.3,457.1,432.2,408.1,383.2,348,689.7,557,482.6,449.3,427.1,403.9,357,818.1,647.4,547.9,487.6,459.2,440.2,404.2,944.7,747.5,632.6,563,528.29999999999995,486.9,438.1,0.98799999999999999,1.2975000000000001,1.4799,0.74160000000000004,1.0265,1.2096,578.1,1.038,0.82299999999999995,167.5,1.0434000000000001,0.68500000000000005,27.3,575,"knw00004223",10.521000000000001,9179,35.200000000000003,48.6,37.200000000000003,0,125.7,6824]
["FRA16241a","F9765","FRA- 9765","ONIRIS","SALONA 45 Standard","AD BOATS","JAKOPIN J & J",2003,"69480  -  LUCENAY","MOUTERDE Pierre","CLUB","C",975,"5/7/2016","11:08:52",13.55,12.728,2.1309999999999998,4.1399999999999997,10559,120.9,0.14000000000000001,583,1.0585,637.70000000000005,0.67500000000000004,12,992.3,799.9,688.9,617.20000000000005,574.4,545.29999999999995,516.29999999999995,945.5,764.6,664,603.79999999999995,568.1,545,517.6,815,653.29999999999995,565.1,512.70000000000005,479.8,457.9,430.6,856.4,683.1,587.6,530.20000000000005,493.8,469.4,438.6,1010,773.2,638.20000000000005,554.70000000000005,500.2,462.1,410.3,45.5,43.9,43.7,42.8,41.1,40.1,39.299999999999997,139.80000000000001,148.5,150,153.19999999999999,160.30000000000001,180,180,1027.9000000000001,843.6,742.4,680.6,647.20000000000005,629.1,614.5,655.6,546.20000000000005,483.6,454.9,443.1,436.9,431.1,608.79999999999995,510.9,460.8,439.5,429.3,423.4,417.5,568.9,481.4,445,427,413.9,403.6,392.7,566.70000000000005,480.3,444.2,426.3,411.7,397.3,373.4,603,493.2,444.3,421.4,401.9,387.7,368.4,621,508,451.6,426.6,406.5,385.1,353.6,691.9,558.79999999999995,481.5,443.4,422.4,403.1,362.2,828.6,654.9,550.4,482.3,445.4,424.9,388.1,956.8,756.2,635.5,553.70000000000005,501.6,461.5,418.1,0.99009999999999998,1.3143,1.5073000000000001,0.75329999999999997,1.0455000000000001,1.2461,0,0,0.80700000000000005,145.4,1.0578000000000001,0,0,567.20000000000005,"FRA00004782",11.178000000000001,11903,40.1,55.3,63.7,133.19999999999999,135.1,6850]
["CAN085/16","CAN18997","CAN 18997","Westerly","Santa Cruz 70","Lee / Santa Cruz","Bill Lee",1987,"CANADA","Stuart Dahlgren","CLUB","R",1360,"4/11/2016","22:57:22",20.725999999999999,18.300999999999998,3.093,4.5999999999999996,10541,122.6,0.01,451.4,1.3312999999999999,507,0.81799999999999995,-12.7,792.2,628.20000000000005,540.20000000000005,490.8,460.8,439,398.7,749,597.9,520.20000000000005,476.6,448.3,427.5,395.4,634.1,506.9,437.6,395.9,368.7,349,320,665.5,530.70000000000005,456.4,411.3,381.6,360.6,331.3,800,607.9,498.7,430.7,384.9,351.2,301,46.9,45.4,43.9,42.1,40.9,40.6,39.9,140.80000000000001,140.9,144,149.6,154.80000000000001,151.19999999999999,142.80000000000001,802.5,654,585.70000000000005,546.5,525,512.5,496.1,503.8,416.1,380.9,365.3,356.6,352.5,340.7,456.9,384.7,361.3,349.4,340.5,334.5,320.8,414.4,359.6,339.1,324.39999999999998,314.3,306.89999999999998,297.10000000000002,406.3,353.7,325.10000000000002,306.5,294.39999999999998,285.7,273.7,444,368.5,339.7,311.60000000000002,287.7,268.10000000000002,243.7,495.5,390.2,345.5,315.2,297.39999999999998,276.2,242.2,561.9,433.4,367.9,335.5,303.39999999999998,274.7,235.4,677.2,521.6,428.5,376.8,340.9,314.5,261,781.9,602.29999999999995,494.8,435.1,396.6,365.6,301.39999999999998,1.2756000000000001,1.6971000000000001,1.98,0.95050000000000001,1.3204,1.5721000000000001,0,0,1.0740000000000001,176,1.3571,0,0,442.1,"CAN00072334",16.616,12849,52.8,99.5,111.8,0,247.2,6865]
["HUN015/16","HUN1344","HUN 1344","Helena","Scholtz 32","Style Yacht Ltd.","Scholtz I",2004,"HUNGARY","Varga Huba","CLUB","R",579,"3/5/2016","09:44:48",9.6,8.8330000000000002,1.946,3.06,3710,117.5,0,611.70000000000005,1.0096000000000001,668.6,0.745,78.099999999999994,961.4,795,702.9,650.4,618.6,599.1,565,926,767,688.2,643.6,615,594.9,562.5,820.5,672.9,595.4,550.6,522,501.7,471.4,917.9,739.3,642.9,586.4,550.9,527,495.2,1007.9,789.7,667.9,593.29999999999995,543.9,507.7,452.8,44.3,43.5,41.1,38.700000000000003,38.1,37.4,37.1,142.5,148.6,152.80000000000001,163.1,180,180,180,1013.7,850.2,772.5,732.6,713.3,703.2,690.8,653.70000000000005,557.70000000000005,530.79999999999995,519.5,512.1,507.9,499.9,606.4,534.70000000000005,514.4,504.7,497.1,491.8,483.9,565.6,517.5,494.4,480.2,470.7,462.7,452.2,560.5,517.79999999999995,492.9,469,450.1,438.8,423.6,595.29999999999995,521.29999999999995,491.2,472.4,452,425.7,395,608.6,526.9,491.7,460,441.5,425.2,381.7,671.5,553.9,510.4,478.6,445.5,413.2,360.1,787.4,640.70000000000005,551.6,509.5,480.1,449.9,390.7,909.2,739.8,633.4,568.20000000000005,523.79999999999995,495,439.2,0.99490000000000001,1.2269000000000001,1.37,0.76859999999999995,1.0044,1.1417999999999999,0,0,1.036,326.89999999999998,1,0,0,600,"HUN00062814",8.5709999999999997,4480,22,40.4,23.8,122.1,0,6905]
["GER142155","GER7223","GER 7223","ALL-SEASON","SEASCAPE 27","ISSA","SAM MANUARD",2012,"FRYC","JOACHIM HASLER","CLUB","S",340,"4/5/2016","12:41:30",7.99,8.02,1.966,2.54,1620,116.3,0.01,633.1,0.96830000000000005,697.1,0.66400000000000003,36.700000000000003,1030.4000000000001,830.9,721.6,680.3,650.29999999999995,620.9,563.4,989,801.1,706.4,660.5,630.1,602.20000000000005,559,867.5,702.8,615,563.29999999999995,529.29999999999995,503.7,463,942.1,754.4,652.6,592.5,554.29999999999995,527.9,491.5,1062.0999999999999,823,688.8,606,549.6,506.9,440.3,43.3,42.4,39.799999999999997,38.299999999999997,37.6,37,37.700000000000003,144.1,147.5,149.9,151.1,175.9,144.1,138.9,1093.0999999999999,892.5,783.1,750.3,734.6,720.5,718.4,711.9,590,545.4,532.79999999999995,526.20000000000005,520.4,511.1,668.4,566.79999999999995,530.29999999999995,515.1,506.6,501.9,486.7,632.9,552.1,515.9,485.5,470.9,462.8,448.1,619,539.1,516.29999999999995,483,448.1,428.8,416.4,614.9,533.6,487.4,461.9,438.6,418.1,379,633.9,541.9,495,446.4,419,397.2,351.1,709.2,576.29999999999995,523.70000000000005,479.1,432.9,386.8,303.5,838,666.2,571.79999999999995,529.5,496.6,451.4,353.7,967.6,769.2,660.2,610.20000000000005,566.1,521.20000000000005,408.4,0.93769999999999998,1.1967000000000001,1.3673,0.72529999999999994,0.96550000000000002,1.1126,623.29999999999995,0.96260000000000001,0.96399999999999997,303.7,0.97340000000000004,0.68200000000000005,55.3,616.4,"GER20014628",7.9710000000000001,2285,16.100000000000001,26,19.3,0,71.5,6940]
["ecuFVEC16","ECU8040","ECU-8040","RAYO 4","SIDNEY 40","BASHFORD INT.","MURRAY/BURNS/DOVEL",1998,null,"ESCUELA SUPERIOR NAVAL","INTL","R",757,"6/6/2016","17:43:34",12.47,11.031000000000001,2.7229999999999999,3.73,5520,117.6,0,554.70000000000005,1.1123000000000001,606.9,0.74399999999999999,32.4,919,739.4,643.9,589.4,555.4,532.20000000000005,501.5,866.8,701,618.4,574.6,546.9,526.6,494.9,764.1,617,538.4,492.4,463.2,443,414.5,796.1,640.20000000000005,555.9,506.2,474.6,452.9,423.5,947.4,729.3,606.6,531.4,482,447,397.4,43.3,42.4,39.700000000000003,38.4,37.299999999999997,36.6,36.4,141.6,146.19999999999999,148.69999999999999,155.19999999999999,168.4,180,180,904.8,740.1,668.7,636.5,618,608.1,597.70000000000005,588.29999999999995,490.4,462.3,451.5,444.8,441.2,432,551.4,471.4,448.1,437.4,430.4,425.5,414.5,519.79999999999995,458.7,432.3,415.6,405.8,399.4,391.5,521.6,460.3,432.1,406,387,376.7,366.6,576,475.9,438,406.9,389.5,373.8,340.3,598.79999999999995,488.6,446.4,415.4,384.3,360,333.1,674.7,540.29999999999995,471.7,440.2,411.7,383.2,324.2,808.2,639.9,536.1,474,443.1,416.5,363.8,933.2,738.8,619,542.20000000000005,492.8,456.2,405.2,1.0641,1.3712,1.5547,0.81399999999999995,1.1037999999999999,1.2822,0,0,0.98,227.1,1.1102000000000001,0,0,540.4,"ecu00001739",11.02,6542,30.6,58.2,48.8,100.4,0,6990]
["ESP102064","E10206","ESP-10206","EL CARMEN","SINERGIA-40","Sinergia composite","B & C",2000,null,"Sinergia Racing Group","INTL","C",760,"29/7/2016","18:32:20",12.09,10.894,2.601,3.55,7466,133.30000000000001,0.17,598.5,1.0442,646.4,0.67300000000000004,20.3,1006.3,814,699.2,622.79999999999995,580.9,553.70000000000005,523.20000000000005,959.3,778.1,673.8,610.29999999999995,574.9,552.70000000000005,523.20000000000005,835.6,670.4,580.20000000000005,526.70000000000005,493.1,470.8,442.5,889,708.1,608,547.70000000000005,509.6,484.4,453,1027.5999999999999,788.3,652,568.1,513.70000000000005,476.1,425.4,43.3,41.8,41.8,40,38.4,37.6,36.700000000000003,144.5,149.1,151.19999999999999,155.19999999999999,169.9,180,180,1035.4000000000001,856.1,747.7,675.8,646.79999999999995,632.20000000000005,615.29999999999995,673.4,564,499.6,470.8,460.1,455,449.5,632.20000000000005,532.1,481.8,458.9,447.4,442.2,437.2,598.4,507.5,469.6,449.2,433.2,421.7,412.9,601.70000000000005,509.3,464.3,450,433.5,417.1,391.2,619.29999999999995,507.7,462.5,437.7,416.2,404.5,384.8,639.70000000000005,522.6,469.8,443.9,420.5,397.1,369.3,711.4,576.1,498.6,462.5,439.8,417.3,372.9,846.4,668.5,563.70000000000005,497.4,463.7,442,400.1,977.4,771.9,650.6,569.70000000000005,515,475.1,431.1,0.96509999999999996,1.28,1.4654,0.74160000000000004,1.0326,1.2294,582.4,1.0301,0.79200000000000004,143.19999999999999,1.0345,0.68600000000000005,30.8,580,"ESP00018913",10.329000000000001,8486,32.4,51,36.799999999999997,104.6,0,7016]
["knw28894","nedc8391","NED 8391","Bluesmile","Smile","v/d Waal","v/d Waal",2011,117836,"H. van Eijk","CLUB","S",200,"23/3/2016","12:53:56",6.82,6.39,1.3779999999999999,2.2599999999999998,435,98.3,0.04,643.79999999999995,0.94820000000000004,711.8,0.55600000000000005,-34.1,1105.4000000000001,874.6,769.6,705.8,654.79999999999995,602.5,545.29999999999995,1070.3,856.6,747.8,685.6,640.29999999999995,602.70000000000005,570.6,909.4,727,624.9,560.70000000000005,516,482.6,435.5,1003.5,794.7,678,605.79999999999995,556.9,520.9,468.2,1119.5999999999999,855.7,703.1,604,533,478.1,396.9,45.6,45.2,41.7,40.200000000000003,39.4,38.799999999999997,39,143.4,148.69999999999999,150.69999999999999,145.30000000000001,143.5,139.6,146.4,1237.5,982.3,865.7,829.3,809.8,789.7,780.1,786.4,637.1,585.1,563.5,547.79999999999995,529.29999999999995,511,724.4,607.79999999999995,550.6,523.79999999999995,507.6,490.6,466.7,672.1,585,509.7,468,447.9,434.2,401.3,642.5,569.79999999999995,511.6,434.7,402,383.6,357.1,631.4,536,476.9,434.5,397.2,367.1,304.10000000000002,643.79999999999995,547.1,459.8,417.5,380,348.2,289.89999999999998,710.6,591.1,505.4,426.2,358.3,312.2,272.7,843,664.2,581.79999999999995,504.2,432.9,359.7,268.89999999999998,973.4,766.9,673.4,582.20000000000005,499.9,415.4,310.5,0.88680000000000003,1.1850000000000001,1.4379999999999999,0.68179999999999996,0.92669999999999997,1.1361000000000001,632.79999999999995,0.94820000000000004,0.73699999999999999,148.69999999999999,0.96360000000000001,0.56799999999999995,-19.2,622.70000000000005,"knw00004256",6.4379999999999997,740,9.5,17,8.3000000000000007,0,41.9,7066]
["nor21354",21354,"NOR 111","Facit","SOLING OD","Abbott","Jan Linge",1969,null,"Oystein Spetland","CLUB","R",257,"6/4/2016","16:40:04",8.18,6.6660000000000004,1.302,1.9,1037,111.4,0.19,717,0.8639,781.4,0.55700000000000005,15.4,1217.5,970.3,826.8,749.2,707.7,683.2,639.5,1169.0999999999999,934.7,808.8,741.9,704.4,678.6,628.4,1001.6,802.5,694.8,631.4,591.20000000000005,563.1,522.1,1075.3,854.1,733.2,661.8,617.1,586.79999999999995,544.9,1232.7,943.8,780.6,680.3,614.20000000000005,566.6,496.6,44.2,43.8,42.6,40.5,39.5,39,38.9,146,149.1,151,162.19999999999999,180,180,180,1303.4000000000001,1054.5,913.4,850.3,826,814,796.5,839.7,684.5,611.6,587.20000000000005,577.70000000000005,572.4,560.20000000000005,782.7,644.29999999999995,590.9,567.1,556.29999999999995,549.79999999999995,535.20000000000005,735.9,617.1,574.4,544.29999999999995,522,511.4,502.9,701.7,594.5,562.29999999999995,541.29999999999995,512.4,486,463.5,697.4,590.9,544.4,506.3,486.2,467.1,433.6,736.4,601.5,554.29999999999995,509.3,467.4,443.5,402.7,830.4,659.3,580.29999999999995,539.29999999999995,498,456.4,360.1,980,767.3,641.9,577.29999999999995,539.20000000000005,501.3,418.3,1131.7,886,740.2,648.1,589.29999999999995,552.5,482.5,0.80779999999999996,1.0688,1.2249000000000001,0.61709999999999998,0.86199999999999999,1.0029999999999999,708.7,0.84670000000000001,0.71499999999999997,193.5,0.86319999999999997,0.57599999999999996,39.1,695.1,"nor00000225",6.4169999999999998,1474,11.4,16.3,8.5,36.4,0,7098]
["ISR018/16","ISR111","ISR 111","Eran Almog","Sonar","Sonar (UK) Ltd","Kirby",1979,"ISRAEL","Etgarim","CLUB","R",262,"8/3/2016","14:18:40",7,5.5149999999999997,1.1870000000000001,2.41,886,103.7,0,748.3,0.82199999999999995,821.2,0.59299999999999997,63.3,1187.9000000000001,974.1,858,793.6,762.5,743.4,721.5,1145.0999999999999,947,847.5,794.8,766.1,748.8,722,1010.8,825.4,727.5,671.2,636.4,613.1,581.9,1059.5,859.3,753.3,692.5,655.5,631.4,600.5,1238.5,967.3,815.4,722.1,659.4,612.9,542.4,44.1,43.6,42.4,41.6,41.3,41.7,43.4,148.6,152,159.4,180,180,180,180,1265.4000000000001,1060.0999999999999,959.9,918.7,903.7,903.5,924.4,817.8,694.6,649.5,628.79999999999995,619.1,615.6,614,764.2,664.8,628.70000000000005,605.4,590.79999999999995,584.6,580.6,720.2,644.70000000000005,608.29999999999995,578.20000000000005,556,544,537.70000000000005,718.8,637,592.1,568.9,545.4,522.79999999999995,497.8,715.8,634.1,587.4,546.70000000000005,514.29999999999995,496.6,461.8,737.7,643.1,596.9,555.79999999999995,519.20000000000005,479.9,425.6,815.7,683.2,623.20000000000005,581.1,544,509.1,414.6,961.6,770,666.2,616.6,577.29999999999995,542.79999999999995,470.9,1110.4000000000001,888.1,756.1,668.4,621.29999999999995,583.29999999999995,518.5,0.80559999999999998,1.0083,1.1205000000000001,0.62439999999999996,0.82079999999999997,0.91220000000000001,0,0,0.878,359.5,0.82030000000000003,0,0,731.4,"ISR00061719",5.399,1224,9.1,18,9.3000000000000007,30.1,0,7106]
["ESP102421","E10242_C","ESP-10242_C","EUREKA","SPORTINA 680","SPORTLAKE","A. SKRZAT",1992,"C.N.T.H.","FRANCISCO MANUEL FERNANDEZ PUJALTE","CLUB","C",200,"9/8/2016","10:05:32",7.2,5.851,1.3759999999999999,2.4900000000000002,940,129.30000000000001,0.11,795.8,0.78839999999999999,856.2,0.50900000000000001,22.3,1328.2,1063.2,915.6,823.8,770.9,745.3,717.8,1261.5999999999999,1024.5999999999999,894.4,818.3,775.3,751.8,726.1,1102.4000000000001,888.2,772.1,703.3,659.7,630.29999999999995,591.70000000000005,1102.4000000000001,888.2,772.1,703.3,659.7,630.29999999999995,591.70000000000005,1362.2,1045.2,866.3,756.5,684.3,632.9,558.6,44.4,43.4,42.5,41.1,40,39.6,40.9,166.8,168.5,170,171.1,174,175.7,174.8,1316.2,1100.5999999999999,978.6,905.9,869.6,857.4,861.9,849.8,718.6,657.2,626.79999999999995,606.6,596.1,588.20000000000005,795.2,682.3,636.4,608.1,583.29999999999995,566.5,556.1,749.7,657.7,619.70000000000005,588.79999999999995,559.4,536,511.5,749.2,658,620.29999999999995,589.6,559.4,530.6,486.4,825.7,690.2,636.6,603.6,570.9,540.9,482.4,873.5,723.8,651.9,616,583.9,553.1,495.5,992.9,802,694.5,642.29999999999995,610.4,579.9,523.9,1163.5999999999999,909.3,768.6,681.9,637.20000000000005,606.9,549.9,1340.3,1025.8,852.6,741.6,672.3,633.20000000000005,573.70000000000005,0.73440000000000005,0.95840000000000003,1.0945,0.5645,0.78390000000000004,0.91049999999999998,771.4,0.77780000000000005,0.64400000000000002,185.9,0.77810000000000001,0.51100000000000001,23.9,771.1,"ESP00018997",5.6420000000000003,1346,9.8000000000000007,13.4,13.1,0,0,7156]
["ESP168101","E1681_C","ESP-1681_C","REBUCH","STAG 24","MARK III","L.TADDEI",1977,"R.C.N.TORREVIEJA","AMELIA MASERES RIQUELME","CLUB","C",260,"11/3/2016","00:35:00",7.15,5.6950000000000003,1.395,2.52,1153,139.69999999999999,0,743.6,0.84089999999999998,802.7,0.57299999999999995,43.9,1198.5,979.3,852.8,773.6,733.6,709.9,680.6,1146.9000000000001,942.5,833.4,771.8,735.9,713.3,686.4,1015.2,825,722.8,662.3,623.5,596.6,559.70000000000005,1043.2,845.4,739.1,676.3,636.29999999999995,608.9,572,1245.2,966.5,809.3,712.1,647.29999999999995,600.1,530,43.3,42.9,41.1,39.4,38.4,38,38.6,149.9,154.6,157,180,180,180,180,1222.0999999999999,1025.4000000000001,919.5,864.9,837.5,823.9,824.6,797.3,679.7,634.9,610.20000000000005,590,576.70000000000005,568.20000000000005,749.3,654.20000000000005,618.1,592.1,568.70000000000005,551.5,540.79999999999995,710.6,637.1,602.9,573.29999999999995,547.79999999999995,527,502.8,712.3,638.29999999999995,600.5,563.79999999999995,533.5,514.29999999999995,481.9,745.3,643.6,601.1,563.70000000000005,531.70000000000005,501.8,441.8,775.3,656.4,610.5,573.79999999999995,540.70000000000005,510.9,447.5,872.1,714.8,635.4,598.1,563.29999999999995,532.79999999999995,474.8,1017.4,810.7,686.8,627.79999999999995,593.4,561,505.5,1174.8,933.2,786.1,682.3,629.70000000000005,595.79999999999995,536.6,0.79979999999999996,1.0178,1.1546000000000001,0.61990000000000001,0.83630000000000004,0.9577,721.4,0.83169999999999999,0.75900000000000001,244.9,0.82930000000000004,0.57999999999999996,48.7,723.5,"ESP00016546",5.8280000000000003,1511,10.3,17.899999999999999,13.1,26.8,0,7182]
["ESP545701","E5457_C","ESP-5457_C","WAILEA","SUN FAST 32 (DK)","JEANNEAU","P.BRIAND",1994,"C.D.B.","JAIME LLINARES GARCIA","CLUB","C",400,"11/3/2016","01:34:08",9.3439999999999994,8.1630000000000003,1.97,3.28,3663,121.7,0.31,693,0.90339999999999998,747.2,0.57999999999999996,19.399999999999999,1169.5999999999999,941.6,808.6,719.3,667.9,640.20000000000005,614.29999999999995,1118.2,904.3,782,708,666.8,643.4,619,970,776.9,671.5,609.1,570.4,545.4,515.5,1015.6,809.1,695.5,627.9,585.70000000000005,558.4,525.5,1191.5999999999999,912.9,754.5,657.2,594.20000000000005,550.79999999999995,491.5,43.8,42.3,42.5,40.6,39.5,39,39.1,147.19999999999999,151.4,153.4,158.6,180,180,180,1209.3,995.9,870.9,788.9,754.4,739.3,734.5,783.2,652.5,577.20000000000005,544.29999999999995,529.70000000000005,523.70000000000005,519.6,734.3,613.5,555.5,529.6,514.6,506.8,501.3,694.1,584.4,540.5,517.4,499,483.9,469.9,698.8,588,537.70000000000005,511.5,500.3,481.5,451.8,721,590.6,536.9,508.9,482.9,459.9,439.7,747.7,609.79999999999995,545.5,515.9,490.9,465.9,423.4,832.6,673.2,577.70000000000005,535.29999999999995,509.5,485.2,439.8,978.6,768.8,648.1,571.1,534.1,509.9,464.9,1130,887.2,746.3,649.70000000000005,581.4,541.20000000000005,494.2,0.83120000000000005,1.1074999999999999,1.2652000000000001,0.63939999999999997,0.89429999999999998,1.0589,673.6,0.89080000000000004,0.68400000000000005,143,0.89449999999999996,0.58899999999999997,27.8,670.8,"ESP00016639",7.6639999999999997,4333,20.5,26.9,25.8,55.8,0,7239]
["ESP280071","FRA28007","FRA-28007","MARGEM DO AZUL III","SUN FAST 32 I","JEANNEAU","BRIAND",2001,"M.R.C.Y. BAIONA","JOSE FREDERICO LOPES","INTL","C",500,"31/3/2016","13:10:56",9.44,8.8409999999999993,1.9930000000000001,3.33,4380,111.3,0.36,689.6,0.90600000000000003,745.1,0.59,25.1,1156.3,932.2,806.7,719.7,668.9,640.4,616.6,1106.9000000000001,898.1,780.8,708.5,667.8,644.79999999999995,622.20000000000005,962.4,772,668.4,607.29999999999995,569.6,545.6,517.5,1012.4,807.2,694.5,627.5,585.9,559.20000000000005,528,1181.5,907,751.1,655.5,593.6,551.1,493.5,43.9,42.3,42.3,41.4,40,39.200000000000003,40.1,147.19999999999999,151.19999999999999,153.5,157.5,180,180,180,1200.5999999999999,990.6,875.4,794.7,759.8,744.6,741.3,777.2,651.20000000000005,577.9,542.20000000000005,527.70000000000005,522.1,518.9,729.2,613.6,553.4,526.6,512.79999999999995,506.6,502.7,690.8,583.6,536.29999999999995,514.1,498.2,485.7,474.4,695.3,587.29999999999995,533.9,509.1,498.7,482.8,455.9,715.1,587.4,531.1,504.3,480.9,460.7,442,738.4,605,538.79999999999995,510.3,488.2,465.1,425.2,819.3,666.1,572.4,528.79999999999995,504.5,482.6,438.3,963.1,757.2,641.29999999999995,565.20000000000005,527.6,505,463.3,1112.0999999999999,873.8,738.1,644.70000000000005,578,536.20000000000005,492,0.83850000000000002,1.1116999999999999,1.264,0.64639999999999997,0.89559999999999995,1.0569999999999999,673,0.89149999999999996,0.70299999999999996,155.6,0.89829999999999999,0.60199999999999998,36.9,667.9,"ESP00017364",7.9509999999999996,5138,22.5,25.4,28.3,60.6,0,7246]
["ESP5951R1","E5951_R","ESP-5951_R","PINYOL VERMELL","SUN FAST 36 (MOD)","JEANNEAU","P.BRIAND",1993,"C.N.ARENAL","FELIX COMAS","INTL","C",160,"11/3/2016","01:53:56",11.12,9.8160000000000007,2.2010000000000001,3.49,5704,119.2,0.18,632.9,0.97170000000000001,694.7,0.66,40.299999999999997,1054.7,854.4,738.8,672.1,631.70000000000005,606.29999999999995,575,1005.9,818.5,716.5,661.3,630.1,609.4,578.5,870.9,703.5,614,562.29999999999995,530.70000000000005,509.9,482.8,928.2,743.2,642.79999999999995,583.9,547.6,524,494.3,1081.8,833.5,693.6,608.5,553.6,515.4,462.1,43.8,42.6,42.6,41.4,40.4,39.9,39.9,145,149.80000000000001,151.1,156.80000000000001,180,180,180,1089,901.8,797.5,748.9,726.3,714.3,695.7,705.6,587.9,529.70000000000005,508.3,499.9,495.5,487.3,646.5,542.5,509.4,491.7,484.3,480.3,473.8,589.6,510.6,487.4,476.6,464.6,457.8,451.9,579.70000000000005,508.3,482,464.4,454.9,445.4,428.6,637.6,528.9,487.6,464.2,449.1,429.8,413,661.4,545.29999999999995,495.3,469.7,447,427.4,400.5,740.8,603,523.70000000000005,488,464.9,442.1,399.1,883.7,698.9,589.4,521.6,488.6,466.6,424.3,1020.4,807,680.1,595.4,537,498.3,454.3,0.93120000000000003,1.2040999999999999,1.3492,0.70709999999999995,0.96509999999999996,1.1234,618.6,0.96989999999999998,0.82699999999999996,206.9,0.96970000000000001,0.66,39.9,618.79999999999995,"ESP00016678",8.8840000000000003,6583,27.1,39.9,33.6,85,84.5,7307]
["knw15919","nedc6848","NED 6848","Happy","Sun Fast 37","JEANNEAU","Fauroux",1995,108295,"W.J. Bouma","CLUB","C",691,"23/3/2016","13:54:04",10.944000000000001,9.9149999999999991,2.0990000000000002,3.71,6772,106.9,0.35,652,0.95730000000000004,705.1,0.621,23.1,1090.4000000000001,882.7,765.2,683.3,633.4,603.20000000000005,575.9,1043.0999999999999,848.8,739.1,670.3,630,606,580.20000000000005,908.2,729.6,632.20000000000005,574.4,538.1,514.4,485.9,950.4,759.4,654.29999999999995,591.4,551.9,526,494.5,1116.7,858.1,710.8,620,560.9,520.1,464.7,44.2,42.6,42.6,41.8,40,39,39.1,146.19999999999999,150.80000000000001,153.4,156.19999999999999,173.3,180,180,1126.8,933.7,825.5,749,712.1,694.2,682.5,727.9,612.5,544.29999999999995,510.6,496,489.9,485.1,682,576.5,521.29999999999995,496.2,482.6,475.8,470.4,644.4,547.70000000000005,505.3,484.6,469.3,456.9,444.3,646.29999999999995,549.4,506.3,482.1,470.1,454.9,428.8,679.5,560.1,504.8,479.4,458.4,437.8,417.1,701.5,577.5,512.9,484.8,464.2,443.2,404.8,775.8,631.79999999999995,544.9,502.4,479.5,459.6,419.9,912.8,720.3,611.9,539.79999999999995,502.2,480.6,442.8,1054,831.6,704.8,617.5,554.70000000000005,512.20000000000005,469.4,0.88890000000000002,1.1734,1.3411999999999999,0.68420000000000003,0.94440000000000002,1.1240000000000001,635.4,0.94420000000000004,0.73499999999999999,148.5,0.94910000000000005,0.63200000000000001,33.200000000000003,632.20000000000005,"knw00004581",8.9320000000000004,7676,29.9,37.299999999999997,39.799999999999997,81.900000000000006,0,7322]
["CYP03PO15","ANERADA","CYP-832","ANERADA","SUN FIZZ","JEANNEAU","BRIAND",1981,"PONATHA","COSTAS PSILLIDES","CLUB","C",696,"5/9/2016","14:11:00",11.74,9.9260000000000002,1.927,3.77,8008,110.3,0.45,675.6,0.91539999999999999,737.4,0.58099999999999996,10,1154.8,924.2,799.3,715.4,662.7,629,600.79999999999995,1106.7,892.3,774.4,702.6,659.8,633.9,608.70000000000005,950.3,759,654.29999999999995,592.20000000000005,553.70000000000005,529.1,501.4,1002.7,796,681.6,613.1,570.20000000000005,542.4,510,1171.2,894.9,737.4,640.1,576.9,533.5,475.9,45.5,43.9,43.8,44.5,43.3,42.4,41.9,146.6,150.19999999999999,152.4,154,167.8,180,180,1215,993.7,878.9,804.2,763.9,743.9,733,775,644.70000000000005,567.79999999999995,524.6,508.1,500.8,495.8,721.2,603.9,534.29999999999995,503.1,489.4,483.3,478.8,678.3,568.1,511.4,487.3,473,462.6,453.3,681,570.6,512.20000000000005,484.8,472.2,458.8,436.9,705.6,575.29999999999995,507.2,478.8,459,443,426.3,727.2,592,515.4,483.6,462.9,443.1,413.3,804.5,648.5,552.1,502.1,477.5,458,420.1,947.9,740.3,624.20000000000005,546.9,501.8,478.7,442.3,1094.5999999999999,854.8,719.7,626.6,561.5,514,468.5,0.84709999999999996,1.1386000000000001,1.3045,0.64929999999999999,0.90290000000000004,1.0768,0,0,0.69299999999999995,141.19999999999999,0.91659999999999997,0,0,654.6,"CYP00000347",8.4109999999999996,8945,31.2,36.299999999999997,46.1,98,81.5,7372]
["ESP103112","E10311_C","ESP-10311_C","NORTH FACE","SUN LIGHT 31 SK","JEANNEAU","ANDRIEU DANIEL",1988,"R.C.R.ALICANTE","MIGUEL VINCHES RUBIO","CLUB","C",350,"5/8/2016","15:00:42",8.8719999999999999,7.5149999999999997,1.411,3.22,3415,114.1,0.4,738.8,0.8407,802.9,0.55000000000000004,24.1,1239.3,1001.8,867.7,775.9,719.5,691.6,669.9,1198.3,972.9,847.3,769.6,723.7,699.3,678.4,1031.0999999999999,827.1,716,650.6,610.4,585,556.70000000000005,1095.5999999999999,872.7,749.9,676.7,631.29999999999995,602.4,570.1,1263.2,971.1,804.7,702.1,635.29999999999995,589.29999999999995,527.29999999999995,45.5,44.2,44.2,43.9,43,42.5,43.2,147.69999999999999,151.1,152.9,159.1,180,180,180,1341.7,1105.9000000000001,976.7,886.9,840.7,823.7,826.6,855.5,713.9,630.79999999999995,585.70000000000005,565.6,558.5,556.79999999999995,795.4,667.3,596.5,564.70000000000005,548,539.1,535.4,747.4,628.70000000000005,573.6,548.79999999999995,531.4,517,501.1,750.5,631.4,567,541.79999999999995,531.4,515.1,486.5,751,616.29999999999995,559.79999999999995,531.4,506,487.7,470.7,771.8,630.9,566,536.1,510.7,486.1,451.9,845.1,686.1,593.20000000000005,552.9,527.29999999999995,502.7,458.5,984.6,777.9,659.2,585.9,551.5,527.79999999999995,483,1136.9000000000001,897.7,758.7,665,598.20000000000005,559.6,513.20000000000005,0.78249999999999997,1.0378000000000001,1.1788000000000001,0.60240000000000005,0.83209999999999995,0.97760000000000002,718.2,0.83550000000000002,0.66200000000000003,163.9,0.8377,0.55800000000000005,32,716.2,"ESP00018983",6.593,4013,19.3,17.600000000000001,26.6,60.1,0,7398]
["nor20527",20527,"NOR 12801","Amanda","Sun OD 49 DS","JEANNEAU","P. Briand",2002,null,"Stig Valderhaug","CLUB","C",915,"20/4/2016","20:41:08",14.73,12.486000000000001,2.1,4.49,11656,114.5,0.36,589.70000000000005,1.0485,643.79999999999995,0.64700000000000002,-1.5,1021.4,816,698.1,621.9,576.5,545.79999999999995,514,965.4,776.3,669.7,604.70000000000005,566.70000000000005,543,515.79999999999995,832.2,663.8,571.1,515.6,480.6,457.3,427.8,881.4,699.6,598.4,537,497.8,471.7,439.8,1033.5,786.2,645.1,557.79999999999995,500.9,461.5,408.2,45.1,43.8,43.4,42.4,41.6,40.700000000000003,40.1,144.80000000000001,148.6,149.6,152.4,157.80000000000001,174.5,180,1028.3,842.3,738.6,672.3,638.9,620.70000000000005,606.79999999999995,658.2,546.20000000000005,483.5,451,436.4,430,424.5,612.70000000000005,512.6,460.5,436.4,423.3,415.7,409,577,486.6,444.9,425,410.3,397.8,383.5,580.5,489.3,446.4,426.3,411.6,397.5,372.7,630.6,511.3,450.7,424.2,404.3,385.3,364.7,650.70000000000005,527.6,460.1,429.4,409.3,389.9,354.5,727.6,582.5,497.7,449.8,425.3,406.4,369.1,878.6,684,569.4,496.4,451.9,428,392.5,1014.5,789.8,657.5,571.4,514,471,421.2,0.96630000000000005,1.3050999999999999,1.5113000000000001,0.73470000000000002,1.0350999999999999,1.2464,573.20000000000005,1.0468,0.76100000000000001,120.4,1.0488,0.65600000000000003,5.5,572.1,"nor00000584",11.176,12912,44.5,44.9,71,0,139.9,7447]
["GRE000208","GR1305","GRE-1305","THALASSO","SUN ODYSSEY 32.2","JEANNEAU","Fauroux",1989,"NO RAFINAS ALKYON","NIKOLAOS LIONTAS","CLUB","C",450,"23/5/2016","21:27:58",9.3000000000000007,8.4550000000000001,1.4810000000000001,2.97,4585,115.2,0.46,763.4,0.80600000000000005,837.4,0.5,-2.7,1317.5,1051.8,911.4,818.2,754.1,706.2,666.7,1267.7,1017,880.3,794.7,737.9,702.2,670.3,1080.3,860.4,739.2,666.3,620.29999999999995,590.20000000000005,554.9,1146.0999999999999,905.4,770.7,688.7,636.4,602.4,564,1331.5,1015.4,834.1,721.1,646.6,595.1,527.20000000000005,45.7,44.1,43.3,44,43.5,42.4,41.9,144.9,145.80000000000001,145.30000000000001,145.6,173.8,174.7,177.7,1412.6,1143.4000000000001,1003,911.5,842.5,810.5,795.5,897.7,740.3,651.6,592.29999999999995,561.20000000000005,547.1,540.20000000000005,832.5,694.7,610,564.9,542.6,529.9,521.1,782.4,656.1,579.9,546.5,528,514,493.7,788,645.79999999999995,566,533.20000000000005,515.5,508.3,486.4,780.4,640.6,563.5,531.70000000000005,510,488.7,457.4,810.8,662.7,575.29999999999995,537.9,515.5,494.6,453.5,902.9,724.2,618.79999999999995,559.1,530.9,510.6,471.3,1058.5999999999999,831.6,710,627.79999999999995,580.29999999999995,548.79999999999995,513.20000000000005,1222.4000000000001,960.2,819.8,724.9,665.7,601.9,537.79999999999995,0.74419999999999997,1.0087999999999999,1.1718999999999999,0.56979999999999997,0.79159999999999997,0.9597,0,0,0.59099999999999997,122.5,0.81100000000000005,0,0,739.8,"GRE01006064",6.9109999999999996,5305,21.9,21.2,23.9,0,55.5,7473]
["CLUSOD342","SALINA","ITA-SALINA","SALINA","SUN ODYSSEY 34.2","JEANNEAU","FAROUX",1996,"C.V.ERIX","BERNACCA GUIDO","CLUB","C",180,"9/3/2016","10:51:12",9.99,8.4990000000000006,1.7,3.29,4414,121.9,0.35,733.7,0.85199999999999998,792.2,0.53500000000000003,10.9,1261,999.4,854,763.7,709.6,676.8,651.1,1194.0999999999999,960.4,830.7,752.3,708.7,685.2,664.7,1032.5999999999999,824.2,710.3,643.1,602.1,576.29999999999995,547.5,1032.5999999999999,824.2,710.3,643.1,602.1,576.29999999999995,547.5,1278.8,972.9,799.7,694.2,626.5,580.6,520.1,44.2,42.7,42.8,42.7,41.7,41.3,42.3,170.7,172.2,174.2,175.4,175.7,177.7,179,1231,1019.6,903.3,831.8,802.4,790.6,789.2,794.4,667.1,590.6,555.70000000000005,542.70000000000005,537.29999999999995,535.6,743.9,626.20000000000005,562.4,536.5,524.20000000000005,519.1,516.5,702.8,592.1,543.1,520.9,506.3,495.6,486.6,706.2,594.29999999999995,544.1,521.1,504.5,489.6,465.9,785.3,646.9,567.29999999999995,532.5,511.9,494,459,835.3,685.4,591.79999999999995,544.29999999999995,520.1,501.7,466.1,960.8,763.6,653.20000000000005,578.5,540.20000000000005,518.4,483.6,1130.4000000000001,870.4,729.4,637.4,573.20000000000005,538.4,500.4,1291.0999999999999,979.2,804.7,695.7,616.9,563.1,512.9,0.77939999999999998,1.0498000000000001,1.1972,0.59719999999999995,0.84379999999999999,0.99950000000000006,709.8,0.84530000000000005,0.63700000000000001,136.30000000000001,0.84550000000000003,0.53600000000000003,11.1,709.6,"CLU00018624",7.4720000000000004,5118,21.7,26.9,23.1,0,0,7488]
["GRE001105","GR1725","GRE-1725","MAST IV","SUN ODYSSEY 37.1","JEANNEAU","FAUROUX",1988,"INOA","POLYDOROPOULOS MARIOS","CLUB","C",450,"17/5/2016","19:42:36",11.23,9.9309999999999992,1.4330000000000001,3.83,6280,104.6,0.42,764.4,0.81420000000000003,829,0.45400000000000001,-40.9,1396.9,1085.2,912,802,725.2,676.9,631.4,1329.1,1043.8,885.6,785.2,717.6,677.3,641.79999999999995,1112.7,873.3,738.4,655.5,602.29999999999995,567.4,527.20000000000005,1112.7,873.3,738.4,655.5,602.29999999999995,567.4,527.20000000000005,1382.6,1034.0999999999999,833.6,708.7,627,571.20000000000005,499.9,47,45.8,45,45,44.7,43.9,43.2,168.4,168.9,169.7,170.8,171.4,171.9,175.6,1404.2,1123.5999999999999,974,877.9,808.6,775,757.8,883.3,715.4,624.29999999999995,563,527,510.7,502.7,810,664.4,580.9,530.1,504.5,491.3,482.6,752,622.4,545.79999999999995,507.6,487.9,474.3,455.1,755.2,625,547.79999999999995,508.6,488.4,473.8,444.6,847,680,585.79999999999995,527.20000000000005,497.5,479.1,446.5,912.3,721.5,616.1,546.1,507.6,486.4,453.6,1048,809.2,679.6,596.4,538.79999999999995,505.8,470.5,1226.5,930.8,764.7,661.9,589.70000000000005,537.9,487.3,1389.7,1046.8,849.9,726.2,641.79999999999995,578.70000000000005,504.9,0.71640000000000004,1.0175000000000001,1.2253000000000001,0.54390000000000005,0.80059999999999998,1.0045999999999999,0,0,0.505,46.3,0.81540000000000001,0,0,735.8,"GRE01005953",7.859,7200,29.8,26.5,34.200000000000003,0,0,7538]
["CLU158421","I15842","ITA-15842","QUEEN OF MAYBE","SUN ODYSSEY 42 i","JEANNEAU","LOMBARD",2006,"Y.C.P.ALA","ASCANI ANTONIO","CLUB","C",700,"3/11/2016","16:39:34",12.49,11.122,2.1080000000000001,4.1500000000000004,8213,121.8,0.28000000000000003,614.9,1.0104,668.1,0.63700000000000001,8.6999999999999993,1048.8,843.4,725.9,646,598.5,568,539.9,1001.5,809.5,700.7,632.9,592.79999999999995,568.5,542.4,863.3,690.6,595.79999999999995,539.20000000000005,503.5,480,451.5,919.2,730.3,625.5,562.20000000000005,522,495.5,462.9,1065.2,814.5,671.3,582.70000000000005,524.9,484.7,430.3,44.7,43.1,42.9,42,40.5,40.1,39.6,144.9,149.5,151.19999999999999,154.19999999999999,164.8,180,180,1096.5999999999999,899,788,711.6,672.6,654.20000000000005,642.4,704,586,516.70000000000005,480.2,463.7,456.9,451.9,656.4,549.9,492.1,465.1,450.8,442.8,436.6,617.79999999999995,520.70000000000005,475.3,453.7,438.2,425.2,410.1,620.1,521.5,469.4,446.6,437.6,423.7,397.5,629.9,516.29999999999995,466.5,442.3,420.6,401.8,384.1,650.29999999999995,533,474.6,448,427.1,405.8,368.5,725.1,588.70000000000005,507.7,466.9,444.3,423.9,383.4,866.9,682.3,575.20000000000005,506.9,468,446.3,408,1001,787.9,663.9,580.4,524.5,481.9,437.4,0.93300000000000005,1.2483,1.4388000000000001,0.71340000000000003,0.99670000000000003,1.1943999999999999,597.1,1.0048999999999999,0.747,129.19999999999999,1.0064,0.64800000000000002,16.7,596.20000000000005,"CLU00020731",9.9640000000000004,9291,33.700000000000003,41.3,46.4,110.3,112.5,7591]
["GRE001139","GR1754","GRE-1754","KIRKI","SUN ODYSSEY 43 DS","JEANNEAU","DANIEL ANDRIEU",1994,"OThAK","FORKYS MCPY","CLUB","C",750,"14/4/2016","11:10:32",12.84,11.705,2.0310000000000001,4.18,9550,116,0.42,686.8,0.8931,755.8,0.50900000000000001,-37.5,1247.5,975.6,827.4,732.8,666.1,625,572.29999999999995,1195.3,940,798.1,708.3,648.1,609.70000000000005,569.5,997.4,783.8,663.6,589.9,542.5,510.8,471.8,1067.7,832.9,699.3,616,561.6,525,481.6,1234.5999999999999,927.4,750,638.9,565.70000000000005,515.20000000000005,449.5,46.4,45.3,44.2,43.8,43.4,42.4,41.3,144.69999999999999,145.5,145.69999999999999,145.30000000000001,146.1,148.6,175.8,1337.5,1058.8,907.3,811.1,739.6,694.3,668,843.7,676.5,585.20000000000005,524.9,486,465.8,453.7,775,629.20000000000005,546.5,494.2,465.7,450.5,437.9,720.4,590.9,514.6,472.7,451.7,437.8,417.1,725.7,589.9,504.9,461.7,440.9,430.6,413.3,723.9,582.20000000000005,499.8,459.3,438,420,386.6,754.5,603.29999999999995,515,467,443.3,425.3,388.6,848.7,665.2,562.9,496,460.2,439.9,405.5,1002.3,772.9,647.29999999999995,566.70000000000005,513.20000000000005,481.3,443.3,1157.4000000000001,892.4,747.4,654.4,592.6,555.79999999999995,476.6,0.79959999999999998,1.1317999999999999,1.3603000000000001,0.60729999999999995,0.87909999999999999,1.0966,0,0,0.58599999999999997,70.3,0.90549999999999997,0,0,662.6,"GRE01005630",9.2409999999999997,10718,37.799999999999997,32.5,43.1,0,94.6,7613]
["CLUSOD451","PALME","ITA-PALME","PALMERSTON","SUN ODYSSEY 45.1","JEANNEAU","JEANNEAU",1995,"C.V.SICILIANO","FAILLA LUIGI","CLUB","C",320,"9/3/2016","10:48:58",13.8,11.349,2.0739999999999998,4.49,10023,115.1,0.42,706.3,0.87190000000000001,774.1,0.47199999999999998,-53.7,1320.1,1022.9,855.1,746.7,675,627.9,575.4,1244.5,974.3,821.9,724.7,661.1,621.6,580.79999999999995,1035,809.6,681.9,603,551.79999999999995,517.5,475.9,1035,809.6,681.9,603,551.79999999999995,517.5,475.9,1298.4000000000001,965.8,773.8,653.9,575.29999999999995,521.29999999999995,451.5,47.3,46.2,45.6,45.3,44.8,44.5,43.5,166.3,166.6,167.2,167.9,168.4,168.6,171.7,1306.4000000000001,1041.4000000000001,896.2,800.2,740,707.5,680.8,819.2,659.8,570.70000000000005,511.7,478,463.9,453.5,748.5,609.9,529.20000000000005,479.9,456,444.2,434.4,690.9,567.6,494.9,458.4,439.4,425.7,407.6,690.4,567.4,495,458.9,439.7,424.9,399.3,784.4,624.4,534,478.5,450.2,431.9,399.7,843,666,566,499.3,461.3,440,407.1,978.2,754.5,631.20000000000005,551.6,495.5,461.9,425.9,1164.9000000000001,884,724.8,624.29999999999995,553.9,501.7,446.2,1333.9,1004.5,814.1,693.2,610,548.20000000000005,470,0.76819999999999999,1.1033999999999999,1.3448,0.57620000000000005,0.85670000000000002,1.0888,681.7,0.88019999999999998,0.52200000000000002,32,0.87990000000000002,0.47399999999999998,-52.7,681.9,"CLU00018606",9.157,11129,39.6,35.4,60.6,0,0,7628]
["nor6490",6490,"NOR 8951","Kollekten","SUNWIND 27","Oy Nykra","Tord Sunden",1982,null,"arne walaas","CLUB","C",406,"18/5/2016","21:27:52",8.2200000000000006,7.0279999999999996,1.591,2.65,3223,133.19999999999999,0.61,778.6,0.80479999999999996,838.7,0.52800000000000002,29.3,1298.3,1049,909.5,809.8,750.4,721.5,696.2,1248.4000000000001,1015.5,884.5,802.5,755.5,730.8,705.4,1085.7,871.3,754.6,685.9,643.70000000000005,617.1,586.1,1122.4000000000001,897.7,774.7,701.7,656.5,627.79999999999995,594.6,1328.8,1021.4,846.8,739.7,670.8,623.70000000000005,560.20000000000005,43.8,42.2,42.2,42.4,41.1,40.5,40.4,149.9,155.30000000000001,169.2,172.8,180,180,180,1351.7,1122.5999999999999,998,907.9,864.6,847,841.6,876.8,740,655,613.20000000000005,595.6,589.20000000000005,585.70000000000005,825.2,698,625.70000000000005,594.70000000000005,578.9,571.4,567,784.6,663.1,606.1,580.79999999999995,563.20000000000005,549.79999999999995,536.9,791.9,662.4,599,570.70000000000005,553,546,519.29999999999995,803.4,663.5,599.5,570.6,547.1,524.1,494.4,833,686.5,609.6,577.9,554.6,531.5,489.3,933.8,757.3,646.6,596.79999999999995,570.29999999999995,547.9,504.2,1078.2,848.8,718.7,633,592.6,568.5,525.79999999999995,1245,975.5,820.9,711.8,636.29999999999995,596,550.9,0.7429,0.9849,1.1173999999999999,0.57509999999999994,0.79590000000000005,0.9385,759.7,0.78979999999999995,0.626,157.5,0.79610000000000003,0.53700000000000003,40.4,753.7,"nor00001180",6.2190000000000003,3754,17.3,20,17.899999999999999,34.9,0,7689]
["SUISU6370","SUI6370","SUI 637","ANDIAMO","Surprise","Archambault","Joubert/Nivelt",1977,"SVT","Wadensweiler, Felix","CLUB","S",400,"19/4/2016","16:06:40",7.65,6.8319999999999999,1.57,2.38,1234,93.5,0.06,691.1,0.90280000000000005,747.7,0.59099999999999997,24.3,1140.9000000000001,920.7,792.4,718.9,680.1,656.9,621.4,1085.7,881.8,771.2,710.3,675.1,650.9,613.1,954.8,770.8,671,611.5,573,546.20000000000005,509,1001.8,804.5,697.4,633.70000000000005,593,565,527.1,1172.5,903.6,751.3,657.1,594.1,548.5,482.7,43.2,41.9,40.1,37.700000000000003,36.4,35.799999999999997,36,146.9,150.80000000000001,152.69999999999999,168.1,180,180,180,1168.9000000000001,963.4,846.8,791.9,770,758.8,756.5,762.6,640.20000000000005,590.6,568.1,558,551.70000000000005,546.79999999999995,717.1,614.5,575.5,549.5,536.20000000000005,528.4,522,680.2,597.6,561.5,528.20000000000005,502.5,490.5,480.3,684.5,596.70000000000005,553.5,528.1,496.3,467.6,441.4,694.7,594.29999999999995,550.20000000000005,505.1,467.7,447.9,411.8,720.3,604.9,559.70000000000005,516.4,473.5,429.3,382.3,806.4,659.7,585,546,505.4,465.3,378.8,963.7,760.2,642.1,581,544.79999999999995,507.5,433.6,1112.8,877.9,738.1,646,590.1,555,486.4,0.84830000000000005,1.1009,1.2635000000000001,0.65490000000000004,0.89939999999999998,1.0394000000000001,0,0,0.77700000000000002,216,0.89580000000000004,0,0,669.8,"SUI00002143",6.9720000000000004,1731,13,18.899999999999999,16.399999999999999,41.1,0,7704]
["CLU11482","I12482","ITA-12482","EMOTION","SWAN 391","NAUTOR","HOLLAND",1987,"Y.C.SANREMO","GAIANI FRANCO","CLUB","C",680,"9/3/2016","11:07:02",11.975,10.201000000000001,2.2530000000000001,3.79,9486,123.9,0.38,635.5,0.98270000000000002,686.9,0.65200000000000002,33.299999999999997,1047.2,855,743.9,667,619.79999999999995,589.5,560.5,1001.9,821.1,718.2,654.20000000000005,615.79999999999995,591.6,564.29999999999995,879.9,709.3,616.70000000000005,561.79999999999995,527.4,504.7,477,925.8,742,641,580.6,542.4,517,485.5,1079.2,832.9,692.8,606.20000000000005,549.9,511,458.7,44,42.4,42.8,41.8,40,38.9,37.799999999999997,146.1,150.6,152,154.9,171.6,180,180,1076.7,901.6,799.7,730.8,694.9,675,657.4,699.7,593.70000000000005,528.6,500.2,486.5,479.7,473.4,659.4,559.79999999999995,509.1,487.3,474.4,466.3,459.1,626.4,533.6,495.9,476.9,462.9,451,435.6,629.29999999999995,535.9,497.4,477.3,464.6,451.3,427.2,665.8,548.70000000000005,495.9,471.8,452.4,436.4,421.4,683.7,564,502.5,476.3,456.7,437.5,406.7,749.6,614.20000000000005,530.29999999999995,491.9,470.7,452.2,416.1,881.3,700.2,596.6,528.6,492.4,472.4,437.9,1017.6,808.5,688.1,603.20000000000005,544.79999999999995,503.9,463.5,0.91859999999999997,1.2003999999999999,1.3661000000000001,0.7097,0.96909999999999996,1.1515,619.1,0.96909999999999996,0.77400000000000002,161.5,0.97189999999999999,0.65900000000000003,39.4,617.29999999999995,"CLU00018739",9.2759999999999998,10458,33.9,37,59.5,119.1,0,7750]
["GRE000790","GR1443","GRE-1443","ALEXIS P","SWAN 43","NAUTOR SWAN","RON HOLLAND",1985,"IO HALKIDAS","ORPHANOS AGGELOS","CLUB","C",900,"3/5/2016","02:01:56",13.054,10.954000000000001,2.5289999999999999,4.01,12579,122,0.62,630.6,0.99060000000000004,681.4,0.64200000000000002,22.5,1049.8,853,743.2,663.9,612.5,578.79999999999995,547.6,1005.8,821.2,717.2,649.6,607.1,580.6,551.6,878.6,706.1,611.6,555.1,519.29999999999995,495.7,467.6,931.6,743.8,639.79999999999995,576.70000000000005,536.4,509.6,476.7,1077.5999999999999,829.2,687.3,599.20000000000005,541.70000000000005,502.2,450.3,43.8,41.8,41.8,42,40.5,39.1,37.9,145.9,150.4,152.19999999999999,153.9,166.4,180,180,1091.5999999999999,906.1,804.9,730.1,685.3,661.8,641,708.2,599.70000000000005,530.70000000000005,494,476.5,467.7,460.4,665.9,565.6,506.1,479.3,464.8,455.3,447.3,631.4,536.5,489.2,468.2,454.4,443.1,426.7,634.4,539.9,491.2,466.2,456.1,444.3,422.2,658.7,543.6,485.6,460.8,443,428.6,414.6,676.1,558.79999999999995,492.8,465.2,446.9,429.7,401.1,741.4,607.70000000000005,523.79999999999995,481.4,459.9,443,410.1,872.9,692.7,590.9,521.79999999999995,482.3,461.8,430.4,1008,799.9,681.5,597.6,539.6,495.9,454.2,0.91800000000000004,1.2124999999999999,1.3928,0.70950000000000002,0.97370000000000001,1.1728000000000001,0,0,0.748,138,0.98129999999999995,0,0,611.4,"GRE01005800",9.66,13641,39.4,42.5,60.2,135.5,0,7779]
["GBR091205","47-047","USA-67740","AORANGI","Swan 47  mod.","Nautor","SPARKMAN & STEPHENS",1975,"Gahanna, OH 43230","Jayne Koehler","CLUB","C",849,"12/9/2016","15:10:00",14.57,11.648,2.4500000000000002,4.1900000000000004,17276,137.6,0.54,620.70000000000005,0.98560000000000003,684.9,0.65200000000000002,24.7,1035.5,843.8,737.1,666.4,625.20000000000005,592.5,552.9,987.7,808.1,708.1,646.70000000000005,609.29999999999995,584.4,554,861,693.2,602.1,548.20000000000005,514.6,492.6,465.4,901.5,722.1,623.1,563.29999999999995,525.20000000000005,500,469.6,1065,819.9,680.3,593.79999999999995,537.20000000000005,497.9,445.1,44.7,42.9,43.3,43.7,42.2,41.1,40,144.9,147.4,146.69999999999999,146.69999999999999,148.5,169.9,174.3,1055.9000000000001,882.9,787.6,726.4,688.6,666.9,645.5,680.3,578.20000000000005,512,479.8,465.9,458.3,451.2,638.20000000000005,543.1,486.2,462.6,450.8,444.5,438.2,603.70000000000005,512.5,469,450.1,438,428.7,419.1,604.4,513.20000000000005,469.7,450.5,437.9,427.2,408.8,643.79999999999995,532,472.1,447.4,431.1,419.1,406.4,665.1,550.20000000000005,481.5,452.6,435.3,420,393.9,743.3,604.20000000000005,518.6,471.1,448.5,432.6,403.9,879.2,697,594.70000000000005,525.20000000000005,486.5,463.5,436.6,1015.2,804.8,686.7,606.4,561.70000000000005,518.1,460.3,0.93769999999999998,1.2309000000000001,1.3993,0.71830000000000005,0.97199999999999998,1.1523000000000001,0,0,0.81200000000000006,186,0.99099999999999999,0,0,605.5,"GBR27400250",10.050000000000001,18434,46.8,51.8,86.2,0,160.19999999999999,7829]
["GBR091003","53-524","GBR 918R","OLWYN","SWAN 53 (2005)","Nautor","GERMAN FRERS",2005,null,"Gregory Nasmyth","CLUB","C",1175,"10/9/2016","16:17:56",16.48,14.752000000000001,2.4950000000000001,4.74,22628,129.30000000000001,0.45,564.1,1.0931999999999999,617.5,0.67900000000000005,-0.7,970.2,780,673.8,600.9,551.6,520.29999999999995,486.6,932.1,751.8,651.20000000000005,587,545.4,519.6,489.7,795.9,635.29999999999995,546.5,493,459,436.5,408.6,864.1,683.9,582.79999999999995,520.70000000000005,480.5,453.4,420.2,982.2,750,616.5,533.20000000000005,478.5,440.7,391,45.8,44,43.4,43.9,43.4,42,40.9,141.80000000000001,147.69999999999999,150,151.5,156.80000000000001,172.2,180,1039.4000000000001,846.8,744.4,674.2,627,601.70000000000005,579.79999999999995,660.9,548.29999999999995,483.4,439.6,418.1,408.5,400.9,612.5,513.6,453,420.1,404.4,395.6,388.4,573.29999999999995,483.5,430.9,406.9,393.5,383.9,370.3,574.20000000000005,478.3,422,399.8,392,383.5,364.9,576.29999999999995,472.3,417.5,394.9,380.1,368,353.5,592.70000000000005,486.9,425.4,398.9,382.7,367.9,342.3,657.8,531.9,456.2,414.8,394.5,379.7,350.5,780.3,617.6,522.4,457.8,418.2,397.6,370,901.1,713.2,603.20000000000005,527.70000000000005,476.2,438.8,393.4,1.0096000000000001,1.3632,1.5846,0.77129999999999999,1.0750999999999999,1.3095000000000001,0,0,0.79,115.9,1.0965,0,0,547.20000000000005,"GBR27400238",12.281000000000001,24273,59.5,79,66.400000000000006,221,208.3,7855]
["knw","nedo8762","NED 8762","Vitamien","Sweden 340","Sweden Yachts","Peter Morlin",1979,258582,"Lennard Markestein","CLUB","C",561,"6/6/2016","14:38:48",10.406000000000001,8.7479999999999993,1.9910000000000001,3.49,6000,121.7,0.53,708.4,0.88519999999999999,762.5,0.55400000000000005,11,1210.2,964.8,827.7,738.1,681.5,645.9,615.20000000000005,1140.2,923.4,801.2,723.3,676.9,650.29999999999995,624.6,993.1,795.1,686.5,621.70000000000005,581.1,554.79999999999995,523.70000000000005,993.1,795.1,686.5,621.70000000000005,581.1,554.79999999999995,523.70000000000005,1233.4000000000001,940,773.5,671.5,605.70000000000005,561.1,502.8,43.8,42.2,42.7,42.1,40.6,39.9,39.4,167.7,168.8,170.5,171.4,171.6,174.1,176.7,1164.5999999999999,973.2,865.4,790,752.5,733.6,721.7,756.5,640,569.9,537.1,521.9,515.20000000000005,510.1,711.4,602.1,546.4,521.9,507.9,499.8,493.4,674,572.5,530,509.3,493.9,481.3,466,676.8,574.79999999999995,531.29999999999995,510.4,494.7,479.9,454,752.5,630.5,555.1,522.9,503.3,486.1,452.1,803,666.8,578.4,534,511.1,493.5,459.7,920.2,739.5,636.79999999999995,566.4,530.70000000000005,510.1,477.1,1090.5999999999999,845.1,713.2,626,564.1,530.6,494.2,1255.9000000000001,956.4,790,686.3,610.5,558.20000000000005,508.6,0.81130000000000002,1.0832999999999999,1.2448999999999999,0.62070000000000003,0.87360000000000004,1.0492999999999999,688.9,0.871,0.64400000000000002,121.3,0.87409999999999999,0.55900000000000005,16,686.4,"knw00005433",7.9470000000000001,6746,25.5,29.8,35.9,0,0,7905]
["ltuLT1616","Idefix L","LTU 1616","IDEFIX 2016","Sweden Yachts 340","Sweden Yachts","Peter Morlin",1986,"Lithuania","UAB Vedas","INTL","C",560,"30/7/2016","10:58:02",10.4,8.9629999999999992,2.0019999999999998,3.49,6418,116.4,0.41,670.6,0.92759999999999998,727.7,0.64100000000000001,50,1088.3,894,781.4,705.7,659.9,634.1,610.6,1046.3,862,759,696.8,660.7,639.29999999999995,617.1,921.3,745.4,650.9,595.79999999999995,562.1,540.5,515,972,781.3,677.6,616.4,578.5,553.9,524.6,1127,874,730.8,642.70000000000005,585.6,546.29999999999995,493.3,43.8,42.3,43,42.2,40.700000000000003,39.9,40.200000000000003,147,151.30000000000001,152.4,157.80000000000001,180,180,180,1134.7,955.9,853.8,788,757,742.1,735.9,738.4,628.5,563.6,535.29999999999995,523.6,518.1,514.4,695.7,592,542,520.29999999999995,508.5,502.8,498.5,660.3,564.70000000000005,526.9,507.6,493.4,482.2,471.4,663.1,566.79999999999995,527.4,508.6,493.5,479.3,455.8,688.1,569.79999999999995,522.1,497.6,477.7,466.1,449.5,706.8,583.79999999999995,528.20000000000005,502.3,480.6,459.2,434.6,773,635.20000000000005,552.79999999999995,517.5,495.4,474.6,435.6,902.2,720.9,615.5,548.4,517.20000000000005,496.6,458,1041.8,832.1,708.9,623.29999999999995,562.70000000000005,526.1,485.4,0.87939999999999996,1.135,1.2734000000000001,0.68100000000000005,0.91820000000000002,1.0685,0,0,0.79,207,0.91920000000000002,0,0,652.70000000000005,"ltu00000603",8.0719999999999992,7187,26.4,28.9,43.2,92.7,0,7909]
["GER142199","GER7158","GER 7158","MOON SAFARI","T-34","T-YACHTS","LOSTUZZI",2010,"NRV","INSA & SVEN-ERIK HORSCH","CLUB","C",160,"10/8/2016","14:58:32",9.99,9.4220000000000006,2.2360000000000002,3.3,4153,119,0.17,625.4,0.98560000000000003,684.8,0.71199999999999997,67.599999999999994,1013.8,819.9,713.2,665.8,638.70000000000005,610.1,583.1,971.9,788.4,695.9,651.29999999999995,624.5,601.4,578.20000000000005,853.2,691.6,606.9,559.20000000000005,530.4,511.4,486.1,927.8,742.6,642.6,584.4,548.6,525.1,495.8,1046,811.4,681,602.6,552,516.4,466.1,43.1,41.7,40.299999999999997,39,38.200000000000003,37.700000000000003,38.799999999999997,143.9,147.6,148.30000000000001,150.30000000000001,174.5,177.1,177.6,1070,875.2,776.1,738.7,720,705.5,699,697.3,579.9,528.5,513.79999999999995,507,502.4,495.1,655.4,551.6,511.2,498.2,492.2,488.8,480.2,621.70000000000005,532.29999999999995,498.1,480.4,470.6,465.1,459.4,609.4,524.5,500.1,479,460,445,433.3,606.29999999999995,514.1,483.8,469.2,455.6,442.4,418,624.79999999999995,523.9,486.1,458.1,440.5,426.1,400,700.3,567.9,507.3,477.4,448.2,418.4,369,829.4,662.2,563.20000000000005,513.79999999999995,489.3,468.4,419.4,957.7,764.7,650.4,592.9,557.4,514.70000000000005,467.2,0.95479999999999998,1.2139,1.3418000000000001,0.73619999999999997,0.98150000000000004,1.1117999999999999,609.6,0.98419999999999996,0.97,297.8,0.98380000000000001,0.71099999999999997,67,609.9,"GER30000008",8.7970000000000006,4974,24,36.1,27.7,0,104.4,7945]
["ESP959001","E9590_C","ESP-9590_C","REAL C. NAUTICO DE CALPE","TOM 28","OMEGA YACHT","CECCARELLI",2005,"R.C.N.CALPE","RCN CALPE 1","CLUB","S",400,"18/5/2016","21:40:44",8.5,7.5609999999999999,1.855,2.5,1406,123.6,0,632.9,0.97609999999999997,691.5,0.63200000000000001,14.7,1054.2,845.2,725.5,667.9,632.70000000000005,608.79999999999995,567,1001.6,806.7,706.3,654.70000000000005,622.70000000000005,597.70000000000005,553.5,877.4,706.9,614.4,559,522.70000000000005,496.4,457.3,935.4,748.2,645.9,584.70000000000005,545.1,517.1,476.6,1079.3,829.9,688.6,600.9,541.70000000000005,497.8,431.9,43.2,42.7,39.6,37.6,36.5,35.799999999999997,36,139.19999999999999,147.30000000000001,151.69999999999999,161.69999999999999,180,180,143.80000000000001,1082.4000000000001,881.4,772.4,734.4,716.9,706.2,698.3,704,584.6,542,524.29999999999995,514.4,508.3,494.5,658.7,562.9,526.1,502.8,490.8,483.8,468.9,621.79999999999995,548,510.4,475.5,454.8,444.4,434.4,625.5,546,511.4,474.9,439.8,411.9,390.4,637.9,544.29999999999995,495.1,454.3,431,406.7,364.2,660.2,554.20000000000005,506.7,459.2,413.6,389,343.3,740.7,593.29999999999995,536.4,493.5,451.1,407.1,312.89999999999998,888.5,700.6,589.1,534.9,495.4,457,377.3,1026,809,678.6,601.4,548.6,511.4,435.7,0.9234,1.2032,1.3908,0.7107,0.97389999999999999,1.1267,624.20000000000005,0.96120000000000005,0.86599999999999999,232.2,0.97689999999999999,0.65600000000000003,39.200000000000003,614.20000000000005,"ESP00017953",7.915,1952,14.2,23.7,16.3,50,0,7995]
["AUS280200",2802,52000,"RKO","TP52","King","Judel/Vrolijk",2007,"NSW 2030","Aaron Rowe","INTL","R",1232,"15/9/2016","11:30:44",15.85,15.631,3.17,4.42,7240,132.9,0,447.8,1.3634999999999999,495.1,0.82599999999999996,-18.100000000000001,767.8,606.1,528.20000000000005,487.2,455.9,424.7,382.4,730.1,582,510.4,469.2,438.9,415.3,387,629.4,503.6,434.5,392,362.8,340.5,307.2,693.4,550.29999999999995,470.6,421.2,387.9,363.5,328.6,780.2,595.70000000000005,490.4,423.7,377.1,341.4,287.89999999999998,44.6,43.5,40.9,39.4,37.700000000000003,36.799999999999997,36.6,141.1,141.9,145.80000000000001,151.5,146.69999999999999,139.9,144.6,798.6,640.6,571.70000000000005,538.5,516.79999999999995,501.8,490.7,511,417.1,387.6,373.8,363.2,351,335.2,472.7,396.1,371,354.2,342,330.5,312.60000000000002,438.3,380.7,345.4,324.10000000000002,311.2,301.60000000000002,278.7,436.7,380.9,342,306.8,288,274.8,256.89999999999998,458.9,382.1,349.9,321.7,298.39999999999998,267.89999999999998,227,476.3,388.5,344.1,317.2,294.7,271.3,232.1,531.4,416.6,369.8,327.3,287.3,262.39999999999998,229.3,638.20000000000005,495.1,419.7,376.1,342.1,301,237.4,736.9,571.70000000000005,484.6,435.9,395,347.6,274.10000000000002,1.2878000000000001,1.7032,2.0331000000000001,0.98260000000000003,1.3421000000000001,1.6201000000000001,443.4,1.3532999999999999,1.1080000000000001,175.1,1.3798999999999999,0.83899999999999997,-4.7,434.8,"AUS00000380",15.505000000000001,9017,46.1,93.7,63.3,0,267.5,8021]
["CLUUFO22","092UFO22","ITA-092UFO22","DUMBO","UFO 22","UFO BOAT","FELCI",1997,"Y.C.R.M.PISA","LOTTO ALESSANDRO","CLUB","S",250,"28/4/2016","12:39:12",6.6230000000000002,6.2190000000000003,1.583,2.54,760,96.6,0,685.5,0.88549999999999995,762.3,0.63,47.6,1077.9000000000001,880.6,793.1,753.6,721.9,687.8,608.4,1040.5999999999999,859.8,775.5,732.3,700.9,671.3,623.20000000000005,923.5,756.1,667.6,615,579,550.4,501.5,1001.9,810.3,707.7,647.4,608.70000000000005,581.20000000000005,540.9,1130.3,885.3,748,661.7,600.70000000000005,551.9,471.9,43.3,42.4,40.1,39.200000000000003,39,38.9,39.9,144.9,148.80000000000001,151,174.9,145.1,143.30000000000001,142.19999999999999,1157.5,960.2,874.5,849.6,839.6,831.9,833.7,753.8,643.1,607.70000000000005,596,589.70000000000005,583.9,573.6,707.8,622,587.1,570.20000000000005,560.9,555.1,539.70000000000005,672.8,606,563.1,529.4,514.20000000000005,505.6,490.7,649.6,592.70000000000005,562,520.70000000000005,482.4,462.5,447.7,646.4,576,527.20000000000005,499.6,472.4,448.4,399.6,662.4,587.29999999999995,526.29999999999995,477.8,450.3,426.5,376.2,733.7,620.5,563,507.7,452.1,397.4,320.60000000000002,864.5,693.7,617,572.1,523.20000000000005,470.8,331.8,998.2,801,711.8,657.6,604.20000000000005,543.6,383.1,0.88439999999999996,1.0932999999999999,1.2511000000000001,0.68930000000000002,0.87729999999999997,1.0126999999999999,0,0,1.0149999999999999,403.2,0.89429999999999998,0,0,670.9,"CLU00019572",6.1989999999999998,1193,10.6,19.5,10.4,0,50,8071]
["CLUUFO22","60UFO22","ITA-60UFO22","SAFRAN","UFO 22","UFO BOAT","FELCI",1997,"VERBANO Y.C.","TIOZZO ROBERTO","CLUB","S",250,"18/5/2016","18:27:30",6.6230000000000002,6.2190000000000003,1.583,2.54,760,96.6,0,685.5,0.88549999999999995,762.3,0.63,47.6,1077.9000000000001,880.6,793.1,753.6,721.9,687.8,608.4,1040.5999999999999,859.8,775.5,732.3,700.9,671.3,623.20000000000005,923.5,756.1,667.6,615,579,550.4,501.5,1001.9,810.3,707.7,647.4,608.70000000000005,581.20000000000005,540.9,1130.3,885.3,748,661.7,600.70000000000005,551.9,471.9,43.3,42.4,40.1,39.200000000000003,39,38.9,39.9,144.9,148.80000000000001,151,174.9,145.1,143.30000000000001,142.19999999999999,1157.5,960.2,874.5,849.6,839.6,831.9,833.7,753.8,643.1,607.70000000000005,596,589.70000000000005,583.9,573.6,707.8,622,587.1,570.20000000000005,560.9,555.1,539.70000000000005,672.8,606,563.1,529.4,514.20000000000005,505.6,490.7,649.6,592.70000000000005,562,520.70000000000005,482.4,462.5,447.7,646.4,576,527.20000000000005,499.6,472.4,448.4,399.6,662.4,587.29999999999995,526.29999999999995,477.8,450.3,426.5,376.2,733.7,620.5,563,507.7,452.1,397.4,320.60000000000002,864.5,693.7,617,572.1,523.20000000000005,470.8,331.8,998.2,801,711.8,657.6,604.20000000000005,543.6,383.1,0.88439999999999996,1.0932999999999999,1.2511000000000001,0.68930000000000002,0.87729999999999997,1.0126999999999999,0,0,1.0149999999999999,403.2,0.89429999999999998,0,0,670.9,"CLU00019921",6.1989999999999998,1193,10.6,19.5,10.4,0,50,8084]
["knw3814","NEDC3610","NED 3610","MY FELLOW","Victoire 933 x1.80","Victoria","D Koopmans",1974,154634,"G.H.L.,Santing","CLUB","C",479,"23/3/2016","14:26:04",9.35,7.7140000000000004,1.861,2.93,4770,134.5,0.48,717.9,0.86750000000000005,778.1,0.59599999999999997,47.3,1166.4000000000001,960.3,837.1,753.1,703.5,676.5,649.9,1123.8,926.9,814.8,746.4,706.5,682.8,657.6,987.8,798.7,696.7,637.1,600.4,576.9,549.29999999999995,1033.8,831.7,721.7,656.7,616.20000000000005,590,558.5,1206.7,935.7,781.9,687.1,625.5,583.1,526.20000000000005,44,42.4,43.5,42.6,41.2,40.5,40.1,148.30000000000001,152.6,151.6,159.9,180,180,180,1224.5999999999999,1033.5999999999999,922.4,849.1,813.3,794.7,784.3,796.5,677.5,605.29999999999995,573.4,560,553.4,548.9,750.9,636.9,581.29999999999995,556.9,543.6,536.9,531.79999999999995,712,606,564.5,543.20000000000005,527.5,515.1,503.3,713.9,607.70000000000005,564.29999999999995,543.70000000000005,527.6,512.20000000000005,487.7,736.8,609,557.9,531.20000000000005,508.5,495.2,480,758.2,622.1,563.5,535.70000000000005,512.20000000000005,489.5,463.7,824.7,679.6,587.4,551.29999999999995,527.4,504.9,465.5,959.8,769.4,652.4,581.20000000000005,550.1,528.1,487.3,1108.3,886.9,751.8,657.1,593.6,558.29999999999995,515.5,0.81920000000000004,1.0610999999999999,1.1934,0.63480000000000003,0.85880000000000001,1.0025999999999999,702.3,0.85429999999999995,0.72599999999999998,196.8,0.85909999999999997,0.60399999999999998,56.2,698.4,"knw00004767",6.95,5401,21.3,21.6,36.5,72.8,0,8146]
["CLU155201","I15520","ITA-15520","DREAMER TECH","VISMARA 52 FC","MARINE SERVICE","VISMARA",2007,"NIC CATANIA","SAVOCA CARMELO MASSIMO","CLUB","C",570,"21/9/2016","21:57:32",16,15.587999999999999,3.2850000000000001,4.18,13153,141.9,0.18,514.1,1.2042999999999999,560.5,0.753,3.1,886.3,704.9,599.9,535.9,503.7,485.4,449.7,841.4,670.3,574.79999999999995,520.70000000000005,490.5,470.4,434.7,725.4,578.1,497.7,450.1,419.9,399,369,793.3,626.20000000000005,532.9,476,439.1,413.7,380.2,894.9,681.5,560.20000000000005,485.6,436.9,402.6,353.9,44.1,41.8,41.2,39.299999999999997,37.5,36.299999999999997,34.700000000000003,141.69999999999999,144.30000000000001,146.30000000000001,149.80000000000001,151.4,152.9,177.8,912,732.9,631.4,574.1,546,529.70000000000005,508.1,591.1,482.4,424.5,401.5,390.6,384,376,552.79999999999995,454,409.5,391.1,379,371.2,361.2,520.79999999999995,432.9,399.1,381.3,365.3,350.4,333.8,524.6,433,397.5,382.4,365.5,347.1,314.39999999999998,533.79999999999995,432.5,392.7,370.2,355.5,342.8,316.5,552.9,444.5,398.9,375.6,350.9,330.5,304.89999999999998,621.6,495.7,424.2,393.2,372.1,348.3,297.60000000000002,745.2,586.20000000000005,492.2,431.1,400.3,384.3,345.2,860.5,676.9,568.4,497.8,461.3,441,391.3,1.1107,1.498,1.7302999999999999,0.84840000000000004,1.1983999999999999,1.4164000000000001,497.9,1.2050000000000001,0.93400000000000005,157.9,1.2062999999999999,0.75800000000000001,6.6,497.4,"CLU00020520",14.56,15033,49.9,82.9,54.8,0,186.7,8161]
["knw","nedc2406","NED 2406","HoutNsteen","Waarschip 1/4 *1,2","Waarschip","Kremer",1978,4035300,"C. Vos","CLUB","C",250,"23/3/2016","14:32:26",7.2240000000000002,5.9420000000000002,1.2390000000000001,2.4500000000000002,1550,102.8,0.37,814.3,0.76500000000000001,882.4,0.49299999999999999,18.399999999999999,1365.7,1109.4000000000001,958.2,852.1,786.5,754.8,722.5,1326,1079,939.1,850.6,794.5,762.8,730,1136.5,912.2,789.6,716.4,670.3,640.1,603.70000000000005,1191,951.7,819.9,740.6,690.4,657.5,618.9,1392.5,1071.0999999999999,887.3,773,697.9,645.4,573.6,45.8,44.7,44.8,44.2,42.6,41.5,41.2,149.19999999999999,153.30000000000001,152.69999999999999,170.9,180,180,180,1488.5,1235.0999999999999,1090.9000000000001,989.5,923.8,895.1,883.7,947.6,794.1,701.7,653,627.79999999999995,616.20000000000005,610,880.3,740.4,664.2,630,609,594.70000000000005,585.4,824,695.3,638.79999999999995,611.29999999999995,590.29999999999995,571.1,546.9,823.8,685.1,625.5,595.4,580.20000000000005,566.79999999999995,533,811.5,671.5,618.79999999999995,586.6,555.70000000000005,530.4,509.9,835,684.3,624.6,592.6,562.29999999999995,534,490.2,936.2,755,649.6,610.9,581.20000000000005,552.1,502.7,1076.3,854.8,717.7,641.4,608.20000000000005,580.6,529.1,1242.8,983.7,825.4,714.7,649.29999999999995,614.4,561.29999999999995,0.71009999999999995,0.94010000000000005,1.0788,0.5454,0.75629999999999997,0.89929999999999999,790.7,0.75880000000000003,0.58199999999999996,144.4,0.75939999999999996,0.498,23.9,790.1,"knw00004803",5.2480000000000002,1941,12.2,11.8,14.7,34,0,8187]
["GER142014","GER7170","GER 7170","NILA-ANN","WILKE CR 950","WILKE","NISSEN",1992,"YCM","JENS LICHTBLAU / RALPH SCHATZ","CLUB","R",520,"1/4/2016","09:53:48",9.5500000000000007,8.8460000000000001,1.802,2.46,1350,128.4,0,510.5,1.1806000000000001,571.79999999999995,0.73499999999999999,-13.2,837.1,684.6,619.29999999999995,570,533.20000000000005,493.2,442.2,800.5,662,593.20000000000005,548.6,516,489.8,455.3,701.3,569.9,497.2,451.2,418.3,392.7,354.2,769.7,620.9,538.4,486.6,450.3,422.1,377.9,873,676.4,562.5,487.8,433.3,390.5,325.8,45,40.299999999999997,36.799999999999997,34.9,33.9,33.700000000000003,34.5,141.9,147.5,152.80000000000001,146.5,140.6,140.30000000000001,147.69999999999999,869.9,723.6,668.6,641.29999999999995,627.29999999999995,619,612.5,555.79999999999995,499.6,470.7,450.9,437.1,428.1,412.1,521.9,478.6,444.6,424.7,410.7,401.9,381.4,490.6,441.6,408.7,385.3,368.9,356.6,330.3,473.6,417.4,384.2,354.8,333,318.10000000000002,297.39999999999998,491.5,427.2,367.6,332.7,308.39999999999998,284.3,250.4,514.70000000000005,453.9,396.6,342.1,299.10000000000002,276.5,236.1,581.70000000000005,491.5,424.9,362.7,315.2,283.39999999999998,230,696.5,559.1,486.4,431.9,380.4,318.2,235.5,804.3,645.6,570,498.7,439.2,367.4,271.89999999999998,1.1569,1.4736,1.7638,0.88719999999999999,1.1503000000000001,1.3944000000000001,527.9,1.1366000000000001,1.038,216.6,1.2001999999999999,0.77700000000000002,33.5,499.9,"GER20014181",9.8450000000000006,2069,16.5,41.4,23.6,0,112.1,8237]
["knw","NEDC900","NED 900","Nine","Winner 9Perf","Winner Yachts","vd Stadt & Prtnrs",2013,158951,"R. Sol","CLUB","C",514,"23/3/2016","14:38:56",9,8.3279999999999994,1.889,2.94,3424,122.3,0.18,655.4,0.94199999999999995,716.5,0.67300000000000004,62.2,1057.5,865,750.7,694.9,658.4,635.20000000000005,608.9,1018.1,833.2,733.3,679.9,649.79999999999995,630,602.20000000000005,893.6,725.4,636.29999999999995,585.4,554.29999999999995,533.9,507,963.8,773.1,669.6,609,571.70000000000005,547.5,517.29999999999995,1093.5999999999999,850,713.4,630.20000000000005,576.1,538.1,484.3,43.2,41.9,41.5,39.299999999999997,38.700000000000003,38.299999999999997,38.700000000000003,145.30000000000001,148,148.80000000000001,151.19999999999999,175.7,177.9,177.9,1124.7,934.8,819.5,762,741.8,733.2,726.5,733,616.20000000000005,557.1,534.6,527,523.4,518,689.4,584.9,541.1,520.9,511.8,507.5,502.8,653.29999999999995,563.20000000000005,529.20000000000005,507.8,490.3,480.2,473.9,636.5,546.29999999999995,517.9,505.7,488.3,468.4,444.8,634.9,544.1,510,480.7,463.7,451,429.7,655.8,554.70000000000005,517.20000000000005,487.6,457.4,433.6,408.8,729,596.79999999999995,538.20000000000005,508.6,480.1,452,396.9,857.6,688.7,590.6,545.5,520,499.2,449.8,990.3,795.2,681.9,627.79999999999995,574.9,537.20000000000005,491.3,0.90949999999999998,1.1577999999999999,1.2867999999999999,0.70220000000000005,0.93940000000000001,1.0694999999999999,645.6,0.92930000000000001,0.89500000000000002,274.89999999999998,0.9385,0.69199999999999995,80.400000000000006,639.29999999999995,"knw00004835",8.0050000000000008,4104,20.8,32.5,21.3,0,78.7,8277]
["knw3321","NED_2938","NED 2938","DWARSKOP","X-102 (Mod.)","X-YACHTS","N. Jeppesen",1981,151868,"D.J. Revelman","CLUB","C",540,"23/3/2016","14:28:52",10.012,8.2230000000000008,1.847,3.37,3839,111.6,0.04,654.1,0.95299999999999996,708.3,0.65200000000000002,46.6,1065.4000000000001,871.5,753.7,684.6,642.1,618.9,593.1,1014.6,832.4,730.2,673.5,641.29999999999995,621.29999999999995,597.79999999999995,898.2,726.9,635,581.20000000000005,547.9,526.1,498.9,931,750.1,652.29999999999995,594.79999999999995,559.1,535.70000000000005,507.2,1102.5999999999999,853.4,712.7,626.6,570.70000000000005,531.4,476,42.5,42,41.2,39.6,38.5,37.799999999999997,37.9,147,152.19999999999999,153.80000000000001,162,180,180,180,1071.9000000000001,900.6,795.4,746.4,724.1,712.9,709.1,705.8,594.6,544.5,524.6,516,511.1,507.9,665.7,567.4,529.79999999999995,510.8,500.2,494.2,489.3,632.5,549.70000000000005,518.29999999999995,497.1,480,468.3,459.7,636.79999999999995,552,518.79999999999995,493.2,477.9,460.4,437.8,672.9,561.29999999999995,519.5,491.7,465.5,442.9,421.5,699,577.4,527.6,499.5,474.4,451.2,408.7,777.8,638,557,520.6,494.7,469.9,426.5,917.1,730,619.29999999999995,552,519.1,494.5,449.7,1059,842.3,711.9,622.70000000000005,560.1,524.9,477.2,0.9022,1.1629,1.3085,0.69699999999999995,0.94730000000000003,1.0974999999999999,642.4,0.93400000000000005,0.81699999999999995,211.7,0.94199999999999995,0.66300000000000003,58.3,637,"knw00004785",8.1140000000000008,4517,20.7,35.200000000000003,27.6,53.6,0,8312]
["FRA16131a","F19084","FRA-19084","TIR NA NOG 2","X-302 DK MK2","X-YACHTS","JEPPESEN Nielsen",1994,"44380  -  PORNICHET","BOUGARD Francois","CLUB","C",523,"1/4/2016","15:31:42",9.1199999999999992,8.2810000000000006,1.716,3,3479,125.4,0.27,689.5,0.90749999999999997,743.8,0.58899999999999997,23.3,1151.8,931.4,805,718.3,665.3,639.1,611.70000000000005,1104.3,897.5,781.7,709.7,666.6,642.4,614.1,960.6,771.5,668.6,607.6,569.20000000000005,543.9,511.9,1017.9,812.1,699.1,631.6,589.20000000000005,561.5,528.1,1177.9000000000001,905.6,750.7,655.20000000000005,592.70000000000005,549,487.9,43.9,42.3,42.3,41.1,39.6,38.799999999999997,38.799999999999997,146.9,151.30000000000001,152.69999999999999,160.6,180,180,180,1209.9000000000001,999.3,881.9,800.4,757.7,740.8,733.1,783.5,655.4,584.4,550.29999999999995,533.5,526,521.20000000000005,735.3,617.6,561.6,535.70000000000005,519.4,509.1,502.3,696.1,589.4,545.5,523.4,504.9,487.9,469,700.6,582,535.29999999999995,510,497.6,484.5,452.5,698.5,579.1,533.79999999999995,506.2,478.6,454.2,432.2,722.8,594.70000000000005,541,513.1,486.6,460,413.6,801.6,653.5,567.70000000000005,531.5,506.1,480.1,431.4,947.1,748,632.4,562.70000000000005,530.4,506.5,458.8,1093.5999999999999,863.4,728,636.20000000000005,573,537.29999999999995,490.3,0.84150000000000003,1.1094999999999999,1.2688999999999999,0.64810000000000001,0.89800000000000002,1.0624,0,0,0.70299999999999996,155,0.89780000000000004,0,0,668.3,"FRA00003854",7.6219999999999999,4171,20.3,28,19.899999999999999,57.9,0,8327]
["NOR9660","nor9660","NOR 9660","Andante","X-332","X-YACHTS","NIELS JEPPESEN",1994,null,"Terje Hall Torgersen","INTL","C",650,"20/6/2016","10:57:46",10.06,9.1910000000000007,1.8260000000000001,3.28,4613,117.3,0.11,648.4,0.95899999999999996,703.9,0.64800000000000002,40,1068.5999999999999,867.9,750.4,680.2,637.70000000000005,613.70000000000005,589.29999999999995,1018.5,831,727.1,669.2,636.70000000000005,616.6,593,894.1,721.7,629.1,575.1,541.70000000000005,520,493,930.7,747.6,648.4,590.29999999999995,554.29999999999995,530.9,501.4,1100.3,849.1,707.3,620.6,564.29999999999995,524.9,469.4,43.8,42.6,42.5,40.5,39.299999999999997,39.1,39.200000000000003,146.1,150.9,153.19999999999999,159.1,180,180,180,1087,906.2,799.8,746.3,723,711.7,707.8,706.1,594.5,537.70000000000005,516.1,508,503.8,501.5,663.1,562.79999999999995,520.9,502.3,493.5,488.7,485.1,627.5,541.29999999999995,509,489.2,473.6,463.5,455.6,629.9,543,510,487.9,471.5,453.5,430.4,667.8,553.5,509.5,483.7,457.9,436.5,415.9,691.7,569.5,516.9,490.4,466.1,441.3,398.9,769.7,627.1,545.5,509.2,485.3,461.2,414.5,909.6,718.6,608.9,541.20000000000005,508.5,485.9,440.7,1050.3,829.7,700.9,614.20000000000005,552.29999999999995,515.70000000000005,470.9,0.90600000000000003,1.1757,1.3241000000000001,0.69710000000000005,0.9526,1.1055999999999999,0,0,0.80900000000000005,202.5,0.9506,0,0,631.1,"NOR00001662",8.6,5428,24.3,35.9,33.700000000000003,66.900000000000006,0,8377]
["CLU169561","I16956","ITA-16956","STELLA DEI VENTI","X-34","X-YACHTS","JEPPESEN",2007,"C.N.S.M.","MEZZALIRA GIUSEPPE","CLUB","C",480,"7/4/2016","15:06:34",10.36,9.4350000000000005,1.913,3.38,5503,119.8,0.2,639.5,0.96350000000000002,700.6,0.67100000000000004,49.9,1046.5,854.7,740.4,678.3,644.1,615.9,586.5,1004.4,820.9,719.2,663.7,633.29999999999995,612.20000000000005,584.70000000000005,878.2,710.1,620.5,569,537.70000000000005,517.29999999999995,491.1,942.6,754.2,651.5,591,553.6,529.1,498.3,1078.0999999999999,834.7,697.6,613.9,559.5,521.6,469.2,43.6,42.1,42.2,40.799999999999997,39.6,39.5,39.4,144.6,147.9,147.69999999999999,149.6,174.6,177.3,178.5,1101,916,804.6,745.2,721.4,710.1,695.8,715.4,601.6,537,511.7,502.8,498.5,492.5,672.1,567.20000000000005,518,497.5,488.2,483.8,479.3,636.4,542.29999999999995,505,485.4,471,461.1,454.2,630.9,529.70000000000005,495.3,484.4,469.8,453.9,430,631,528,491.4,467.3,449.8,438.5,419.5,652.6,541.70000000000005,498.4,473.7,449.4,425.8,402.2,727.1,593.9,522.29999999999995,491.3,468.5,445.2,400.8,859.1,687.1,585.6,529.5,501.5,483,445.7,992,793.4,676.2,611.4,566.9,521.70000000000005,477.1,0.92320000000000002,1.1910000000000001,1.3287,0.71009999999999995,0.95720000000000005,1.1031,626.79999999999995,0.95730000000000004,0.86099999999999999,235.7,0.96220000000000006,0.68100000000000005,59.4,623.6,"CLU00019206",8.7330000000000005,6347,25.8,39.6,27.9,0,92.3,8403]
["GER141946","X3550","X35  50","TROTTOLINA BELLIKOSARACE","X-35","X-YACHTS","JEPPESEN",2005,null,"TROTTA SAVERIO / FIORELLA DENITTO","INTL","C",600,"30/8/2016","09:57:58",10.6,9.5009999999999994,2.181,3.25,4634,116.9,0,609.6,1.0178,663.2,0.71499999999999997,56.6,988.8,805.7,697,642.1,607.79999999999995,585.5,557.4,943.6,770.5,678.6,632.1,604.9,584.70000000000005,556.5,833.2,675.5,591.79999999999995,543.6,513.9,494.1,467.7,882.8,710.6,617.9,563.9,530.5,508.4,479.9,1022.5,792.8,664,585.6,534.70000000000005,499,448.7,43.2,42.3,40.9,39.1,38.6,37.9,38.200000000000003,144.5,148.80000000000001,151.4,159,180,180,180,1016.4,844.9,745.6,710.1,693.5,681.3,673.7,663.2,557.29999999999995,511.7,498.4,492.5,489.2,481.5,623.4,532.5,497.7,484.5,478.3,474.8,465.5,590.70000000000005,516.20000000000005,486.8,467.6,455.7,449.6,444.1,592.70000000000005,517.29999999999995,488,466.8,446.2,429.8,416.8,612.6,515.9,479.9,453.2,438.1,424.5,404.8,632.1,526.70000000000005,486.7,458.2,429.3,409.6,385.4,701.3,570.9,508.7,478.7,451.8,424.5,368.8,832.4,663.8,562.4,507.8,479.7,454.5,404.6,961.2,766.4,648.4,574.20000000000005,522,489.7,441.1,0.9748,1.2457,1.3914,0.75229999999999997,1.0143,1.1627000000000001,601.1,0.99819999999999998,0.93400000000000005,252.7,1.0092000000000001,0.73099999999999998,72.8,594.5,"GER20015141",9.173,5467,24.7,42.6,33,92.1,0,8436]
["ITAX35OD","I35505","ITA-35505","READY X SEA","X-35 OD","X-YACHTS","JEPPESEN",2005,"Y.C.MARINA DI LOANO","RAYNERI MICHELE","INTL","C",640,"2/5/2016","23:51:34",10.6,9.4489999999999998,2.173,3.25,4487,117,0,606.29999999999995,1.0230999999999999,659.7,0.71799999999999997,55.9,983.5,801,693,639,604.9,582.6,554.5,938.3,765.8,674.7,628.79999999999995,601.6,581.20000000000005,552.70000000000005,828.7,672,588.70000000000005,540.70000000000005,511.1,491.2,464.5,877.8,706.7,614.70000000000005,561,527.70000000000005,505.6,476.9,1017.1,788.6,660.4,582.4,531.70000000000005,495.9,445.5,43.2,42.3,40.700000000000003,39.200000000000003,38.4,37.700000000000003,38,144.4,148.69999999999999,151.4,159.1,180,180,180,1010,838.9,740.5,705.9,689.6,677,670.4,658.8,553.70000000000005,509.5,496.9,491.1,488,479.9,619.20000000000005,529.6,495.8,483,476.7,473.2,463.4,586.70000000000005,513.9,484.7,465.1,453.5,447.3,441.1,588.70000000000005,515,486,464,442.7,426.4,414.2,609.70000000000005,514,478,450.5,435.1,421,400.6,629,524.5,485,455.4,425.8,406.1,380.9,698.2,568,506.9,476.8,449,421.1,363.2,828.8,660.8,559.9,506.1,477.8,451.9,400.9,957.1,763,645.4,572,520.29999999999995,488.2,438.6,0.98019999999999996,1.252,1.3998999999999999,0.75649999999999995,1.0197000000000001,1.1686000000000001,598.9,1.0018,0.94099999999999995,254.4,1.0145999999999999,0.73599999999999999,74.400000000000006,591.29999999999995,"ITA00019642",9.1989999999999998,5313,24.4,42.8,33.1,92.2,0,8478]
["GER142040","GER5375","GER 5375","LOCURA","X-362 CLASSIC","X-YACHTS","JEPPESEN",1994,"YCLL","HARALD THIELE","CLUB","C",450,"31/5/2016","15:29:26",10.725,9.76,1.9339999999999999,3.47,5950,115.6,0.28999999999999998,652.5,0.95430000000000004,707.3,0.624,25.8,1093.4000000000001,885.1,763.9,682.7,636.79999999999995,608.4,582.20000000000005,1046.5,850.4,739.8,672.7,634.29999999999995,611,585.9,908.4,729.6,632.5,575.29999999999995,539.79999999999995,516.79999999999995,489.1,969.5,773.2,665.1,600.5,560.1,533.70000000000005,501.8,1117.0999999999999,858.4,711.4,621,562.4,522,467.3,44.3,42.7,42.8,41.9,40.299999999999997,39.4,39.6,146,150.19999999999999,150.19999999999999,155.80000000000001,172.8,180,180,1145.3,947.3,834.9,759.5,724.8,707.8,697.9,739.1,620.70000000000005,549.79999999999995,516,501.6,495.6,491.1,692.3,583.9,526.29999999999995,501,487.6,481,476,654.79999999999995,554.6,510.3,489,473.9,461.7,448.9,658,552.9,503.1,484.7,474.5,460,433.3,660.6,545.29999999999995,499.1,474.9,454.1,439,420.5,682.6,560.9,506.1,480.3,457.9,435.1,403.1,759.2,616.29999999999995,532.9,496.6,474.2,452.5,409.5,901.9,712.5,600.20000000000005,529.9,497.2,476.2,435.7,1041.4000000000001,822.9,693,605.9,548.79999999999995,509,466.5,0.88870000000000005,1.1734,1.3338000000000001,0.68230000000000002,0.94389999999999996,1.1145,635.70000000000005,0.94379999999999997,0.74299999999999999,157.6,0.94769999999999999,0.63200000000000001,32.9,633.1,"GER11001492",8.7449999999999992,6847,27.6,29.9,37.9,76.3,96.2,8528]
["knw22537","nedc7604","NED 7604","FunX","X-362 sport","X-YACHTS","N. Jeppesen",1993,4033441,"R.S.,Jansen","INTL","C",560,"25/8/2016","10:55:44",10.72,9.7140000000000004,2.2400000000000002,3.47,5269,110.7,0.04,625,0.996,677.7,0.68200000000000005,47,1024.8,833.2,719.4,655,616.20000000000005,592.70000000000005,564.9,975.7,795.8,696.8,643.5,613.5,593.5,566,859.9,694.9,606.4,555.20000000000005,523.6,503,476.5,905,726.8,630.4,573.79999999999995,538.70000000000005,515.6,485.8,1056.5,816.3,681,598.6,545.4,508.5,458.1,43.2,41.9,41.4,39.5,38.299999999999997,38.1,37.799999999999997,145.1,149.9,151.30000000000001,157.6,180,180,180,1042.0999999999999,867.6,764,717.4,696.5,685.4,674.9,680.9,572.9,520.29999999999995,502.3,495.1,491.2,486.5,641.1,544.6,505.3,488.8,481.5,477.3,473.7,608.4,525.70000000000005,494.2,475.4,461.6,453.9,447.2,611.6,527.4,494.9,475.8,457.5,440.8,422.8,641.6,532.70000000000005,491.9,466,444.6,432.7,412.8,662.7,546.6,498.7,472.4,446.6,421.9,395.6,735.2,598,523.1,490.2,466.2,441.3,393.9,872.6,691.8,585.1,521,490.6,468,422.5,1007.5,798.9,674.8,592.5,535.79999999999995,499.9,454.9,0.94240000000000002,1.2190000000000001,1.3682000000000001,0.72660000000000002,0.99029999999999996,1.1476999999999999,613.6,0.9778,0.85599999999999998,212.9,0.98629999999999995,0.69399999999999995,59,608.29999999999995,"knw00005708",9.19,6149,26.8,39.700000000000003,37.700000000000003,88.5,0,8543]
["nor9680",9680,"NOR 12555","teXas","X-37","X-YACHTS","Jeppesen",2004,null,"Henrik Lundh","CLUB","C",720,"26/4/2016","21:29:00",11.35,10.32,2.044,3.47,7105,121.7,0.1,616.9,1.0002,674.9,0.68200000000000005,42.6,1020.2,831.9,720.3,653.29999999999995,612.70000000000005,587.4,561.6,973.1,796.3,697.3,641.70000000000005,610.4,590.4,565.20000000000005,847.1,685.4,598.70000000000005,548.29999999999995,517.4,497.2,472,895,718.7,623,566.70000000000005,531.79999999999995,509,480.5,1050.4000000000001,810.7,675.4,592.79999999999995,539.4,502.6,452.4,43.9,42.6,42.8,41.2,39.9,39.200000000000003,39.4,145.19999999999999,150.19999999999999,152,156.4,174.1,180,180,1041.8,872.6,770.7,719.2,695.7,683.4,672.7,676.2,571.20000000000005,513.20000000000005,491.9,483.9,479.9,475.9,633.4,529.70000000000005,494,477.7,470.3,466.2,463,575.5,498.8,472.8,463.2,452.9,445.3,439,563.1,496,471.6,453.9,439.4,432.1,416.1,617.79999999999995,527.1,482.4,459.1,438.9,423.2,398.6,659.4,542,489.2,464.4,443.6,421.8,392.7,730.1,596,517.1,481.5,460,439.5,398.1,864.7,685.2,580.9,514.4,481.8,461.4,422.4,998.5,791.2,669.8,587.29999999999995,529.79999999999995,491.4,450.4,0.95630000000000004,1.2338,1.3837999999999999,0.72889999999999999,0.99209999999999998,1.1556999999999999,607.70000000000005,0.98729999999999996,0.84199999999999997,200.3,0.99539999999999995,0.69199999999999995,52.8,602.79999999999995,"nor00000737",9.4700000000000006,8077,29.9,44.5,42.3,92.8,0,8569]
["FIN00045","L-0045","FIN-45","Nicole4","X-41","X-YACHTS","Jeppesen",2006,"HSK","Riku Nissila","INTL","C",850,"6/6/2016","01:13:16",12.35,11.143000000000001,2.5009999999999999,3.65,6946,121.1,0,572.29999999999995,1.0817000000000001,624,0.74399999999999999,45.8,939,761.4,658.1,604.70000000000005,572.4,547.9,520,896.5,728.3,639.20000000000005,593.79999999999995,566.79999999999995,545.5,518,787,635.9,555.29999999999995,508.8,479.9,460.4,434.6,840.7,674.2,583.9,530.79999999999995,497.6,475.6,447.4,966.7,747.2,623.70000000000005,548.4,499.4,464.8,416.7,43.6,42.6,41.3,39.6,39.1,38.299999999999997,38.6,142.4,147.5,150.19999999999999,156,170.4,180,180,968.9,799.9,705.6,669.2,651.29999999999995,636.79999999999995,627.1,629.5,525.6,478.1,464.5,458.2,454.8,446.5,590.4,499,463.1,450.8,444.8,441.2,431.9,558,481.4,451.8,434.3,424,418.1,412.3,559.79999999999995,482.3,452.9,432.8,413.8,398.9,386.7,582,483.1,446,421.8,407.2,394.3,375,599.9,493.2,451.9,424.8,399.5,379.5,356.4,664.8,537,472.9,444,418.6,392.1,338.1,787.3,626,528.79999999999995,473.7,445.8,422.3,374.2,909.1,722.8,610.5,540.20000000000005,493.5,459,412.9,1.0311999999999999,1.33,1.4939,0.79390000000000005,1.0757000000000001,1.2418,0,0,0.96099999999999997,232.3,1.0764,0,0,557.4,"FIN00012991",10.551,8023,32.6,54.6,46.4,130.5,110.7,8629]
["ITA410481","I41048","ITA-41048","SIDERACORDIS","X-41","X-YACHTS","JEPPESEN",2006,"C.D.VENEZIA","GRIMANI PIER VETTOR","INTL","C",850,"18/7/2016","22:41:32",12.35,11.132,2.5,3.65,6912,127,0,572.5,1.0827,623.4,0.73799999999999999,42.3,942.9,763.9,658.1,602.70000000000005,569.6,546.79999999999995,516.6,900.1,730.3,638.79999999999995,591.4,564,544.1,512.70000000000005,789,636.79999999999995,555.4,508.2,478.8,458.9,431.9,843.3,675.4,584.1,530.20000000000005,496.4,473.9,444.3,968.9,747.9,623.5,547.6,498.2,463.5,414.7,43.6,42.5,41.6,39.5,39,38.4,38,142.9,147.4,150.1,155.9,170.2,180,180,973,802.7,703.7,663.9,644.79999999999995,633.9,619.6,632.20000000000005,527.6,477.5,462.1,455.4,451.7,443.5,593,500.7,463.1,448.6,442,438,429.7,560.6,482.7,452.5,433.6,420.8,414,407.8,562.6,483.7,453.6,433.5,413.9,397,381.2,584.29999999999995,483.7,446.3,423.6,410.7,396,374.7,601.5,494.3,452.5,425.4,398.3,382.4,358.9,667.5,539.1,473.8,444.5,419.2,392.9,339,790.6,628,530.4,474.6,446.5,423,375,912.9,725.2,612.4,541.5,494.5,459.7,413.5,1.0274000000000001,1.3312999999999999,1.4995000000000001,0.79090000000000005,1.0777000000000001,1.2473000000000001,562.79999999999995,1.0661,0.94699999999999995,223.1,1.077,0.755,57.8,557.1,"ITA00020338",10.625,7988,32.5,53.8,45.6,130.1,0,8644]
["GER141860","GER6980","GER 6980","ROXY","X-412 MK2","X-YACHTS","JEPPESEN",1991,"SCOE","KAI + ASTRID NEUMANN","CLUB","C",540,"1/4/2016","09:57:16",12.52,10.340999999999999,2.1259999999999999,3.9,7873,122,0.06,612.79999999999995,1.0116000000000001,667.2,0.68,36.200000000000003,1011.3,825.3,714.9,647,605.4,577.5,551.5,967.3,791,692.1,635.1,601.5,579.4,555.6,847.1,683,594.4,542.6,510.5,489.5,464.2,894.1,716.7,619.70000000000005,562,525.79999999999995,501.9,472.5,1040.9000000000001,803.4,668.6,585.70000000000005,531.79999999999995,494.5,444.3,44.2,43.3,43.4,42.1,40.799999999999997,39.9,39.5,145.4,149.69999999999999,151,155,169.9,180,180,1040.5999999999999,870.6,769.9,715.1,686.3,670.3,660.2,674.1,567.79999999999995,508.2,484.2,474.4,469.1,464.7,633.20000000000005,534.29999999999995,489.1,470.2,460.3,454.6,449.4,598.6,510.2,476,458.1,444.6,433.7,423.9,600.70000000000005,511,476.5,458.3,443.2,429,406.6,638.70000000000005,523.20000000000005,475.5,451.6,433.4,423.4,405.5,656.6,537.20000000000005,481.6,456.2,434.6,414,391.5,723.3,587.5,507.8,472,450.2,429.6,390.7,850.4,675.4,571.79999999999995,507,472.8,452.2,414.1,982,779.9,659.9,578.9,524.6,484.7,442.8,0.95499999999999996,1.2452000000000001,1.407,0.73509999999999998,1.0013000000000001,1.1745000000000001,598.70000000000005,1.0021,0.83099999999999996,185.7,1.0059,0.68600000000000005,42.1,596.5,"GER20014198",9.5310000000000006,8840,32,40.799999999999997,53.9,114.9,0,8694]
["knw25434","nedc7792","NED 7788","RamiroX","X-43","X-YACHTS","Jeppesen",2003,4024210,"R.W.J.F. van Geldre","CLUB","C",857,"23/3/2016","13:26:58",12.903,11.657999999999999,2.1989999999999998,3.95,8917,129.80000000000001,0.25,596.70000000000005,1.0347999999999999,652.29999999999995,0.67500000000000004,21.5,1003.2,810.3,699.9,629.5,594.6,565.5,533.29999999999995,956.8,775.4,673.6,613.5,580.29999999999995,558.1,530.79999999999995,830.9,667.2,578.4,526.20000000000005,493.6,472,444.4,884,704.3,605.1,545.5,507.8,482.8,451.5,1025.2,787,651.79999999999995,568.6,514.20000000000005,476.1,422.8,44,42.3,42.3,41.1,39.6,39.200000000000003,38.5,143.6,147.80000000000001,148,148.9,151.4,175.7,178.5,1034.8,852,748.1,681.7,651.5,636,621.79999999999995,669,559,495.7,466.6,454.2,448.5,443.6,626.1,525.79999999999995,475.6,453.4,441.4,435.1,429.4,590.9,499.9,461.8,442.5,428.1,416.1,403.1,593.20000000000005,501.3,457.2,436.7,427.9,412.7,385.9,609.70000000000005,501.3,456.5,433.7,412.4,393.4,373.6,631.20000000000005,518.1,464.6,439.8,419.2,397.4,357.7,708,573.6,494.6,457.4,436,416,375.2,841.5,665.7,564.29999999999995,499.9,467.5,447,416,971.7,768.7,651.6,577.29999999999995,537.70000000000005,495,444.7,0.97189999999999999,1.2833000000000001,1.4598,0.74439999999999995,1.0238,1.2039,581.9,1.0310999999999999,0.83599999999999997,177.8,1.0351999999999999,0.68700000000000006,30.9,579.6,"knw00004424",10.627000000000001,10087,35.6,54.2,39.6,0,107,8709]
["ltuLT1583","Xxs LTU1","LTU1583","X-xs","X79","X-YACHTS","N. Jeppesen",1969,null,"Darius Lucka","CLUB","C",320,"7/7/2016","12:36:22",7.85,6.8369999999999997,1.4019999999999999,2.84,1942,97.8,0.04,704.3,0.88490000000000002,762.8,0.61399999999999999,52.6,1144,933.3,805,733.8,695.4,674.2,645.9,1094.5999999999999,896.3,787.2,729,696.8,676.1,648.5,963.7,781.3,683.9,627.29999999999995,592.4,569.4,539.79999999999995,1009.5,813.7,708.4,647,609.1,584.20000000000005,552.70000000000005,1181.5,915.8,766.4,675.3,615.9,573.9,514.6,43.7,43.7,41.6,40,39,38.299999999999997,38.9,147.6,151.80000000000001,153.30000000000001,170.7,180,180,180,1189,992.5,872.3,821.7,800.2,789.4,788.9,773,651.20000000000005,596.6,576.70000000000005,568.6,564.20000000000005,560.29999999999995,726.1,621.4,580.79999999999995,560.4,550.29999999999995,544.6,540.6,688.2,602.20000000000005,568.4,543.29999999999995,523.4,512.1,504.2,691.4,598.79999999999995,560.6,541.9,519.1,497.8,474.6,698.1,596.79999999999995,557.9,523.6,494,478.9,454.9,722.5,608.29999999999995,565.5,532.1,499.4,468.7,431.5,802.1,659.8,587.9,554.29999999999995,522.29999999999995,492,432.2,951.7,757,642.70000000000005,583.5,552.5,522.6,467.7,1098.9000000000001,874.2,737.6,645.9,590.70000000000005,558.9,502.9,0.8417,1.0784,1.2081999999999999,0.64990000000000003,0.88290000000000002,1.0091000000000001,0,0,0.79500000000000004,242,0.87480000000000002,0,0,685.9,"ltu00000464",6.7210000000000001,2445,14.8,23,17.8,45.7,0,8770]
["nor5620",5620,"NOR 6672","Just for fun 3","X-79 OD","X-YACHTS","JEPPESEN",1979,null,"petter larby","CLUB","R",352,"30/4/2016","17:22:42",7.9269999999999996,6.5529999999999999,1.3620000000000001,2.84,1551,96.4,0,690.6,0.89700000000000002,752.5,0.61799999999999999,45.9,1123.4000000000001,913.6,789.9,725.2,690,668.7,639.79999999999995,1072.5,876.9,772.5,718.6,688.2,667.7,633.70000000000005,944.5,766.1,670.7,615.1,580.29999999999995,556.70000000000005,524.5,992.1,800.2,697,636.79999999999995,599.29999999999995,574.20000000000005,541.29999999999995,1160.4000000000001,899,752,661.8,602.29999999999995,559.4,497.3,43.9,43.1,41.3,39.700000000000003,38.9,38.5,39.4,147.19999999999999,150.80000000000001,153.19999999999999,170,180,180,180,1163.4000000000001,967.5,854.6,813.8,796.4,788.5,792.4,755.1,637,588.29999999999995,571.20000000000005,563,558.5,554.20000000000005,708.8,610.70000000000005,572.20000000000005,551.4,541.4,535.79999999999995,530.70000000000005,671.6,593.70000000000005,558.1,527.79999999999995,509.1,500.9,494.9,674.5,591.1,551.1,527.70000000000005,501.6,479.4,461.7,680.7,587.70000000000005,544.6,504.8,479.5,463,432,704.7,597.70000000000005,553.70000000000005,513.70000000000005,477.9,443,400,785.4,646.20000000000005,578.20000000000005,539.70000000000005,503.7,470.2,382.6,938.3,744.4,631.70000000000005,574.4,538.6,505.4,437.9,1083.5,859.8,725.2,636.6,583.6,548.79999999999995,487.3,0.8589,1.0989,1.2363,0.66269999999999996,0.89559999999999995,1.0178,681.5,0.88029999999999997,0.83799999999999997,266.2,0.89190000000000003,0.63800000000000001,68.099999999999994,672.7,"nor00000831",6.6429999999999998,2015,13.6,21.3,18.8,48.8,0,8788]
["SUISU6803","SUI6803","SUI 68","DREAMING SWISS","XC-42","X-YACHTS","JEPPESEN",2010,"CCS","CRUISING CLUB DER SCHWEIZ","CLUB","C",700,"6/8/2016","10:53:24",12.638999999999999,11.737,1.74,4.08,12141,117.9,0.4,615.4,0.98429999999999995,685.8,0.65800000000000003,26.8,1032.7,844.1,739.3,667.9,622.70000000000005,593.1,566.29999999999995,999.9,819.9,721.8,661.4,623.79999999999995,600.1,574.5,847.2,684.9,597.4,546,514,493.3,468.6,926.1,739.6,636.70000000000005,574.70000000000005,535.70000000000005,510.4,481.2,1057.2,815.5,677.7,592.1,535.70000000000005,496.5,443.8,46.7,45.2,45.3,46.2,45.7,45,44.2,144.5,149.80000000000001,151.19999999999999,154.5,166.8,180,180,1132.5,942.2,843.7,777.8,738.3,717.9,702.9,715.8,604.1,538.4,496.1,477.8,469.6,464.5,649.4,548,492.8,470.8,456.7,450.6,446.2,570.29999999999995,485.9,456.6,446.9,440.3,431.9,422.7,547.6,475,449.3,434.7,425,419.3,408.6,585,500.1,456.5,436.2,421.9,409.6,388.9,619.79999999999995,513.1,462.4,439.8,422.1,405,383.2,683.7,561.9,487.7,454.1,435,417.9,382.9,807.9,646,550.1,488.1,455.4,436.9,404.4,932.9,745.9,635,558,507.1,468.3,429.7,0.95650000000000002,1.2364999999999999,1.3964000000000001,0.71930000000000005,0.97109999999999996,1.1432,0,0,0.81499999999999995,189.2,0.99380000000000002,0,0,603.70000000000005,"SUI00000149",9.5540000000000003,13330,38.4,54.8,42.1,135.80000000000001,148.69999999999999,8834]
["ISR002/16","ISR1","ISR 1","Afrita","XP 44","X-YACHTS","Jeppesen",2010,"ISRAEL","Easy Swissa","INTL","C",891,"4/7/2016","16:37:04",13.3,12.23,2.6709999999999998,4.05,8969,135.4,0.05,546.6,1.1372,593.5,0.76500000000000001,36.5,904.9,732.3,628.5,573,541.1,518,487.1,865.5,699.8,609.6,561.79999999999995,533.9,513.29999999999995,481.4,756.4,609.20000000000005,530.1,483.9,454.9,435,407.3,820.4,654.6,563.70000000000005,509.6,475.3,452.2,421.8,927,714.6,594.70000000000005,521.4,473.7,440,392.2,43.4,42.3,41.2,39.1,38.299999999999997,37.5,36.9,143.19999999999999,146.30000000000001,148.69999999999999,154.9,164.1,180,180,944.8,774.2,674.6,630.5,609,596.29999999999995,579.1,613.9,509.5,457.6,439.8,432.2,427.9,419.8,575.5,482.6,443.3,427.1,419.5,414.7,407.2,543.70000000000005,464.2,433.3,414.7,400.4,392,383.9,546.5,465.6,434.9,415.7,397.4,379.5,358.3,557.5,460.2,424.1,407.3,394.3,381,356.3,572.4,468.7,429.1,402.9,381.8,367.9,342.4,632.9,509.8,448.8,420.9,396.2,370,318.10000000000002,749.1,597.9,504.3,451.5,424,401.4,353.9,865,690.4,582.29999999999995,515.4,473.3,439.7,395.1,1.0705,1.3965000000000001,1.5831,0.8246,1.1311,1.3178000000000001,0,0,0.96099999999999997,203,1.1298999999999999,0,0,531,"ISR00070050",11.723000000000001,10189,38.6,64.5,50.3,177.3,0,8860]
["MLT1613MC","XpressoM","MLT044","Xp-Act","XP-44","X-YACHTS","JEPPESEN",2010,"Malta","Sean Borg","CLUB","C",795,"12/10/2016","17:50:34",13.305,12.38,2.7010000000000001,4.05,9674,134.69999999999999,0.13,553.5,1.1152,605.29999999999995,0.75700000000000001,38.5,920.6,744.6,637.29999999999995,580.9,555.20000000000005,533.6,501.1,880.1,710.5,617.70000000000005,568.6,541.70000000000005,521.79999999999995,489.3,766.1,616.6,536.6,490.4,461.9,442.6,415.3,837.5,667.2,573.6,517.6,482.2,458.4,427.9,941,724.7,602.79999999999995,528.70000000000005,480.8,447.2,399.5,43.5,42,41.3,39.6,38.200000000000003,37.9,37.1,142.9,146.19999999999999,147,150.6,151.9,175.1,177.6,964.3,790.3,688,638.20000000000005,614.79999999999995,601.5,582.79999999999995,626.5,520.5,463.9,442.7,434.4,429.8,422.8,587.29999999999995,491.7,448.2,430.3,422,417.1,411.3,555,471.2,437.6,419.3,405.3,395.9,387.5,557.70000000000005,462.1,439,420.6,404.1,387.5,363.7,551,457.5,423.4,408.2,396,384.4,360.2,566.1,466,428.6,403.9,383.9,370.4,345.3,638.5,509.8,448.8,421.8,398.6,373.7,322.2,759.4,605.20000000000005,508,453.6,430.9,413.4,371.7,876.9,698.8,586.6,523.6,495.5,465.7,419.4,1.0569999999999999,1.3813,1.5539000000000001,0.81069999999999998,1.1122000000000001,1.2813000000000001,541.9,1.1072,0.97499999999999998,225.2,1.1153,0.77200000000000002,50.8,538,"MLT00000677",11.664999999999999,10927,39.5,63.1,48.5,0,194.2,8910]
["KORK5130","KOR5130","KOR-5130","DOLCE VITA","yamaha30","YAMAHA","YAMAHA",1989,"48423 pusan korea","kim tae hyun","CLUB","C",480,"1/11/2016","08:13:16",8.968,7.4560000000000004,1.736,3.22,2680,116.7,7.0000000000000007E-2,682.2,0.9123,739.9,0.63200000000000001,51.1,1105.7,902.2,785.3,713.7,674.1,653.9,626.29999999999995,1061.8,868.7,766.2,708.2,675.6,656.4,630.20000000000005,934.4,757,662.4,607.4,573.4,550.9,521.9,990.7,796.4,691.5,630.20000000000005,592.20000000000005,567.4,536.79999999999995,1143.7,887.1,742.6,654.20000000000005,596.29999999999995,555,495.2,43.1,42.2,41.6,40,39.200000000000003,39,39.200000000000003,146.5,147.80000000000001,153.19999999999999,167.4,180,180,180,1158.3,962.2,856.1,798.7,775.8,766.8,763.7,756.1,633.79999999999995,581,558.4,547.5,542.29999999999995,540.29999999999995,711.3,603.5,563.70000000000005,543.5,529.6,522.1,517.5,673.8,583,549.70000000000005,528,508.4,493.6,481.1,670.8,575.20000000000005,538,512.70000000000005,501.7,485.4,458.5,672.8,574.4,537.5,505.7,476.5,455.7,434.3,698.4,586.70000000000005,545,514.20000000000005,484.3,457.3,412.4,777.5,633.6,567.5,535.20000000000005,505.6,477.9,428,912.1,729.4,622.1,564.4,534.5,506.9,456.7,1053.2,842.2,714.5,628.6,572.29999999999995,541,488.8,0.86970000000000003,1.1133,1.2488999999999999,0.67230000000000001,0.90810000000000002,1.0407,0,0,0.82499999999999996,245,0.90369999999999995,0,0,663.9,"KOR11002185",7.2229999999999999,3259,17.399999999999999,27.8,19.399999999999999,55.7,56.7,8936]
["ESP103761","E10376_C","ESP-10376_C","RUSALKA","YATLANT 24","POLIMAR",null,2003,null,"JUAN ANTONIO BERNAL RIVERO","CLUB","R",320,"24/10/2016","18:50:22",6.75,6.3010000000000002,1.5,2.73,1534,128.69999999999999,0.18,737.8,0.85089999999999999,793.3,0.56299999999999994,31.3,1208,984.2,851.6,764.6,713.7,689.6,660.5,1167.5,953.9,835.7,762,716.5,691.6,661.5,1018.2,822.6,716.4,653,612.4,584.70000000000005,548,1083.5999999999999,868.6,751,680.7,636.20000000000005,606.4,568.6,1243.0999999999999,961.6,801.6,702.2,636.1,588.5,519.5,43.5,42.3,41.8,39.5,37.6,36.9,37.5,148,151.9,155.80000000000001,180,180,180,180,1296.0999999999999,1074.8,944.8,860.6,812.2,796.1,795.8,842.3,706.9,639.1,606.9,585.9,572.6,566.4,791.3,670.7,619.6,592.20000000000005,568.9,550.6,538.5,748.8,644.20000000000005,600.1,573.29999999999995,552.1,528,498.1,722.3,623.4,583.6,548.9,524.9,513.5,483.4,724.3,624.20000000000005,584.4,549.1,515.4,484.2,443.5,753,637.29999999999995,593.20000000000005,558.4,524.5,493.2,429,834.3,683.2,616,581,547.79999999999995,516.4,457.3,969.9,774.4,662.6,610.20000000000005,578.20000000000005,547.20000000000005,490.7,1120,893.6,758.5,668.7,615.20000000000005,583.1,525.20000000000005,0.79579999999999995,1.0307999999999999,1.1801999999999999,0.61580000000000001,0.84460000000000002,0.98580000000000001,715.8,0.83819999999999995,0.69899999999999995,187.7,0.83830000000000005,0.57199999999999995,39.299999999999997,715.7,"ESP00019372",6.1609999999999996,1981,13,19.399999999999999,10.8,36.9,36.5,8950]
["POR811204","E8112_C","ESP-8112","SUEVO","YATLANT 28","POLIMAR","J. CELA",2005,null,"Tomas Moreira","CLUB","R",370,"19/4/2016","23:21:56",8.49,8.2710000000000008,1.9350000000000001,3.37,2828,113.9,0.18,669.4,0.93030000000000002,725.6,0.61399999999999999,28.4,1111.9000000000001,898.6,773,697.5,656.4,634,605.79999999999995,1065.2,863.9,752.1,689.1,654.9,633.9,605.29999999999995,928.4,747.3,649.29999999999995,591.6,555.4,531.20000000000005,499.6,982.5,785.5,678,614.29999999999995,574.4,548,515.1,1138.4000000000001,876.6,728.4,637.29999999999995,577.4,534.70000000000005,473.3,43.9,42.5,41.8,39.6,39.299999999999997,39,39.299999999999997,146,150.30000000000001,152.6,161.30000000000001,180,180,180,1164.5,959.5,837.6,771.6,749.1,739,736.7,753.6,630.5,564.9,537.5,527.79999999999995,523.1,520.20000000000005,706.3,596.9,547.20000000000005,522.79999999999995,510.5,504.5,500,668.2,573.1,534.29999999999995,509.1,486,471.4,462.6,671.2,567.79999999999995,525.20000000000005,503.6,484.5,462.6,429.6,676.2,565.9,523.4,490.6,457.9,439.9,412.1,699.5,579.9,531.29999999999995,499.3,466.4,434.3,389.4,777,631.29999999999995,556.1,521.20000000000005,490.8,460.2,398.1,917.3,725.4,615.5,552.6,520.6,492.3,436.7,1059.2,837.7,708.3,623.5,563.70000000000005,529,474.8,0.87129999999999996,1.1411,1.2977000000000001,0.67149999999999999,0.92569999999999997,1.0730999999999999,0,0,0.77700000000000002,198.3,0.92410000000000003,0,0,649.29999999999995,"POR00000289",7.8810000000000002,3503,20.100000000000001,29,22.3,60.4,0,8951]
["CLULOKI","LOKI","ITA-LOKI","LOKI","YAWL BERMUDIANO","ALBERT LIMOS","SPARKMAN & STEPHENS",1948,"YACHT CLUB ITALIANO","FORMENTON MACOLA MATTIA","CLUB","C",600,"10/8/2016","21:17:28",11.72,8.3170000000000002,1.7250000000000001,2.92,8053,122.5,0.68,749.1,0.81630000000000003,826.9,0.52700000000000002,12.6,1272.7,1026.3,894.1,803.2,746.7,711.7,683.9,1228.5999999999999,996.7,869.7,791.4,745.3,718.7,696.8,1048.7,839.8,725.7,658.4,617.1,591.29999999999995,563.70000000000005,1106.9000000000001,881.3,756.4,681.4,634.6,604.9,572.70000000000005,1293.5999999999999,991.6,818.9,711.6,641.29999999999995,593.1,530.29999999999995,45.3,43.6,43.3,44.3,44.9,44.9,45.8,146.4,150.69999999999999,153.19999999999999,153.80000000000001,162.1,174.7,179.9,1380.2,1132.4000000000001,1006.1,922.9,879.2,858.7,854.1,883.1,737.1,653.1,594.70000000000005,566.79999999999995,556,550.9,823,693.4,610.1,561.70000000000005,538.79999999999995,528.1,522.70000000000005,776.3,653.6,574.5,536.20000000000005,516.29999999999995,502.3,494.9,741.5,608.79999999999995,545.79999999999995,530.29999999999995,513,499,476.7,735.6,607,542.79999999999995,515.1,500.1,492.3,482,765,630.79999999999995,554.20000000000005,522.29999999999995,502.1,484,468.9,857.8,700.5,599.4,544.9,518.5,499.2,464.5,1009.1,797.2,678.6,595.9,546,520.79999999999995,485.8,1165.2,920.2,782.1,683.5,614.20000000000005,564.6,513.70000000000005,0.76839999999999997,1.0251999999999999,1.1665000000000001,0.58720000000000006,0.80549999999999999,0.95069999999999999,737.5,0.8135,0.64900000000000002,167.6,0.82479999999999998,0.54,29.5,727.5,"CLU00020416",6.7759999999999998,8711,27.8,32.700000000000003,24.4,64,0,8952]
["GRE000567","GR401","GRE-401","DORIAN","YCA 29","THAMES MARINE","J. EVERITT",1979,"NAO LAVREOTIKIS","KALLINTERIS PANAGIOTIS","CLUB","C",250,"31/3/2016","20:55:48",8.85,7.056,1.635,2.97,3720,119.3,0.68,804.7,0.77249999999999996,873.8,0.48499999999999999,5.6,1368.8,1101.4000000000001,956,853.4,776.9,734.6,703,1328.5,1074.9000000000001,934.6,843.5,781.6,744.5,713.2,1133.8,905.7,779.6,703.7,655.7,624.6,589.1,1205.3,956.7,817.8,733,678.7,643.20000000000005,602.6,1388.4,1063.3,876.6,759.9,683.2,630.20000000000005,560.6,45.6,44,43.5,44.3,43.7,42.8,42.5,148.6,152.4,155.69999999999999,158.9,180,180,180,1500.7,1228.5999999999999,1086.3,985.6,911.2,873,857,955.4,795.9,702.7,638.29999999999995,604.79999999999995,588.70000000000005,580.5,887.8,746.2,656.4,607.9,584.1,570,558.9,834.9,703.1,623.29999999999995,588,568,552.70000000000005,529.9,828,679.5,601.29999999999995,570.1,557.1,549.9,524.5,816,671.4,597.9,566.5,542.5,520.4,500.5,843.1,692.3,607.6,572.20000000000005,548.5,525.4,487.4,928.1,753.6,645.4,591.6,563.9,541.1,499.1,1071.2,845.8,718.3,632.4,588.70000000000005,563.70000000000005,521.70000000000005,1236.9000000000001,974.1,825.8,721.1,642.5,596.1,549,0.70950000000000002,0.95489999999999997,1.1077999999999999,0.54649999999999999,0.75919999999999999,0.92049999999999998,0,0,0.56000000000000005,116.6,0.77039999999999997,0,0,778.8,"GRE01005442",5.8230000000000004,4270,18.8,14.6,22.9,0,47.4,8953]
["GREF00164","GR14","GRE-14","KALIMERA","YCA 29","THAMES MARINE","J. EVERITT",1978,"ASIATh RODOU","KOUMBIADIS ELEFHERIOS","CLUB","C",416,"5/5/2016","21:59:22",8.85,7.0090000000000003,1.625,2.97,3595,120.9,0.56999999999999995,756,0.8226,820.6,0.55900000000000005,41.5,1234.7,1013.8,884.8,795,739.1,711.7,686.7,1196,983.9,864.9,790.4,745.3,720.1,695.8,1043.4000000000001,842.3,733.5,669.7,630.29999999999995,605.20000000000005,576,1103.8,885.2,765.6,694.5,650.20000000000005,621.6,588.5,1273.0999999999999,986.3,823.1,722.2,656.3,610.70000000000005,549,44.4,43.8,43.8,43.5,42.6,41.9,42,148.5,152.5,153,163.19999999999999,180,180,180,1326.1,1113.7,994.1,909.7,864.4,844.3,838.8,856.1,725.6,646.1,605.29999999999995,586.6,578.9,575.1,802.9,680.1,614.5,585.79999999999995,569.6,559.79999999999995,554.4,759.5,644,593.70000000000005,570.79999999999995,553.5,538.79999999999995,521.20000000000005,763.1,645.6,585.79999999999995,562.9,553.6,537.9,509.1,764.4,632.29999999999995,580.29999999999995,552.79999999999995,527.70000000000005,510.9,495.3,786,646.4,586.20000000000005,557.79999999999995,532.6,508.5,478.7,856.7,702,610.6,573.79999999999995,548.9,524.70000000000005,483.5,990.2,792.8,674.5,603.6,572.29999999999995,549.29999999999995,505.7,1143.4000000000001,913.8,775.5,680.3,613.9,579.20000000000005,534.70000000000005,0.77510000000000001,1.0087999999999999,1.1384000000000001,0.60040000000000004,0.81399999999999995,0.95169999999999999,0,0,0.68100000000000005,190.8,0.8165,0,0,734.9,"GRE01005835",6.1989999999999998,4140,18.3,17.2,27.6,61,0,8954]
["GRE001176","GR363","GRE-363","ELENI","YCA 29","THAMES MARINE","J. EVERITT",1986,"IO PATRON","XENOS KONSTANTINOS","CLUB","C",350,"13/7/2016","21:19:30",8.85,7.056,1.635,2.97,3723,119.9,0.66,791.1,0.77580000000000005,870,0.50600000000000001,16.899999999999999,1324.9,1078.5,940.1,851.3,788.6,742.5,705.7,1287.7,1048.0999999999999,915.8,833,777.3,741.1,708.8,1104,886.1,767.1,696.1,651.4,622,587.4,1178.5999999999999,937.5,803.5,722.1,670.3,636.4,597.5,1352.9,1042.2,864.1,752.6,678.6,626.9,557.5,45.6,44.1,43.7,44.7,43.6,42.7,42.2,146.19999999999999,146.6,145.5,147.19999999999999,174.5,176.5,178.3,1461.4,1202.5999999999999,1064.2,967,898,864.5,845.2,930.9,778.9,686.8,628.1,598.5,584.20000000000005,575.9,865.1,728.6,642.70000000000005,600.6,578.79999999999995,565.29999999999995,554.4,812.2,684,612,581.5,562.4,546.79999999999995,523.79999999999995,803.9,660.2,591.79999999999995,562.6,548.70000000000005,540.9,516.20000000000005,787.6,647.9,586.79999999999995,557.5,532.29999999999995,509.8,490,812.4,665.3,594.20000000000005,562.79999999999995,537.79999999999995,513.70000000000005,476.9,888.4,724.1,623.70000000000005,580.1,554.1,530.70000000000005,490.7,1029.2,826.5,706.7,637,598.79999999999995,574.6,537.4,1188.5,954.4,816,735.5,679.1,620.6,566.1,0.73080000000000001,0.96740000000000004,1.1100000000000001,0.56169999999999998,0.76349999999999996,0.91190000000000004,0,0,0.61099999999999999,159.19999999999999,0.77959999999999996,0,0,769.6,"GRE01006425",5.9119999999999999,4273,18.8,17.7,23.4,0,53.8,8955]
["GRE000240","GR1090","GRE-1090","NEARCHOS","YCA 29",null,null,1979,"ISTIOPLOIKOS OMILOS RETHYMNIS","ISTIOPLOIKOS OMILOS RETHYMNOU","CLUB","C",400,"21/3/2016","22:57:00",8.85,6.9969999999999999,1.613,2.97,3488,120.5,0.64,781.6,0.7964,847.5,0.51400000000000001,18.5,1310.4000000000001,1061.5,921.3,822.9,756.7,722.8,692.9,1269,1032,899.4,815.4,762,731.4,701.3,1092.8,876.3,757.7,686.9,642.6,613.9,580,1146.5,914.6,786.5,709.4,660.7,629,591.5,1337.3,1028.0999999999999,851.3,741.4,669.4,619.6,552.4,45.4,43.8,43.9,44.4,43,42.1,41.7,148.6,152.6,154.4,160.5,180,180,180,1413.5,1169.2,1035.7,942.2,882.8,855.4,842.3,903.3,758.2,668.7,618.9,594.6,583.20000000000005,576.9,841.6,709.2,630.6,595.6,576.20000000000005,563.70000000000005,555.1,791.4,666.2,605,578.1,559.5,543.70000000000005,522,793.8,669,599.70000000000005,568.6,552.70000000000005,542.20000000000005,512.6,802.7,658.7,593.4,563.1,537.70000000000005,514.29999999999995,492.9,826.4,675.5,600.70000000000005,568.20000000000005,543.20000000000005,518.79999999999995,480.7,906.8,735.5,631,585.70000000000005,559.1,534.9,492.4,1045.5,828,702.2,620.70000000000005,583.29999999999995,558.9,514.9,1207.3,953.8,806.9,703.5,630.70000000000005,590.29999999999995,543.6,0.73760000000000003,0.98060000000000003,1.125,0.56920000000000004,0.78580000000000005,0.93740000000000001,0,0,0.60699999999999998,144.30000000000001,0.79190000000000005,0,0,757.6,"GRE01005256",6.01,4030,18.399999999999999,16.899999999999999,25.7,51.6,0,8956]
["GRE000298","GR29YCA","GRE-29 YCA","IOS","YCA-29","MARINE PROJECTS","J.EVERITT",1979,"IO PATRON","YACHT CLUB OF PATRA","CLUB","C",400,"28/7/2016","11:22:30",8.85,6.9740000000000002,1.611,2.97,3465,119.4,0.64,783,0.79469999999999996,849.3,0.51200000000000001,17.2,1314.2,1065,923.5,825,757.8,723.1,693.2,1273.7,1035.5,902.1,817.6,763.1,731.8,701.5,1095.7,878.3,759,687.7,643.1,614.20000000000005,580.4,1154.7,920.5,790.9,712.7,663.2,630.79999999999995,592.79999999999995,1340.2,1030.0999999999999,852.7,742.3,669.9,619.79999999999995,552.5,45.3,43.8,43.7,44.3,43,42.2,41.9,148.6,152.5,153.5,160.1,180,180,180,1423.7,1176.8,1041.7,948.2,885.9,857,843.7,910.1,763.8,673.2,621.5,595.6,583.20000000000005,576.79999999999995,848.2,714.9,633.9,597.20000000000005,577.1,564,554.9,798.2,672.1,607.4,579.4,560.70000000000005,544.79999999999995,522.5,801.3,672.6,598.70000000000005,567.9,553.79999999999995,543.5,514.4,800,656.4,591.79999999999995,561.4,535.9,513.20000000000005,494.4,823.5,672.4,598.70000000000005,566.29999999999995,541.29999999999995,517,480,905.2,733.8,628.5,583.79999999999995,557.20000000000005,533.1,491,1043.3,827.3,700.2,618.70000000000005,581.70000000000005,557.4,513.6,1204.7,953.1,805.4,701.8,629.79999999999995,589.29999999999995,542.6,0.73519999999999996,0.97929999999999995,1.1247,0.56740000000000002,0.78390000000000004,0.93679999999999997,0,0,0.60199999999999998,140.80000000000001,0.79059999999999997,0,0,758.9,"GRE01006492",5.9669999999999996,4007,18.3,15.9,25.1,53.6,0,8957]
["GER142026","YLVA53","YLVA 53","SYLVA","YLVA","KJOELHEDE","KJOELHEDE",1976,"FYCB","KONSTANTIN NEUMANN","CLUB","C",350,"1/4/2016","09:58:02",12.18,9.7530000000000001,1.631,2.29,3451,123.2,0.34,655.4,0.93789999999999996,719.7,0.59,4.2,1151.0999999999999,909.1,764.1,687.9,647.9,620.79999999999995,583,1093.2,866.3,741.6,677.8,643.79999999999995,620.70000000000005,583.29999999999995,929.4,737.6,633.6,573.20000000000005,536.29999999999995,512.20000000000005,480.7,1013.4,797.4,677.9,606.79999999999995,562.5,533.4,496.9,1149.9000000000001,872.2,715.2,619.70000000000005,558.4,516,456.9,44.3,43.5,43.3,42.9,42.3,41.9,42.1,135.69999999999999,147.80000000000001,144.80000000000001,153.19999999999999,162,180,180,1211,973.3,840.8,785.5,760.4,748.3,725.3,778.4,629.6,547.29999999999995,516.5,505.3,500.1,489.1,725.5,588.6,517.70000000000005,492.7,483.8,479.3,471.8,684,556.1,497.9,474.1,459.3,451.8,446.2,672.5,540.29999999999995,499.9,474.2,454.6,436.7,417.8,663,529.5,479.9,463.1,449.3,435.9,412.3,685.9,544.79999999999995,485.1,454.6,434.8,420.4,395.1,774.6,609.29999999999995,513.5,474.6,446,416.7,364.9,945,731.6,595.20000000000005,514.4,477,450.5,397.5,1091.2,844.8,687.3,590.20000000000005,535.5,493.3,440.7,0.86480000000000001,1.1811,1.3455999999999999,0.65529999999999999,0.93530000000000002,1.1004,641.29999999999995,0.93559999999999999,0.71699999999999997,149.6,0.94440000000000002,0.59599999999999997,12.9,635.29999999999995,"GER20014203",8.4909999999999997,4254,21.3,23,19.3,68.400000000000006,0,8958]
["GER142009","YLVA64","YLVA 64","SMAGGEN","YLVA","KJOELHEDE","KJOELHEDE",1976,"FYC","ANTJE LINDE + UDO BAASCH","CLUB","C",400,"18/4/2016","19:39:24",12.18,9.7530000000000001,1.631,2.29,3451,123.2,0.34,655.5,0.93920000000000003,718.7,0.58499999999999996,0.6,1156,912.1,765.1,685.7,645.20000000000005,618.20000000000005,580.1,1097.8,869.4,742.2,675.9,640.79999999999995,617.6,579.1,931.7,738.7,633.6,572.4,534.79999999999995,510.2,478,1018.5,800.4,679.4,607.20000000000005,562.1,532.4,495.2,1152.8,873.4,715.1,618.79999999999995,556.9,514.20000000000005,454.8,44.4,43.4,43.4,42.9,42.2,42.2,41.7,145.1,147.9,144.69999999999999,153.19999999999999,161.9,180,180,1219.2,979.1,842.7,781.2,754.8,742.8,719.3,783.7,633.9,548.4,514.5,503,497.7,488.3,730.6,592.79999999999995,519,492.2,482.2,477.4,471.2,689.1,559.5,499.7,474.5,458.8,449.9,443.5,674.7,540.29999999999995,501.2,475.4,455.6,437.2,415.3,664.2,530.20000000000005,479.2,461,447,433.8,409.4,687,545.4,485.2,454.2,432.3,417.8,391.8,773.8,610.29999999999995,513.70000000000005,474.7,446,416.7,361.8,946.5,731.9,595.5,514.4,477,450.5,397.5,1092.9000000000001,845.2,687.6,590.29999999999995,535.70000000000005,493.5,441,0.86180000000000001,1.1819,1.3514999999999999,0.65280000000000005,0.93630000000000002,1.1053999999999999,642.20000000000005,0.93430000000000002,0.70299999999999996,139.30000000000001,0.94510000000000005,0.59399999999999997,11.8,634.9,"GER11001256",8.5310000000000006,4254,21.3,22.6,19.100000000000001,68.900000000000006,0,8959]
["nor21849",21849,"NOR 117","Jutta","YNGLING","Borge Bringsv?rd","LINGE",1967,null,"Jon Mikael Bjorklund","CLUB","R",220,"24/5/2016","23:13:24",6.3550000000000004,5.1319999999999997,1.054,1.71,644,112.3,0.25,810.4,0.77329999999999999,872.8,0.504,24,1342.2,1085.5999999999999,933.3,835.1,788.6,764,728,1294.0999999999999,1050.4000000000001,915.2,836,792,766.8,727.9,1122.7,904.6,786.3,716.1,671.5,640.79999999999995,598.20000000000005,1175.2,942.4,815.8,741,694.1,662.8,621.79999999999995,1374.6,1059.5,880.8,770.4,696.8,642.79999999999995,560.20000000000005,43.8,43,42.2,40,38.6,38.1,38.4,149.5,153.5,156.6,180,180,180,180,1423.4,1176.3,1031.5,945.7,908.2,895,890.2,921.5,767.5,695.9,662.8,643.9,636,631.5,863,727.8,674.6,644.70000000000005,621.5,609.5,602.5,814.7,700.9,658,626.4,596.70000000000005,573.70000000000005,556.5,798,684.2,638.79999999999995,599.6,580.70000000000005,563.6,522.9,799.5,684.5,638.9,597.1,558.1,521.4,473.2,831,697.9,648.6,608.1,569.1,532,432.7,943.4,761.5,674.4,634.4,595.4,559.29999999999995,478.7,1092.0999999999999,864,729.4,666.7,629.79999999999995,593.29999999999995,526.9,1261.0999999999999,994.9,835.1,724.5,669.1,633.1,565.79999999999995,0.72099999999999997,0.94130000000000003,1.0760000000000001,0.55610000000000004,0.76959999999999995,0.8921,790.1,0.75939999999999996,0.63900000000000001,193.3,0.76390000000000002,0.51800000000000002,39.5,785.5,"nor00001266",5.0599999999999996,942,8,10.8,6.9,19,0,8960]
["nor666790",666790,"NOR 105","Batman","YNGLING","Borge Bringsv?rd","LINGE",1967,null,"Claus Gladyszak","CLUB","R",220,"22/8/2016","10:20:24",6.3550000000000004,5.1319999999999997,1.054,1.71,644,112.3,0.25,810.4,0.77329999999999999,872.8,0.504,24,1342.2,1085.5999999999999,933.3,835.1,788.6,764,728,1294.0999999999999,1050.4000000000001,915.2,836,792,766.8,727.9,1122.7,904.6,786.3,716.1,671.5,640.79999999999995,598.20000000000005,1175.2,942.4,815.8,741,694.1,662.8,621.79999999999995,1374.6,1059.5,880.8,770.4,696.8,642.79999999999995,560.20000000000005,43.8,43,42.2,40,38.6,38.1,38.4,149.5,153.5,156.6,180,180,180,180,1423.4,1176.3,1031.5,945.7,908.2,895,890.2,921.5,767.5,695.9,662.8,643.9,636,631.5,863,727.8,674.6,644.70000000000005,621.5,609.5,602.5,814.7,700.9,658,626.4,596.70000000000005,573.70000000000005,556.5,798,684.2,638.79999999999995,599.6,580.70000000000005,563.6,522.9,799.5,684.5,638.9,597.1,558.1,521.4,473.2,831,697.9,648.6,608.1,569.1,532,432.7,943.4,761.5,674.4,634.4,595.4,559.29999999999995,478.7,1092.0999999999999,864,729.4,666.7,629.79999999999995,593.29999999999995,526.9,1261.0999999999999,994.9,835.1,724.5,669.1,633.1,565.79999999999995,0.72099999999999997,0.94130000000000003,1.0760000000000001,0.55610000000000004,0.76959999999999995,0.8921,790.1,0.75939999999999996,0.63900000000000001,193.3,0.76390000000000002,0.51800000000000002,39.5,785.5,"nor00001888",5.0599999999999996,942,8,10.8,6.9,19,0,8961]
["RUS3521.8","RU3521_A","RUS 3521","Alaska","YOK 41","TSUBOI, JAPAN","I.YOKOYAMA",1985,"RUSSIA","Paholiuk Yuri, Bogatskiy Pavel,","CLUB","C",664,"13/4/2016","16:24:18",12.41,9.8870000000000005,2.2770000000000001,3.86,6232,110.6,0,595,1.0416000000000001,648,0.72699999999999998,54.2,960.1,788.3,688.7,630.20000000000005,592,568.29999999999995,541.4,909.9,750,664.7,617.70000000000005,589.1,569.1,543.9,809.9,658.7,578.20000000000005,531.29999999999995,502,482.3,456.8,836.8,678.2,593.1,543,511.5,490.3,463.3,1000.3,776.6,650.6,573.5,523.1,487.5,437.4,42.9,42.3,40.799999999999997,39.4,38.299999999999997,37.6,37.200000000000003,144.5,149.80000000000001,151.9,158.1,180,180,180,948.5,801.6,722.1,684.8,664.6,651.9,641.4,620.9,531.1,495.5,482.3,474.9,470.1,465.3,584.4,509.4,482.4,468.6,460.5,455,449.3,553.29999999999995,494.5,470.8,453.6,439.3,430.9,422.7,554.70000000000005,494.3,470.3,451.6,434,419.3,402.3,610.4,512.6,476,451.2,427.4,410.9,392.6,634.5,526.4,482.8,458,434.3,412.1,378,707.2,578,507.7,476.3,453.5,430.6,389.3,841.6,671.1,568.29999999999995,506.5,476.8,455,413,971.8,774.9,655.29999999999995,575.5,519.5,484.7,441.3,1.0037,1.2718,1.4268000000000001,0.77210000000000001,1.0331999999999999,1.1964999999999999,0,0,0.93200000000000005,235.9,1.0309999999999999,0,0,582,"RUS00007923",9.6980000000000004,7123,28.1,52.5,49.4,92.3,0,8962]
["JPN160160","JC160160","JPN 6089","MIROKU II","YOKOYAMA 12m","ITO BOAT YARD","AKIRA YOKOYAMA",2003,"HIGASHIKANTO OARAI","TAKESHI ITO","CLUB","R",791,"31/3/2016","03:03:58",12,11.1,2.2010000000000001,3.36,4079,103.4,0.04,571.6,1.0753999999999999,627.70000000000005,0.65500000000000003,-10.6,994.9,792.2,671,603.20000000000005,565.4,538,502.6,943.2,751.3,646.20000000000005,589.1,554.79999999999995,529.5,492.9,808.3,644,553.70000000000005,499.3,464,439.4,405.9,848.9,673.5,576.4,517.6,479.3,452.8,416.8,1003,762.4,624.9,539.29999999999995,482.4,441.8,385.3,45.6,44.5,43.3,41.2,39.4,38.299999999999997,37.4,139.4,146.5,146.30000000000001,153.6,161.69999999999999,180,180,1018.4,820.2,711,659.2,632.20000000000005,615.29999999999995,599.4,647.9,527.1,471,452.5,442.4,435.3,424.9,598.6,493.9,453.9,435.4,423.3,415.2,405,556.79999999999995,471.5,439.1,411.4,393.6,383.3,371.8,554.9,470.7,438.3,408.7,380.4,359.2,340.4,612.1,490.9,443.8,407.3,380.1,359.8,329.1,630.6,502.7,450.6,415.5,379.9,347.7,316,700.6,554.1,475.3,440.4,407.9,375.7,310.10000000000002,841.2,661.8,546.5,477.1,443.2,413.8,355.2,971.3,764.2,631,547.29999999999995,498.6,460.7,405.7,0.99670000000000003,1.345,1.5741000000000001,0.75539999999999996,1.0678000000000001,1.2698,562.4,1.0669,0.81200000000000006,141.4,1.0822000000000001,0.67500000000000004,8,554.4,"JPN00016024",10.680999999999999,5153,28.4,39.299999999999997,45.1,92.7,0,8963]
["FRA16278a","F6408","FRA- 6408","RADICAL CONCEPT","YOUNG 11 Mod","LAND Roger","YOUG Jim",1982,"98000  -  NOUMEA","MAZARD Philippe","CLUB","C",600,"15/9/2016","11:49:36",10.94,10.481999999999999,1.8420000000000001,3.76,4548,119.7,0.18,606.20000000000005,1.0216000000000001,660.7,0.65200000000000002,11.8,1026.9000000000001,827.9,705.4,634.6,596.20000000000005,571.1,535.79999999999995,980.1,789.2,683.8,624.9,590.4,566.6,528.79999999999995,847.1,679.2,587.70000000000005,533.29999999999995,498.5,474.1,440.1,909.2,723.1,620.70000000000005,559.29999999999995,520.20000000000005,493.4,457.2,1043.7,800,661.2,575.20000000000005,518.5,478,420.4,44.4,43,42.7,40.700000000000003,39.299999999999997,38.5,38,138.6,148.19999999999999,147.30000000000001,156.19999999999999,172.2,180,180,1080.0999999999999,879.3,765.7,706.7,679.1,664.3,646.1,694.6,573.20000000000005,510,486.1,476,469.9,461.9,647.20000000000005,538.20000000000005,491.6,471.3,459.8,452.5,444.9,607.6,513,478,456.1,436.4,421.4,408.2,609.79999999999995,510.6,475.1,455.7,432.9,410,377.2,612.70000000000005,505.5,466,435.5,416.7,400.6,370.7,630.6,515.9,472.4,440.9,407.2,383.3,353.5,701,563.1,493.9,462.5,432.2,400.5,335.9,843.2,672.5,558.6,493.8,464.4,436.7,378.5,973.6,776.5,645.1,562.6,513.20000000000005,477.9,425.5,0.95340000000000003,1.2628999999999999,1.4555,0.7278,1.0155000000000001,1.1964999999999999,0,0,0.80500000000000005,164.5,1.0192000000000001,0,0,588.70000000000005,"FRA00005007",9.7059999999999995,5553,27.6,43.2,29.4,101.1,0,8964]
["AUS279900",2799,6128,"VENUE","YOUNG 88","YOUNG","jim young",1984,"2107  Australia","Brian Ellis","CLUB","C",400,"23/9/2016","11:19:12",8.9619999999999997,7.8890000000000002,1.7689999999999999,3.31,2750,112.6,0,662.4,0.94220000000000004,716.4,0.63900000000000001,42.6,1088.7,882.8,758.7,690,650.20000000000005,627.79999999999995,596.9,1034,842.4,737.3,681.3,649.20000000000005,627.5,595.79999999999995,910.6,736.4,643,588.5,554.4,531.4,500.8,953.7,767.2,666.4,607.29999999999995,570.4,545.6,513.29999999999995,1120.5999999999999,865.3,721.6,633.9,576.70000000000005,536.5,479.6,43.2,42.2,40.799999999999997,38.799999999999997,37.6,36.799999999999997,36.700000000000003,146.5,151.1,151.19999999999999,161.1,180,180,180,1110,920.8,808.5,761,738.3,725.2,716.2,724.3,608.4,557.6,539.79999999999995,531.5,526.70000000000005,520.9,680.8,581.29999999999995,543.4,525.20000000000005,515.70000000000005,509.7,504.2,644.9,563.5,532.29999999999995,509.6,491.3,480.8,471.4,647.79999999999995,561.29999999999995,525.70000000000005,507.3,486.8,466.2,443.7,663.2,563.1,525.4,493.7,465.3,448.5,424.6,689.2,575.1,532.9,502.2,470.6,440.4,402.5,767.9,628.6,555.29999999999995,523.29999999999995,493.9,464.5,405,924.5,730.9,615.1,552.20000000000005,522.6,495.1,441.4,1067.5,844.8,709,618.9,562,530.29999999999995,477.6,0.89019999999999999,1.1485000000000001,1.2957000000000001,0.68469999999999998,0.93879999999999997,1.0855999999999999,650.5,0.92230000000000001,0.80800000000000005,213,0.93069999999999997,0.65200000000000002,56.7,644.6,"AUS00000414",7.7949999999999999,3376,18.399999999999999,30.6,22.5,57.5,52.7,8965]
["FRA16079b","F9004","FRA- 9004","PARTY TIME","YOUNG ROCKET 31","CANTERBURY MARINE","YOUNG Jim",1988,"98830  -  NOUMEA","AUTERET Nicolas","CLUB","C",600,"7/4/2016","09:23:04",10.4,8.5549999999999997,2.4329999999999998,3.82,2895,102.8,0,585,1.0580000000000001,638,0.72399999999999998,40.299999999999997,949.9,770.9,669.9,619.1,587.9,564.6,517.5,911.7,741.1,653.29999999999995,606.6,576.9,554,521.1,802.4,650,568.29999999999995,519.9,488.4,465.8,432.1,875.8,702.7,608.29999999999995,552.1,516,491.1,456.5,980.8,760.4,636.20000000000005,559.5,508.1,470.2,413.1,43,42.4,40.200000000000003,38.299999999999997,37.200000000000003,36.5,36.4,143.19999999999999,146.5,151,158,180,180,142.5,1001.8,824.9,729.1,692.2,672.9,661.4,653.79999999999995,654.20000000000005,546.29999999999995,505.5,489.8,479.8,472.9,465.5,614.4,524.5,490,470.9,459.4,452.1,445.5,580.79999999999995,510.3,475.3,448.1,431.3,421.6,410.6,583.4,512.1,478,447.2,420.9,400.6,377.8,575.70000000000005,495.7,462.4,442.1,423.5,403.4,372.4,588.4,501.2,456,428.2,408.6,390.9,359.5,660.2,530.9,480,440.3,403.3,365.7,318.3,777.7,620.9,529.4,480,444.1,411,330,898,717,610.6,546,502.8,467.8,381.1,1.0122,1.2962,1.4798,0.78449999999999998,1.0532999999999999,1.2212000000000001,0,0,0.98599999999999999,261.89999999999998,1.0543,0,0,569.1,"FRA00004001",8.9320000000000004,3601,20.9,36.9,29.6,127.9,0,8966]
["FRA16078b","F6781","FRA- 6781","YOUNG 'N FRISKY","YOUNG Rocket 8.4","FAIR Tom","YOUNG Jim",1986,"98800  -  NOUMEA","CHABAUD Jean Louis","CLUB","S",600,"7/4/2016","09:22:00",8.4,7.9279999999999999,2.1960000000000002,2.92,1290,112.3,0,594,1.0367,651.1,0.67300000000000004,10.4,962.7,780.1,686.5,639,605.70000000000005,572.79999999999995,507.5,922.4,752,667.7,620.5,586.20000000000005,556.5,517,816.3,662.2,578,525.9,489.5,460.9,414.4,884.7,710.9,615.4,557.1,517.9,488.8,444.9,998,773.7,645.9,564.4,506.8,461.5,389.8,42.7,40.9,37.6,35.4,34.299999999999997,33.799999999999997,33.9,142.9,147.1,155.5,167.1,153.80000000000001,147.4,142.30000000000001,1010.2,823.1,738.8,706.6,690.1,679.1,674,660.6,563,528.29999999999995,510.2,498.2,490.3,475.2,619.70000000000005,546.20000000000005,509.2,485.8,472.1,463.2,445.9,590.29999999999995,532.70000000000005,488.2,450.2,430.7,418.5,401,591.1,526.4,488.5,444,402,379.8,359.1,586.4,516.70000000000005,462.9,433.6,403.1,376.4,312.60000000000002,600.70000000000005,525.9,465.8,415.6,387.8,363.6,306.5,669,555.5,501.5,446.7,391.8,338.7,283,792.5,638.29999999999995,554.6,500.8,450.2,404,295.3,915.1,737,634.29999999999995,571.5,521.4,466.5,341,0.99380000000000002,1.2708999999999999,1.5001,0.77459999999999996,1.0254000000000001,1.2128000000000001,0,0,0.96799999999999997,259.2,1.0407,0,0,576.5,"FRA00004000",8.43,1909,14.9,32.799999999999997,13,70.7,0,8967]
["JPN160270","JC160270","JPN 6210","RAIA","YOUNG99 MOD","YACHTING DEVELOP","J.YOUNG",1993,"SHONAN","TAJIMA HIROYUKI","CLUB","C",656,"3/4/2016","22:39:04",10.99,9.8810000000000002,2.0539999999999998,3.72,4262,116.3,0.02,603.20000000000005,1.0291999999999999,655.8,0.66800000000000004,21.5,1009.6,812.6,698.5,633.9,594.4,569,537.70000000000005,950.6,769.2,671.4,619.29999999999995,588.20000000000005,565.9,534.1,835.6,673.1,585.29999999999995,533.29999999999995,500.1,477.2,446.1,863.5,693.4,601,546.1,511.2,487.2,454.5,1035.8,795.2,659.1,575.5,520.4,481,424.4,43.6,42.5,40.799999999999997,38.700000000000003,37.4,36.6,35.9,138.5,149.19999999999999,150.1,156.80000000000001,174.3,180,180,990.4,818,722.5,681.9,660.5,647.5,635.4,643.6,539.20000000000005,497.8,483.6,475.5,470.3,463.8,604.20000000000005,516,484.5,469.2,459.9,453.6,446.9,571.5,500.5,472.5,450.9,434.1,424.5,414.6,574.4,501.8,473.1,449.4,425.8,406.6,386,630.4,520.29999999999995,479.4,449.5,418.3,396.6,369,655.4,536,487.4,458.4,428.1,397.9,349.4,739.7,594,515,480.1,453,424.2,366.7,890.9,699,584.20000000000005,513.70000000000005,480.9,455.3,402.3,1028.7,807.2,674.6,585.9,528.29999999999995,490.4,440,0.96960000000000002,1.2639,1.4452,0.7409,1.022,1.1976,594.20000000000005,1.0098,0.84399999999999997,185.3,1.0222,0.68400000000000005,37.9,587,"JPN00016032",9.7360000000000007,5142,25.4,41.3,37.1,70.5,0,8968]
["FRA16043e","F5191","FRA- 5191","BOULEGUE","YOUNG99 MOD","LOOMS Craig","YOUNG Jim",1986,"NOUVELLE CALEDONIE","TRINQUET Vincent","CLUB","C",580,"26/9/2016","18:52:34",10.25,9.5649999999999995,1.929,3.71,4120,112.7,0.18,616.5,1.0108999999999999,667.7,0.68500000000000005,40,1009.7,820.7,706.9,644,607.6,585.5,550.70000000000005,968.7,787.5,689.6,635.5,603.29999999999995,581.1,543,849.6,686.2,598.4,546.9,514,491,457.7,922.2,737.4,636.6,576.79999999999995,539,513.4,479,1038.2,803,670.1,588.5,534.79999999999995,496.4,440.6,43.3,41.8,41.2,39.1,37.700000000000003,37.4,36.799999999999997,140.5,148.69999999999999,150.69999999999999,158.9,180,180,180,1068.7,880.1,770.8,717.8,693.5,680.6,664.9,696.1,581.4,526,504.8,495.7,490.4,482.7,653.9,552.1,510.7,491.2,480.3,473.8,467.5,619.9,532.1,499.1,477.2,458,444.3,433,621,523.5,497.8,478.3,456.1,434.2,403.8,612.5,517.5,481.1,456.3,439.9,425.2,395.2,628.5,525.6,487,453.8,424.3,407.3,375.9,693.9,563.20000000000005,506.5,475.8,444,412.2,344.5,823.3,659.3,557.29999999999995,505.6,477.2,448,388.4,950.6,761.3,642.9,570.1,521.70000000000005,490.5,436.5,0.95479999999999998,1.2343,1.4032,0.73750000000000004,1.0065999999999999,1.1677999999999999,0,0,0.875,217.8,1.0017,0,0,599,"FRA00005090",9.11,4985,25.5,39.299999999999997,27.5,109.1,0,8969]
["AUTI03/16","AUT2664","AUT 2664",70170,"Z 34","Zurl Technik","Zurl/Fekonja",2005,"AUSTRIA","Zurl Technik","INTL","C",400,"30/4/2016","18:46:58",10.146000000000001,9.8460000000000001,2.431,3.23,3799,109,0.19,625.6,0.99119999999999997,681,0.65300000000000002,27.4,1061.5,847.7,718.3,652.70000000000005,617.70000000000005,594.29999999999995,561.70000000000005,1007.5,807.3,697.6,642.1,611.79999999999995,590.5,557.29999999999995,872.8,699.3,606,551.9,518.70000000000005,496.7,467.6,938.2,745.9,640.9,579.20000000000005,540.9,515.79999999999995,484,1075.7,823.3,681.3,595.20000000000005,539.9,501.6,448.2,43.9,42.5,41.6,39.700000000000003,38.700000000000003,38.299999999999997,38.299999999999997,144.6,148.5,147.19999999999999,155.9,171.7,180,180,1102.9000000000001,895.1,773.7,726.8,707.6,697.6,686.2,712.6,586.9,521.4,503.3,496.3,492.4,485.2,666.4,553.79999999999995,503.6,487.5,480.9,477.2,470.3,629.1,530.70000000000005,491.3,469.5,457.3,450.9,445.7,633.6,526.1,493.9,470.5,447.3,429.2,416.6,631.9,519.70000000000005,478.3,457,441.1,425.8,402.9,650.9,531.20000000000005,484.7,452,425.3,409.5,382,725.6,583.5,507.5,474.3,443,411.1,350.3,883.5,693.1,574.20000000000005,507,476.3,447.9,390,1020.1,800.3,663,578.5,527.70000000000005,491,437.3,0.92549999999999999,1.2267999999999999,1.3857999999999999,0.70709999999999995,0.98960000000000004,1.1480999999999999,0,0,0.81499999999999995,189.4,0.98819999999999997,0,0,607.20000000000005,"AUT00001752",9.1430000000000007,4685,25.2,30.9,31.9,95.7,0,8970]
["ARG389901","2ARG3899","ARG-3899","SHAKTI","ZABRA 9.80","AST. DRAKKAR","NESTOR VOLKER",1993,"BUENOS AIRES","ALEJO ACOSTA","CLUB","C",370,"10/6/2016","17:57:30",9.82,7.9160000000000004,1.7549999999999999,3.41,3985,107.2,0.1,688.3,0.89970000000000006,750.2,0.61899999999999999,46,1125,921.2,799,725.9,680.8,655.9,630.4,1080.3,886.5,778.1,717.1,682.1,660.8,637.4,946.5,765.3,668,611.4,576.70000000000005,554.5,527.9,987.2,794.2,689.7,628.5,590.70000000000005,566.1,536.1,1161.0999999999999,899,750.7,659.8,600.6,559.4,502.7,44.4,43.8,43.8,42.3,41.4,40.9,40.6,147.4,151.4,152.19999999999999,159.5,180,180,180,1170.8,982.9,870.1,812.6,785.2,771.7,766.8,756.8,638.4,574.29999999999995,550.1,540.4,535.5,532.70000000000005,709.4,600.4,553.6,533.29999999999995,523,517.1,512.70000000000005,668.4,574,538.5,517.9,502,490.2,481.1,668.6,574.5,539,517.9,499.4,482.8,460,709.2,586.1,538,510.3,485.7,469.7,452.6,730,600.20000000000005,544.29999999999995,515.70000000000005,490.4,466.8,436.5,799.6,654.20000000000005,569.4,533,507.6,483.5,441.8,934.6,744.6,632.1,564.20000000000005,532.1,508.4,465.1,1079.2,859.4,727.9,639.1,576.29999999999995,540.1,494.1,0.85570000000000002,1.1065,1.2413000000000001,0.65980000000000005,0.89380000000000004,1.0344,0,0,0.77700000000000002,215.7,0.89429999999999998,0,0,670.9,"ARG00002619",7.335,4632,20.9,25.3,36.4,69.3,0,8971]
["ESP09501","NL95_C","NL 95_C","HADDOCK","ZEEBONK 267","M.BROWER","V.D.STADT",1976,"C.V.P.ANDRATX","JOSE AROLAS/KATRIN FOSTER","CLUB","C",400,"11/3/2016","06:41:48",8.6999999999999993,6.7930000000000001,1.6220000000000001,2.86,3712,121.1,0.43,758.3,0.81479999999999997,828.4,0.59,68.900000000000006,1206.9000000000001,1000,882,803.8,756.5,734,716.7,1168.3,970,863.6,800.9,764.4,744.5,730.2,1032.2,838.9,736.4,677.7,642.79999999999995,621.4,598.79999999999995,1078.0999999999999,871.4,760.6,696.4,657.6,633.4,606.6,1258.4000000000001,981.9,826.1,730.6,668.5,625.70000000000005,568,43.8,42.5,43.9,43.8,42.9,42.6,43.6,149,153.30000000000001,153.4,168.1,180,180,180,1275.7,1084.9000000000001,985.8,924.8,894.5,882.9,893.7,830.4,709.1,642.9,613,601.20000000000005,596.5,596.79999999999995,781.8,665.3,614.79999999999995,592.20000000000005,580.79999999999995,576,574.5,738.9,632.5,595.1,575,559.70000000000005,548.6,541.79999999999995,740.8,634,594.20000000000005,573.9,557.20000000000005,541.70000000000005,519.4,771,640.1,588.70000000000005,560.70000000000005,541.79999999999995,532,516.1,791.5,652.6,594.5,565.20000000000005,539.79999999999995,517.5,498.9,858.2,705.9,617.4,581,555.70000000000005,531.5,492,985.6,794.7,677.8,609.9,578.79999999999995,555.29999999999995,512.4,1138.0999999999999,915.1,778.2,682.9,618.5,585,539.79999999999995,0.7873,1.0003,1.1052,0.61170000000000002,0.80900000000000005,0.92069999999999996,748.8,0.80130000000000001,0.77,272,0.81069999999999998,0.59699999999999998,80.400000000000006,740.1,"ESP00017087",6.0030000000000001,4229,17.600000000000001,17.8,31.4,58.6,0,8972]
["knw21862","NEDI1870","NED 1870","De Wiekslag","Zeeslang","-","Stadt v/d",1960,175261,"G.M.,van den Brink","CLUB","C",532,"23/3/2016","14:33:50",9.2530000000000001,8.2430000000000003,1.9339999999999999,2.12,2381,120.5,0.41,746,0.83809999999999996,805.4,0.50900000000000001,-3.9,1313.4,1032.3,875,772.1,716.3,681.3,652.29999999999995,1252.5,989.7,843.5,757.9,711.6,683.9,655.6,1065.7,843.2,721,648.79999999999995,604.6,576.5,544.6,1110.5,875.5,745.6,668.3,620.5,590.1,555.20000000000005,1313.8,993.7,811.8,700.7,629.6,581.29999999999995,517.79999999999995,44.7,43.2,42.8,42.3,40.700000000000003,39.700000000000003,39.4,147.80000000000001,150.19999999999999,150.4,154.19999999999999,170,179.8,179.9,1351.4,1083.7,943,852.1,814.1,795.1,788.6,866.9,705.6,616.5,572.1,559.20000000000005,553.29999999999995,549.79999999999995,807.6,662.3,585.79999999999995,552.6,541.6,536.29999999999995,532.20000000000005,759.5,624.9,563.20000000000005,537,520.5,511.7,504.5,765.7,629.79999999999995,565.5,538.29999999999995,519.29999999999995,500.8,477.7,804.5,643.79999999999995,563.9,530.5,504.1,486.3,462.2,835.6,663.5,573.5,536.5,509.8,480.5,438.5,947.9,738.8,612.70000000000005,556.4,527.9,502.1,444.1,1104.5999999999999,849.6,699.1,604.6,555.20000000000005,528.9,479.2,1275.4000000000001,980.9,807.1,692.1,618.5,567.5,515.9,0.75229999999999997,1.0396000000000001,1.198,0.57550000000000001,0.82909999999999995,0.99390000000000001,733.9,0.8175,0.58599999999999997,103.9,0.83499999999999996,0.52600000000000002,18.399999999999999,718.6,"knw00004814",7.1920000000000002,3085,17.399999999999999,14.4,23.3,42.4,0,8973]
["knw17169","NED_3104","NED 3104","Pagan","Zeester","Hoffman","v.d.Stadt",1977,144857,"J.E.J.,Muller","CLUB","R",320,"23/3/2016","14:27:56",9,7.2519999999999998,1.591,2.83,3479,123.7,0.59,776.9,0.80110000000000003,842.6,0.51100000000000001,14.2,1313.4,1059.0999999999999,918.4,817.1,752,717.2,687.8,1267.7,1027.5,893.4,807.7,754.9,725,696,1090,872.3,752.8,681.6,637.20000000000005,608.70000000000005,576.20000000000005,1138.9000000000001,907.1,779,702,653.79999999999995,622.79999999999995,587.9,1337.3,1025.0999999999999,846.7,736.2,664,614.4,548.5,45.8,44.2,44.4,44.7,43,42.1,41.9,148.19999999999999,151.80000000000001,153.5,157.4,180,180,180,1400,1155.3,1025.7,928.4,873,847.7,836,892.1,747.1,659.7,608.79999999999995,586.1,577.5,572.79999999999995,831,699.1,621.5,586.20000000000005,567.6,558.79999999999995,553.5,781.5,656.3,595.79999999999995,569,551,536.70000000000005,522.20000000000005,784.4,659.4,597.4,565.20000000000005,552.1,535.4,508,810.3,662.3,589.4,557.79999999999995,532.9,511,492,833.3,678.8,596.79999999999995,562.4,538.1,514,475.3,919.2,739.8,629.9,580.5,553.5,529.9,486.3,1062.5,835.1,704.8,618.9,578.4,553.70000000000005,510.5,1226.8,962.8,811.2,705.8,630.9,586.79999999999995,539.6,0.73909999999999998,0.98829999999999996,1.1346000000000001,0.56899999999999995,0.78969999999999996,0.94420000000000004,753.5,0.79620000000000002,0.6,135.9,0.79759999999999998,0.51600000000000001,19.100000000000001,752.3,"knw00004778",6.2130000000000001,4041,18.2,14.6,31.4,54.4,0,8974]
["knw","NEDo8669","NED 8669","Swing","Zeeton",null,"E G vd Stadt",1980,4059749,"Pim van der Male","CLUB","C",334,"23/3/2016","12:24:06",7.2,5.9939999999999998,1.538,2.79,1700,110.5,0.18,769.7,0.81420000000000003,829.1,0.57699999999999996,63.9,1232.7,1012.6,878.8,796.9,755.8,734.7,712,1189.5999999999999,978.4,861.5,795.5,759.8,739.6,721.2,1051.0999999999999,853.1,747.4,686.4,649.20000000000005,625.6,598.29999999999995,1093.7,883.4,770.5,705,665.2,640,610.5,1279.0999999999999,995.1,835.4,738,674.9,631,569.5,43.6,42.8,42.2,40.299999999999997,39.200000000000003,38.700000000000003,39.700000000000003,149.19999999999999,152.9,154.6,175,180,180,180,1293.4000000000001,1087.0999999999999,962.6,896.2,869.8,859.5,868.6,843.2,712.9,653.5,627,615.4,610.4,609.79999999999995,794.3,679.5,635.4,611.20000000000005,595.9,589.20000000000005,586.4,752.8,657.2,621,596,573.70000000000005,557.6,548.20000000000005,755.5,659.4,619.9,590,574.1,552.79999999999995,525,783.1,659.8,614.9,581.4,549.5,526.70000000000005,509.4,805.4,670.6,620.9,588,556.4,528.4,489.7,882.2,721.7,642.70000000000005,607.29999999999995,576.1,546.5,498.7,1014.9,814.1,695.5,635.6,604.29999999999995,575.4,523.79999999999995,1171.9000000000001,938.2,795,697.6,641.70000000000005,610,555.5,0.77229999999999999,0.98609999999999998,1.099,0.60129999999999995,0.81140000000000001,0.92279999999999995,754.6,0.79510000000000003,0.74099999999999999,250.5,0.80200000000000005,0.59,79,748.1,"knw00004158",5.774,2134,13,12.8,22.2,40.799999999999997,0,8975]
["knwC2420","NEDC2420","NED 2420","LARISA","Zeeton * 1.55",null,"E G vd Stadt",1980,136769,"J. Kroon","CLUB","C",345,"23/3/2016","14:32:18",7.25,6.12,1.58,2.79,2067,109.4,0.55000000000000004,792.6,0.79249999999999998,851.7,0.54200000000000004,48,1282.5,1053.4000000000001,916.8,822.1,767.9,741.4,714.2,1239.8,1020.1,895.4,818,772.9,747.6,721.6,1090.5999999999999,882,769.4,703.1,661.9,635.1,602.4,1133.4000000000001,912.4,792.3,721.4,677.3,648.79999999999995,615.1,1327.1,1029.5,860.8,756.8,689.1,642.1,577.1,43.7,42.6,42.9,41.1,39.700000000000003,38.9,39,149.19999999999999,153.69999999999999,155.69999999999999,172.3,180,180,180,1350.6,1136.8,1008.4,922.4,879.1,860.3,855.5,879.1,745.7,671.4,637.9,619.20000000000005,610.9,606.9,828.1,703.5,648.29999999999995,621.79999999999995,602.9,591.1,584.70000000000005,784.9,673.7,631.29999999999995,607.4,586.70000000000005,567.9,548.5,788.7,677,631.4,600.70000000000005,578.29999999999995,567.79999999999995,535.9,818.2,680.2,626.79999999999995,596.1,567,540.5,513.1,839.9,694.2,633.29999999999995,602.5,574.5,547.4,504.7,918.3,752.3,659.2,620.20000000000005,592.29999999999995,565,518.79999999999995,1051.7,843.5,718.1,650.20000000000005,617.29999999999995,591.6,542.70000000000005,1214.4000000000001,970,825.2,721.9,656.6,622.5,572.79999999999995,0.74260000000000004,0.96020000000000005,1.0848,0.57789999999999997,0.78539999999999999,0.91490000000000005,772.2,0.77700000000000002,0.66,195.1,0.78,0.55200000000000005,58.8,769.3,"knw00004802",5.681,2515,13.8,11.5,22.2,37.5,0,8976]
["ITA15ZERO","I15ZERO","ITA-15ZERO","3...2...1...ZEROOO","ZERO","CRACKBOAT","COSSUTTI",1999,"S.V.B.GRIGNANO","FABIO ROCHELLI","INTL","S",310,"2/5/2016","23:54:56",6.6,6.258,1.6160000000000001,2.5099999999999998,800,84.9,0,686.1,0.88460000000000005,763.1,0.63400000000000001,50.3,1073.8,880.8,791,750.7,720.2,693,616.5,1036.2,858.5,773.9,730.9,701.3,675.1,617.1,922.9,756.2,668.2,616,580.6,552.29999999999995,502.7,996.4,807.2,706.1,646.9,609.20000000000005,582.6,543.70000000000005,1127.8,884.2,747.7,662,601.4,552.79999999999995,472.2,43,41.8,39.6,38.6,38.4,38.5,39.700000000000003,145.30000000000001,149,151.1,175.2,177.6,143.5,139.6,1145.5999999999999,956.2,866.5,841.7,832.4,828,833.4,748.8,643.6,606.9,594.70000000000005,588.5,585.5,576,704.6,622.5,587.70000000000005,570,560.79999999999995,555.9,542.9,671.1,606.70000000000005,566.1,531.29999999999995,515.6,507.3,495.2,654.9,589.4,560.70000000000005,524.9,485.7,464.8,451.3,652,582.5,525.1,494.7,468.5,446.2,397.4,668.3,593.1,535.20000000000005,478,445.3,421.2,360.7,738.4,624.6,570.20000000000005,517.1,463.5,411.6,297.5,867.7,697.6,620.5,578.29999999999995,538.20000000000005,483.3,346,1001.9,805.5,715.6,659.7,607.9,558,399.5,0.88429999999999997,1.0926,1.246,0.69069999999999998,0.87960000000000005,1.0058,691.3,0.86799999999999999,1.046,430.4,0.89400000000000002,0.66600000000000004,89.8,671.2,"ITA00019657",6.2759999999999998,1224,9.9,19.3,11,0,47.1,8977]
["ITAZERO","I05ZERO","ITA-05ZERO","SEI UNO ZERO","ZERO","CRAKBOAT","COSSUTTI",1999,"S.TRIESTINA DELLA VELA","GIANNI ALESSANDRO","INTL","S",320,"21/5/2016","22:27:40",6.6,6.2670000000000003,1.6180000000000001,2.5099999999999998,812,98.3,0,680.4,0.89529999999999998,754,0.62,34.799999999999997,1073.9000000000001,879.2,785,739.8,707.3,680.7,602.20000000000005,1035.3,855.1,766.4,719,687.3,661,598.4,920.7,752.4,662.5,608.29999999999995,570.9,541,489.2,994.3,804,701.3,640.4,600.9,572.5,530.4,1124.3,878.9,740.4,652.70000000000005,590.20000000000005,540.1,457.7,42.8,41.6,39.1,37.5,37,37,38,145.4,148.80000000000001,151,175,177.6,143.5,138,1142.3,950.1,852.9,819,806.1,801.9,803.1,748.3,642.29999999999995,603,584.5,574.79999999999995,569.6,558.9,704.7,622,585.1,558.29999999999995,545.79999999999995,539.20000000000005,526.6,671.8,607,566.1,526.29999999999995,501.4,490.1,480,655.7,588.1,554,523.1,484.3,452,428,652.4,582.9,523.1,484.9,459.6,434.6,385.4,669.4,593.4,535.79999999999995,477.9,435.2,410.1,348.6,741,625.70000000000005,570.6,517.79999999999995,464.5,412.8,292.8,870.7,700,621.79999999999995,578.79999999999995,539,484.6,347.5,1005.4,808.2,717.2,660.6,608.5,559.5,401.2,0.88470000000000004,1.1039000000000001,1.2741,0.69120000000000004,0.8901,1.026,679,0.88360000000000005,0.997,383.3,0.90429999999999999,0.64800000000000002,67,663.5,"ITA00019981",6.4580000000000002,1238,10,19.3,11,0,48.2,8978]
["GER163232","XAG1164","XAG 1164","SARAY UNO","ZERO 6.5","MOS COMPOSITES","LOMBARD",2002,"ASV KIEL","DR. GUNTRAM SEI?","CLUB","R",180,"1/4/2016","09:58:44",6.5,6.1029999999999998,1.641,3.01,1237,119.7,0,680.7,0.8972,752.4,0.7,98.1,1023.6,858.1,786.5,740.3,709.4,690.6,636.6,986.9,835.6,766.5,725.3,697.1,676.3,622.20000000000005,897.2,743.3,663.9,618.20000000000005,588.1,565,524.4,926.4,764,679.3,630.4,599.29999999999995,577,543.20000000000005,1095.4000000000001,868.3,742.2,664,610.20000000000005,568.4,500.6,44.3,40.799999999999997,39,37.299999999999997,36.5,36.5,36.700000000000003,146.9,149.69999999999999,151.30000000000001,169.5,177.8,177.6,138.69999999999999,1059.8,912.3,852.9,821.1,806.1,803.9,791.8,687.2,624.9,604.9,592.9,584.29999999999995,579.9,568.5,653,605.70000000000005,585.5,572.20000000000005,562.4,556.20000000000005,546.29999999999995,631.29999999999995,586.1,556.29999999999995,539.4,528.9,521.70000000000005,511.5,631,584.5,546.20000000000005,517.9,502.4,493.3,483.1,659.3,593.5,545.29999999999995,509.4,488.8,470.5,438.4,673.4,601.79999999999995,553.79999999999995,509.9,470.2,444.5,399.1,735.4,629.1,580.70000000000005,537.20000000000005,496.6,453.5,352.8,855,696.1,625.5,588.1,555.1,520.5,416.8,987.3,803.8,720.2,659.5,612.70000000000005,577.4,481.3,0.9123,1.0919000000000001,1.2150000000000001,0.71750000000000003,0.89070000000000005,0.99990000000000001,669.6,0.89610000000000001,1.167,512.9,0.89659999999999995,0.70199999999999996,99.3,669.2,"GER20014204",6.3579999999999997,1649,11.9,24.2,32.6,0,56.6,8979]
["CLUZIG812","DEMUS","ITA-DEMUS","DEMUSE","ZIGGURAT 812","C.P.R.","VALLICELLI & C.",1979,"LNI CASTELLAMMARE DI STABIA","PORPORA DOMENICO","CLUB","R",300,"9/3/2016","10:42:16",8.1199999999999992,6.74,1.544,2.88,1674,105.4,0.28000000000000003,772.9,0.80630000000000002,837.1,0.50900000000000001,10,1326.6,1056.3,903,802.1,746.7,720.6,696.7,1275.3,1020.6,879.3,797,751.3,726.9,704.5,1089.0999999999999,868.6,748.2,677.3,633.70000000000005,605.9,573.20000000000005,1140.0999999999999,905.4,776.5,700.1,653,623.1,589,1339.5,1021.8,841.4,730.8,659.1,609.1,539.29999999999995,44.7,43.4,43.1,42.3,41.7,41.5,42.5,149.30000000000001,153.19999999999999,153.80000000000001,167.5,180,180,180,1404.3,1141.5999999999999,999,910.6,870.3,856.4,865,900.7,741.6,653.5,612.5,594,587.1,585.9,840.1,696,623.20000000000005,592.29999999999995,574.6,564.6,560.4,791.5,659.2,602.20000000000005,575.1,553.6,535.29999999999995,518.29999999999995,783.9,644.20000000000005,588.5,557.20000000000005,539.70000000000005,527.6,495.1,782,641.9,587.29999999999995,553.79999999999995,521,492.8,466,812.7,660.8,595.70000000000005,562.20000000000005,530.20000000000005,500,445.2,931.6,739.4,626.70000000000005,583.29999999999995,552.1,521.20000000000005,465.3,1081.5,843.4,701.3,617.20000000000005,579.9,550.70000000000005,494.9,1248.8,971,807,693.5,623,584.70000000000005,528.5,0.73980000000000001,0.99680000000000002,1.139,0.5665,0.80069999999999997,0.93989999999999996,752,0.79790000000000005,0.61199999999999999,146.6,0.80289999999999995,0.51700000000000002,19.7,747.3,"CLU00018555",6.0590000000000002,2156,13.3,18.100000000000001,13.1,34.299999999999997,0,8980]
["CLU153741","I15374","ITA-15374","PRYDWEN","ZIGGURAT 9.16","CPR","VALLICELLI & C.",1977,"C.V.ROMA","CASTIGLIA DAVIDE","CLUB","C",480,"3/4/2016","18:29:56",9.16,7.4820000000000002,1.698,3.01,3686,121.5,0.27,714.5,0.87439999999999996,771.9,0.61,55.3,1147.5999999999999,947.2,826.7,747.7,699.8,674.5,648.4,1104.5999999999999,912.5,804.5,739.9,702.2,679.5,655,979.2,793.4,693.7,635.6,599.70000000000005,576.4,548.29999999999995,1028.0999999999999,828.2,719.8,656,616.29999999999995,590.4,558.79999999999995,1192.5999999999999,927.2,777.1,684.7,624.6,582.79999999999995,525.4,43,41.9,42.8,41.3,40.1,39.200000000000003,39.1,148.19999999999999,152.5,152.30000000000001,161.6,180,180,180,1190.5,1007.8,900.1,833.8,801.8,785.4,778,783.1,663.7,601.4,574.79999999999995,562.1,555.9,551.6,741.3,628.20000000000005,581.79999999999995,560.20000000000005,546.70000000000005,538.9,532.70000000000005,705.7,604.20000000000005,567.29999999999995,547,530.5,516.5,501.3,710.5,607.5,568.6,545.70000000000005,530.79999999999995,514.29999999999995,488,737.8,611.5,563.5,536.20000000000005,511.1,493,477.1,759.2,624.9,569.4,541.4,516.1,492.2,460.6,827.1,679.5,592.9,557.4,532.6,508.5,467.4,956.7,769.1,654.6,587,556.20000000000005,533.20000000000005,489.9,1104.7,886.7,753.3,661.5,597.79999999999995,563.5,518.9,0.82799999999999996,1.0637000000000001,1.194,0.64449999999999996,0.86680000000000001,1.0059,700,0.85709999999999997,0.755,215.5,0.86309999999999998,0.61899999999999999,65.900000000000006,695.1,"CLU00019106",6.9480000000000004,4296,18.100000000000001,19.100000000000001,31,63,0,8981]
["CLU101161","I10116","ITA-10116","GRAAL","ZIGGURAT 9.95","C.P.R.","VALLICELLI & C.",1981,"S.V.M.M.","BRESCIANI GIANNI","CLUB","C",500,"6/9/2016","17:54:52",9.9600000000000009,7.9720000000000004,1.8029999999999999,3.24,4214,123.9,0.08,668,0.9284,727,0.66100000000000003,64.2,1072,883.4,769.7,703.6,663.6,642.1,616.79999999999995,1023.7,845.9,749.1,696.6,666.4,647.1,623.9,908.3,738.8,648.9,597.1,565.6,545.20000000000005,520,942,762.6,666.7,611,576.79999999999995,554.6,527.29999999999995,1116,868.2,729,644.1,589,550.70000000000005,497.3,42.8,42.8,42.2,40.700000000000003,40,39.299999999999997,39.5,147.1,152.4,152.5,165.2,180,180,180,1089.8,924.5,828,785.5,764.6,752.9,748.2,715.3,606.20000000000005,560.29999999999995,544.1,536.4,532.20000000000005,528.6,672.7,577.4,543.9,528.5,520.20000000000005,515.1,510.9,635.6,558.29999999999995,530.4,512.20000000000005,497.7,488.1,480.2,637.6,558.9,529.79999999999995,510.3,491.9,476.1,457.2,672.9,566.29999999999995,528.70000000000005,502.1,477.7,464,447.3,698.1,579.9,535.70000000000005,509.3,483.8,460.4,432.7,773.5,635,559.20000000000005,527.29999999999995,502.5,478.2,436.6,913,729.4,618.20000000000005,555.1,526,502.5,458.3,1054.2,842.2,711.3,621.79999999999995,562.70000000000005,531.29999999999995,485.5,0.89470000000000005,1.1341000000000001,1.2605999999999999,0.69040000000000001,0.92390000000000005,1.0580000000000001,659.7,0.90949999999999998,0.85399999999999998,254.2,0.91869999999999996,0.66900000000000004,74.8,653.1,"CLU00020462",7.6,4864,20.2,37.6,28.8,62.6,0,8982]
["CLU90621","I9062","ITA-9062","LUPO ALBERTO","ZIGGURAT 910","C.P.R.","VALLICELLI & C.",1977,"LNI TORRE DEL GRECO","NIGLIO MICHELE","CLUB","C",330,"9/3/2016","20:51:02",9.16,7.4790000000000001,1.6839999999999999,3.01,3458,118.4,0.2,719.4,0.86270000000000002,782.4,0.61199999999999999,61.4,1155.4000000000001,953.4,833.2,758.3,712.1,687.9,666.4,1110.7,918.6,811.8,750.7,715.5,694.7,674.9,982.7,797.3,698.4,641.5,607.1,585.4,560.6,1021.4,824.7,719,657.5,620,596,567.70000000000005,1201.2,934.3,783.8,691.7,632.1,590.9,535.20000000000005,43.5,42.4,43.3,41.9,40.700000000000003,40.4,40.799999999999997,148.19999999999999,152.4,152.5,161.4,180,180,180,1195.0999999999999,1014.1,908.2,851.7,824.2,810.9,812.5,780.9,663.5,602.6,579.20000000000005,569.70000000000005,565,562.79999999999995,736.2,626.1,581.6,562.1,552.6,547.4,543.9,696.7,600.1,565.79999999999995,546.29999999999995,531.5,521.29999999999995,513.5,698.8,601,566,545.9,528.79999999999995,513.29999999999995,492.2,743.4,615.20000000000005,565.6,537.9,515.29999999999995,502.8,486.3,763.5,628.70000000000005,571.29999999999995,542.70000000000005,518.1,494.8,469.5,832,684.8,595.79999999999995,559.20000000000005,534.20000000000005,510.5,468.3,966.2,774.4,658.9,589.5,557.79999999999995,534.6,491.4,1115.5999999999999,892.7,758.1,664.8,600,565,520.29999999999995,0.82569999999999999,1.0559000000000001,1.1742999999999999,0.64019999999999999,0.85670000000000002,0.98409999999999997,705.7,0.85029999999999994,0.77600000000000002,239.9,0.85519999999999996,0.61799999999999999,69,701.6,"CLU00018767",6.8129999999999997,4062,17.7,18.399999999999999,33.700000000000003,59,0,8983]
["CLU86131","I8613","ITA-8613","MORNING GLORY","ZIGGURAT 910","CPR","VALLICELLI & C.",1977,"CUS BARI","BASILE FULVIO","CLUB","C",380,"17/3/2016","18:03:32",9.16,7.3979999999999997,1.671,3.01,3379,119.5,0.17,715.2,0.8679,777.7,0.625,68.900000000000006,1141.2,943.9,824.3,752.7,709.6,687.6,666.4,1099.3,909.7,805.3,746.8,713.6,694.1,675.4,974.1,791.5,694.5,639,605.6,584.70000000000005,560.6,1019.8,823.8,718.7,657.8,620.9,597.29999999999995,569.5,1188.2,926.1,778.6,688.5,630.29999999999995,590.1,535.4,43.2,42.3,43,41.5,40.4,40.299999999999997,40.700000000000003,148.19999999999999,152.30000000000001,152.30000000000001,163.4,180,180,180,1188.3,1008.6,902.9,849,824.4,813.2,817,778.6,660.7,602.20000000000005,580.4,571.79999999999995,567.79999999999995,566.70000000000005,734.4,624.79999999999995,582.20000000000005,563.9,555,550.20000000000005,547.5,695.3,599.70000000000005,566.79999999999995,548,533.4,522.9,515.29999999999995,698,601.20000000000005,566.79999999999995,546.9,529.79999999999995,514,492.9,730.7,608.1,563.1,535.4,513.4,501.9,484.4,751.5,619.9,568.6,540.29999999999995,513.9,490.7,468.2,818.4,671.9,590.1,556.29999999999995,530.70000000000005,505.9,463.8,947.5,762.1,648.20000000000005,584.70000000000005,554.9,531.20000000000005,486.3,1094.0999999999999,879.1,745.7,656.3,594.70000000000005,562,515.9,0.8337,1.0608,1.175,0.64749999999999996,0.86350000000000005,0.98519999999999996,703.3,0.85309999999999997,0.80400000000000005,259.60000000000002,0.85970000000000002,0.63300000000000001,78.599999999999994,697.9,"CLU00018890",6.7919999999999998,3984,17.5,19.2,32.200000000000003,63.3,0,8984]
["CLU122291","I12229","ITA-12229","DESIREE","ZIGGURAT 916","C.P.R.","VALLICELLI",1980,"LNI ISOLA D'ISCHIA","ITALIANO VINCENZO","CLUB","C",400,"9/5/2016","20:35:08",9.16,7.5359999999999996,1.7090000000000001,3.01,3743,120.1,0.32,732.7,0.85009999999999997,794.1,0.57799999999999996,43.1,1200.4000000000001,978.9,853.4,768.8,717.8,690.9,666.8,1154.8,945.6,830,760.7,720.6,697.7,675.1,1012.5,816.4,710.7,649.1,611.5,587.70000000000005,560.4,1065.7,854,738.7,670.7,628.70000000000005,601.79999999999995,570.20000000000005,1237.3,956.6,797.6,700,636.79999999999995,593.4,535.1,43.9,42.3,43.2,42.6,41.3,40.799999999999997,41,147.9,151.9,152.5,159.30000000000001,180,180,180,1255.9000000000001,1049.3,937.2,864.9,830.6,814.8,811.5,816.4,689.4,615.70000000000005,583.29999999999995,569.6,563.6,560.4,768.9,648.29999999999995,590.4,565.79999999999995,552.20000000000005,545.6,541.5,730.3,617.1,572.9,551,535,522.1,510.2,735.5,621.29999999999995,573.70000000000005,552.29999999999995,535.1,519.29999999999995,494,757.9,623,567.29999999999995,539,515.70000000000005,502.4,486.1,779,638.1,573.6,543.9,519.4,495.8,468.8,853.2,696.4,600.5,560.6,535.4,512,469.7,991.5,787.8,668.3,593.29999999999995,559.20000000000005,536,493.1,1144.9000000000001,908.5,769.5,672.7,604.9,567,522.1,0.7994,1.042,1.1715,0.61950000000000005,0.84189999999999998,0.98029999999999995,716.6,0.83730000000000004,0.71199999999999997,197.9,0.84319999999999995,0.58599999999999997,52.1,711.6,"CLU00019796",6.7489999999999997,4352,18.2,18.3,31.5,63.3,0,8985]
["CLU100941","I10094","ITA-10094","AUMM AUMM","ZIGGURAT 916","C.P.R.","VALLICELLI",1980,"C.V.LUCANO","AMBROSIO GIUSEPPE","CLUB","C",450,"20/5/2016","16:07:12",9.16,7.5369999999999999,1.7090000000000001,3.01,3743,120.1,0.44,725.6,0.85929999999999995,785.6,0.59199999999999997,49.1,1176.9000000000001,966.7,844.4,760.7,710.7,684.6,659.8,1134.7,934.5,822.7,754.4,714.4,691.1,667.4,998.1,807,704.2,644.20000000000005,607.29999999999995,583.79999999999995,556,1056.2,848.4,735.2,668.3,626.70000000000005,599.9,568.20000000000005,1217.5999999999999,944.4,789.7,694.4,632.5,589.70000000000005,531.79999999999995,43.5,41.9,42.7,42.1,40.799999999999997,40.299999999999997,40.299999999999997,148.1,152.4,152,160.9,180,180,180,1241.4000000000001,1043,933.1,859,822.7,805.3,799.4,809.7,686.3,615.29999999999995,583.20000000000005,568,561.5,557.6,762.9,645.6,590.6,566.29999999999995,551.70000000000005,543.9,538.79999999999995,724,615.6,572.9,551.79999999999995,535.70000000000005,522.4,507.9,728.7,619.5,569.4,548.5,535.9,520.70000000000005,494.1,739.6,612.79999999999995,563.6,536.4,512.70000000000005,498,481.8,759.5,625.79999999999995,569.29999999999995,541.20000000000005,516.9,493.4,465,828,682.1,592.9,557.20000000000005,532.79999999999995,509.6,467.9,963.3,772.2,656.2,587,556,533.5,491.1,1112.4000000000001,890.4,755.6,662.3,598.70000000000005,563.9,520.20000000000005,0.81140000000000001,1.0496000000000001,1.1793,0.62980000000000003,0.85089999999999999,0.99,710.7,0.84419999999999995,0.72799999999999998,204.6,0.85050000000000003,0.60099999999999998,59.3,705.4,"CLU00019960",6.79,4352,18.2,18.3,27.6,63.7,0,8986]
["ITA94611","I9461","ITA-9461","JOSHUA II","ZIGGURAT 995","C.P.R.","VALLICELLI & C.",1981,"C.V.SICILIANO","CARADONNA SALVATORE","INTL","C",427,"9/3/2016","09:17:02",9.9600000000000009,7.9589999999999996,1.9350000000000001,3.24,4089,124.5,0.24,685.9,0.9083,743.2,0.63500000000000001,56.1,1110.4000000000001,910,790.9,718,675.4,652.79999999999995,631.5,1067.4000000000001,876.3,770.7,710.6,677.2,657.7,638.6,941.7,761.7,665.5,610.1,576.5,555.4,530.79999999999995,1000.8,803.4,696.3,633.70000000000005,595.29999999999995,570.70000000000005,541.79999999999995,1148.8,891.1,745.8,657.1,599.9,560.6,507.3,43,41.9,42.5,41.2,40.299999999999997,40,40.5,147.19999999999999,151,151.80000000000001,159.80000000000001,180,180,180,1157.5,972,864,803.7,778.9,767.9,770.4,758.1,640,577.6,552.70000000000005,542.4,537.5,535.29999999999995,715.6,604.79999999999995,558,537.70000000000005,526.1,520.1,516.5,680.9,580.4,543.6,523.6,508.5,496.2,484.9,686.6,583.70000000000005,542.4,524.4,507.3,491.4,467.2,701.2,580.29999999999995,535.6,508.9,489.8,479.6,462.4,721.7,592.9,541.6,513.79999999999995,488.3,466.2,444.9,790.7,644.20000000000005,564.29999999999995,530.29999999999995,505.5,481.5,438.9,920.9,734.5,623.1,559.6,529.5,506.4,462.7,1063.4000000000001,848,717.7,632.4,571.79999999999995,537.70000000000005,492.7,0.8609,1.1104000000000001,1.238,0.66820000000000002,0.90290000000000004,1.0377000000000001,672.8,0.89180000000000004,0.80100000000000005,228.8,0.89949999999999997,0.64400000000000002,66.2,667.1,"ITA00018335",7.4320000000000004,4737,20.399999999999999,23,31.6,74.2,0,8987]
["CLU97001","I9700","ITA-9700","UTOPIA","ZIGGURAT 995","C.P.R.","VALLICELLI & C.",1981,"TECNOMAR FIUMICINO","PROIETTI FABRIZIO","CLUB","C",600,"16/3/2016","20:31:18",9.9600000000000009,7.835,1.9359999999999999,3.24,3960,115.1,0.12,683.3,0.90990000000000004,741.8,0.64200000000000002,60,1103.4000000000001,904.7,786,717.8,676.1,653,631.70000000000005,1058.3,868.8,764.9,708.5,676.7,657.1,638.9,936.4,758.1,663.1,608.5,575.79999999999995,555.20000000000005,531.70000000000005,982.4,790.8,687.6,627.70000000000005,591.20000000000005,568.20000000000005,541.9,1143.5,887.5,743.5,655.8,599.29999999999995,560.5,508.3,42.9,42.1,42.4,40.799999999999997,39.9,39.4,40.1,147.6,151.4,151.5,159.19999999999999,180,180,180,1133.8,952.4,847.6,798.5,776.3,765.5,769.3,744.8,625.6,570.4,550.70000000000005,543,539.29999999999995,538.6,702.6,593.5,552.70000000000005,535.1,526.79999999999995,522.29999999999995,519.79999999999995,666.2,571.70000000000005,538.9,519.70000000000005,505.3,496.3,489.9,670.8,574.5,539.9,519.5,502.1,486.6,467.8,711.8,586,538.5,510.4,488.7,477.9,460.7,732.1,599.1,544.70000000000005,515.79999999999995,489.4,466.4,443.6,800,651.9,568,532.6,507,482.3,440.2,929.2,742.5,628.6,562.79999999999995,531.70000000000005,507.8,463.8,1072.9000000000001,857.1,724.4,637,575.79999999999995,540.5,494.2,0.86639999999999995,1.1137999999999999,1.238,0.67230000000000001,0.9052,1.0371999999999999,677.7,0.88539999999999996,0.81899999999999995,240.8,0.90169999999999995,0.65600000000000003,78.2,665.4,"CLU00018871",7.415,4601,19.899999999999999,21.6,38.299999999999997,73.5,0,8988]
["CLU155191","I15519","ITA-15519","ACQUACHIARA","ZIP 25-ILC","SICILCRAFT/ACOM","INZERILL-ALBEGGIAN",2000,"LNI MAZARA DEL VALLO","LNI MAZARA DEL VALLO","CLUB","S",300,"28/4/2016","12:39:38",7.73,7.5469999999999997,1.6970000000000001,2.4900000000000002,1647,113.5,0.18,687.9,0.9052,745.7,0.59799999999999998,28.6,1140.5,920.7,790.7,716.1,676.4,654.5,617.79999999999995,1088.5,883.3,771,708.8,673.8,650.79999999999995,611.20000000000005,951.6,767.2,667.5,608.70000000000005,571.29999999999995,545.4,509.2,1010.3,808.3,698.4,633.4,592.6,564.9,527,1168.2,900,748.4,655,593.29999999999995,549.1,485.4,43.3,41.9,41,38.799999999999997,37.700000000000003,37.6,37.9,146.30000000000001,150.6,151.6,162.6,180,180,180,1194.5,982.4,858.9,798.7,775.8,765.4,755.8,776.8,647.9,587,562.9,553.5,548.5,539.70000000000005,728.7,615.4,569.9,546.79999999999995,534.79999999999995,528.20000000000005,519.20000000000005,688.9,592.79999999999995,556.29999999999995,528.9,504.7,491.1,481.6,686.3,583,545.70000000000005,527.79999999999995,500.4,473,442.4,682.7,579.70000000000005,538.5,498.6,474.6,456.5,425.3,705,590.5,546.6,507.5,467.4,434.8,400.9,781.6,640.1,569.70000000000005,534.1,496.4,459.1,381,940.9,743.4,627.29999999999995,566.5,533.4,498.8,429.6,1086.5,859.1,722.6,633.4,576.9,543.6,479.8,0.85119999999999996,1.1081000000000001,1.2641,0.65490000000000004,0.90229999999999999,1.0446,671.7,0.89319999999999999,0.77200000000000002,210.3,0.89890000000000003,0.61,40.4,667.5,"CLU00019574",7.2690000000000001,2224,14.4,22.2,14.1,46.5,0,8989]
["CLU155181","I15518","ITA-15518","ACQUAZZURRA","ZIP 25-ILC","SICILCRAFT/ACOM","INZERILL-ALBEGGIAN",2000,"LNI MAZARA DEL VALLO","LEGA NAVALE MAZARA DEL VALLO","CLUB","S",300,"3/5/2016","22:03:24",7.73,7.5469999999999997,1.6970000000000001,2.4900000000000002,1647,113.5,0.18,688.1,0.90510000000000002,745.8,0.59799999999999998,28.5,1140.9000000000001,921,791,716.1,676.4,654.5,618,1089,883.7,771.2,708.9,673.8,650.9,611.5,951.9,767.3,667.7,608.79999999999995,571.29999999999995,545.5,509.3,1010.7,808.6,698.5,633.5,592.6,564.9,527.1,1168.5,900.2,748.5,655.1,593.4,549.1,485.5,43.3,41.9,41,38.799999999999997,37.700000000000003,37.6,37.9,146.30000000000001,150.6,151.6,162.6,180,180,180,1195.3,982.9,859.4,798.8,775.9,765.5,756.2,777.3,648.20000000000005,587.1,562.9,553.5,548.5,539.79999999999995,729.1,615.6,570,546.79999999999995,534.79999999999995,528.20000000000005,519.29999999999995,689.3,593,556.4,529,504.7,491.1,481.6,686.4,583.1,545.70000000000005,527.9,500.5,473.1,442.3,682.7,579.70000000000005,538.5,498.6,474.6,456.6,425.3,705,590.5,546.6,507.5,467.4,434.8,400.9,781.6,640.1,569.70000000000005,534.1,496.4,459.1,381,940.9,743.4,627.29999999999995,566.5,533.4,498.8,429.6,1086.5,859.1,722.6,633.4,576.9,543.6,479.7,0.85099999999999998,1.1080000000000001,1.264,0.65469999999999995,0.90210000000000001,1.0444,671.8,0.8931,0.77100000000000002,209.9,0.89870000000000005,0.61,40.299999999999997,667.6,"CLU00019668",7.2679999999999998,2224,14.4,22.2,14,46.5,0,8990]
["CLU141441","I14144","ITA-14144","ASINELLI","ZIP 25-ILC","SICILCRAFT/ACOM","INZERILL-ALBEGGIAN",2000,"A.S.D.MATCH RACE","A.S.D.MATCH RACE","CLUB","S",320,"14/6/2016","20:13:04",7.73,7.5469999999999997,1.6970000000000001,2.4900000000000002,1647,113.5,0.18,685,0.90920000000000001,742.4,0.60399999999999998,30.7,1132.5999999999999,915.4,786.9,712.7,674.3,652.79999999999995,615.79999999999995,1083.5999999999999,880.1,768.3,706,671.1,648.29999999999995,608.20000000000005,946.5,763.6,664.8,606.5,569.29999999999995,543.5,506.9,1011.3,808.9,698.7,633.6,592.79999999999995,565.1,527.29999999999995,1160.8,895.1,744.9,652.4,591.29999999999995,547.4,483.8,43.2,41.7,41,38.700000000000003,37.6,37.6,37.799999999999997,146.19999999999999,150.4,151.80000000000001,163.30000000000001,180,180,180,1194.9000000000001,982.5,859.4,797.5,775.4,765.7,756.5,777.8,648.70000000000005,587.5,563,553.5,548.6,540.1,730.3,616.4,570.6,547,534.79999999999995,528.29999999999995,519.70000000000005,691.1,593.9,557.1,529.70000000000005,505.1,491.1,481.8,679.4,579.6,545.9,527.79999999999995,501.4,473.8,442.3,674,575.5,534.29999999999995,495.1,474.1,456.3,424.2,696.4,585.20000000000005,542.4,501.8,461,433.9,399.8,773.1,635.20000000000005,565.20000000000005,529,490.4,452.1,371,926.9,734.4,620.5,562.20000000000005,528.70000000000005,493.3,421.4,1070.3,848.2,714.4,627.79999999999995,573.20000000000005,540,475,0.85589999999999999,1.1122000000000001,1.2684,0.65920000000000001,0.90639999999999998,1.0477000000000001,669.6,0.89600000000000002,0.78200000000000003,215.7,0.90280000000000005,0.61799999999999999,44.6,664.6,"CLU00020192",7.2789999999999999,2224,14.4,22.3,13.3,50.4,0,8991]
["CLU141431","I14143","ITA-14143","PORCELLI","ZIP 25-ILC","SICILCRAFT/ACOM","INZERILL-ALBEGGIAN",2000,"A.S.D.MATCH RACE","A.S.D.MATCH RACE","CLUB","S",320,"14/6/2016","20:13:12",7.73,7.5469999999999997,1.6970000000000001,2.4900000000000002,1647,113.5,0.18,685,0.90920000000000001,742.4,0.60399999999999998,30.7,1132.5999999999999,915.4,786.9,712.7,674.3,652.79999999999995,615.79999999999995,1083.5999999999999,880.1,768.3,706,671.1,648.29999999999995,608.20000000000005,946.5,763.6,664.8,606.5,569.29999999999995,543.5,506.9,1011.3,808.9,698.7,633.6,592.79999999999995,565.1,527.29999999999995,1160.8,895.1,744.9,652.4,591.29999999999995,547.4,483.8,43.2,41.7,41,38.700000000000003,37.6,37.6,37.799999999999997,146.19999999999999,150.4,151.80000000000001,163.30000000000001,180,180,180,1194.9000000000001,982.5,859.4,797.5,775.4,765.7,756.5,777.8,648.70000000000005,587.5,563,553.5,548.6,540.1,730.3,616.4,570.6,547,534.79999999999995,528.29999999999995,519.70000000000005,691.1,593.9,557.1,529.70000000000005,505.1,491.1,481.8,679.4,579.6,545.9,527.79999999999995,501.4,473.8,442.3,674,575.5,534.29999999999995,495.1,474.1,456.3,424.2,696.4,585.20000000000005,542.4,501.8,461,433.9,399.8,773.1,635.20000000000005,565.20000000000005,529,490.4,452.1,371,926.9,734.4,620.5,562.20000000000005,528.70000000000005,493.3,421.4,1070.3,848.2,714.4,627.79999999999995,573.20000000000005,540,475,0.85589999999999999,1.1122000000000001,1.2684,0.65920000000000001,0.90639999999999998,1.0477000000000001,669.6,0.89600000000000002,0.78200000000000003,215.7,0.90280000000000005,0.61799999999999999,44.6,664.6,"CLU00020193",7.2789999999999999,2224,14.4,22.3,13.3,50.4,0,8992]
["CLU137001","I13700","ITA-13700","CAPTAN TULLIOS","ZIP 25-ILC  OD","SICILCRAFT/ACOM","INZERILL-ALBEGGIAN",2000,"C.N.GELA","CASSARA' TULLIO","CLUB","S",400,"9/3/2016","10:58:26",7.73,7.5380000000000003,1.6020000000000001,2.4900000000000002,1608,103.9,0.16,685,0.90739999999999998,743.9,0.60799999999999998,33,1124.3,909.4,785.5,716.9,677.9,656.5,620.79999999999995,1074.4000000000001,873.7,766.8,709.2,676.2,654.20000000000005,616.29999999999995,944,762.6,664.9,607.4,570.79999999999995,545.5,510.1,995.4,798.9,692.6,629.9,590.4,563.4,525.9,1157.3,893.8,745.2,653.6,592.6,548.20000000000005,482.9,43.3,42,40.9,38.9,38.299999999999997,38.1,38.299999999999997,146.30000000000001,150.69999999999999,153.30000000000001,167,180,180,180,1164.3,961.5,847.7,795.9,775.8,766.7,758.7,758.1,635.20000000000005,581.70000000000005,560.4,552.1,547.79999999999995,538.5,711.9,605.79999999999995,565.4,543.20000000000005,532.79999999999995,526.9,516.5,674,586.1,551.70000000000005,523.5,499.9,488.8,481,677.8,584.6,543.70000000000005,521.79999999999995,492.9,466.8,441,689.2,583.20000000000005,541.70000000000005,501.4,465.2,446.5,416.1,713.4,595.29999999999995,550.1,512.4,473.7,434.2,389.8,793.3,645.79999999999995,576.1,540.29999999999995,503.8,467.2,391.9,939.1,742.3,630.20000000000005,571.6,538.6,504.6,437.1,1084.4000000000001,857.2,723.4,638,580,546.29999999999995,483,0.85940000000000005,1.1106,1.2636000000000001,0.66379999999999995,0.90469999999999995,1.0408999999999999,674.6,0.88939999999999997,0.81,237.3,0.90180000000000005,0.627,54.7,665.3,"CLU00018676",7.2889999999999997,2183,14.2,21.6,15.8,40.1,0,8993]
["CLUZIP25","GENGIS","ITA-GENGIS","GENGIS KHAN","ZIP 25-ILC  OD","SICILCRAFT/ACOM","INZERILL-ALBEGGIAN",2000,"C.N.GELA","BARRANCO GIUSEPPE MASSIMO","CLUB","S",400,"9/3/2016","10:58:34",7.73,7.5380000000000003,1.6020000000000001,2.4900000000000002,1608,103.9,0.16,685,0.90739999999999998,743.9,0.60799999999999998,33,1124.3,909.4,785.5,716.9,677.9,656.5,620.79999999999995,1074.4000000000001,873.7,766.8,709.2,676.2,654.20000000000005,616.29999999999995,944,762.6,664.9,607.4,570.79999999999995,545.5,510.1,995.4,798.9,692.6,629.9,590.4,563.4,525.9,1157.3,893.8,745.2,653.6,592.6,548.20000000000005,482.9,43.3,42,40.9,38.9,38.299999999999997,38.1,38.299999999999997,146.30000000000001,150.69999999999999,153.30000000000001,167,180,180,180,1164.3,961.5,847.7,795.9,775.8,766.7,758.7,758.1,635.20000000000005,581.70000000000005,560.4,552.1,547.79999999999995,538.5,711.9,605.79999999999995,565.4,543.20000000000005,532.79999999999995,526.9,516.5,674,586.1,551.70000000000005,523.5,499.9,488.8,481,677.8,584.6,543.70000000000005,521.79999999999995,492.9,466.8,441,689.2,583.20000000000005,541.70000000000005,501.4,465.2,446.5,416.1,713.4,595.29999999999995,550.1,512.4,473.7,434.2,389.8,793.3,645.79999999999995,576.1,540.29999999999995,503.8,467.2,391.9,939.1,742.3,630.20000000000005,571.6,538.6,504.6,437.1,1084.4000000000001,857.2,723.4,638,580,546.29999999999995,483,0.85940000000000005,1.1106,1.2636000000000001,0.66379999999999995,0.90469999999999995,1.0408999999999999,674.6,0.88939999999999997,0.81,237.3,0.90180000000000005,0.627,54.7,665.3,"CLU00018677",7.2889999999999997,2183,14.2,21.6,15.8,40.1,0,8994]
["CLUZIP25","MARCOP","ITA-MARCOP","MARCO POLO","ZIP 25-ILC  OD","SICILCRAFT/ACOM","INZERILL-ALBEGGIAN",2000,"C.N.GELA","BARRANCO GIUSEPPE MASSIMO","CLUB","S",400,"9/3/2016","10:58:44",7.73,7.5380000000000003,1.6020000000000001,2.4900000000000002,1608,103.9,0.16,685,0.90739999999999998,743.9,0.60799999999999998,33,1124.3,909.4,785.5,716.9,677.9,656.5,620.79999999999995,1074.4000000000001,873.7,766.8,709.2,676.2,654.20000000000005,616.29999999999995,944,762.6,664.9,607.4,570.79999999999995,545.5,510.1,995.4,798.9,692.6,629.9,590.4,563.4,525.9,1157.3,893.8,745.2,653.6,592.6,548.20000000000005,482.9,43.3,42,40.9,38.9,38.299999999999997,38.1,38.299999999999997,146.30000000000001,150.69999999999999,153.30000000000001,167,180,180,180,1164.3,961.5,847.7,795.9,775.8,766.7,758.7,758.1,635.20000000000005,581.70000000000005,560.4,552.1,547.79999999999995,538.5,711.9,605.79999999999995,565.4,543.20000000000005,532.79999999999995,526.9,516.5,674,586.1,551.70000000000005,523.5,499.9,488.8,481,677.8,584.6,543.70000000000005,521.79999999999995,492.9,466.8,441,689.2,583.20000000000005,541.70000000000005,501.4,465.2,446.5,416.1,713.4,595.29999999999995,550.1,512.4,473.7,434.2,389.8,793.3,645.79999999999995,576.1,540.29999999999995,503.8,467.2,391.9,939.1,742.3,630.20000000000005,571.6,538.6,504.6,437.1,1084.4000000000001,857.2,723.4,638,580,546.29999999999995,483,0.85940000000000005,1.1106,1.2636000000000001,0.66379999999999995,0.90469999999999995,1.0408999999999999,674.6,0.88939999999999997,0.81,237.3,0.90180000000000005,0.627,54.7,665.3,"CLU00018678",7.2889999999999997,2183,14.2,21.6,15.8,40.1,0,8995]
["CLU137241","I13724","ITA-13724","CAPTAN MAX","ZIP 25-ILC  OD","SICILCRAFT/ACOM","INZERILL-ALBEGGIAN",2000,"C.N.GELA","BARRANCO GIUSEPPE MASSIMO","CLUB","S",400,"9/3/2016","10:58:52",7.73,7.5380000000000003,1.6020000000000001,2.4900000000000002,1608,103.9,0.16,685,0.90739999999999998,743.9,0.60799999999999998,33,1124.3,909.4,785.5,716.9,677.9,656.5,620.79999999999995,1074.4000000000001,873.7,766.8,709.2,676.2,654.20000000000005,616.29999999999995,944,762.6,664.9,607.4,570.79999999999995,545.5,510.1,995.4,798.9,692.6,629.9,590.4,563.4,525.9,1157.3,893.8,745.2,653.6,592.6,548.20000000000005,482.9,43.3,42,40.9,38.9,38.299999999999997,38.1,38.299999999999997,146.30000000000001,150.69999999999999,153.30000000000001,167,180,180,180,1164.3,961.5,847.7,795.9,775.8,766.7,758.7,758.1,635.20000000000005,581.70000000000005,560.4,552.1,547.79999999999995,538.5,711.9,605.79999999999995,565.4,543.20000000000005,532.79999999999995,526.9,516.5,674,586.1,551.70000000000005,523.5,499.9,488.8,481,677.8,584.6,543.70000000000005,521.79999999999995,492.9,466.8,441,689.2,583.20000000000005,541.70000000000005,501.4,465.2,446.5,416.1,713.4,595.29999999999995,550.1,512.4,473.7,434.2,389.8,793.3,645.79999999999995,576.1,540.29999999999995,503.8,467.2,391.9,939.1,742.3,630.20000000000005,571.6,538.6,504.6,437.1,1084.4000000000001,857.2,723.4,638,580,546.29999999999995,483,0.85940000000000005,1.1106,1.2636000000000001,0.66379999999999995,0.90469999999999995,1.0408999999999999,674.6,0.88939999999999997,0.81,237.3,0.90180000000000005,0.627,54.7,665.3,"CLU00018679",7.2889999999999997,2183,14.2,21.6,15.8,40.1,0,8996]
["FRA16211a","F29391","FRA-29391","ZOU","ZOU 40","Home Construction","PLESSIS/MARIN",2003,"13007  -  MARSEILLE","BOUCHE Nicolas","CLUB","C",861,"2/9/2016","08:33:02",11.994999999999999,11.747999999999999,2.8220000000000001,4,6200,117.2,0.18,566.6,1.0975999999999999,615,0.70299999999999996,15,959.6,770.1,654.1,590.9,556.29999999999995,531.70000000000005,498.6,912.6,731.5,631.29999999999995,577.9,547.29999999999995,525,490,793.1,635,549.1,498.2,465.8,443.4,412.3,854.3,678.3,581.20000000000005,523,485.7,460.1,426.4,975,746.5,616.70000000000005,536.9,484.7,447.8,395.8,44,41.7,40.9,38.6,37.200000000000003,36.799999999999997,36.1,140.5,146.69999999999999,147,154.4,164,180,180,988.2,801,691.9,643.1,620.6,607.5,590.79999999999995,642.20000000000005,528,471.5,452.3,444,439,430.4,601.70000000000005,499.2,457,438.9,429.8,423.8,415.2,568.5,479.4,446.5,424.8,406.3,395.7,385.7,573.1,482.2,448.2,426.3,402.9,380.8,356.2,587.5,479.6,439.3,412.7,396.9,380.5,352.7,605.6,490.8,446,416.1,384.7,366.4,339,675.2,539.79999999999995,468.7,437.4,409.2,379.1,318,806.3,640.1,533.70000000000005,470.9,440.4,414.8,359.6,931,739.2,616.29999999999995,538.70000000000005,492.1,455.9,406.5,1.0178,1.3532,1.5561,0.78049999999999997,1.0918000000000001,1.2846,0,0,0.86699999999999999,165.8,1.0926,0,0,549.20000000000005,"FRA00004950",11.265000000000001,7376,35.299999999999997,52.2,39.5,126.9,0,8997]
["GRE001106","GR1728","GRE-1728","MEDITERRANEO","ZUANELLI 34","CANTIERE ZUANELLI","SPARKMAN & STEPHENS",1984,"IO KERKYRAS","ILIAS AGGELOPOULOS/AIKATERINI TOLLA","CLUB","C",539,"7/4/2016","19:29:46",10.06,8.1530000000000005,1.849,3.15,5487,128.4,0.61,758.8,0.82509999999999994,818,0.50600000000000001,0.9,1311.8,1041.0999999999999,891.6,792.2,728.1,688.3,655.5,1248.0999999999999,1003.2,866.5,778.3,724.7,694.3,666.1,1073.0999999999999,855,734.7,662.5,617.20000000000005,587.9,553.6,1073.0999999999999,855,734.7,662.5,617.20000000000005,587.9,553.6,1327.8,1009,827.3,715.4,643.20000000000005,594.20000000000005,531.4,45,43.3,43.3,43.7,42.3,41.3,40.9,156.1,163.30000000000001,170.2,172.6,172.8,176.7,179,1304.0999999999999,1075,952.4,863.3,815.5,792.5,779.2,835.6,700.9,617.4,573,553.29999999999995,545.20000000000005,540,780,657,584.6,553.4,536.70000000000005,527.9,522.29999999999995,735.4,618.70000000000005,563.1,538.5,521.9,508.6,494.5,739.4,623.4,565.6,540.6,522.1,503.5,482.3,813.3,672.2,586.9,550,528.4,510.1,474.8,867.4,712,613.5,562,536.5,517.4,481.6,989.2,785.3,672.5,594.20000000000005,555,532.6,496.6,1145.9000000000001,883.3,742.6,649.9,585,551.29999999999995,512.6,1319.5,1007.2,830.9,721.1,640.70000000000005,584.1,531.70000000000005,0.749,1.0150999999999999,1.1762999999999999,0.57379999999999998,0.81320000000000003,0.98409999999999997,0,0,0.58199999999999996,105.8,0.81830000000000003,0,0,733.2,"GRE01005552",7.0679999999999996,6203,24,23.5,38.799999999999997,0,0,8998]
["CLU155451","I15545","ITA-15545","KEIRA","ZUANELLI 40","ZUANELLI","SPARKMAN & STEPHENS",1988,"LNI TREVISO","CAREGNATO GIANLUCA","CLUB","C",400,"5/4/2016","20:43:18",12.222,10.218,2,3.89,9585,124.8,0.56000000000000005,654.9,0.94740000000000002,712.4,0.61799999999999999,22.7,1093.7,888.4,773.3,693.2,641.5,608.79999999999995,579.70000000000005,1051.9000000000001,858.3,749.9,681.6,639.29999999999995,613.29999999999995,586,911.5,732.7,635.1,577,540.6,516.79999999999995,488.7,963.5,769.4,662.3,597.79999999999995,557,530.1,497.8,1120.0999999999999,862.1,714.7,623.29999999999995,563.5,522.20000000000005,467.1,45.1,43.3,43.3,43.7,42.4,41.2,40.9,146.1,150.6,152.69999999999999,154.9,171.8,180,180,1157.9000000000001,960.4,851.9,776.8,734,711.5,694.8,742.2,626.20000000000005,553.29999999999995,514.4,496.6,488.6,482.4,692.8,587.1,524,496.4,481.7,473.4,466.9,652.20000000000005,553,504.4,482.7,468.6,457.2,442.5,652.9,554,504.7,480.8,469,456.3,433,673.1,555.20000000000005,498.5,473.6,454.8,440.2,424.6,691.2,570.4,505.5,477.9,458.6,440.1,411.1,758.6,621.20000000000005,535.9,494.4,472.4,454.2,418.6,891.6,707,602.70000000000005,533.70000000000005,494.8,473.9,439.8,1029.5,816.4,694.8,609.5,549,506.2,464.6,0.88529999999999998,1.1677999999999999,1.3351,0.68110000000000004,0.93330000000000002,1.1136999999999999,636.6,0.94259999999999999,0.73399999999999999,152.19999999999999,0.94330000000000003,0.621,25.5,636.1,"CLU00019160",8.8040000000000003,10519,34.6,38.6,49.3,109.7,0,8999]
["CLU100631","I10063","ITA-10063","BONAVENTURA","ZUANELLI/ALPA 34","ZUANELLI","SPARKMAN & STEPHENS",1970,"VELICA SMARE' ASD","ANDRIOLI GIOVANNI","CLUB","C",500,"7/6/2016","20:16:42",10.06,8.1530000000000005,1.819,3.15,5093,124.7,0.27,692.8,0.90029999999999999,749.8,0.625,53.2,1121.3,921.7,802.2,725.8,679.4,654.4,630,1076.7,887,779.8,717.1,680.8,659.1,635.9,950.3,769.5,672.5,616,581.29999999999995,559,532,990.5,797.9,693.7,632.70000000000005,595.1,570.9,542.1,1162.0999999999999,901.6,754.4,664.2,605.79999999999995,565.4,510.5,44,42.8,43.7,41.8,40.200000000000003,39.4,39.299999999999997,147.5,151.69999999999999,152.5,159.5,180,180,180,1158.8,978.8,868.9,806,775.6,760.3,754.3,753.8,640.5,578.20000000000005,553.70000000000005,543,537.70000000000005,534.20000000000005,710.9,604.29999999999995,560.20000000000005,539.6,527.70000000000005,521.9,517.70000000000005,675,581,547.20000000000005,527.20000000000005,511.5,499,488.8,677.7,582.79999999999995,548.79999999999995,527.70000000000005,512.4,496.3,471.8,719.1,594.70000000000005,546.9,520.79999999999995,497.5,480.6,457.4,738.7,608.4,553,525.70000000000005,502,478.9,448.6,806.2,662,576.5,541.5,517.79999999999995,495.1,454.4,938.6,749.5,639,571.29999999999995,540.6,518.70000000000005,477.2,1083.8,864.7,735.5,645.6,583.1,548.5,505.7,0.85289999999999999,1.0978000000000001,1.2312000000000001,0.66080000000000005,0.89290000000000003,1.0361,676.7,0.88670000000000004,0.77100000000000002,210.5,0.88959999999999995,0.63100000000000001,59.6,674.4,"CLU00020161",7.5090000000000003,5807,23.8,23.4,46.9,81.7,68.099999999999994,9000]
["nor666918",666918,"NOR 15359","Kamloops",{"$f":"-Squib","v":{"$error":"#NAME?"}},"Oliver Lee","Oliver Lee",1967,null,"Christopher Phelan","CLUB","C",277,"1/4/2016","10:50:44",5.73,5.282,0.997,1.87,671,125.3,0.24,844.1,0.74129999999999996,910.6,0.47699999999999998,17.5,1403.7,1139.2,982.8,875.3,818.3,787.5,748.9,1365.7,1111,968.7,879.9,825.5,792.5,753.3,1173,944.1,819.1,744.1,695.6,661.9,615.9,1237.5999999999999,989.7,853.9,772.8,721.3,686.4,640.1,1434.2,1105.7,918.3,801.3,722.8,665.5,581.29999999999995,45.1,43.8,44.1,42.2,40.6,39.9,39.799999999999997,149.5,153.80000000000001,156,180,180,180,180,1545.2,1276.2,1120.0999999999999,1014.9,955.5,927.2,915.3,989.5,825.7,732.4,690.7,667.3,651,637.5,922.1,771.4,702.7,671.4,648.4,628.5,603.20000000000005,865.4,732,682.1,651.70000000000005,626.9,602.1,559.70000000000005,834.3,705,659.1,622.29999999999995,588.1,571.5,543.1,820.3,698.4,654.1,614.9,575,539,483.3,844.7,708.9,661.6,625.79999999999995,588.20000000000005,551.4,472.9,951.1,772.5,686.1,648.79999999999995,612.20000000000005,575.4,505.8,1093.0999999999999,871.4,738.3,678,644.20000000000005,609.79999999999995,543.4,1262.2,1002.2,845.5,735.7,681.2,647.9,582.5,0.68979999999999997,0.90359999999999996,1.0434000000000001,0.53090000000000004,0.73460000000000003,0.86460000000000004,820.5,0.73129999999999995,0.58499999999999996,165.8,0.73299999999999998,0.48499999999999999,26.7,818.6,"nor00000077",4.806,1029,7.7,10.199999999999999,7.1,20.6,0,9001]
["UKR0695.1","UKR0695M","UKR-695","MaMaY",null,"A.Shaposhnikov","A.Shaposhnikov",2002,null,"Sergii Grek","CLUB","C",360,"25/5/2016","14:45:48",8.17,7.6630000000000003,2.202,2.77,3289,124.5,0,664.5,0.93959999999999999,718.4,0.72499999999999998,106.3,1030,854,750.7,697,665.7,645.9,618.1,990.7,823,737.8,694.1,667.9,648.70000000000005,626.9,889.7,729.3,646.20000000000005,599.70000000000005,571.79999999999995,553.4,528.9,944.5,767.4,673.8,620.4,588,567,541,1082.4000000000001,850.2,721.6,644.4,595,560.5,511.6,41.4,41,40.1,38.6,38.1,37.6,37.700000000000003,147.1,150.5,154.19999999999999,171.3,180,180,180,1074.8,911.2,822.3,789.3,773.2,760.7,754.6,714.1,608.9,570,558.70000000000005,553.29999999999995,549.6,543.20000000000005,674.4,585.5,555.29999999999995,544.4,539,535.9,528.1,640.29999999999995,570.1,543.4,526.4,517.29999999999995,512.1,506.3,643.20000000000005,571,543.9,523.9,505.2,491.3,480.8,643,560.79999999999995,532.1,518,505.1,493.1,463.3,661.7,568.70000000000005,534.29999999999995,506.9,490.9,478.2,457.4,728.6,601.1,552.20000000000005,524.20000000000005,496.3,468.8,432.8,853.2,689.9,593.79999999999995,549.5,523.29999999999995,497.4,449,985.2,796.9,679.1,604.70000000000005,558.20000000000005,531.1,481.7,0.91759999999999997,1.1317999999999999,1.2384999999999999,0.71650000000000003,0.93730000000000002,1.054,0,0,0.98299999999999998,341.3,0.92300000000000004,0,0,650.1,"UKR00007474",7.4109999999999996,3922,17.899999999999999,34.799999999999997,19.5,73.599999999999994,0,9002]
["pol85","trochusI","POL-5870","TROCHUS II",null,"E.BANASZAK","E.GINTER",2004,"70-888 Szczecin","ZSZMiPO","INTL","S",403,"3/8/2016","15:34:46",7.85,7.3419999999999996,1.772,2.6,1482,118.9,0,658.9,0.94040000000000001,717.7,0.66600000000000004,58.2,1049.0999999999999,851.7,750.9,699.1,667.6,643.29999999999995,609.70000000000005,999.5,819.6,735,691.7,662.6,637.70000000000005,603.4,892.6,727.9,640.79999999999995,590,557.20000000000005,533.70000000000005,498.6,942,762.6,666.8,611,575.6,550.9,516.4,1095,852.5,717.2,634.20000000000005,578.6,537.5,475.7,42.6,41.7,39,38.1,37.4,36.799999999999997,37.799999999999997,145.19999999999999,149.19999999999999,154.6,171.9,180,180,180,1067.2,886.4,810.1,782.9,769.3,755.2,758,699.4,598.9,569.4,558.79999999999995,553,546.9,540.29999999999995,658.3,580.1,553.20000000000005,540.6,533,528.4,514.70000000000005,627.4,566.79999999999995,535.20000000000005,510,496.7,489.2,476.8,630.9,567.70000000000005,535.5,502,473.2,455,442.8,651.29999999999995,567.1,524,487.1,465.2,445.3,404.6,674.5,576.79999999999995,534.6,490,448.2,425.6,384.9,752.5,614.6,561,522.79999999999995,481.5,439.8,348.9,892.8,707.6,605.20000000000005,557.6,521.5,483.5,402.1,1030.9000000000001,817.1,691.7,615.4,565.79999999999995,531.4,461.4,0.91420000000000001,1.1436999999999999,1.2894000000000001,0.71020000000000005,0.93589999999999995,1.06,658.3,0.91149999999999998,0.96599999999999997,327.60000000000002,0.93389999999999995,0.68899999999999995,85.9,642.5,"pol00000077",7.3090000000000002,2016,13.2,25.3,16.7,45.9,0,9003]
["AUS236200",2362,45,"FIDELIS",null,"LIDGARD","KNUD REIMERS",1935,"NSW 2088","Nigel A Stoke","INTL","C",760,"8/8/2016","16:11:34",18.510000000000002,15.196,2.4430000000000001,3.06,14901,150.80000000000001,0.25,546.1,1.123,601.1,0.71299999999999997,7.1,946.4,755.4,643.29999999999995,579.4,541.29999999999995,515.6,476.1,904.4,721.8,622.70000000000005,568.20000000000005,535.9,513.20000000000005,478.1,770.9,613.9,528.5,478.4,447.3,426.4,397.5,850.3,669.6,569,508.1,469.1,442.7,409,952,725.6,596.79999999999995,517.79999999999995,466.5,430.9,381.9,45.1,44.2,44,43.5,42.9,41.8,40.9,139.69999999999999,138.6,143.19999999999999,150.69999999999999,156.1,166.3,180,1009.6,812.9,712.3,660.4,630,610.5,576.70000000000005,644.6,523.70000000000005,459.1,430.2,416.4,408.9,395.7,597,487.4,430.3,407.8,398.2,392.8,384.4,557.20000000000005,456.5,409.8,390.8,380,374.1,367.4,560.20000000000005,458.1,409.5,389.2,375.7,363.7,348.7,559.6,447.2,408.9,393.5,382.9,373,351,574,456.2,402.6,385.7,374.4,364.4,345.8,634.9,502.8,426.2,392.8,372.5,352.5,326.10000000000002,764.9,604.4,497.4,431.8,397.4,377.5,339.6,883.2,697.9,574.29999999999995,498.5,452.5,420.7,375.5,1.0438000000000001,1.4126000000000001,1.6176999999999999,0.79330000000000001,1.1142000000000001,1.3308,0,0,0.85799999999999998,146.9,1.1307,0,0,530.70000000000005,"AUS00000292",12.711,16558,50.4,69.2,54.2,213.9,0,9004]
["UKR0026_3","UKR0026_","UKR 26","Oblako",null,"Alexandr Yachts","Oyster 28",1999,null,"Kalnoy S.","CLUB","C",401,"31/8/2016","15:02:26",7.9669999999999996,6.7229999999999999,1.4490000000000001,2.97,2920,134.6,0.23,740,0.84199999999999997,801.7,0.59499999999999997,60.8,1180.9000000000001,979.2,855.4,774,729.8,706.4,679.7,1139.5,946,837.7,773.4,736,713.4,689.7,1007.5,819.4,719,660.5,624.29999999999995,600.5,570.70000000000005,1050.8,850.2,742.3,679.1,639.70000000000005,613.79999999999995,582.29999999999995,1229.8,958.8,805.7,711.4,649.6,606,544.20000000000005,43.5,42.8,43.5,42,41.1,40.299999999999997,40.299999999999997,149.19999999999999,154.19999999999999,154.1,174.2,180,180,180,1241.9000000000001,1057.0999999999999,946.5,881.2,848.3,831.2,825.9,811.5,689.9,629.29999999999995,603.20000000000005,588.70000000000005,581.1,576.29999999999995,764.4,652.29999999999995,608.6,587.29999999999995,572.1,560.79999999999995,551.79999999999995,723.3,627.9,593.5,572.6,554.20000000000005,537.5,516,724.8,628.4,587.1,560.5,543.29999999999995,533.1,504.5,735.4,623.79999999999995,584.29999999999995,556,528.5,505.6,483.8,758.9,635.9,590.6,562.20000000000005,534.9,510.4,473.7,835.2,690.7,611.9,579.70000000000005,553.1,527.1,485.7,969.9,782.6,667.2,606,577.20000000000005,552.29999999999995,506.4,1120,901.3,764.3,666.9,611.29999999999995,581.6,533.6,0.80569999999999997,1.0235000000000001,1.1456,0.625,0.83620000000000005,0.96120000000000005,0,0,0.755,239.6,0.83120000000000005,0,0,721.8,"UKR00007543",6.2329999999999997,3444,15.4,22.9,21,49.4,0,9005]
["UKR0074_1","UKR0074_","UKR 74","Nadin",null,"Yahtclub SLVC","Scherbanos, Basele",1997,null,"Baselev O.M.","CLUB","C",691,"15/9/2016","09:28:12",11.3,10.336,2.1819999999999999,3.58,5025,115.6,0,583.70000000000005,1.0567,638.79999999999995,0.69399999999999995,24.1,976.6,793,681.2,616.5,579.1,554.20000000000005,523.1,935.1,757.8,660.9,606.29999999999995,573,549.29999999999995,516.29999999999995,804.6,650.29999999999995,566.79999999999995,517.20000000000005,485.1,462.5,430.8,873.5,698.1,601.9,544.29999999999995,507.4,482.1,447.9,999.6,769.8,639.29999999999995,558.70000000000005,505.4,467.1,411.8,44.2,42.8,42.1,40,38.5,37.4,36.5,140.69999999999999,147.9,149,155.80000000000001,172.3,180,180,1025.7,840.8,736,681.2,652.9,636.6,623.79999999999995,662.2,550.70000000000005,496.5,474.8,465,458.9,452.4,612.70000000000005,512,481,461.9,450.6,443.1,434.8,546,479.7,458.6,447.9,430.1,416,402.8,527.70000000000005,473.6,447.4,427.8,415.5,405.4,375.3,559.20000000000005,491,458.3,430.7,403,382,353.2,609.20000000000005,504.2,464.9,435.3,404.3,380.3,342.6,677.2,546.4,485,455.7,427.5,397.6,335.8,803.2,645.29999999999995,542.5,485,457.4,431.6,377.5,927.4,745.2,626.4,551.70000000000005,505.4,471.7,422.5,1.0065,1.3023,1.4910000000000001,0.76290000000000002,1.0490999999999999,1.23,0,0,0.86399999999999999,184,1.0525,0,0,570.1,"UKR00007545",9.9730000000000008,5955,26.3,44.3,36.1,111.5,107.6,9006]
["UKR1223.1","UKR1223_","UKR1223","Virineya",null,"Galeta A.D.","Strujilin A.",2011,null,"Galeta A.D.","CLUB","C",410,"24/5/2016","20:18:46",8.91,7.2690000000000001,1.651,3.11,2970,116.1,0.04,733.9,0.84830000000000005,795.7,0.53700000000000003,11.5,1259.8,1005.7,860.5,763.5,709.9,682.6,658.4,1210,970.4,836.1,756.1,712.4,688.6,667.6,1034.5,824.9,710.4,643,601.79999999999995,575.79999999999995,546.70000000000005,1084.8,860.8,737.5,664.2,619.1,590.4,557.5,1272.7,971,799.5,694.4,626.5,580,517.1,45.4,44.2,44.3,43.3,42.2,41.8,42.3,148.1,151.6,152.69999999999999,160.30000000000001,180,180,180,1332.3,1086.2,950,859.9,823.4,808.7,811,851.2,701.1,615.4,574.79999999999995,559.6,553.6,551,792.1,655.1,585.79999999999995,556.29999999999995,540.70000000000005,533.4,528.79999999999995,744.7,619,566.4,540.79999999999995,521.20000000000005,506.4,493.8,747.8,617.4,558.9,531.29999999999995,519.20000000000005,500.3,473.2,753.3,613.20000000000005,556.79999999999995,525.9,497.8,476,457.1,782.1,632.70000000000005,565.20000000000005,532.9,504.9,479.2,440.7,880.9,700.8,596.6,552.79999999999995,524.4,497.8,452.6,1028.2,801.9,669.4,588.20000000000005,550.6,524.1,476.6,1187.3,925.2,771.1,667.2,596.29999999999995,556.5,505.9,0.77839999999999998,1.05,1.1981999999999999,0.59589999999999999,0.84099999999999997,0.99209999999999998,0,0,0.63700000000000001,139.9,0.84540000000000004,0,0,709.8,"UKR00007472",6.65,3506,17.600000000000001,26.4,23,53.4,0,9007]
["KOR042/12","Menbal","KOR-1234","Menbal",null,"Chita Japan","Van de Stadt",1983,"601-054 Busan Korea","Jaeho Lee","CLUB","C",606,"10/4/2016","11:28:38",11.975,9.3469999999999995,2.1080000000000001,3.92,6296,114.8,0.02,629.70000000000005,0.98050000000000004,688.4,0.65700000000000003,33.9,1046.8,848.6,733.3,666.3,624.70000000000005,599.4,572.70000000000005,998.4,812.8,711.1,655.1,622.79999999999995,602.1,578.20000000000005,871.4,702,610.70000000000005,557.5,524.70000000000005,503.6,477.9,911.1,730.2,632,574.1,538.20000000000005,514.70000000000005,485.6,1074.4000000000001,827.5,687.9,602.29999999999995,546.70000000000005,508,454.9,44.4,43.8,43.2,42.2,41.2,40.6,40.799999999999997,145.80000000000001,150.4,152.1,157.1,180,180,180,1073.3,891.6,788,739,715.4,703.1,696.7,693.1,579.4,521.70000000000005,500.3,491.9,487.5,483.1,648.9,545.6,502.6,483.7,475.2,470.4,466.7,611.79999999999995,522.5,488.6,468.1,452.9,444.7,438.1,613.20000000000005,523.29999999999995,488.8,467.4,448.3,432.3,415.1,648.6,533.6,488.2,460.7,436.5,422.7,405.6,671,548.9,495.4,467.1,442.5,420.5,391.1,745.7,605.5,524.70000000000005,487.4,462,438.2,397.3,883.7,697.6,588.6,520.70000000000005,486.9,462.9,420.4,1020.4,805.5,678.6,593.5,534.1,495.7,448.8,0.92900000000000005,1.2128000000000001,1.3678999999999999,0.71230000000000004,0.97340000000000004,1.133,0,0,0.82499999999999996,200.3,0.97809999999999997,0,0,613.4,"KOR11001321",8.7560000000000002,7105,30.3,50.4,42.4,89.4,0,9008]
["GRE000583","GR1446","GRE-1446","ELISAVET",null,null,null,0,"LOIATh","NIKOS TALLAS - HRISTOS TALLAS","CLUB","C",400,"1/6/2016","21:32:30",8.4499999999999993,6.9630000000000001,1.5740000000000001,2.74,3146,117.6,0.59,866.6,0.72919999999999996,925.7,0.41199999999999998,-32.6,1548,1209.0999999999999,1021.9,901.4,811.6,750.9,707.7,1490.9,1177.5,1003.5,889.9,809.5,758.5,723.6,1256.7,988.9,837.7,744.4,684.1,644.4,600,1256.7,988.9,837.7,744.4,684.1,644.4,600,1541.6,1159.8,939.7,801.9,711.4,649.6,572.29999999999995,46.4,45.2,44.3,44.5,44.1,42.5,42.1,172.6,173.3,174.4,175.4,175.6,176.6,178.6,1597.4,1286.0999999999999,1119.4000000000001,1007.1,917.9,864.2,843.7,1009.9,824.4,720.2,647.70000000000005,605.5,584.79999999999995,574.6,931.6,769.3,670.6,612.6,583.79999999999995,566.79999999999995,553.4,869.9,722.7,632.29999999999995,589.79999999999995,567.70000000000005,550.6,524.29999999999995,877,728.2,635.79999999999995,591.79999999999995,567.6,547,513.6,963.6,779.8,669.4,605.20000000000005,574.79999999999995,554,515.6,1029.3,819.2,700,622.1,584.20000000000005,561.70000000000005,523.6,1166.5999999999999,906.6,766.9,672.1,611.5,580.29999999999995,541.1,1339.2,1020.8,845.9,736.7,656.3,605.79999999999995,558.4,1498.5,1132.0999999999999,924.4,795.8,705.2,637.70000000000005,571.79999999999995,0.63500000000000001,0.89510000000000001,1.0790999999999999,0.48970000000000002,0.71450000000000002,0.90010000000000001,0,0,0.45,42.8,0.72240000000000004,0,0,830.5,"GRE01006118",5.68,3673,17.7,16,18.5,0,0,9009]
["GRE000706","GR940","GRE-940","FIVOS",null,"DICASTELLI GALEPIO",null,1995,"SEANATK","ATHANASSIOS HARIS","CLUB","C",250,"16/6/2016","12:36:06",10.565,8.8409999999999993,1.607,3.58,7249,110.4,0.72,728.7,0.84299999999999997,800.7,0.54700000000000004,16.3,1226.3,995.8,868.5,779.4,719.7,685.8,661.3,1186.3,968.4,847.1,769.5,721.5,694.6,672.4,1016.2,816.1,706.5,641.20000000000005,600.79999999999995,575.29999999999995,548.20000000000005,1064.0999999999999,850,731.8,660.8,616.29999999999995,587.9,556.5,1251.9000000000001,962.3,796.4,693,625.20000000000005,578.29999999999995,516.1,46.9,45.4,45.3,46.1,45.3,44.4,44.4,147.6,151.5,154.1,156.4,174.6,180,180,1327.1,1102.0999999999999,981.4,895.8,845.9,824.7,821.2,837,705.2,626,572.20000000000005,549.70000000000005,541.6,538.6,772.7,656.6,581.70000000000005,543.4,526.1,519.79999999999995,516.70000000000005,720.7,613.1,551.79999999999995,524.20000000000005,508.1,497.3,489.6,719.3,612.79999999999995,552.5,520.9,508.5,494.7,473,742.1,614,543.79999999999995,513.6,492.8,476,461,761.7,629.20000000000005,551.9,518.20000000000005,497,477.4,445.3,835.5,682.5,587,537,511.3,491.5,454.4,974.7,771,657,578.70000000000005,536.20000000000005,512.5,476,1125.5,889.5,755.7,662.9,593.5,547,501.4,0.79300000000000004,1.0508999999999999,1.1996,0.60750000000000004,0.83109999999999995,0.98519999999999996,0,0,0.66200000000000003,159.6,0.84719999999999995,0,0,708.2,"GRE01006244",7.1989999999999998,8048,29.2,23.8,45.1,84.8,0,9010]
["GRE000056","GR230","GRE-230","STEELHEAD",null,null,null,1983,"NOE","JOHN ANTONY EDWARDS","CLUB","R",743,"14/9/2016","12:52:02",14.83,11.031000000000001,1.853,2.69,10166,154.80000000000001,0.48,675.2,0.89139999999999997,757.3,0.56200000000000006,-2.6,1173.9000000000001,939.4,814.9,734.6,686,653.1,607.20000000000005,1129.8,909.7,790.3,719.6,676.3,648,611.9,951.4,759.1,653.79999999999995,591.4,552.70000000000005,527.5,497,1021.7,807.2,687.6,615.1,569,538.70000000000005,503.3,1184.4000000000001,902.9,741.7,641.4,575.29999999999995,529.29999999999995,467.7,47.3,44.6,44.1,44.8,45.4,45.1,44.9,145.4,147.30000000000001,146.80000000000001,146.80000000000001,148.69999999999999,174.2,178.1,1267.0999999999999,1034.0999999999999,914.5,848.1,804.3,776.8,752.5,793.5,657.3,586.6,538.1,512.70000000000005,499.4,489.5,722.7,604.1,533.5,498,480.4,471.2,462.8,662.7,550.79999999999995,488.9,465.1,454,445.4,437.7,659.2,548.29999999999995,486.1,459.4,443.9,434.1,421,683.1,554.4,481.4,454.2,443.7,430.4,412,707.8,575.4,492.8,456.9,436.1,423.6,407.6,791.1,635.1,536.1,479.1,451.5,432.3,397.8,935.9,731.6,619.4,537.9,491.6,464.7,432.3,1080.5999999999999,844.7,715.2,621.1,567.70000000000005,529.29999999999995,461.8,0.84550000000000003,1.1404000000000001,1.3085,0.63880000000000003,0.88090000000000002,1.048,0,0,0.71,168.7,0.91200000000000003,0,0,657.9,"GRE01006594",8.6159999999999997,11170,38.799999999999997,50.5,36.299999999999997,0,91.7,9011]

{"sheet":"Feuil5","index":5,"n_rows":182,"n_cols":1,"rows_kept":182,"cut":false,"hidden":true,"merged":[]}
["A"]
["B"]
["C"]
["D"]
["E"]
["F"]
["G"]
["H"]
["I"]
["J"]
["K"]
["L"]
["M"]
["N"]
["O"]
["P"]
["Q"]
["R"]
["S"]
["T"]
["U"]
["V"]
["W"]
["X"]
["Y"]
["Z"]
["AA"]
["AB"]
["AC"]
["AD"]
["AE"]
["AF"]
["AG"]
["AH"]
["AI"]
["AJ"]
["AK"]
["AL"]
["AM"]
["AN"]
["AO"]
["AP"]
["AQ"]
["AR"]
["AS"]
["AT"]
["AU"]
["AV"]
["AW"]
["AX"]
["AY"]
["AZ"]
["BA"]
["BB"]
["BC"]
["BD"]
["BE"]
["BF"]
["BG"]
["BH"]
["BI"]
["BJ"]
["BK"]
["BL"]
["BM"]
["BN"]
["BO"]
["BP"]
["BQ"]
["BR"]
["BS"]
["BT"]
["BU"]
["BV"]
["BW"]
["BX"]
["BY"]
["BZ"]
["CA"]
["CB"]
["CC"]
["CD"]
["CE"]
["CF"]
["CG"]
["CH"]
["CI"]
["CJ"]
["CK"]
["CL"]
["CM"]
["CN"]
["CO"]
["CP"]
["CQ"]
["CR"]
["CS"]
["CT"]
["CU"]
["CV"]
["CW"]
["CX"]
["CY"]
["CZ"]
["DA"]
["DB"]
["DC"]
["DD"]
["DE"]
["DF"]
["DG"]
["DH"]
["DI"]
["DJ"]
["DK"]
["DL"]
["DM"]
["DN"]
["DO"]
["DP"]
["DQ"]
["DR"]
["DS"]
["DT"]
["DU"]
["DV"]
["DW"]
["DX"]
["DY"]
["DZ"]
["EA"]
["EB"]
["EC"]
["ED"]
["EE"]
["EF"]
["EG"]
["EH"]
["EI"]
["EJ"]
["EK"]
["EL"]
["EM"]
["EN"]
["EO"]
["EP"]
["EQ"]
["ER"]
["ES"]
["ET"]
["EU"]
["EV"]
["EW"]
["EX"]
["EY"]
["EZ"]
["FA"]
["FB"]
["FC"]
["FD"]
["FE"]
["FF"]
["FG"]
["FH"]
["FI"]
["FJ"]
["FK"]
["FL"]
["FM"]
["FN"]
["FO"]
["FP"]
["FQ"]
["FR"]
["FS"]
["FT"]
["FU"]
["FV"]
["FW"]
["FX"]
["FY"]
["FZ"]

{"sheet":"Feuil3","index":6,"n_rows":3524,"n_cols":3,"rows_kept":3524,"cut":false,"hidden":true,"merged":[]}
["TYPE","BUILDER","DESIGNER"]
[747,"EMBARCACIONES PCG","ECHENIQUE Inigo"]
["1/2 TON","P.CUESTA","BRIAND-PHELIPON"]
["1/2 TON ONE OFF","PEZZINI"]
["1/2 Tonner","BENETEAU","Berret"]
["1/4 Ton","Melander","Holland"]
["1/4 TON ONE OFF","Nicholson","A.MOHNNAUPT"]
["11m OD","Broager G.","J.Fauroux"]
["1D35","Caparros","Magnus Rassy"]
["1D48","Hallberg Rassy","R Holland"]
["1-TON","Grimstad Norge","Ron Holland"]
["3/4 IOR","?","Nelson Marek"]
["3/4 TONNER","NN","NELSON/MAREK"]
["30 Skerry Cruiser","Pacesetter Yachts","Reichel Pugh"]
["32DUE","Precision Boats","GILGENAST"]
["335 Grand Large","Carroll Marine","FARR"]
["40 Skerry Cruiser","TPI","MALETTO-NAVONE-ST."]
["5.5 Metre","FRANKLIN","NORLIN"]
["5.5m","DE DOOD","Jeno Benacsek"]
["50 ' IOR","MACIANTI","S. CARLINI"]
["52 KVM KRYSSER","CROSATO","Umberto Felci"]
["6 METRI S.I.","Style Yacht","A. Harms"]
["6.5 KR","AST. PIERMARINE","Mr E. B. Fay"]
["60-er Seefahrtkreu","Dufour Yachts","Chance & Co"]
["6MR","Balatonfured SY","JUDEL/VROLIJK"]
["7 m S","Mr I, Perdriau","Anker Johan"]
["7.9m CYD","Hald & Johansen","BAGLIETTO"]
["75 skerry Cruiser","SCHUETZ/KNIERIM","RHODES"]
["75m2 nationale kru","Anker & Jensen","ANKER"]
["8 M","BAGLIETTO","SPARKMAN & STEPHENS"]
["8 Metres JI","MATTHIESSEN&PAULSE","Johan Anker"]
["8 MOD","ABEKING&RASMUSSEN","J. Sprecher"]
["8M one design","Farner & Stierlin","W van Hacht"]
["8mIR","W von Hacht","J Anker"]
["8MOD","CAMPER & NICHOLSON","CAMPER & NICHOLSON"]
["8mR","--","Jakopin & Jakopin"]
["998DS",null,"--"]
["A - 40","D+S","BJARNE AAS"]
["A&R 36","W. Hacht","J+J"]
["A.C.","JPK COMPOSITES","G. L Watson"]
["A-27 DK","A&R","W. Hacht"]
["A31","Woof Boats","VALER JAQUES"]
["A-31","ARCHAMBAULT","A. MANGELSDORF"]
["A-31 Bulb Keel","AAHGREEN BAATBYG","E.Dubois"]
["A-31 IRC Keel","Jachtw. Huisman","JOUBERT-NIVELT"]
["A-35","ALBIN MARINE","Joubert/Nivelt"]
["A-35 Asym","Morebas","LENNART AAHGREEN"]
["A-35 Asym Twin R","ACTUAL","GERMAN FRERS"]
["A-35 R","Blueline Yachts","Peter Norlin"]
["A-35 R Carbon Mast","ADRIA YACHT","FAUROUX Jacques"]
["A-40","ADVANCED I. YACHTS","Joe Adams"]
["A-40 Extended Keel","VR YACHTS","FELCI YACHTS"]
["A-40 mod","AEGEAN MARINE","R/P"]
["A-40 RC","Aerodyne","BOUVET-PETIT"]
["AAH 30","Vels","ED DUBOIS"]
["AC Frers","CONSTR.NAUTIQUES","Roger Martin"]
["ACCENT","MC TEC","v/d Stadt/Arends"]
["Accent 26","MC-TEC","LOMBARD MARC"]
["ACTUAL 46 Bulb","M-CTEC","MARC LOMBARD"]
["Adams 10","ACTON YACHTS Ltd","LOMBARD"]
["ADAMS 12","ASTRAEA","LUTRA DESIGN"]
["ADRIA (FY) 49","SHIPMAN MARINE","R. Magnusson"]
["ADVANCED 66","Le Comte","R.MAGNUSSON"]
["ADVENTURE 30","KOMPAN MARINE","R. MAGNUSON"]
["AEGEAN 234","ALMARINE","R.MAGNUSON"]
["Aerodyne 38","Alo Yachts","Rolf Magnusson"]
["Agari","ALOA MARINE","MAGNUSSEN"]
["AIKIDO 31","ALPA","P.Brohal"]
["AKILARIA 9.50","UDONDO","Per Brohall"]
["AKILARIA OPEN 950","Aluboot","PER BROHAEL"]
["AKILARIA RC1 CL'40","ALUBOOT, HINDELOOP","Pelle Brohall"]
["AKILARIA-40","AMEL","Bell L."]
["AKILARIA-40 RC1","BIASI C.NAUTICHE","A TARANENKO"]
["AKTON 395","Westerly","SQUARCI"]
["ALBATRO","DENCHO","Alf Ortang"]
["ALBIN 78 CIRRUS","AA Boat","Finn Moller"]
["Albin 79","La Selva Beach CA.","Freddy Mikkelsen"]
["ALBIN ACCENT 26","BIANCA YACHTS","Frans Maas"]
["ALBIN ALPHA","Boo Marine","FINOT"]
["ALBIN BALLAD","DROMOR YACHTS","ILLINGWORT"]
["ALBIN DELTA","MAYORLA S.A.","D.Koopmans"]
["ALBIN NOVA","JEANNEAU","D KOOPMANS"]
["ALBIN STRATUS","Boo Marin","AMEL"]
["Albin VEGA","ARCONA YACHTS","Andrews"]
["ALBIN VEGA 27","Boo Marin AB","Antrim"]
["ALBIN VIGGEN","ARGO","ELVSTROM/KJAERULFF"]
["ALC 46","AST. ARIES","Carl Beyer"]
["ALEKSTAR 25","SARTINI","JUDEL/VROELIJK"]
["ALMARINE/STARRING","DUE EMME MARINE","HARLE Philippe"]
["ALO 28","ARYA YACHTS","STEFAN QVIBERG"]
["ALO 96 MS","BASIC MARIN","MPYD"]
["ALO MIKKEL 26","Santarelli","SCIOMACHEN"]
["ALOA 27","LICOSPAR","LOSTUZZI"]
["ALPA 11.50","POSAIDON","MATS FELDTMAN"]
["ALPA 12.70","ATLANTIC","Santarelli"]
["ALPA 34","CONRAD (DANZIG)","AITOR URIARTE"]
["ALPA SUPERMAICA","OY BATAR","A.URIARTE"]
["ALTAMAR 41","WACKER","SOEDERGREN"]
["Alu 35","SIRENA MARINE","JACOPIN & JACOPIN"]
["ALU 980","ITR","ANDRIEU"]
["AMEL 37","KING MARINE","J & J"]
["AMEL EUROS 41","SINERGIA","JOUBERT & NIVELT"]
["AMPEX 30 HALF TON","NEW JAPAN YACHT","J.CORBY"]
["Andrews 53","NEW JAPAN YACHT CO","CECCARELLI"]
["ANDREWS 56","ML BOATWORKS","HUMPHREYS"]
["Antilla 36","C. de Barcos","BOTIN & PARTNERS"]
["ANTRIM 27","BAVARIA YACHTBAU","BOTIN & CARKEEK"]
["APHRODITE 101","ALB-SAILS","BOTIN&CARKEEK"]
["APHRODITE 25","ALB-SAIL","BOTIN/CARKEEK"]
["APOLLO 12","BLUE WAVE","BROSTROM & GRANDIN"]
["APOLLO 12 PLUS","ACOM  s.r.l.","FONTANA/MALETTO"]
["AQUADRAC 35","INTERCARENE","STARKEL"]
["AQUILA","BALTIC YACHTS","INZERILL/ALBEGGIAN"]
["AQUILA (DK)","Bandholm","INZERILLO-ALBEGGIA"]
["AQUILA Regate","In Fiber Bade","C &  C"]
["ARCONA 32","IN Fiberbade AS","Robert Ball"]
["ARCONA 340","Fiberbade","C & C"]
["ARCONA 36 S","I.N. FIBERBADE","DOUGLAS B PETERSON"]
["Arcona 370","Fiberblade","JUDEL/ VROELIJK"]
["Arcona 380","Egenprodusert","J/V"]
["Arcona 410","Haderslev","D.Peterson"]
["Arcona 430","BANNER BAADE","TRIPP-VISMARA"]
["ARCONA 465","I.N.Fiberblde","TRIPP"]
["ArconA-400","Banner Bade","Knut Olsen"]
["ARGO 680","BARBERIS","Judel Vroelijk"]
["ARIES 37","Bashford","NIELSEN I B"]
["ARIES 37.5","Bashford Boats","Nielsen"]
["ARLECCHINO MOD.","Bavaria","I. Nielsen"]
["ARYA 415","BAVARIA YACHTING","Ib Hauge Nilsen"]
["ARYA 415 MOD.","Bavaria Yachtburea","Ib Hauge Nielsen"]
["Aspect 40","Bavaria Yachts","I. Neilson"]
["ASSO 99","BAVARIA YATCHS","PETERSON"]
["ASSO 99 MOD.","Bavaria Yacht","VALLICELLI & C."]
["ASSO 99 ONE DESIGN","Bavaria Yachtgebau","-"]
["ASTRAEA 260","Vacija","Howison-Murray"]
["ASTRAEA 295","KIGCAT MARINE","Howison & Murray"]
["ASTRAEA 330","Borresen Batbygger","IAN MURRAY"]
["ATHENA 34","Boerresen","JAKOPIN J&J"]
["ATHENA 44","B. Bringsv?r","J&J Design"]
["ATLANTIC 31","EMISUL","Jacopin & Jakopin"]
["ATLANTIC 31 SE","beaufort","Farr design"]
["ATLANTIC 40","Sveden","Jakopin &Jakopin"]
["ATLANTIC 44","Schaap Shipcare","Farr Yacht Design"]
["ATLANTIC 49","AMATEUR","Jakopin&Jakopin"]
["ATTALIA 32","VOILIERS BEPOX","Farr Yachtdesign"]
["AVANCE 36","HINCKLEY","Bruce Farr"]
["AXION 33.5","Bestevaer","FARR/BMW"]
["AZUREE 33","KM Makkum","A. MOHNHAUPT"]
["AZUREE 35","SINERGIA C","J & J Design"]
["AZUREE 40","WEST CUSTOM MARINE","Mohnhaupt"]
["Azuree 46","SRG","J & J Deign"]
["B & P 65","BASHFORD HOWISON","J&J"]
["B&C 41","Bashford boats pty","A.MOHNHAUPT"]
["B&C IMS37CR","Bianca Yacht","J  & J"]
["B&C46","BICKER AHLEN","Jakopin"]
["B/ONE","BALTIC","BAVARIA"]
["B-31","bluboats","PETERSON/JACOPIN"]
["BA 28","RIMINI SAIL","PETERSON-JAKOPIN"]
["BA-40","FRANCHINI","Dough Peterson"]
["BAD 27","DOLPHIN","D.Peterson / J o J"]
["BAD 37","BERT MAURI","Monhaupt"]
["BALANZONE","BENJAMINS","J &J DESIGN"]
["BALANZONE MK II","AUTOCOSTRUITA","BAVARIA YACHTBAV"]
["BALTIC 33 (C&C)","V. Golovantchikov","MOHNHAUPT/J+J"]
["BALTIC 35","CSC COMPOSITES","Kurt  Schroter"]
["BALTIC 37","Bombardier Ltd","Axel Mohnhaupt"]
["BALTIC 39","3C COMPOSITE","Petersen J&J"]
["Baltic 39 SD","BONIN","AXEL MONHAUPT"]
["BALTIC 42 DP","Agoni","FARR Bruce"]
["BALTIC 43","Jan vanDamme","GOIX"]
["BALTIC 43 MOD","Bora Yacht Ltd","BOERRESEN ANDERS"]
["Baltic 45 DP","Bora Yacht","Borge Bringsv?rd"]
["BALTIC 47","CLASSIS","Boerresen"]
["BALTIC 50","BRAMADOR","JAVIER SOTO ACEBAL"]
["BALTIC 50 MOD.","JW. Elahuizen","bosgraaf"]
["BALTIC 52","Simonis Voogd","K. van de Stadt"]
["BALTIC 58","Breehorn BV.","Berret-Racoupeau"]
["BALTIC 64","Breehorn BV","Far"]
["Bandholm 27","INT.COMPOSITES","Berret/Racoupeau"]
["BANNER 1/2 TON","BRENTA","Berret Racoupeau"]
["BANNER 23 MK-II","C.NAUTIC.ARTIGIANO","FARR/BRIAND"]
["Banner 23R","HOLLAND COMPOSITES","BENETEAU"]
["Banner 28","KNIERIM","B Farr"]
["BANNER 28 HR","CIMA","BRIAND"]
["BANNER 28 HR SPESI","Le Geun-Hemedy","BERRET/RACOUPAU"]
["BANNER 30 R/C MK2","Devonport Yachts","REARD"]
["Banner 34","GREG YOUNG","REARD David"]
["Banner 41","Topper","Dykstra"]
["BARBERIS 381","Hart Marine","Dijkstra"]
["BARBERIS 421","EIGENBAU","Ian Murray & Ass"]
["Bashford 36","Bumerang","I. MURRAY"]
["BASHFORD 41","C & C","I.Murray"]
["BAV-35 Match Gte","Sweden Yacht","J. Murray"]
["BAV-35 Match Q MK2","C&C","J. KJAERULFF"]
["Bavaraia 38x2.1","C&C Yachts","JENSEN"]
["BAVARIA 30 CR","BENELLO","JULIANE HEMPEL"]
["BAVARIA 30 CRUISER","C & C Kiel","C. Bolinger"]
["Bavaria 32","SWEDEN YACHTS","BRENTA"]
["Bavaria 32 AC","Cremo","BRENTA-PIEROTTO"]
["Bavaria 32 AC 01-0","Stocznia im Conrad","BRENTA-PERIOTTO"]
["Bavaria 32 Cr","GOMEZ Y GONZALEZ","PAPERINI"]
["bavaria 32 cruiser","JENSEN","BRENTA LUCA / PERI"]
["BAVARIA 32 DK CR","Jensen Bjorn","SAM MANUARD"]
["BAVARIA 32 HOLIDAY","Fabola AB","BERCKEMEYER"]
["BAVARIA 32 SD","CANADOS","Maxim Chirikalov"]
["BAVARIA 32/1.80 CR","CANARD YACHTS","PROTOTIPO"]
["BAVARIA 320","CAPE YACHTS","JASON KER"]
["BAVARIA 33","MAL HART","PIERRE ROLAND"]
["Bavaria 33 CR","ESTALEIROS CR","ROLLAND Pierre"]
["Bavaria 33 CR 05-","Cavalli","ROLAND Pierre"]
["BAVARIA 33 CRUISER","CARBO-MARE YACHTS","COSSUTTI"]
["BAVARIA 33 NEW CR","CARBON YACHT","N. Jepessen"]
["BAVARIA 34","PECAL","Cherevanev O.I."]
["Bavaria 34 1.90","R.Stam","Cherevanev O."]
["Bavaria 34 AC","Stam R","G. SCHROEDER"]
["BAVARIA 34 CRUISER","CUSTOM MADE","Breehorn BV"]
["BAVARIA 340 C","PCT","M. Voogd"]
["BAVARIA 36","PREMIER COMP TECH","Simonis Voogd"]
["Bavaria 36 AC","N.Shore Yachts","D. Koopmans"]
["Bavaria 36 AC 2003","yard l.teligi","L.BRENTA"]
["BAVARIA 36 C","Verf im. L. Teligi","Luca Brenta"]
["Bavaria 36 CR 01-0","Verf im. L.Teligi","PH.HARLE/FINOT"]
["BAVARIA 36 CRUISER","OLYMPIC HELLAS","HARLE/FINOT"]
["BAVARIA 36 HOLIDAY","OLYMPIC MARINE","Groupe Finot"]
["BAVARIA 36 SK","OLYMPIC YACHTS","THOMAS"]
["BAVARIA 36/2","OLYMPIC","YOUNG Greg"]
["BAVARIA 36-3","GALLINARI (ANZIO)","Young"]
["BAVARIA 37","CARTER OFFSHORE","GREG YOUNG"]
["Bavaria 37 AC","HUISMAN","LORDAIN - LAESSIG"]
["Bavaria 37 AC 99-0","L.Teliga yard","Borje Nilsson"]
["Bavaria 37 C","Yacht Constructors","JACKET TIM"]
["Bavaria 37 CR","Catalina","R.Ball"]
["Bavaria 37 Cruiser","Catalina Yachts US","Albinsson"]
["Bavaria 370","CATALINA YACHTS","C&C"]
["Bavaria 37Cr","ATLANTA MARINE","Jackett"]
["Bavaria 38","Nazarov Yacht D.","Tim Jackelt"]
["Bavaria 38 ac 98-0","Cavalier Yachts","Tim Jackett"]
["BAVARIA 38 CR","Comfortbatar Marin","Cuthbertson & Cass"]
["BAVARIA 38 CRUISER","Satas Batvarv AB","Mills"]
["BAVARIA 38 DK","CB","C&C Design Group"]
["BAVARIA 38 HOLIDAY","Nicanders batvarv","C&C Yachts"]
["BAVARIA 38 MATCH","BATSNICKARNA","Pelle Petterson"]
["BAVARIA 38 OCEAN 9","Basnickarna","Pelle Pettersson"]
["BAVARIA 38 SK","DONNINI","D. Peterson"]
["BAVARIA 38/3SD NOS","C.B.S.","WM. LAPWORTH"]
["Bavaria 39 C","WESTERLY MARINE","C. William Lapwort"]
["Bavaria 39 Caribic","WAUQUIEZ SA","Bernt Lindqvist"]
["Bavaria 39 Cr","WAUQUIEZ","BREWER"]
["Bavaria 39 Cruiser","WAUQUIEZ HENRI","H. CARABELLI"]
["Bavaria 39C","Teliga yard Poland","Carabelli"]
["BAVARIA 41","ELEPHANT BOAT YARD","T. ROEPER"]
["Bavaria 41 Cruiser","Abobavtart","N. H. YACHT DESIGN"]
["Bavaria 41 Holiday","Ton Cup Yacht","VAN DE STADT"]
["BAVARIA 410","Charisma Yachts","v.d.Stadt"]
["BAVARIA 42","Amble USA","CARKEEK & PARTNERS"]
["BAVARIA 42 AC 98-0","MPH - NAVALU","CARKEEK DESIGN"]
["BAVARIA 42 CR","TAYLOR S.A.","CARTER"]
["BAVARIA 42 CR dyp","Clarc Yachts","D. Carter"]
["BAVARIA 42 CRUISER","CLASS YACHT","DICK CARTER"]
["Bavaria 42 Match","LION WERFT RIGA","R.CARTER"]
["BAVARIA 42 MATCH D","JAZMARINE","DICK  CARTER"]
["Bavaria 42 Ocean","GREEN MARINE","D.CARTER"]
["Bavaria 44","CANTIERI ORIOLI","Bob Smith"]
["Bavaria 44 1.65","ABSOLUTE WIND","Gerry Douglas"]
["Bavaria 44 VISION","DANZIGER WERFT","Frank Butler"]
["BAVARIA 44E","Esslinger & Abt, L","CATALINA YACHTS"]
["Bavaria 44x1.95","CLUB MARINE SA","DOUGLAS"]
["BAVARIA 46","Carrol Marine","CATALINA"]
["BAVARIA 46 C","COBO","CARVILL & HAWKINS"]
["BAVARIA 46 CR","KIWI BOATS","Nazarov"]
["Bavaria 46 Cruiser","AST. CESPEDES","L Davidson"]
["Bavaria 47","Rufi","Hakan Sodergren"]
["Bavaria 47 AC","COMAR","DONNINI-PASQUALI"]
["Bavaria 49","Comar Italie","RENAI"]
["Bavaria 49 AC","COMAR NMT","Angermark"]
["BAVARIA 50","COMAR YACHTS","Laurent Giles"]
["BAVARIA 50 CR DS","COMET","DUBOIS Ed"]
["Bavaria 50 Cruiser","SIPLA","RACOUPEAU/BERRET"]
["BAVARIA 55 CR","Comfortbatar","DUBOIS EDWARD"]
["BAVARIA 707","Comfortbatar  AB","E. Hoffmann"]
["Bavaria 890","COMFORT BATAR","CHANCE Briton"]
["Bavaria B/one","COMFORTBAATER","Brit Chance"]
["Bavaria Cr 40 S","COMFORT YACHTS","Lavranos"]
["BAVARIA CR 40 S Al","Comfortina","Dalzell & Hobson"]
["Bavaria CR 40S","Comfort","Bob Ames"]
["Bavaria CR 41","Bernt Andersson","LAUNEAU Christophe"]
["Bavaria CR 45","Compisbatar AB","D.Blank"]
["Bavaria CR 46","Zaadnoordijk","LUPOLI"]
["Bavaria CR 56","CONDOR","LION / BOUVET"]
["Bavaria Cruiser 40","R.P.D.","OWEN CLARK"]
["BAVARIA CRUISER 41","STOEBERL","SIMON ROGERS"]
["BAVARIA CRUISER 45","STOCZNIA \"CONRADA\"","VERDIER GUILLALME"]
["Bavaria Cruser 40","MSJ im.J.CONRADA","VISMARA"]
["Bavaria Vision 42","Poland","ANTONIO RAIMONDO"]
["BAVARIA-31","Conrad, Poland","GRUBER"]
["BavariA-31 C","Verf im. Konrada","E. G. van de Stadt"]
["BAVARIA-31 CRUISER","Conrad Shipyard","BRIAND Philippe"]
["BavariA-35 Cruiser","Gdansk","R. HOLLAND"]
["BAVARIA-35 HOLIDAY","Teliga","A. Skrzat"]
["BavariA-35 match","Conrad yacht-yard","PH. HARLE"]
["BAVARIA-350","Gdansk, Poland","Petter G Lie"]
["BAVARIA-40","st.yachtova,Gdansk","Jean Marie Finot"]
["BavariA-40 AC 98-0","STOCZNIA CONRADA","VALLICELLI"]
["BavariA-40 CR","RT Prodakchen","LUPOLI SERGIO"]
["BavariA-40 Cruiser","TELIGA YACHTS","PETERSON-FINOT"]
["BavariA-40 Vision","Conrad","A.VALLICELLI & C."]
["BavariA-40x1.95","TECHNO-SERVCE","Vallicelli Andrea"]
["Bavaria-50","Konrad yard Poland","A. VALLICELLI & C."]
["BAX 252/RS","Conrad yard Poland","Andrea Vallicelli"]
["BB 10 M","SOUTHERN OCEAN","A.VALLICELLI"]
["BB 13.5","SOUTHERN OCEAN SHI","VALICELLI"]
["BB 25","J.Rogers","FINOT-DE STADT"]
["BB12 Racer","Rogers","VAN DE STADT-FINOT"]
["BB-12 Touring","CONYPLEX","Broderna Albinsson"]
["BB40","Conyplex BV","Broderna  Albinsso"]
["Beaufort 8.3","Contest Yachts","K.ALBINSSON"]
["Becker 27","Contest","Kenneth Albinsson"]
["BelugA-40","Contrastbatar","ALBINSON"]
["Benetau 49 WK","CONTRAST YACHTS","Albinsson/Stahle"]
["Beneteau 25","Contrastbatar AB","BERN"]
["Beneteau 43","COOKSONS","Thomas Bern"]
["BENETEAU 47.7 WING","COOKSON","Tomas Bern"]
["Beneteau 49","COOKSON BOATS","Bernt Andersson"]
["BENETEAU 50","COOKSON NZ","BUIZZA DANIELE"]
["BENETEAU 57","TSIRITAS-LAVRIO","ALBINSSON KENNETH"]
["BENETEAU FIRST 40","CORBY YACHTS","M.DUFOUR"]
["Beneteau First 42s","SALTHOUSE","M. DUFOUR"]
["Beneteau First 45","CARROL","D. Petersen"]
["BENETEAU FIRST 50","CARROLL","Petterson"]
["Beneteau M445","Cobramarine","Doug Peterson"]
["Beneteau Oceanis 4","COBRA MARINE","A. GRODZICKI"]
["Beneteau Oceanis C","DROMOR","Dufour"]
["BEPOX 700","Hunter UK","Douglas Peterson"]
["BEPOX 9.90 GTE","Key Yachting","JEREMY ROGERS"]
["BERMUDA-40","1720 Yachts UK","D.Sadler"]
["Bestevaer 49","CORK YACHTS","D Peterson"]
["Bestevaer 50","Tol Gebr.","JACQUES DE RIDDER"]
["Bestevaer 56","Stocznia Kreslo","DE RIDDER"]
["BH 36","Piotr Adamowicz","Dick Zaal"]
["BH 41","AST. CORUM","ZAAL DICK"]
["BH 41 MOD","CORUM YACHTS","D. Zaal"]
["BIANCA 107","CESPEDES Y PEONA","D Zaal"]
["Bianca 107 Mk 2","LINQ BOATS","Nilssen"]
["Bianca 36","RIDAS,TALLIN","Nissen Design"]
["BIANCA 360","RIDAS JAHT ESTONIA","Georg Nissen"]
["BIANCA 420","AS RIDAS JAHT","R MAGNUSSON"]
["BIGA 242 MODIF.","Finngulf Marine","Magnusson"]
["BLT52SD","TELIGI P","B. FARR"]
["Blu 26","Royal Huisman SY","FARR/ COOKSON"]
["BLU SAIL 24","Sailecs LTD","FARR/COOKSON"]
["BLUE WHALE","SET","TSIRITAS"]
["Blusail 24","?????","CORBY"]
["BM 40","Cumulant","B.FARR"]
["BM 53","NEBW","Paolo Cori"]
["BM40","G Goetzee","CORI"]
["BOLERO","mcconaghy boats","Tony Castro"]
["BOLING","Sparcraft","Meer v/d"]
["BOLT 37","SEAMANSHIP T.CRAFT","Piotr Adamowicz"]
["Bombarider 7.6","JENNEAU","J. SOTO"]
["BONGO 9.6 RS","DALO'","PGYD"]
["BONGO 9.60","Scorpio","J. RADEMAKER"]
["BONIN 358","IN PROPRIO","BLANK"]
["BONIN 36","Bloemsma","DIETER BLANK"]
["Bonita 767","DEHLER","ELVSTROM P"]
["Booty 24","DELMAR CONDE","Jac. de Ridder"]
["Bora 22","DECISION","KB Sailecs-Bogdano"]
["Bora 30","Dekker","SET"]
["BOSUN QUEEN 55","DEHLER YACHTBAU","v.d. Vlis"]
["BOXER 24","Dehler Segelyachte","Will Hardcastle"]
["BRAMADOR 34","dehler Yachts","john mcconaghy"]
["Breehorn 37","EHLER YACHT      J","Bruce King"]
["Breehorn 41","Dehler YB","GILES"]
["Breehorn 44","Dehler Deutschland","RACOUPEAU / BERRET"]
["BRENTA 24","DEHLER   GmbH","FONTANA-MALETTO"]
["BRENTA 42","Hanse Yachts","FONTANA MALETTO"]
["BRENTA 44","HANSE","Limdolfo Hartz F."]
["BRENTA 55","Dehler Ned","DAMONTE"]
["BRENTA 60","Judel/Vrolijk","Beekenbrede"]
["Briand 43","Dehler 41","V.D. STADT"]
["BRIGAND 7.50","HANSEYACHTS","Van Der Stadt"]
["BRIGAND 9.5","DEHELER","DELMAR CONDE"]
["BRIGAND 950","MESCHEDE-FREIENOHL","DECISION"]
["BRIN DE FOLIE","Dehler B.B.","Mauric & Gaubert"]
["Brise de Mer 34","DEHLER/HUISMAN","Stadt"]
["BS CHALLENGE 67","Delphia Yachts","Judel & Vrolijk"]
["BULL 7000","Delpia Yachts Kot","JUDEL/VRODIJK"]
["BULL 9000","Delphia yachts Kot","JUDEL Friedrich"]
["BULLIT","DELPHIA YACHTEN","V.DE STADT"]
["BUMERANG","DELPHIA","V D STADT"]
["Bumerang 32","DELPHIA YACHT","vd Stadt & prtnrs"]
["C & C 115","Stocznia Delphia","Judel Vrolijk"]
["C & C 44 WK","BARUFFALDI","UDEL/VROLIJK"]
["C 340","DELTA YACHTS","Judel Vrolijk & Co"]
["C&C 110","BRAZZONI","Judel / Vrolijk"]
["C&C 115","Ott","Judel/Vrolijck"]
["C&C 25","ONE OFF","JUDEL-VROLIJK"]
["C&C 29-2","Owner","V. DE STADT"]
["C&C 30","GALETTI","Dehler Team"]
["C&C 30E","NAUTIBER","V D STADT/DEHLER"]
["C&C 35","Ridas Yachts","Dehler"]
["C&C 37","Diva","Judel Vroljik"]
["C&C 372 WK","Fabola","Dehler Design"]
["C&C 38","DIXI","SIMONIS / VOOGD"]
["C&C 40 CB","FREETIME","Simonis & Voogd"]
["C&C34","Dixie Bat Karlsatd","Simonis - Voogd"]
["C+C 30 E","MAREE HAUTE","Simonis&Voogd"]
["C-41","DK Yachts","Simonis en Voogd"]
["C-55","DK-COMPOSITES","v.d . Stadt"]
["C-760 R","DOD YACHT SRL","Stadt v/d"]
["CADETE","Schafer Yacht","Simon Voogd"]
["CAL 39","Maxi Dolphin","Simonis/Voogd"]
["CAL 48","G & GEDWARDSSON","VOOGD Simonis"]
["Campus 7.4","G&G Edwardson","J / V"]
["CANADOS 33","ABMA","v.d.Stadt & Prtnrs"]
["CANADOS 37 G","MT-DON","VAN D STADT"]
["CANADOS 37 R","STRICKLAND","DEHLER/V.D.STADT"]
["CANARD 41 MKII","G.G.BAADEVAERFT","DEHLER/V.D. STADT"]
["CANARD 41 MOD.","MARYOLA","Judel&Vrolijk"]
["CAPE NORTH 43","ARTECNA","Judel &Vrolijk"]
["CAPRICE 40","DRACO","vd Stadt"]
["CARABELLI 30","DRACO S.A.","Judel/ Vrolijk"]
["Carabelli 32","Kraljevica","v.d.Stadt&Prtnrs"]
["CARBOMARE 35 BS","A. Sukalin","judel/vrolijk & co"]
["CARBON 40 R/C","Petticrows","Judel/Wrolijk"]
["CARDEL 28","Dreamboat yard","Judel -Vrolijk"]
["CARIBBEAN 40","----","Judel /  Vrolijk"]
["CARIBBEAN 40 ST.XT","LO PRESTI","Carl Dehler"]
["CARKEEK 47","CONRADA STOCZNIA","J&V"]
["CARTER 3/4 TON","DUFOUR","SIMONI Y VOOGD"]
["Carter 30","DUFOUR SA","Judel/Vrolijk& Co"]
["CARTER 33","TAYLOR","Van Der Stath"]
["CARTER 37","MICHEL DUFOUR","E G VD STADT"]
["CARTER 37 OT","Dufour France","Andrzej Skrzat"]
["CARTER 40","CANTIERI DEL PARDO","Skrzat Andrej"]
["CARTER 42","DUFOUR YACTHS","SKRZAT"]
["CARTER 55","MICHEL DUFOUR S.A.","SKARTZ"]
["CARTER-30","DULLIA","PERACCA"]
["Cascade 36","Duncanson Yachts","NESTOR VOLKER"]
["CATALINA 275","FRITZMEYER","Kjaerulff"]
["Catalina 30 TM BS","Bach","DUDLEY DIX"]
["CATALINA 320","BACHS BADEVAERFT","G. MULL"]
["CATALINA 34 MK I","DYNAMIC","Lindquist"]
["CATALINA 36","BACHS BOOTSWERFT","B. Lindquist"]
["Catalina 38","BACHS","B Lindqvist/P Stah"]
["CATALINA 380 WK TM","Moser","B Lindqvist"]
["CATALINA CAPRI 37","BACHS WERFT","DIXI 27"]
["CATCH 22","Granada Yachts","Mark Mills"]
["Catran 800","Granada","CAPOCIUCHI R."]
["Cavalier 345","Backs Badv?rft","Gyozo Simongati"]
["CAYENNE INT","DYNAMIQUE YACTHS","E.Santarelli"]
["CB 33","Elan Yachts","GOSTA EDWARDSSON"]
["CB 365","C & B NAUTICA","Fj. Marin"]
["CB 370","LA VELA","Mukhortov"]
["CB 370 WK","FIORAVANTI-CERVIA","MURRAY/BURNS/DOVEL"]
["CBS 750 MOD.","ALB SAIL","GERLACH"]
["CBS 888","MALLARD","ANDRE MAURIC"]
["CELIVENT 28","ALTURA","MAURIC"]
["Cenit 37","EDEL STRAT","PEARSON"]
["CENTAUR 26","de Kloet","A. Sukalin"]
["CENTURION 37 S DK","ELAN YACHT","E. Alexandrov"]
["CENTURION 40 S","ELAN","L Hoogmoed"]
["Centurion 40s","Elan Marine","R. CARTER"]
["CENTURION 45 S","ELAN 31","BOB MILLER"]
["CENTURION 47","Elan Marine D.O.O.","Dubois"]
["CENTURION 61","Elan Begunje","E. DUBOIS"]
["Cetus","ELAN YATCHS","v/d Stadt"]
["CHANCE 24","ELAN LINE","FELCI Umberto"]
["Chance 44","Elan Yachting","Laurent Cordelle"]
["Charger 33","Elan Rob","CORDELLE LAURENT"]
["Charisma Mini Ton","Ealn yachts","MICHEL DUFOUR"]
["Cheetah-30","Elan doo","Olivier Poncin and"]
["CINETIQUE 36 mod","CYC yachts","Felci"]
["CIRRUS 3/4","PARTRIDGE","J.J.DESIGNE"]
["Clarc 33","MILNER","Jacques Fauroux"]
["CLASS 33","John Stilwell","FAUROUX"]
["CLASS 40","GEARY & SHERSON BO","MICHEL DUFOUR S.A."]
["CLASS 47","Yachting Developme","FELCI-ROSEO"]
["CLASS 950","CHINA NEW YACHTS L","FELCI ROSEO"]
["CLASSIC YAWL","ELLIOTT","U. Felci"]
["Clipper 2000","ELVSTROEM","Umberto Felici"]
["CLUB 86 \"Q\" Mod","FIBRESTER","FELCHI"]
["CM 1200","Elvstrom/Kj?rulf","Umberto Felici / P"]
["CM1200 (NM39)","SIBMA NAVALE ITALI","MORTAIN-MAVRIKIOS"]
["COBO 40","Enavigo","Umberto Felcie"]
["COBRA 1000","Belliure","Chabaud/Poncin"]
["Cobra 33","K. Bood","Poncin/Chabaud"]
["COCO 6.50","EnterYachts Sweden","G.Frers"]
["COLUMBIE 66","GAMMO STAMPI","Umberto Felci, Pat"]
["COMET 1000","Ericson Yachts","UMBERIO FELCI"]
["COMET 1050","ERYD YACHTS","Felci/Roseo"]
["COMET 1050 MODIF.","ES YACHTS","J & J / Poncin"]
["COMET 111","POLYSIER","NN"]
["COMET 12","Proteus Yachts","MORTAIN/MAVRIKIOS"]
["COMET 12 A","PROTEUS YACHT","MORTAIN MAVRIKIOS"]
["COMET 12 G","SCHUCHTER SPORTBOO","U Felci"]
["COMET 21 O.D.","SCHUCHTER","Humberto Felci"]
["COMET 28 RACE","D'ESTE","Felici yachts"]
["COMET 303","C.D'ESTE","Umberto Felitchi"]
["COMET 31","MASSIMO BERT MAURI","Johan Valentijn"]
["COMET 33","Etap Yachting","Poncin"]
["COMET 33 S","ETAP","A Blackburn"]
["COMET 333","Robertson","DUNNING"]
["COMET 36","C.F.NAUTICA","STOBERL"]
["COMET 36 S","GO MATERIALES COMP","KJAERULFF Jan"]
["COMET 36 SPOILER","INDIANA YACHTING","R.KJAERULF"]
["COMET 375 ST","de Gooijer","Jan Kjarulff"]
["COMET 38","Eureka s.n.c","J.Kjaerulff"]
["COMET 38 S","EUREKA","Kj?rulf"]
["COMET 38S","Souther Ocean Supp","Rob Humphreys"]
["COMET 41 C","COOP.NAUTICA","BESOZZI"]
["COMET 41 R","Alsberg Bros Boatw","CECCARELLI E."]
["Comet 41 Sport","Sail Ventures ltd","EDEL MAURICE"]
["COMET 41S","Jachtw. M'harnis","EDEL"]
["COMET 41S (T-Bulb)","Jw.Middelharnis","ROD HUMPHREYS"]
["COMET 41S BT","MASTER MARINA","JAKOPIN J."]
["COMET 41S MOD.","Master Marine Ltd.","Humpreys"]
["Comet 420","F & C","R. Humphreys"]
["COMET 45","FF Boats","Rob Huphrey"]
["COMET 45 S","Modus marine","Humphreys Yacht De"]
["Comet 45S","F&F Boats","Humphreys Rob"]
["COMET 50 R","Q.B.B.","JAKOBIN & JACOBIN"]
["COMET 51 SPORT","F & F Boats","JAKOBIN & JAKOBIN"]
["COMET 54 DH","AST.  F&C","HUMPHEYS"]
["COMET 62 RS","AST. F&C","R. Humhreys"]
["Comet 700","AS. ROBERTO FRERS","Rob Humphries"]
["COMET 770","F&C YACHTS","Rob Humpreys"]
["COMET 800","F&C","HUNPHREYS"]
["COMET 850","SETSOM","Rob Humphery"]
["COMET 910","JOUET","Rob Humpfreys"]
["COMET 910 PLUS","Far East Boats","R. Hymphrie"]
["COMFORT 30","Fareast Boats","Rob Humphrey"]
["COMFORT 32","FEBC","Humpreys Design"]
["COMFORT 34","OVINGTON MARINE","Humpfreys"]
["COMFORTINA 32","SEA NYMPH","H.Raudaschl"]
["COMFORTINA 36","OD Yachting","Mataruev/Kosorotov"]
["COMFORTINA 38","Premier Composites","ELLIOTT Greg"]
["COMFORTINA 38 CR","PREMIER COMP.TECH.","ELLIOT"]
["COMFORTINA 39","PREMIER COMPOSITE","GREG ELLIOT"]
["COMFORTINA 42","McDell","ELLIOTT"]
["COMFORTINA 42 DK","OVINGTON","GREG ELLIOTT"]
["Comfortina 42x2.10","US WATERCRAFT","ELVSTROEM"]
["COMFORTINA-35","DK Malaisia","ELVSTROM"]
["Compis","ARTMARE","P. ELVSTROM"]
["COMPIS 36","CBZ","Elvstrom/Kj?rulf"]
["Compromis 888 Clas","VELIERI DA CORSA","Kj?rulf / Elvstrom"]
["CONDOR (TARTAN) 37","GLASS YACHTS","QUARANTA E.M."]
["CONDOR 37","Cooper Craft","Justin"]
["CONDOR 7","Two Oceans","Peter Ibold"]
["CONFORT 30","LINDSAY","P. Ibold"]
["Conrad 24","Caroll marine","Berint Lindquist"]
["Conrad 25","U.S.WARTERCRAFT","Per Engermark"]
["Conrad 25 R","MARTEN MARINE","ROSSI EMANUELE"]
["Conrad 25R","McConaghyBoats","Tim Kernan"]
["Conrad 25RT","McConaughy","INIGO ECHENIQUE"]
["Conrad 30","Mconaghy","U.Felci"]
["Conrad 54","MTORRES I Y P S.L.","STUDIO FELCI"]
["CONRAD 760","FAST YACHTS","SIVIERO ENZO"]
["CONRAD 760 RT","AST. DEL ESTUARIO","Mortain&Mavrikios"]
["Conrad 760RT","ESTVARIO","J. de Ridder"]
["Conrad 777","THE FRANKLIN TEAM","P. HARLE"]
["Conrad-24","2HO","Mortain&Mavrkios"]
["Conrad-25R","GILLIES","Mortain"]
["Conrad-25RT","SERIGI","Etchells"]
["Conrad-44","GOETZ","E.W. ETCHELLS"]
["CONTENTION 30","BSI Marine Swe AB","LEXCEN - FELCI"]
["CONTENTION 33","Robertson & Caine","H.Langenberg"]
["CONTESSA 25","C.N.YACHT 2000","Andrej Justin"]
["Contessa 32","UGGE'","BERTORELLO"]
["CONTESSA-35","FAURBY","Carl Schumacher"]
["CONTEST 25 OC","ZUANELLI","Owen Clarke Design"]
["CONTEST 250C","AST. FAYD","Jac.de Ridder"]
["Contest 30 (Mod.)","KIRIE","Jac de Ridder"]
["CONTEST 31 HT","Kyrie","C. de Ridder"]
["Contest 33","KIRIE'","K. de Ridder"]
["Contest 34","Kirie Frankrike","Yves Mareschal"]
["Contest 42 CS","Alliaura","HARLE'"]
["Contest 46","Alliaura Marine","SIMONIS/WOOGD"]
["Contest 62","KIRIE SA","FARR B"]
["CONTEST 72CS (MOD)","FEELING","BRUCE FARR & ASSOC"]
["CONTRAST 33","BS BOATS","Simonis"]
["CONTRAST 36","Estaleiro Estrutur","FDESIGN"]
["CONTRAST 36 Mod","Maxi","GIORGIO GRASSI"]
["CONTRAST 362","Maxi Yachts","FAURBY"]
["CONTRAST 400","Pelle Petterson AB","JEZEQUEL"]
["CONWAY 36 SLOOP","Djupevag Verft","MARTIN BILLOCH"]
["COOKSON 12","FIBAGO","M. BILLOCH"]
["COOKSON 12m","BENETEAU SA","PHILIP HARLE"]
["COOKSON 50","Finn Yachts","Gilles Vaton"]
["COOKSON 50 CANT","POLAR YACHTS","Joubert / Reseo"]
["COOKSON 50 mod","Polar Yacht","M Joubert"]
["CORAL 24 stern ext","Finngulf Yachting","Harle/Mortain"]
["CORBY 38","Finngulf Yachts","PH.HARLE"]
["CORBY 43","Finngulf","Ph Harle"]
["Corby 49","FJORD","BAFFIGO"]
["COREL 45","MOTYVEL","LOMBART"]
["Cori 45 mod.","Pearson","FINOT Jean Marie"]
["CORI 53","Damstra/Beima","K.Strahlman"]
["CORINTHIAN 28","PAGHERA CANTIERI","Eivind Still"]
["Cork 1720","Hansheng Yachts","Kamu Strahlmann"]
["CORK 1720 SB","WWW.NAUTI.PL","STRAHLMAN"]
["Cormoran","marieholms bruk","K-J STRAHLMAN"]
["Cors 27","Forgusbatar","H. Sodergren"]
["Cors T2","Hunterboats Ltd.","STRAHLMANN"]
["CORUM 27","Ameta","K-J Strahlmann"]
["CORUM 280 CR","RONAUTICA","BERRET JEAN"]
["CORUM 350","MONOTIPO","Group Finot"]
["CP 30","LABORNA","J. Finot"]
["CQ-6","LA BORNA","Juan Yacht Design"]
["CROSS 31","RLM COMPOSITE","KOUYOUUMDJIAN"]
["CROWN 39","Copland Boats","Mauric Andre"]
["Cruiser 22","AST. FRAN","Juan Koumoumdiian"]
["Cruiser-22","-","KUJUMDJAN JUAN"]
["Cruising Sloop","FRANCHI YACHT","J Berret"]
["Cruising-racing","AST. SAN ISIDRO","J. BERRET"]
["CT-25","Cadarso","JEAN BERRET"]
["Cumulant II","AST. RATTI","BERET"]
["Cumulus","FORCAT","FNOT"]
["Custom","AST. CARUPA","FINOT-LONQ"]
["Custom Design","Meijer","FINOT-CONQ"]
["Custom IOR One Ton","Friendship","FINNOT"]
["CUTTER BERMUDIANO","Waterhorst","J.BERRET"]
["CYCLADES 39","BROEKER +NIELSEN","Jean Ferrau"]
["cyclades 393","E. BONGERS","BERRET-REACOPEAU"]
["Cyclades 43","LILLIA","Farr Yachts"]
["CYCLADES 43.3","FURIA","J.Beret"]
["D 772","FURIA YATCHS","Phillippe Briand"]
["D 772 CROCIERA","DRESPORT","BRIAND PHILLIPPE"]
["D-34","furia yachts","P. Briand"]
["DAIMIO 28","Furustam","F. BRIAND"]
["DAM 35","ADRIA SAIL","Philippe Briand"]
["Danish Flower","YACHTS 2000","PBRIAND"]
["DB 1","ARTESANAL - HOOD","Finot/Fauroux"]
["DB1","G. SOLEIL","Faroux/Finot"]
["DC1200","DEL PARDO","FINOT Jean  Marie"]
["DECISION 7.5","LANGEDRAG SWE","Fauroux/Finot"]
["Defender 27","Ledinbatar AB","FINOT Groupe"]
["DEHELR 43","Helsingbrg Batbygg","Eivind Amble"]
["DEHLER 25","Gecco Marin","Shaw W"]
["DEHLER 28","GEMINI","NOSTRINI"]
["Dehler 28x1.35","Arribas","Bob Perry"]
["DEHLER 29","SOLERI-RAVENNA","PIESNIEWSKI J."]
["DEHLER 29 DK","GIBERT MARINE","FINOT/ HARLE"]
["Dehler 29 Draft 15","Gibert Marine SA","Tord Sunden"]
["Dehler 29 SK","GIB SEA","Samuelson"]
["DEHLER 29 SK Cruis","GIBERT MARINE S.A.","S.Jones"]
["DEHLER 29 SPIQUEST","GILBERT MARINE","VISIER"]
["DEHLER 31","GIB MARINE","J. VISIERS"]
["DEHLER 31 TOP","Gilbert","BERTRAND Charles"]
["Dehler 32","GIB'SEA MARINE","Tony Dixon"]
["DEHLER 32        D","GIBSEA","Chuck Paine"]
["DEHLER 32 JV","SOMMERFELD / SABIN","PICCO"]
["DEHLER 32 SD","FELTZ","Gary Hoyt"]
["Dehler 33","GOLFINO","J Frers"]
["Dehler 33 Classic","NAYA","J de Ridder"]
["DEHLER 33 COMP","GP","DE RIDDER/KOOPMANS"]
["Dehler 33 Comp.","Mag Marin Istanbul","v/d Stadt Design"]
["DEHLER 33 CR","Eugeniusz Ginter","BROEKER"]
["DEHLER 33 CRUISING","KINGS MARINE","Joubert Nivelt"]
["DEHLER 34","LATINI","A. CABAL"]
["DEHLER 34 DB1","MKZ Bryza","JOUVERT-NIVELT"]
["DEHLER 34 DD","Ast. NOVATECNIA","Furustam"]
["DEHLER 34 SV","GESTEN GLASFIBER","PGAN"]
["DEHLER 34/35","Granada Yachts A/S","MALETTO"]
["Dehler 34SV","GRANADA YACHTING","C. ARCHER"]
["Dehler 34x1.75","Cantiere Del Pardo","Magnus Oster"]
["DEHLER 35","Cantiere de Pardo","A.VALLICELLI & C"]
["Dehler 35 CR","GRAND SOLEIL","JOUBERT&NIVELT"]
["Dehler 35 CWS","Cant. Del Pardo","Joubert"]
["Dehler 35 SV","Cantiere del Prado","GIBERT"]
["Dehler 35SQ","C. DEL PARDO","Philippe Harle"]
["DEHLER 35SQ Std","Cantiero del prado","HARLE"]
["DEHLER 36","CANTIRI DEL PARDO","R.HUMPHREYS"]
["Dehler 36  J / V","DEL PERDO","Gilbert"]
["DEHLER 36 CWS","W. Jenneskens","HUMPHRIES"]
["DEHLER 36 CWS (DK)","FLIPPERSCOW AB","Joubert / Nivelt"]
["Dehler 36 CWS 1.55","Peter Bruuns verft","M. JOUBERT"]
["Dehler 36 CWS 1.85","Flipper Scow","M.JOUBERT"]
["Dehler 36 CWS WK","GUNFLEET","GLACER"]
["DEHLER 36 DB","G C YACHTS","FELTZ"]
["DEHLER 36 JV","Frauscher","J.NAYA"]
["DEHLER 36 SQ","Artekno","J M NAYA"]
["DEHLER 36db","H2O","J.M.NAYA"]
["DEHLER 37 CRUISING","CANTIERE FRAUSCHER","GP"]
["DEHLER 37 CWS","LION YACHTS SIA","Jim Donovan"]
["Dehler 37 DB","LION LATVIA","Jim Donavon"]
["Dehler 38","Offshor Y.","Eugeniusz Ginter"]
["DEHLER 38 (SD)","FOUNTAINE","B&C"]
["Dehler 38 13-","EUROSEBINA","Wojciech Denderski"]
["DEHLER 38 C","Hallberg-Rassy AB","G. RODRIGUEZ"]
["DEHLER 38 CWS","Hallberg-Rassy","ELVSTROEM/KJAERULF"]
["DEHLER 38 SD","Halberg","Kjaerulf"]
["DEHLER 38 SKB","Hallbergrassy","G.FINOT"]
["Dehler 38C","YACHTZ GREIFSWALD","VISMARA ALESSANDRO"]
["Dehler 38c 13-","YZ GREIFSWALD","A.JEZEQUEL"]
["Dehler 38CS","YACHTZENTRUM","ALAIN JEZEQUEL"]
["Dehler 38R 13-","Hanse Yachtbau","Botin & Carkkek"]
["Dehler 39","Yachtzentrum Greif","Botin Carkeek"]
["DEHLER 39 CWS","HanseYachts GmbH &","Botin&Careek"]
["DEHLER 39 CWS DK","AG Greifswald, Ger","G.FINOT&PASCAL"]
["DEHLER 39 JV","HANSE YACHTS AG","Malleto Design"]
["DEHLER 39 SD","Greyswald","Claudio Maletto"]
["Dehler 39 SQ","HANSEYACHT","Massimo Paperini"]
["DEHLER 39 SQ L.E.","Hanze","Massimo Peperini"]
["Dehler 39 WK","YACHTCENTRUM","PAPERINI MASSIMO"]
["DEHLER 39/1.95M","HANSE YACHT","B & C"]
["DEHLER 39SQ","Hanseat","Duck Design"]
["DEHLER 41","ASMUS","DUCK"]
["DEHLER 41 CR","Sandfjord modellv.","BOTIN-CARKEEK"]
["DEHLER 41 CR DS","Harmony","BC"]
["DEHLER 41 DB","Groupe Porcin","MALETTO Claudio"]
["Dehler 41 DS","C.N.PONCIN FRANCIA","J & V"]
["Dehler 41 JV Dyp k","Botnia","CARKEEK/BOTIN"]
["DEHLER 41 Q.B.","BV VORDINGBORG","Botin en Carkeek"]
["DEHLER 41DB","TOPSEL","Alain Jezc"]
["DEHLER 42","HEINRICH","LUCA BRENTA & CO."]
["DEHLER 42 MODIF","HENZE","JOUBERT-NIVEL"]
["DEHLER 44","Hero","Joubert/Nievelt"]
["DEHLER 44 MOD.","Hakes Marine","JOUBERT - NIVELT"]
["DEHLER 44 SQ","HICK MARINE","W. Jenneskens"]
["DEHLER 45","S.O.S","PEER BRUN"]
["DEHLER 46","S.O.S.","Peter Bruun"]
["Dehler 47","NAKAYOSHIZOSEN","Bruun"]
["DEHLER 47 SQ","Hobie","MP-DESIGN STUDIO"]
["DEHLER DB1","Seaquest","H.Groop"]
["Dehler DB1-mod","D.Sharpens","Hans Groop"]
["Dehler DB2","Tyler Boat Co.","VATON Gilles"]
["Dehler Dehlya 25","HP Yachts","GROUP HANS"]
["DEHLER DELANTA 80","ZONDA BOATS","FREER"]
["DEHLER OPTIMA 101","Frers","A. Buchanan"]
["Dehler Optima 106","LION YACHTS","CECCARELLI G."]
["Dehler Sprinta DS","Hunter Yachts","OLLE ENDERLEIN"]
["DELANTA FLUSH DECK","HUNTER MARINE","O.ENDERLEIN"]
["Delphia 24 (mod)","HUNTERMARINE","Rassy/Enderlein"]
["DELPHIA 24 OD","HUNTER","OLLE ENDERLIN"]
["Delphia 24 Sport","HunterBoats","BEYER"]
["DELPHIA 28","Hunter Boats","C.Beyer"]
["Delphia 28 sport","Hunter Boats Ltd.","Yachtzentrum Greif"]
["DELPHIA 33","Luhrs Marine","Judel & Rovich"]
["DELPHIA 34","HOLLAND YACHTING","Judel / Vrolijk &"]
["Delphia 37","BLUE PHOENIX YACHT","judelvroljik"]
["DELPHIA 37R","Vervale LTD","Judel/Vroljik"]
["Delphia 47","VERL YACHTS","Judel/Vrolljk & Co"]
["DELPHIA-40","ICE YACHTS","Jodel & Vroljik"]
["DelphiA-40,3","K&M Yachtbuilders","Jodel & Vrolljk"]
["DelphiA-40.2","Marieholm AB","Jodel Vrolik"]
["DelphiA-40.3","Marieholm","Judel"]
["DELTA 120","CARABELLI","JUDEL/VROLIIJK"]
["DELTA 32","GUALTIERI","Judel/vroljik & co"]
["DELTA 84","Ceilidh Etal","JUDEL VROLICK"]
["DHELER 36","GARRIDO","Hanse Yachts"]
["Diamant 3000","BREHORN - NL","Judel /Vrolijk"]
["DIDI 26","Edin, Roger","Friedrich Judel/ H"]
["DINAMICA RS 940","CINQUE GI","JUDEL FRIEDRICH/VR"]
["DIONE 98","Gemini Intenration","Judell / Vrolijk"]
["DISCOVERY 3000","N.HUTTON","Fitje Judel"]
["DISCOVERY 3000 ext","MAGRATHEA","UDEL FRIEDRICH / V"]
["DISCOVERY 3000 XT","CADEI","Rhode"]
["DISCOVERY 3000EXT","IMPALA","ASMUS"]
["Diva 24 DC","---","Edwardson og Hanss"]
["DIVA 38","CANTIRE CN71","Petter Klyve"]
["DIVA 39","CN71","Mortain & Mavrikio"]
["DivA-35","CN 71","MORTAIN&MAVRIKIUS"]
["DIXI 27","Tuco Yacht V?rft","HANS GROUP"]
["DIXIE 30","TAASINGE GLASFIBER","AENGERYDD/KOEHLER"]
["DIXIE 32","HIDRASHIP","NEW CRUISE DESIGN"]
["DJANGO 6.70","NEVILLE HUTTON","J.HEMPEL"]
["DJANGO 770 TK","X Yachts","NISSEN"]
["DK 46","X YACHT","Amble"]
["DK46","X-YACHTS","Jude Vrolijk"]
["DOD 40","X YATCHS","ROBERT HICK"]
["Dolphin 38 Racing","XCHATS","LOOS"]
["DOLPHIN 81","X-YACHT","De RIDDER Jack"]
["DOLPHIN 81 MOD","Pijnen Jachtbouw","KIHARA TOSHIO"]
["DOLPHIN 81 MOD.","URSA Shipyard","RODGER MARTIN"]
["DOMINANT 95","OTT YACHT","Hobie Alter"]
["DOMINANT RACE","LARS HALVORSEN & S","TED HOOD"]
["DOMP 825","Monark","HOOD"]
["DON 30 MT","Bjarne Aas","T.Hood"]
["DOVELL 82","DE CESARI","CDE Danish Marine"]
["DRABANT 27","A+F+1","JAVIER SOTO"]
["DRAC ONE TON","CARLINI","Olle Enderline"]
["DRACO 27","GERAGHTY","German Freis"]
["DRACO 33","HUTTON","Olle Enderlein/C R"]
["DRAGON","ROYAL HUISMAN","RASSY / ENDERLEIN"]
["Dragon mod.","PICHAVANT","HR"]
["DRAGON_Mod","ISLAND PACKET","Henderson"]
["Drake","AST. ROSENDO","Glenn Henderson"]
["Dream 33","POLITI","HUNTER"]
["Drifter 25 *1.48","Italia Yachts","HUNTER DESIGN TEAM"]
["DROMOR 26","ITALIA YACHT","D.Thomas"]
["DROMOR 26 MOD.","ITALYA YACHT","S. Jones"]
["DROMOR 48","IW verftet","Stephen Jones"]
["Dubois 37 one-off","ITALIA YACHTING","THOMAS DAVID"]
["DUBOIS 40","J-COMPOSITE","A BORGHEGN"]
["DUCK 31","J Europe","TADDEI"]
["DUETTA 94","TILLOTSON-PEARSON","T. SUNDEN"]
["Duetta 94 * 1.10","J Boats","HORACIO CARABELLI"]
["Duetta 94x1.10","TPI Composites","T.CASTRO"]
["DUF 34 DK Le Tall","J Composites","ABRAMI"]
["DUF 34 P DK Sdt","J BOATS / FRANCE","CHANCE"]
["DUF 34E DK Ir Std","J BOATS INC","MP-DESIGN"]
["DUF 34E DK Ir Tall","J COMPOSITE","YACHING DEV"]
["DUF 36 Perf","J BOATS EUROPE","N.JEPPESEN"]
["DUF 36 Perf Sym","J BOAT","N.JEPPENSEN"]
["DUF 40 P DK Sdt","J-BOAT","N. JEPPESEN"]
["DUF 45E P DK Tall","J.BOATS INTERNATIO","Jeppesen"]
["DUFFY","J-YACHTS","NIELS JEPPESEN"]
["DUFOUR 1800","J/composites","JEPPESEN Nilsen"]
["DUFOUR 24","J/Boats Inc","X YACHTS"]
["DUFOUR 27","J Composite France","H.Jeppesen"]
["DUFOUR 2800","J/ Boats (TPI)","jappesson"]
["DUFOUR 29","J-Boats","Satelitte"]
["DUFOUR 30 CLASSIC","J/Europe","WELBOURN Hugh"]
["DUFOUR 31","J/Boats","INGLIS/DOVELL"]
["Dufour 310","Jeurope","LUDERS"]
["DUFOUR 310 GL","I Europa","PENSO & VISMARA"]
["DUFOUR 32 CLASSIC","TSUBOI","BRENTA L."]
["DUFOUR 325 GL","Martin","JOHNSON"]
["DUFOUR 325 GL DK","SPEEDWAVE","BOB JOHNSON"]
["Dufour 334","ALEGRO YACHTING","FONTANA-MALETTO-NA"]
["DUFOUR 334 TROPHY","HAKES MARINE, NZL","Cussutti Maurizio"]
["Dufour 335 Grand L","SIEMER","M.POLLI"]
["DUFOUR 34","J-boats France","Polli"]
["DUFOUR 34 E","T.P.I.","Matteo Polli"]
["Dufour 34 Evolutio","J Boats inc.","JOHNSTONE"]
["Dufour 34 LR","J-Europe","Rod Johnstone"]
["DUFOUR 34 MOD.","J-Work France","J Boats"]
["DUFOUR 34 PERF","J-Composit","RON JOHNSTONE"]
["DUFOUR 34 PERF.","JBOATS EUROPE","Bob Johnstone"]
["Dufour 34 Performa","TPI Boats","JOHNSTONE A."]
["DUFOUR 34 QB GTE","Tillotson-Parson","R. JOHNSTONE"]
["Dufour 34 Standard","J BOAT AZIMUT","R-JOHNSTONE"]
["DUFOUR 35","WESTERLY MARINE C.","ANDRIEU Daniel"]
["Dufour 35 Classic","J-BOATS ITALIA","D.ANDRIEU"]
["DUFOUR 350","DP YACHTING","D. ANDRIEU"]
["DUFOUR 350 GL","NISSAN","Alan Johnstone"]
["DUFOUR 36","T&P","Al Johnstone"]
["DUFOUR 36 Classic","JOHNSTONE","J-Boats"]
["DUFOUR 36 P","TPI Newport","R.Johnston"]
["DUFOUR 36 PERFORMA","Tillotsen-Pearson","J/Boats"]
["Dufour 365","Tilostsn Pearson","Judel/Vrolik"]
["DUFOUR 365 GL","J. COMPOSITE","R Johnstone"]
["Dufour 365 Grand L","T.P.Y.","R.Johnstone"]
["DUFOUR 36e","J. Boats","Ron Johnson"]
["DUFOUR 36P","Composite France","JOHNSTONE Rodney"]
["DUFOUR 37 ATOLL","a","Jonhstone"]
["DUFOUR 38 classic","J-Boats USA","Mr. Jonhstone"]
["Dufour 380 GL","J BOAT EUROPA","J. JHONSTONE"]
["DUFOUR 3800","J- Boats","Johnstone/Jutson"]
["DUFOUR 382 GL","J_boats","J"]
["DUFOUR 385","JAGUAR MARINE","Johnston"]
["DUFOUR 385 GL","JARKAN","JOHNSTONE Al"]
["DUFOUR 40","MAROC JAVELLIN","JHONSTONE"]
["DUFOUR 40 E","Jeaneau","Rod Johnston"]
["DUFOUR 40 HR","PINTA","JOHNSTONE Alan"]
["DUFOUR 40 KB","JONMERI","Butler/ Finch"]
["Dufour 40 LR","Josh Ey","KING/MURRAY"]
["DUFOUR 40 P","META","J KING"]
["DUFOUR 40 PERFORM.","YACHTING FRANCE","Garroni / Briand"]
["Dufour 40 Performa","ARCOA-JOUET","Gary Mull"]
["DUFOUR 40 SK","YACHTIING FRANCE","JEANNEAU"]
["Dufour 40 x 2.10","JPK","NIVELT Bernard"]
["Dufour 405","JS DANMARK","JORMA NYMAN"]
["Dufour 405 GL","Admirality","Don Jones"]
["Dufour 405 GLarge","AKROPRORO","Nyman"]
["Dufour 40E","MIRAGE YACHTS AUS","J.NYMAN"]
["Dufour 40E perf.","Interboats Denmark","KNOCKER-MOITESSIER"]
["DUFOUR 41 CL","Margrathea","TORTAROLO"]
["DUFOUR 41 Classic","PRO-YACHTING","VALER Jacques"]
["Dufour 410","WOONAM MARINE CRAF","VALER"]
["Dufour 410 GL","GIEFFE YACHTS","JACQUES VALERT"]
["DUFOUR 412","Lewin","Jacques Valer"]
["DUFOUR 414 TROPHY","Kalik Yachting","NEUCRUISE"]
["DUFOUR 425","NAVAL FORCE","Swarbrick"]
["DUFOUR 425 GL","CNSO","SCOTT JUTSON"]
["Dufour 425 Grand L","C.N.S.O.","Povel Broeker"]
["DUFOUR 43 CLASSIC","Peter Bruun","WOONAM MARINE CRAF"]
["DUFOUR 44","P.BRUUN DK","Classic"]
["DUFOUR 44 P","Flipper Scow A/S","Birger Kullman"]
["DUFOUR 44 Perf","CORFU YACHT YARD","JAC. DE RIDER"]
["Dufour 44 Performa","J. COMPANY","FAYE Xavier"]
["DUFOUR 44 QB","OL","BIGOIN"]
["DUFOUR 44 race","NEW WIND","P.BRUUN"]
["Dufour 44x2.10","STARBOAT DESIGN","P Bruun"]
["DUFOUR 45 CL DK","Kelt Marine","SGOUROPOULOS"]
["DUFOUR 45 CLASSIC","KELT","J. COMPANY"]
["DUFOUR 45 E","VISION YACHTS","PUSTERLA LUCA"]
["DUFOUR 45 E PERFOR","McConaughy Yachts","OLLIER G"]
["DUFOUR 45 Gte Perf","McConaghy Yachts","GILLES OLLIER"]
["DUFOUR 45 P","VMG","J. Ker"]
["DUFOUR 45 PERF","U.Neaf","Ker"]
["Dufour 45 Performa","Harpol","U. Naef /J. Hempel"]
["Dufour 455","Dekabo","Pfeiffer"]
["Dufour 455 GL","SAILORS BAY B'SHED","KING"]
["Dufour 45E","Mirage Canada","M.Mills"]
["DUFOUR 460 GL","NORDCANTIERI","Bruce Kirby"]
["DUFOUR 4800","Konrad Boatyard","Erling Kristoffers"]
["DUFOUR 485 GL","Polymarin","NORDCANTIERI"]
["DUFOUR 500","Sentijn Yachts","BIGOIN & DUVERGIE"]
["DUFOUR 500 GL","JACHTWERFT KUIJPER","D.Koopmans Sr."]
["Dufour Classic 38","Verwoerd M2","D.Koopmans Jr"]
["Dufour Classic 45","Krackemut Marin","KOOPMANS"]
["DUFOUR D 525","Krohn Yachts","Lars-Ake Andersson"]
["DUFOUR GIBSEA 33","KUIPERS & NIC WITS","Arvid Laurin"]
["DUFOUR GIBSEA 43","Rosattravarvet","Angelo Lavranos"]
["DULLIA 30","John Robertson Yac","Chaykin"]
["DULLIA 36","VCSPS","BJORN OLSEN"]
["Duncanson 34","VALLENTUNA BATBYGG","SODERGREN"]
["DUNNING 41 CUSTOM","CHAMPIONSHIP YACHT","M. Mills"]
["DUOFUR 52.5","Landmark Yachts","LARSEN"]
["DYAS","Nyboat","Hans Age Larsen"]
["DYNAMIC 2000","Mon Boats","BOVOLATO"]
["DYNAMIC 24.5","NYBOAT APS","TRIANTAFILLOPOULOS"]
["DYNAMIC 3000","Perf. Sail Craft","LUCAS Francois"]
["DYNAMIC 35","Perf.Sailcraft","GABRIEL SCHROEDER"]
["DYNAMIC 35 B","LASER","SCHROEDER-VOLKER"]
["Dynamic 37","PERF. SAILCRAFT","Luhrs Marine"]
["DYNAMIC 43","Performance","EUROVELA"]
["DYNAMIQUE 62 CUTT.","BOVOLATO","Arthur Howard"]
["Dynamite 680","Self Built","Chaykin V.V."]
["E3","AST. LEF","Chaykin V."]
["EASY 27","ASTILLERO FRAN","Len Experim.Yard"]
["EC 21","SD Marine","Struzhilin A."]
["EC 26","CAPECCI","V. Chaikin"]
["EC 37","Cobramold Ltd","Leszek Gontarz"]
["ECUME DE MER","Tim Dykin","Lidgard"]
["EDEL 6","LES VCSPS","SCHUMACHER"]
["Efsix","Len Exp.Yard","C.Schumacher"]
["ELAN 295","Len Experim. Yard","A STEWART"]
["ELAN 31","Leningrad Exp.Yard","Lindenberg"]
["Elan 31 Modified","Len Experim.Yard","Mats Gustavsson"]
["ELAN 31 SD","Warszawa","Rossatra Batvarv"]
["ELAN 310","Life Yachts AB","Rossatra Varvet"]
["Elan 310 2.15","Oyster Marine","ST.THOMPSON"]
["Elan 31s","OYSTER","F. Maas"]
["ELAN 320 S","Zygal Boats","Oluf Jorgensen"]
["ELAN 33","Lightwave","JOERGENSEN"]
["Elan 33 / Eigenbau","Rossatra Batvarv","OLUF JOERGENSEN"]
["Elan 333","Mats Gustavsson","Lutra Lutra"]
["ELAN 333 DK Lead","GUSTAVSSON MATS","Konijnendijk"]
["Elan 34","ROSATTRA BATVARV","A.C. Konijnendijk"]
["Elan 340","LONGTZE YACHTS","David Lyons"]
["ELAN 340 Racing","F. Maas","B.MILLER"]
["ELAN 340 Sdt","HELMSMAN","NIEVELL"]
["Elan 340 SK","Luffe Yachts","Nievelle"]
["Elan 350","JOERGENSEN","COSSUTTI MAURIZIO"]
["ELAN 350 DK","Luffe","MPROGETTI"]
["Elan 350 grunn kjo","Kesteloo","Macchi"]
["ELAN 350 IK","V1 advanced comp t","MACGREGOR"]
["ELAN 36","'t Herent marineBV","C. J. S. Roy"]
["ELAN 360","Sydney Yachts","Eivind Sill"]
["Elan 360S","2 EMME MARINE","Bruno Bostrom"]
["ELAN 37","DI DONATO MATTIA","Lescek Gonciarz"]
["Elan 37 dyp kjol","MACGREGOR YACHTS","Dieter Hagenah"]
["ELAN 37 mod","Macwester Marine","ERIC NIELSSON"]
["ELAN 37 SD","Maestro Boats","OCEANTECH"]
["Elan 37x2.05","Marin Form","P. MASTRACCHIO"]
["ELAN 380","MORETI","Bengt Karlsson"]
["Elan 380 dyp kjol","AST. FM","Svein Ingebrigtsen"]
["Elan 384","Sasanka yacht","Mannerberg"]
["ELAN 40","Yacht Service","Jussi Mannerberg"]
["Elan 40 dyp kj_l","MAK","A.ARMINSKI"]
["ELAN 40 RACE","IDB Marine","A. Arminski"]
["ELAN 40 SD FK","KUNGSORS","ANDRZEJ ARMINSKI"]
["ELAN 400","OCEANTECH","HOLAND Ron"]
["Elan 400 / S5","CANTIERI D'ESTE","Amel-Carteau"]
["Elan 40x2.05","CANTIERI MARAI","SUNDEN Tord"]
["ELAN 41","Mamba Boats AB","REICHEL / PUGH"]
["Elan 410","Mani","REICHEL/PUGH"]
["ELAN 410 (SD)","Jaakko Toppila","MILLS Mark"]
["ELAN 410 SD","A. Arminski","JENSEN/SKOVENBORG"]
["ELAN 43","A - Yachts","Simones-Voogd"]
["Elan 434 Impressio","ANDRZEJ ARMINSKI","Simones Voogd"]
["Elan 444","A.ARMINSKI","PETTERSON Pelle"]
["Elan 45","FIBRAMAR","PELLE PETERSON"]
["Elan 450","GROP","P. Peterson"]
["ELAN 450 OCEAN","OCEAN YACHTS","MAXI DOLPHIN"]
["ELAN 494 IMPRESSIO","MARCHI","J. Daszkiewicz"]
["ELAN E4","Marina Sport","DASZKIEWICZ Jacek"]
["ELAN E5","Per Bruun APs","LUIGI CONSOLI"]
["Elan Express","MAT TURKEY","PAOLO BUA"]
["ELAN-400","M.A.T ( TURKEY)","Harry Dunning"]
["Electra","Gurrit","Melges"]
["ELF1220","M.A.T","HARRY MELGES"]
["ELLIOT 10.5","M.A.T.","Mauric/Vaton"]
["Elliot 13","AST. SPEED CRAFT","A. MAURIC"]
["ELLIOT 52 SS","POZZOLO","ALBERIGI"]
["ELLIOTT 10.5","STAM COST.NAUTICHE","JAMARTINEZ"]
["ELLIOTT 11","AST. SPEEDCRAFT","MIKE MUIR"]
["Elliott 35ss","AST. MATCH","MARCO LOSTUZZI"]
["ELLIOTT 44 CR","JENSEN/SKOVENBORG","LOSTUZZI MARCO"]
["ELLIOTT 45","MaxFun Boats","Mills Design"]
["ELLIOTT 5.9","Maxfun Boats BV","SIMEONE"]
["ELVSTROEM 32 MOD.","NIMBUS BOATS","Dudley Dix Design"]
["ELVSTROM 1/2 TON","SJOFARTVERKET","Aleksandr Efanov"]
["ELVSTROM 1/4 TON","Maxi Yacht","ROLAND"]
["ELVSTROM 10,5","Br. Borjesson","Owen Clarcke"]
["ELVSTROM 30.5 CR","Maxi/Boerjesson","PIER P. ROLLAND"]
["ELVSTROM 717","P.PETTERSSON","ROUGIER Francois"]
["EM 830","Molnlycke Marin AB","Ukjent"]
["Enavigo 38","Molnlycke Marin","Slesarev"]
["ENDURANCE 35","MAXI DOLPHIN SRL","David Feltham"]
["Endurance 38","MISTRAL COMPOSITE","PERILLAT Frederic"]
["Enter 360","molnycke marin","Francois Sergent/H"]
["EOL 20","Northman","Berckmeyer"]
["EOLIA 25","LUIGI CONSOLI","Berckermeyer"]
["EQUIPE 33","McCONAGHY","Oswald Berkemayer"]
["Ericson 38","MARINE COMPOSITES","MALINGRI"]
["Ericson 39","CRAFF","MALINGRI FRANCO"]
["ERYD 30","Patridge Yachts NZ","S.Schmidt"]
["ES 44","MD Boats","MAROLLI"]
["ESPACE 1000","MELGES PERFORMANCE","Bill Dixon"]
["ESPADA 34","MC CONAGHY","A.PRIMROSE"]
["Esse 750","Melges boatworks","PRIMROSE"]
["ESSE 850","Rowen","Primorose"]
["ESSE 850M","Davoty Sailing","ANGUS PRIMROSE"]
["ESSE 990","DEVOTI SAILING LTD","B.DIXON/A.PRIMROSE"]
["ESTE 24","BRITISH AEROSPACE","Cosutti"]
["ESTE 24 OD","DEVOTI","Morgan Yacht"]
["ESTE 31","WHITE FORMULA (GB)","Bjarne Moster"]
["ESTE 31 MOD","MELGES SAIL BOATS","S. ROGERS"]
["ESTE 35","rowen composites","Dudey Dix"]
["ESTE 39","White Formula Limi","DUDDLEY DIX"]
["ESYD950/CLASS 9.50","MELGES RACING","ZANGRANDI"]
["Etap 21I","MELGES BOAT WORKS","Matti Pulli"]
["ETAP 22","SOCR Sailboats ltd","FAGGIONI"]
["Etap 26 i","MELGES","MARKO PAS"]
["ETAP 28","ALBERIGI","ALBERTO SIMEONE"]
["ETAP 28 I","MESCAL","SIMEONE ALBERTO"]
["ETAP 30I","NAUTICALODI","NACIRA"]
["ETAP 34 S","URCOFAMA","S LANGEVIN"]
["ETAP 37 S","MG Yachts","Thorwald Karlsson"]
["Etchell","Northshore Yachts","E.SEGELIND"]
["ETCHELLS 22","Mikkelsen AS","TORVALD KARLSSON"]
["ETCHELLS 22  OD","STARMARINE","Judel/Vrolich"]
["EURO 31","STAR MARINE H.T.","Alan Guerney"]
["EVASION 28","Ast. Millennium M.","nautatec"]
["EVASION 34","SIMEONE","CAMPOS"]
["EVENTO 42","Aleksandr Efanov","KAJ GUSTAFSSON"]
["EVENTO 46","R.Kowalczyk","E+R Ginter"]
["Eversail 42","POGO STRUCTURES","Robert Humphreys"]
["EVOLUTION 10","Ian Munslow","Robert Humphrey"]
["EVOLUTION 10 MOD.","TEAM COTE D' ARMOR","I. Sidenko"]
["Excalibur 36ft","ZERO","GINTER"]
["EXPLORER 20","BARRAMUNDI","HOLLAND Ron"]
["EXPRESS","Ast Garriga","NICHOLSON"]
["Express 37","Botnia Marin","NELSON - MAREK"]
["Express 40","Ukjent","ADAM GINTER"]
["Extension","MSJ im.L.TELIGI","J Visiers"]
["Extension MK II","CRAMAR","Peter Roos"]
["EYGTHENE 24","Armyansk","U.DUEBBEL"]
["F & C 40","THAMES MARINE","P Norlin"]
["F & F 110","Unknown","P.Norlin"]
["F & F 1100","MISTRAL YACHTS","C. R. HOLMAN"]
["F & F 30 S","AMC MARINE","PRIMROSE ANGUS"]
["F & F 65 STD","Home Built","Hank Kaufman"]
["F & F 915","Amel (Chantier) Ko","DIXON/PENNA"]
["F & F 95","Halstead","A. PRIMROSE"]
["F & F 95 STD","Nebe","THEC MARINE S.N.C."]
["F&C 31","Gemini K.Bobrowski","Kaufman/Jutson"]
["F&C 40","RENZO RICCI-FANO","SANNA"]
["F&C 44","COOP.NAUTICA FANO","SANNA/NOVELLA"]
["F&C40","QN-Yachts","DELLA ROSA"]
["F&C44","CAPOCIUCHI","Kosorotov/Mataruev"]
["F45F5","M.VELA","OCEAN YACHTS"]
["FALCON 9","Moody Yachts","OCEAN GROUP"]
["FANDANGO 33","MARINE PROJECTS","Finot - Conq et as"]
["FANTASIA","Moody","Faroux / Finot"]
["FANTASIA 27","More brodovi doo","PH. BRIAND"]
["Fareast 26","Morgan Yacht","PH.BRIAND"]
["Fareast 28R","Morris","Berret Racouperau"]
["FAREAST 31R","WARSOE","P.BRIAND"]
["Fareeast 28R","FARSOE GLASFIBER","Finot & Cona"]
["FARR (ex Mumm) 30","N/A","Finot-Conq & Assoc"]
["FARR 10.20","CANTIERI MOSTES","BERRET/ RACOUPEAU"]
["Farr 1020","YACHT SERVICES","PHILIP BRIAND"]
["FARR 11S","Harvey","Berret - Racopeau"]
["Farr 25 OD","PLASTIVELA","Berret/Racoupeu"]
["FARR 280","Tatila","Berret/Racoupupeau"]
["FARR 280 OD","MULTIMARE","Berett / Racoupeau"]
["FARR 3/4","MULTIMAR","FINOT/CONQ"]
["Farr 30","DK COMPOSITE","Finot - Conq & Ass"]
["FARR 30 Sym","AST. DEL SUR","Finot - Conq"]
["FARR 31","A. DEL SUR","Nauta / Berret"]
["FARR 31 MOD","PAM LUBIANA","Barret-Racoupeau"]
["FARR 31 MOD.","Murtic","Briand/Raymond Hun"]
["FARR 36 OD","Chantier Aubin","OHLSON EINAR"]
["FARR 37","MYLIUS SRL","OHLSON"]
["Farr 38","MYLIUS","Vetle Vislie"]
["Farr 38 mod.","NYLIUS","B.OLSEN"]
["FARR 39","PIXIES","OLSEN"]
["Farr 39 ML","LG ASTILLEROS","George Olson"]
["Farr 395","ASTILLEROS L.G.","Olson"]
["Farr 40","WHISSTOCKS BOATYAR","EDWARD S. BREWER"]
["FARR 40'","NAJAD YACHTS","T DIJKSTRA"]
["FARR 40 IMS MOD.","Najad","KROES"]
["Farr 40 mod.","Najadvarvet AB","Tyalor"]
["Farr 40 OD","Najad Zweden","Bieker"]
["FARR 40 One Design","Genzel","Paul Bieker"]
["Farr 40 ONE-DESIGN","Nantucket","LUTRA DESIGN GROUP"]
["FARR 400","AST. NATIVO","SCHARMER"]
["FARR 42","NAUDAR","A.WEITH"]
["FARR 44","SOUTHERN WIND SHIP","HARPPRECHT"]
["FARR 44 MOD","ESTARELLAS","DUMAS /MANNERBERG"]
["FARR 47 (ONE OFF)","NAUTICAT","Robert Weguilin"]
["FARR 49'","Siltala Yachts","L. Giles"]
["FARR 50","NAUTILUS MARINE","Boosman"]
["FARR 51","Nautiner Yachts","W.J.A.Valen"]
["FARR 52","NEK DESIGN","Staack"]
["FARR 520","GERAGHTY MARINE","E. de Wit"]
["FARR 53","NEO YATCHS","H. Aaslestad"]
["FARR 60","NEO YACHT'S & COMP","Laurin Arvid"]
["FARR 645","Nesmar A/S","FARR/Sindeman"]
["FARR 727 Mod","Alto Adriatico","Mehtonen"]
["FARR 740 Sport","NFUN-YACHT","Chantier ORION"]
["FARR PLATU 25","Halmatic Ltd.","BALTA Patrick"]
["FARR PLATU 25 OD","OLSEN","FARR DESIGN  209"]
["FARR36","THYSSEN NSW","WELBOURN"]
["FARR-40","BERLIN/GLUECKSTADT","BRUCE KELLEY"]
["FARR45","C.N CAPARROS","J. FAUROUX"]
["FAST 303","Y.K.P. GDYNIA","UNKNOWN"]
["FAST 42","Lepanto","LUCAS Dominique"]
["FAST CRUISER 42","Nordborg","SVARA - MARCHESAN"]
["FAT 26","Folkboat CTR","MANGO-BERTORELLO"]
["FAURBY 396","Bouwhuis","SCHICKL.- TAGLIAP."]
["FAURBY 424","CANTIERE BERGAMINI","Jose Reves"]
["FAURBY 999 EISENKI","DUEBBEL+JESSE","JUDSON"]
["FAX","REX MARIN","BUZZI-CALDERON"]
["FAX 33","CARABELA","Nivelt"]
["FAYD 30","NORTH WIND(SPAIN)","MAGNEN SEBASTIAN"]
["FEELING 1090","NORTH WIND","VAN DE STAD"]
["Feeling 1090x140","Northshore","ROBERTO DE BARROS"]
["FEELING 1350","NORTHWIND","BISCONTINI/NAUTA"]
["FEELING 30","C.N.NOVELLI","Bernard Korybalski"]
["Feeling 32","North Shore Yachts","HOLMAN & PYE"]
["Feeling 32DI","TRANS MED","Jones Stephen"]
["FEELING 39","TRANSMED","OYSTER"]
["FEELING 39 DK","NYTEC","PHELIPON"]
["FEELING 416","Aquaplastika Pskov","Jaudenes/Theys"]
["FEELING 850 Q Mod","CYC shipyards","Ron Holland/ Ron J"]
["FEELING 850 RACING","K & S Polyboat","PALMIERI"]
["FEELING 850 Spec","BENETEAU, FRANCE","N. VOLKER"]
["FEELING 920","BENNETAU","J. Maderski"]
["Feeling 920 * 1.70","Benetau","Beeldsnijder"]
["FEET 30","BENNETEAU","MULL"]
["FELCI 315","WESTERLEY","Robert H Perry"]
["FENIX","Lear Siegler Marin","Streuer"]
["FIBAGO CX","Sundsors Shipyard","BOTTIONI/ARMINSKY"]
["FIGARO","OHLSON","DUNCANSON JOHN"]
["Figaro 2","OKAZAKI","PICCO YACHT DESIGN"]
["FIGARO BENETEAU","okso bat","H.F.v.d.Rest"]
["Finn Flyer 36","P.B.OLSEN","DI ROSA"]
["FINNFLYER 27","Pacific Boats","v/d Stadt & Prtnrs"]
["FinnFlyer 31","Olson","V/D STADT & PARTNE"]
["Finnflyer 34","Pacific Boat Works","Tallinn"]
["FINNFLYER 36","OMEGA YACHTS","T Skjonsberg"]
["Finnflyer 36 1.85","Familie Batar AB","T.Skjonsberg"]
["Finngulf 28","Omega Yachts AB","Holman&Pye"]
["Finngulf 31","Omega","Jones"]
["FINNGULF 33","Vindo Yachts AB","Steven & Jones"]
["Finngulf 331","FAMILJEBATAR","STEPHEN THOMAS"]
["Finngulf 37","Zweden","St. Thomas"]
["FINNGULF 37/38","Kroes","Christian Stimson"]
["Finngulf 39","DIJKSTRA","BADINELLI"]
["Finngulf 41","Jachtwerf van Dam","FELCI YACHT DESIGN"]
["First  35","A.WEITH","MAGLIOCCHETTI"]
["FIRST 1T EVOLUTION","Progressiva","SCIARELLI"]
["First 20","Boosman","G. CECCARELLI"]
["FIRST 21.7","BROEKER","JOUBERT Michel"]
["FIRST 210","RIDAS YACHT OU","LEVET Eric"]
["First 210 Spirit","VELS & PARTNERS","MARCELO PENNA"]
["FIRST 211","Kooi Makkum","LOMBARDI"]
["FIRST 235","SOUTER","Sant Germany"]
["FIRST 235 (LK)","MAG","CARCANO"]
["First 235 WK","E. de Wit","IGNACIO FRASQUET"]
["FIRST 24","CALLE SCHILDT","FELTES ALBERT J."]
["First 24 QR","TAPETTO VENEZIA","ROVAI GABRIELE"]
["FIRST 25.7","W.BIATEL","HOLMAN"]
["FIRST 260","H. Aaslestad","ETCHE GARAY"]
["FIRST 260 SPIRIT","HARPPRECHT","P. RASPO"]
["First 265","M.Verwoerd","SEB SCHMIDT"]
["FIRST 27","ALGRO YACHTING","STUDIO LOSTUZZI"]
["First 27,7","J. Vels","Soethoudt"]
["FIRST 27.7","Br. Jacobsson","F.MAAS"]
["FIRST 27.7 BG","SASS","HARTER"]
["FIRST 27.7 LK","AS-WERFT","HARTER FRANZ"]
["FIRST 27.7 SD","James Betts Enterp","TIKHONOV MIKHAIL"]
["First 27.7s","Steve Etherigde","Mikhail Tihonov"]
["First 28","RADOS","Robert bergstrom"]
["First 28 * 1.35","HALSTEAD LTD","FONTANA"]
["FIRST 28 DK","Frans Mans","PASETTI"]
["FIRST 28 MOD","Staack","Stimson"]
["FIRST 285","BIERITZ","BEIL"]
["FIRST 285 (WK)","Mehtonen","REINKE"]
["FIRST 285 Q.B.","Chantier ORION","J. GONZALEZ"]
["FIRST 29","TECHNOLOGIE MARINE","Hoek"]
["FIRST 29 DK","MORRI E PARA","I.TOLEDO"]
["FIRST 30","COVERDALE","Goran Dahlstrom"]
["FIRST 30 (2010)","custom","BOOTSBAUTEAM SCRHE"]
["FIRST 30 (2010) DK","FORCE ENG.","Yuri Sitnikov"]
["FIRST 30 (2010) Ra","MICHELSEN","Y. Sitnikov"]
["First 30 10-","WAGNER","Larionov"]
["First 30 E","MICHELSEN FN","Sytnikov Y."]
["FIRST 30 ES","MIKE PARRY","Bruce Ritchie"]
["First 30 JK","KIWI YACHTS","Rolf Jacobsen"]
["FIRST 30 Q Ir","UNKNOWN (Ukraine)","I. TOLEDO"]
["FIRST 300","VISMARA","RONAUTICA"]
["FIRST 300 SPIRIT","MARCHESAN","INIGO TOLEDO"]
["First 305","J.Rodgers","LINQUIST"]
["First 305 * 1.75","Owen Clarke Merfyn","BRUCE ROBERTS"]
["FIRST 305 HR","WOOD & SEA","Heinz-Jurgen Sass"]
["First 305x1.78","FK BOATS","J.MEDEIROS ARANHA"]
["FIRST 30E","SOLERI","CHRISTIAN RODE"]
["FIRST 30E 7/8","MARINE SERVICE","VROLIJK"]
["FIRST 30E MH","Phileas","Rogers-Jennings"]
["FIRST 30ES","SAYER","ROGERS"]
["FIRST 31.7","Thierry Dubois","Ross"]
["First 31.7 HR","JPS","CARTER/LINDBLOM"]
["FIRST 31.7 LR","CHANTIER FUSION","UAB Plastolitas"]
["FIRST 31.7 MOD","ALESSANDRO BRUNO","Phil Morrison"]
["FIRST 31.7 MOD.","DELHER","SOTO ACEBAL"]
["First 31.7 SK","Wauguiez","SABRE"]
["FIRST 31.7 X 1.45","JOAO DE DEUS ASSIS","Taylor"]
["First 31.7x1.48","ADRIASAIL","Jim Taylor"]
["FIRST 310","ALUBAT","SADLER"]
["FIRST 310 DK","Pacer Yachats (ZA)","David Sadler"]
["FIRST 310 DK \"S\"","PACER YACHTS","Hennevanger"]
["First 310 x 1.80","David Griffin","D. Hennevanger"]
["FIRST 32","PROTO","saffier"]
["FIRST 32 S5","AST. MARCO","Peter Bosgraaf"]
["FIRST 325","AST.MARCO","Gote Berg"]
["FIRST 325 GTE","ASTILLERO MARCO","BULGARELLI RICCARD"]
["FIRST 32S5","J. Maderski","JJ/Salona design"]
["FIRST 32S5 (BK)","Skrovab","JJ design"]
["FIRST 32S5 (DK)","Northwest School","J & J DESING"]
["First 33,7","TEKNOCANTIERI","JAKOBIN/KER"]
["FIRST 33.7","PHOENIX BOATS","J & J / KERR"]
["FIRST 33.7 (DK)","LATITUDE 8 ASIA CO","F&J"]
["FIRST 33.7 (SD)","CUSTOM YACHTS","JAKOPIN J & J"]
["FIRST 33.7 B.GHISA","MARIVER","BILL LEE"]
["First 33.7 dyp kjo","v.d.Rest Nautic","LEE/SMITH"]
["First 33.7 grunn k","AST. WINNER/PILOT","Lee"]
["FIRST 34,7","v.d.Stadt","S.AKERMANN"]
["First 34.7","Lewin B.V.","S. AKERMANN"]
["FIRST 34.7 DK","v/d Rest","SAYER"]
["FIRST 34.7 MOD.","Meijer Balk","Torben Larsen"]
["FIRST 34.7 PTE","Meyer Balk","Nil-Eric Olofsson"]
["FIRST 34.7 SD","VAN DE SCADE SHEEP","OLOFSON"]
["FIRST 345","SELF","Olofsson"]
["FIRST 345 SK Sdt","AST. PLENAMAR","Scholtz I"]
["First 35","CHANTIER STRUCTURE","HERRESHOFF"]
["First 35 09-","Pogo","SCIARRELLI"]
["FIRST 35 DK (Rod)","C.NAVAL STRUCTURES","KNUD REIMERS"]
["FIRST 35 QB","STRUCTURE","Ole Enderlein"]
["FIRST 35 S 5","STRUCTURES","I.YOKOYAMA"]
["FIRST 35S5 (BK)","Structures Chantie","Reichel-Pugh"]
["FIRST 35S5 (DK)","Tallinn","Manuard YD"]
["FIRST 35S5 (WK)","POLARIS","MANNARD YD"]
["FIRST 35-S7 (IRON)","POLARIS YACHT","Manuard"]
["FIRST 36,7 MOD","POLARIS YACHTS","B. NIVELT"]
["First 36.7","Selvbygg","BRETECHET Gilles"]
["FIRST 36.7  GTE","MARENA","SHAW Rob"]
["FIRST 36.7 CR","Sea Quest Yachts","Rob Shaw"]
["FIRST 36.7 Le","SEAQUEST YACHTS","Robert Shaw"]
["FIRST 36.7 MOD","Armada Mouldings","WARVET S"]
["FIRST 36.7 MOD.","Pronavia Marine AB","Barberis"]
["FIRST 36.7 Racing","PROTAGONIST","FONTANA-MALETTO-N."]
["First 36.7 SD","PROTEUS","Igor Sidenko"]
["First 36.7 X 1.80","TECHNICOQUE","DAVID THOMAS"]
["FIRST 375","2M MARINE","DAVID TOMAS"]
["FIRST 375 (SK)","RAVASIO","D Thomas"]
["FIRST 375 G","ALEXANDER","D. Thomas"]
["FIRST 38","LATINI MARINE","Simonis 35"]
["FIRST 38 S 5","BELARDI & C.","Botin"]
["FIRST 38 S5","DAL FERRO","CARKEEK / BOTIN"]
["FIRST 38S5","TAPETTO","KARATASITSAS"]
["FIRST 38S5 (BK)","MINNEFORD","KARATASITSAS S."]
["FIRST 40","CRISMAN & GIRALDI","Jerzy Piesniewski"]
["FIRST 40'","SCHIAVON","PIESNIEWSKI J"]
["First 40 2.48","MACCIANTI","ING COLUCCIA CARLO"]
["First 40 CR","EGGER","SANGERMANI CESARE"]
["FIRST 40 DK Rac Ca","Chantier GIBOUIN","Ohlsson/Sterner"]
["FIRST 40 KB","FONTAINE","v/d Waal"]
["FIRST 40 SD","CN. RHONE LYON","Steven Joanes"]
["First 40,7","FONTAINE PAJOT","LEE, BILL"]
["FIRST 40.7","DRAKEKO","A. Struzhilin"]
["FIRST 40.7 B.GHISA","POUVREAU","MAAS"]
["FIRST 40.7 Cr MOD","PATUCELLI","JAVER SOTO ACEBAL"]
["First 40.7 grunn k","PROTOTIPO","TRIPP BILL"]
["FIRST 40.7 M","LEVET & Co","KAUFMANN"]
["FIRST 40.7 MOD.","BARRACUDA","ZANE ALBERTO"]
["FIRST 40.7 Ra DK","APL.COMPOSITE","Jan Linge"]
["FIRST 40.7 SD","HERVE","F.ROCA"]
["FIRST 40.7 SK Mod","ALUMINIUM & TECHN.","F. ROCA"]
["First 40.7x1.90","LOMBARDI","KIRBY"]
["FIRST 405","Sant Germany","J. SOTO A."]
["First 41 S 5","AMCO","Mark Soverel"]
["FIRST 41 S5","PROTO SUD","OERTZ"]
["FIRST 41 S5 (DK)","RAVASIO DERVIO","MABIRE Halvard"]
["FIRST 41S5","AUTOCOSTRUITO","Swarbrick Yachts"]
["FIRST 41S5 (DK)","COFEDE","Sandor Tarcsafalvi"]
["FIRST 42","CORRIAS","Ridder de"]
["First 42 S 7","MININI","Jack de Ridder"]
["FIRST 42 S7","PETRONIO&PECARICH","Ridder"]
["FIRST 42 S7 (SK)","IGNACIO FRASQUET","Newman"]
["FIRST 42 ST PTE","GARRIGA","Ridder J. de"]
["FIRST 42S7 (DK)","FERMI ENRICO","E.G. vd Stadt"]
["FIRST 42S7 Race","DALMAU MOTIVEL","KUHN"]
["FIRST 435","A. WALSTED","VON AHLEN"]
["FIRST 44.7","MAGRATHEA 2000","Glen Henderson"]
["FIRST 44.7 grunn k","SANGERMANI LAVAGNA","Steve Thompson"]
["FIRST 44.7 Racing","BIANCA","Strujilin"]
["FIRST 45","FRANCISCO P. ROSA","LUCA TADDEI"]
["FIRST 45 F5","PSAROS SA","L.TADDEI"]
["FIRST 45 SK","NAO GLASS","E. du Bois"]
["FIRST 456","INERGA S.A.","F.SWEISGUTH"]
["FIRST 45DK","INERGA","E.G. v.d. Stadt"]
["FIRST 45F5","INERGA SPAIN","P. BOSGRAAF"]
["FIRST 47.7","Q boats","HORST STICHNOTH"]
["FIRST 47.7 (SK)","Lucian Dragomir","Rene vd Velden"]
["FIRST 47.7 CRUISIN","AST.UNIV. QUILMES","WOJCIECH SPISAK"]
["FIRST 47.7 DK","GARCIA Y VERDIER","W.Spisak"]
["FIRST 47.7 SD","COMPOSITE MARINE","ADRAGNA GIANLUCA"]
["FIRST 47.7 SK","WEST MARINE","ADRAGNA"]
["FIRST 50","Soethoudt","PETIT"]
["First 50 (SK)","Jachtw. Visser","OLIVIER PETIT"]
["FIRST 50 PTE","Farso Glassfiber","J & J/ANDRIEU"]
["FIRST 50 SK","RAKETA YACHTS","Jaques Fauroux"]
["FIRST 53 F5","RPD OCEANICA (MI)","Daniel Andrieu"]
["FIRST 53F5","OCEANICA","Lombars"]
["First 53F5 (LEAD)","Abekin-Rasmussen","Marc  Lombard"]
["FIRST CHALLENGE","Rivalbater","ANDRIEU Y.DESIGN"]
["FIRST CLASS 10","GILARDONI","Jacques Faroux"]
["FIRST CLASS 10 Mod","MCGRUER YACHTS","J. Faroux"]
["FIRST CLASS 12","Reflex","ANDRIEUX DANIEL"]
["First Class 7.5","WALLHAUSEN","P.H. BRIAND"]
["FIRST CLASS 8","Mc Conaughy Boats","PETERSON DOUG"]
["FIRST CLASS EUROPE","Azura Yachts","Phillipe Briand"]
["FIRST EVOLUTION ST","AST.RESCH Y GONZ.","Philipe Briand"]
["FIRST260SpirLKMod","REVULL","Mark Lombard/Jeann"]
["FIRST45F5","Dahlstrom bat","CASTRO TONY"]
["Fist 21.7","SC RHE","Jac. Fauroux"]
["FJORD MS 33","Spray Ltd","FAROUX"]
["FLASH 700","S-Pb Experim.Yard","J&J/ANDRIEU"]
["Flyer","RIDAS JAHT","M.LOMBARD"]
["Flying Spray II","Alkor Yachts","M. LOMBARD"]
["FLYING STAR","Spray","JENNEAU"]
["Flying Tiger 10","Khozhaj V.","LOMBARD-GARRONI"]
["FOCUS 730","Sprey","DUMAS"]
["FOCUS 850","RIMAR","RIBADEAU DUMAS"]
["FOLIE DOUCE","Noakes Group","RIBADEAU-DUMAS"]
["folkboat","NEGRI NAUTICA","P. Brriand"]
["FORGUS 31","PIERO RIVOLTA","FAUROUX/GARRONI"]
["Formula One","Tollare bruk","CASTRO"]
["Forna 37","SYSBA MARINE","G.Nissen/Schochl"]
["FORTUNA 12","FORA MARINE","NISSEN/SCHOECHL"]
["FORTUNA 9","Alize Yachts","T. CASTRO"]
["FOX 1020","RM YACHTS","A.CASTRO"]
["Foxhound 24","MOA","SUNDEN"]
["FRAN 37","RONAUTICA YACHTS","MAGNAN"]
["Frances 26","BEPS LTD QUAY WORK","MAGNAN Jean Pierre"]
["FRANCHI 28 OD","Birka Marin","Andrew Dovell"]
["Freedom 25","CAMARGO ARANHA","George Owen"]
["FRERS 37","Rocket Yachts","P Norlin/J Ostman"]
["GERMAN FRERS 39","BROAGER YACHTWERFT","SWAN NY/CLUB FRERS"]
["Frers 40","RODMAN","CLUB FRERS"]
["GERMAN FRERS 40","SUNBIRD","GERMAN FRERS YACHT DESIGN"]
["FRERS 43","Paul Jennings","Frer"]
["GERMAN FRERS 45","CMI","KOUYOUMDJIAN"]
["FRERS 50","YB Potsdam","Kim Swarbrick"]
["FRERS 63","Coubray","Peter Morlin"]
["GERMAN FRERS 64","ROY 38","NORLIN/OSTMANN"]
["Friendship 22","STOREBRO","MurrayBurnsDovell"]
["Friendship 26","Windsong Yachts","MURRAY BURNS DOVEL"]
["FRIENDSHIP 28","UAB Plastolitas","MURRAYBURNS&DOVELL"]
["Friendship 33xcb","RS","DOVELL"]
["Friendship 34","RUSTLER YACHTS","MURRAY BURNS&DOVEL"]
["Frindship 33","M BOATS","HB & D"]
["FROEKEN 34","J. Rodgers","MURRAY"]
["FRR72","SWARBRICK BROS","MURRAY IAN"]
["Fulmar 32","AA Boats","IAM & ASSOC."]
["FUN","SAARE PAAT","MURRY/BURNS/DOVELL"]
["FURIA 1000","SABRE","W. GRACYK"]
["FURIA 25","Sabre Yachts","Maurizio Lostuzzi"]
["FURIA 28","Sadler Yachts","Lostuzzi Maurizo"]
["FURIA 302","Saffier","Lostuzzi design"]
["FURIA 32","Saffier Yachts","THOMPSON"]
["FURIA 332","SAGITTA YACHTS","HAKAN SOEDEGREN"]
["FURIA 332-J","BULGARELLI","O.TAKAI"]
["FURIA 37 J","Essex Boat Yard","Takeshai"]
["FURIA 382","AD Boats","ANDREJ SKRZAT"]
["FURIA 392","Salona Yachts","PERRY"]
["FURIA 44","AD brodovi","Gogolkewicz"]
["Fury 33","Salona","Gogolkewich"]
["FY 49","A.D.Boats","Carter-Sp.\"Teliga\""]
["FY61","AD BOATS-CROAZIA","L. Teliga"]
["G 28","AD YACHTS","Kees v/d Stadt"]
["G.S. 39","ADIBOATS","GERMAN FRERS-PELASCHIER"]
["G.S. 39 - 2,40","AD boat LTD","T.Siwik"]
["G.S. 45 JV","AD BOATS LTD","A.JUSTIN"]
["GAFF CUTTER","ADB BOAT","BERGAMINI"]
["Gambler 37","SPIRO SHIPS","Koos de Ridder"]
["Gambler 38","SANGERMANI","G. Verdier"]
["GECCO 39","SANTA CRUZ YACHTS","Joubert and Nivelt"]
["GEMINIS 52","Santa Cruz","Blakewell/White"]
["GENESI 43","SAANTA CRUZ YACHTS","JAUDENES-THEYS"]
["GENESI 43 REGATA","Lee / Santa Cruz","BOTIN/CRKEEK"]
["GIB SEA 105","Lee","BOTIN-KARKEEK"]
["GIB SEA 106","DEERBERG","C & C Design"]
["GIB SEA 106 SCOOP","S. AKERMANN","S M VAN DER MEER"]
["GIB SEA 28","S.AKERMANN","VALK"]
["GIB SEA 302","Greg Brown","SOLER"]
["GIB SEA 474","Jachtw. Maas","BILL TRIPP"]
["GIB SEA 920","Scanmar","W.TRIPP"]
["GIB SEA-312","Scanmar Boats","Lars Hedberg"]
["GIB SEA-352 MASTER","BORJESSON","TRIANTAFILOPOULOS"]
["GIBSEA 105 (scoop)","Scanyacht","TRIANTAFYLOPOULOS"]
["GIBSEA 26","SCANYACHTS","BELTRI"]
["GIBSEA 302","Style Yacht Ltd.","L.Tumilowicz"]
["GIBSEA 33","BRITT BROTHERS","H SODERGREN"]
["GIBSEA 334","CRAGLIETTO","ANTRIM/CANEPA"]
["GIB'SEA 364","AMBROSI","Canepa"]
["GIBSEA 39.2","ADRIA SAILS","v.d. Stadt&Prtnrs"]
["GIB'SEA 41 (DK)","Don Boat Company","D.Koopmans JR."]
["GibSea 414","KATSOULIS","D. Koopmans JR"]
["GIB'SEA 90 Ir M/Hd","LEON.BATAKIS","v. d. Stadt"]
["GIB'SEA 90 Plus","Storebro Bruks","Yacht Service"]
["GIBSEA 92","TSUBOI YACHT","KOOPMANNS"]
["GIBSEA 96","TSUBOI YACHTS","D KOOPMANNS"]
["Gibsea plus","SEAMASTER","Lennart Sandell"]
["GIBSEA-31","ISSA d.o.o.","VISMARA MARINE"]
["GIBSEA-312","SEASCAPE","VISMARA/MILLS"]
["GIB'SEA-312","ISSO","Yokoyama/Kanai"]
["GIBSEA-312 (SK)","BIEHLMARIN","VK Yacht"]
["GIBSEA-35 SK","Biehlmari","Juan Kouyoumdjian"]
["GIBSEA-35-1","ISSA","Guy Ribadeau Dumas"]
["GIBSEA-352","HOME-MADE","V.RIJCKEVORSEL"]
["GIBSEA-402","Van der Stadt","JUDEL-VROLIK"]
["GIN FIZZ","New Oleans Marine","John Swarbrick"]
["GLACER 34","SOUTH COAST BOATY.","Kremer"]
["GOLDKATZE 40","SOUTH COAST B.Y.","Akkerman & Kremer"]
["GOLFINO 34","Southcoast Cork","K Kremer"]
["GOLFINO 7,25","KL NAUTIC","Klaas Kremer"]
["GP 26","SHAW YACHT DESIGN","K.Kremer"]
["GP 26 Mod","Andaman","K. Kremer"]
["GP 33","Shaw Yachts","Akkerman/Kremer"]
["GP 42","S&S","A. Peltzer"]
["GP 42 07","South Hants Marine","Warwick"]
["GP33","SEAWAY","Leif Angermark"]
["GR 28","BARBERIS CANTIERI","L.Angermark"]
["GRAN SOLEIL 50 JV","Concordia","Hugh Welborn"]
["Granada 27","Lasurit Ltd","A. ASH-VIE"]
["GRANADA 32","BASHFORD INT.","GILES LAURENT"]
["Granada 340","SIGMA YACHTS","WESTERLY"]
["GranadA-31","MARINE PROJECTS PL","Jan H Linge"]
["GRANADA-31 SPOILER","Marine Pr.","Jan Herman Linge"]
["GRAND SOLEIL 34","Bood","VAN TONGEREN Ceers"]
["GRAND SOLEIL 34 G","Scholtz Marina","C. van Tongeren"]
["GRAND SOLEIL 34.1","Scholtz","van de Stad design"]
["GRAND SOLEIL 341","Sinergia composite","C. v.Tongeren"]
["GRAND SOLEIL 343","RINALDI","vd Stadt &Prtnrs"]
["GRAND SOLEIL 343 G","MISTRAL","NIEL JEPPESEN"]
["GRAND SOLEIL 343 P","Seaguest Yachts","N. Jeppensen"]
["GRAND SOLEIL 35","Seaquest Ltd","N Jeppesen"]
["Grand Soleil 37","KARATASITSAS","Neils Jeppesen"]
["Grand Soleil 37 B&","KARATASITSAS S.","JEPPESEN Nielsen"]
["Grand Soleil 37 BC","SKIPPER YACHTS","Jepessen"]
["GRAND SOLEIL 38","SKIPPI YACHTS","JEPPESEN NIELS"]
["GRAND SOLEIL 38 P","Skipper","Jeppsen"]
["Grand Soleil 39","David Norris","Jeppessen"]
["GRAND SOLEIL 39 2M","ING COLUCCIA CARLO","X-YACHTS DESIGN GR"]
["GRAND SOLEIL 39 G","SLY YACHTS","X-Yachts"]
["GRAND SOLEIL 39 P","SLY YACHT","N. Jeppersen"]
["Grand Soleil 40","v/d Waal","N. Jespessen"]
["Grand Soleil 40 07","David Garrard Yach","N. Jeppeson"]
["Grand Soleil 40 BC","BILL LEE YACHTS","N. Jeppessen"]
["GRAND SOLEIL 40 C","Solombala Yard","X YATCHS"]
["GRAND SOLEIL 40 DK","SE.RI.GI.","Niels  Jeppesen"]
["GRAND SOLEIL 40 M.","SE.RI.GI.AQUILEIA","Niels Jeppessen"]
["GRAND SOLEIL 40 R","SOLARIS","BUA"]
["GRAND SOLEIL 40 SD","CANTIERE SE.RI.GI.","X-Yachts UK"]
["GRAND SOLEIL 40R","CANTIERE SERIGI","Nils Jeppesen"]
["GRAND SOLEIL 40RCK","C.NAVALE PESARO","LUTRA STUDIO"]
["GRAND SOLEIL 42","Abbott","YAMAHA DESIGN GROU"]
["GRAND SOLEIL 42 R","Elvstrom","Yamaha"]
["Grand Soleil 42R","SONAR (UK) LDT","J. CELA"]
["GRAND SOLEIL 42R05","Sonar (UK) Ltd","J. EVERITT"]
["GRAND SOLEIL 42RMO","SONATA YACHTS","J.EVERITT"]
["Grand Soleil 43","WINAVE","KJOELHEDE"]
["GRAND SOLEIL 43 BC","J. SOLDAVINI","LINGE"]
["GRAND SOLEIL 43 BQ","AST. OCEANTECH","AKIRA YOKOYAMA"]
["GRAND SOLEIL 43 F","E. ANZOLA","YOUG Jim"]
["GRAND SOLEIL 43 R","AST. MILENIUM","jim young"]
["GRAND SOLEIL 43 SD","mboats","YOUNG Jim"]
["GRAND SOLEIL 44","Tartan","J.YOUNG"]
["GRAND SOLEIL 44 R","DEUTSCHE WERKE","Zurl/Fekonja"]
["GRAND SOLEIL 45","JMV CHERBOURG","INZERILL-ALBEGGIAN"]
["GRAND SOLEIL 45 JV","Swarbrick Yachts","PLESSIS/MARIN"]
["GRAND SOLEIL 46","Kvistgaard DK","Oliver Lee"]
["GRAND SOLEIL 46 BC","QUILKEY","E.GINTER"]
["GRAND SOLEIL 46 S","Aquafibre","Strujilin A."]
["Grand Soleil 46.3","NAUTOR","A.Shaposhnikov"]
["GRAND SOLEIL 463","PAUL LUKE","Oyster 28"]
["GRAND SOLEIL 47 N.","E Antinoja","Scherbanos, Basele"]
["Grand Soleil 50","Speederyacht"]
["GRAND SOLEIL 50 DK","van Heygen"]
["GRAND SOLEIL 50 JV","Heygen"]
["GRAND SOLEIL 50 SD","v.Heygen"]
["Grand Soleil 50R","Spirit Yachts"]
["GRAND SOLEIL 52 P","SPORTLAKE"]
["GRAND SOLEIL 54","PARKER"]
["GRAND SOLEIL 56","SQ YACHTS"]
["GRAND SOLEIL 56 C","Tallin"]
["Grand Soleil 56R","Svetlovodsk"]
["GRAND SOLEIL 65","Mareus Marine"]
["GRAND SOLEIL46 S","MARK III"]
["GRAND SURPRISE","CO.VETRO"]
["Grand Surprise Lac","CHARLIE PAPA"]
["GRAND-SURPRISE","STALLION YACHTS"]
["Greyhound 33","Jachtw. F.Maas"]
["GRINDE","FOLLI"]
["Grinde820x1.70","R. de Koning"]
["GRS52","DECESARI"]
["GS 43","JW Huisman"]
["GS 45 JV","MOTOMAR"]
["GUNFLEET 58","Parnu Yachts"]
["GY 53","STERN"]
["h 26","Seastyle Shipyards"]
["H 323","Storm Yachts"]
["H 55 V","STORM YACHT"]
["H BOAT","STREAM YACHTS"]
["H&R 412","ADRAGNA"]
["H22 ONE DESIGN","MADER"]
["H-414","V WORKUM"]
["Halcyon II 27'std","EDGEWATER"]
["HALF 82","Schochl Yatchbau"]
["HALF TON","Briand"]
["HALF TONNER","JENNNEAU"]
["HALLBERG R.32","Janneau"]
["HALLBERG RASSY 26","Jeanneu"]
["Hallberg Rassy 31","Jeannaeu"]
["HALLBERG RASSY 34","Schochl"]
["HALLBERG RASSY 35","Schoechl Yachts"]
["HALLBERG RASSY 352","SCHOECHL YACHTBAU"]
["HALLBERG RASSY 40","Oy Nykra"]
["HALLBERG RASSY 42","NYKRA"]
["Hallberg Rassy 42F","OY NYKRA AB"]
["Hallberg Rassy 43","QUERE"]
["Hallberg Rassy 45","MAGNAN"]
["Hallberg Rassy 53","RAGAMUFFIN YACHTIN"]
["Hallberg-Rassy 342","Cantieri Vetro"]
["HALLBERG-RASSY 41","Lawley and Sons"]
["HANSE 291","NAUTOR OY"]
["HANSE 291 WINGKEEL","NAUTOR SWAN"]
["Hanse 301","NAUTORS"]
["Hanse 311 dyp kj_l","NAUTOR's SWAN"]
["Hanse 311 dyp kjol","SWAN"]
["HANSE 312","NAUTOR SA"]
["Hanse 312 dyp kj_l","SWAN OY"]
["Hanse 312 dyp kjol","J & S Scarlett"]
["HANSE 315","Fiskastra"]
["Hanse 315 DK","Lidkoping Batsnikk"]
["Hanse 320","BASHFORD INT"]
["Hanse 320 - 2008","Barhford Int."]
["Hanse 320 -1009","BASHFORD INTERN"]
["HANSE 325","BASHFORD INTERNAT."]
["Hanse 325 SD","SYDNEY YACHTS, AUS"]
["HANSE 331","MARE S.C."]
["HANSE 341","T-Yachts"]
["Hanse 341 98-05","T-Yachts Italy"]
["HANSE 341 DK","AMG S.R.O"]
["Hanse 342","IAN FRANKLIN"]
["Hanse 350","Takeshai"]
["HANSE 350 R","TVSS"]
["Hanse 355","TANGO YACHTS"]
["HANSE 370","TANGO"]
["HANSE 370 BK","TARGUI"]
["HANSE 370 E","Tartan Marine"]
["HANSE 370e","TASHING"]
["HANSE 371","WERFT STETTIN"]
["Hanse 375","MSJ Teliga nr 37"]
["HANSE 385","im. L Teligi"]
["HANSE 400","Satelitte Yacht"]
["Hanse 400 (QB)","Tes-Yacht PL"]
["Hanse 400 10-","PRELEX D.O.O."]
["HANSE 400 e","VEL. DA CORSA"]
["HANSE 400E","Tirena Yachts"]
["Hanse 401","KD Polyesterbouw"]
["HANSE 411","Poldijk Jachtbouw"]
["Hanse 411 dyp kjol","BG Rasce"]
["HANSE 411 SPOILER","Tofinou"]
["Hanse 411 x 1.95","LATITUD 46"]
["HANSE 415","LATITUDE 46"]
["HANSE 430","OMEGA YACHT"]
["Hanse 430 E","TOR YACHTS"]
["HANSE 430 SPECIAL","Stevenson"]
["HANSE 430E","LONGITUD 0"]
["HANSE 445","RICHARD FAULKNER"]
["Hanse 455","LONGITUD CERO"]
["HANSE 461 DK","King"]
["HANSE 461 x 2.30","SOUTHERN MARINE"]
["Hanse 47","Westerly Yacht"]
["HANSE 470","Trapper Yachts Ltd"]
["HANSE 470 E","TRAPPER YACHTS"]
["Hanse 470e","VALK"]
["Hanse 505","SERVIPOL"]
["HANSE 531","NEPTUNE"]
["Hanse 540","WEVER"]
["Hanse 540 E","Annewever"]
["HANSE 540E SD","A Wever"]
["HANSE 630e","HOLBY"]
["Hanseat 33","Jofa"]
["HANSEAT KOMMODORE","TUCANA"]
["Hansson 31","TUCANA YACHTS"]
["Happy 27","system gospodarczy"]
["Harmony 38","GARDONI"]
["HARMONY 38 GTE(DK)","Judel Vrolijk"]
["Harmony 42","Westerley Yachts"]
["HARMONY 47","UFO BOAT"]
["H-BAT","UFO BOATS"]
["H-boat","COLVIC"]
["H-BOAT ONE DESIGN","Landamores"]
["H-Boot","Colvik"]
["Helium 7.65","UFO BOAT SRL"]
["HELMSMAN 43","V.R. NAUTICA"]
["HELMSMAN 751","C.B.Z."]
["HEMPEL 12","H.J. Bouma"]
["HENZE 31","v.d.Brink"]
["HERO 111 CS","V-1 ACT FZCO"]
["HERO 70 MINITON","Jachtwerf Victoria"]
["HH 42_25-05","Victoire"]
["HH42","FOSCHI-CARLINI"]
["HH42 2.8","HOME MADE"]
["HICK 39","Hanse/Dehler"]
["Hick 40","Cape Vickers"]
["HIDDENSEE MODIF.","Victoria"]
["HIDDENSEE MODIFIED","JW Victoria"]
["HIGH TENSION 36","JW. Victoria"]
["HIGHGRACE 26","NAVIKOM"]
["HIGHLAND 32","VINDO SWEDEN AB"]
["Hobie 33","YACHT VISIONEN"]
["HOD 35","B.N.STELLA POLARE"]
["HOD 35X2.20","MARINE SERVICES"]
["Holland 30","VISMARA MARINE SPA"]
["HOOD 38","TY Seisakusho"]
["Hood 50","VK Yacht"]
["HP 1030","CARLSSON VARF"]
["HPE 30","KILLIAN BUSHE"]
["HPE-25","AST. DURILUZ"]
["HPE30","Ericson Ships"]
["HR 24 Misil II","Europe Yachts"]
["HR 26","QBOATS"]
["HR 29","WRaceboats"]
["HR 310","Waarschip"]
["HR 312","'t Waar"]
["HR 312 MK1","Waarschip Werf"]
["HR 34","Waarschip/NCD"]
["HR 342","V BEEK"]
["HR 39","Waarschip/Bos"]
["HR 39 mk 2","N.C. Delfzijl"]
["HR 43","Waarschip BV"]
["Huisman 37","YACHTING DEV. NZ"]
["HUMPHREYS 22","Azzura Yachts"]
["Hunter 27","Wasa"]
["Hunter 27 X","Wasa Yachts"]
["Hunter 27X","WASA Marin AB"]
["HUNTER 306","Wasa Marin"]
["HUNTER 310","Wasa Yahts"]
["HUNTER 326","Geoff Cruze"]
["HUNTER 35.5","NAUTA ASTILLEROS"]
["HUNTER 356","CH.WILKE"]
["HUNTER 38","WILKE"]
["HUNTER 40.5","Sorland SY"]
["HUNTER 41 aft cocp","Sorland Sailing Ya"]
["HUNTER 707","WIND NAUTICA"]
["Hunter Formula 28","WIND"]
["Hunter Formula One","NAUTA"]
["HUNTER IMPALA","LE PETIT BAT."]
["Hunter Legend  356","Winner"]
["HUNTER SONATA","Winner Yachts"]
["HURLEY 800","D. Rus"]
["HURRICANE 315","Winner werf"]
["HUSTLER 32","RUS YACHTEN"]
["ICE33","Rus Jachten"]
["Icon 48","Dick Rus Yachting"]
["IDYLLE 1550","Rus Yachting"]
["IF","Norsoe Vaerft"]
["IF-BOAT","Nordsoe Verft"]
["ILC 25","Nordsoe Vaert"]
["ILC 30","Norso V?rft"]
["ILC 30 Mod","Nordso V?rft"]
["ILC 40","X YACTHS"]
["ILC 46","X Jachts"]
["ILLIMIT","X-Jachts"]
["IMPALA 33","X- YACHTS"]
["IMPALA 36","x yatch"]
["IMPALA 41","NORDSOE"]
["IMPALA 52","XO RACER"]
["ImpalA-31","X-Yahts, Denmark"]
["IMPALA-31 MOD","G-FORCE YACHTS"]
["Impression 434","G Force"]
["IMS","Triplast"]
["IMS 50","Triplast Anton Nov"]
["IMX 38","YAMAHA"]
["IMX 38 DK (3)","POLIMADER"]
["IMX 40","POLIMAR"]
["IMX 40 MOD","ALBERT LIMOS"]
["IMX 40 MOD.","KJOELHEDE"]
["IMX 45","Borge Bringsv?rd"]
["IMX 45 (SD)","TSUBOI, JAPAN"]
["IMX38","ITO BOAT YARD"]
["IMX-38","LAND Roger"]
["IMX-38SD","YOUNG"]
["IMX40","CANTERBURY MARINE"]
["IMX-40","FAIR Tom"]
["Indigo","YACHTING DEVELOP"]
["INFINITY 46","LOOMS Craig"]
["INGLIS/DOVELL 50","Zurl Technik"]
["INT. 806","AST. DRAKKAR"]
["International 5.5m","M.BROWER"]
["International 806","Hoffman"]
["IOD","CRACKBOAT"]
["IOR 1/2 TON","CRAKBOAT"]
["IOR 3/4 TON","MOS COMPOSITES"]
["IOR 3/4 TON '78","C.P.R."]
["IOR 43","CPR"]
["IOR MAXI","SICILCRAFT/ACOM"]
["IOR ONE TON","Home Construction"]
["IOR ONE TON '76","CANTIERE ZUANELLI"]
["IPK 29","Oliver Lee"]
["IRC 305","A.Shaposhnikov"]
["ISLAND PACKET 360","E.BANASZAK"]
["ISOLA 34","LIDGARD"]
["ITALIA 10.98","Alexandr Yachts"]
["ITALIA 12.98","Yahtclub SLVC"]
["ITALIA 13.98","Galeta A.D."]
["Italia 9.98","Chita Japan"]
["ITALIA 9.98 F","DICASTELLI GALEPIO"]
["Italia 9.98F"]
["ITALIA Y. 13.98"]
["ITALIA YACHT 10.98"]
["ITALYA 12.98"]
["IW 40 HR"]
["IY 998"]
["IY13.98"]
["J 105"]
["J 109"]
["J 111"]
["J 120"]
["j 122"]
["J 130"]
["J 145"]
["J 29"]
["J 35"]
["J 39"]
["J 39 MOD."]
["J 44"]
["J 80"]
["J 88"]
["J 92"]
["J 92 S"]
["J 92S"]
["J 97 E"]
["J.O.D  35"]
["J.O.D. 24"]
["J.O.D. 35"]
["J.O.D. 35 MOD"]
["J.O.D.35"]
["J/105"]
["J/109"]
["J/111"]
["J/120"]
["J/122"]
["J/125"]
["J/133"]
["J/30"]
["J/46"]
["J/92"]
["J/92 S"]
["J/97"]
["J/V 35 CR"]
["J/V 36"]
["J/V 38 ONE OFF"]
["J/V 39"]
["J/V 42"]
["J/V 46"]
["J/V 47"]
["J/V 52"]
["J/V 53"]
["J/V 55 SK"]
["J105"]
["J-105"]
["J-105x1.65"]
["J-108"]
["J-109"]
["J-109 (DK)"]
["J-109 DK"]
["J-109 Gte"]
["J-109 MOD."]
["J-110"]
["J111"]
["J-111"]
["J-111 OD"]
["J-112E"]
["J120"]
["J-120"]
["J-120 Alu"]
["J-122"]
["J-122 (DK)"]
["J-125"]
["J-130"]
["J-130 (SK)"]
["J-133"]
["J-160 Cruising"]
["J-160 DK"]
["J-22 STD"]
["J-24"]
["J-27"]
["J-29"]
["J-30"]
["J-33"]
["J35"]
["J-35"]
["J35 modified"]
["J-36"]
["J37"]
["J-39"]
["J40"]
["J44"]
["J-44 (Mod.)"]
["J46"]
["J70"]
["J-70"]
["J80"]
["J-80"]
["J-80 OD"]
["J-88"]
["J-92"]
["J-92 Asym  S/D"]
["J-92 Asym  S/D (3)"]
["J-92 S"]
["J-92 SL"]
["J-92S"]
["J-97"]
["J-97 Alu"]
["J-97 Carbo"]
["J-97 SD"]
["JAGUAR 27"]
["JARKAN 12.5"]
["JARKAN 12.5 NEW K"]
["JAVELIN 44"]
["Jeaneau Rush 32"]
["JEANNEAU 38"]
["JEANNEAU 53"]
["JEANNEAU Microsail"]
["JEANNEAU37"]
["JEZ 27"]
["JF 34"]
["JNP 12"]
["JOD35"]
["Joker"]
["JON 33"]
["JONES 40"]
["Jonmeri 40x1.85"]
["JONMERI 44"]
["JOSHUA-40 KETCH"]
["JOUET 27 (EST)"]
["JOUET 33 FANDANGO"]
["JOUET 37"]
["JPK 10.10"]
["JPK 10.10 Ca"]
["JPK 10.80"]
["JPK 38 FC"]
["JPK 9.60"]
["JPK 960"]
["JPK 960 Asym"]
["JPK 960 Sym"]
["JPK 960 Sym & Asym"]
["JS FORMEL 20"]
["JS9000"]
["Judel/Vrolijk 60"]
["Jupiter 30"]
["JUTSON 50"]
["Juwel 34"]
["JV 42"]
["JV 44"]
["JV 48"]
["JV 49"]
["K23"]
["K28"]
["K-38"]
["K43"]
["Kalik 30"]
["KALIK 33"]
["KAOBA-31"]
["KARATE (SPORT)"]
["KARATE 33"]
["KARATE SPORT"]
["KASKELOT"]
["KATIA 28"]
["KAYTERET 770"]
["KEELBOAT"]
["KEELER 28"]
["Kelt 5,50"]
["Kelt 620"]
["KELT 7.60"]
["KELT 8 m."]
["KELT 8.50"]
["KER 11.3"]
["Ker 39"]
["KER 40"]
["KER 43"]
["KER 46"]
["KER 50"]
["KER 51"]
["KER55"]
["Kieljollenkreuzer"]
["Kievit 670"]
["Kievit 680"]
["KING 38 CUSTOM"]
["King 40"]
["Kirby 30"]
["Knarr"]
["KNIERIM 49"]
["KOALA 34"]
["KOALA 39"]
["Konrad 25T"]
["Konrad-25RT"]
["KONSORT 29"]
["Koopmans 34"]
["Koopmans 35"]
["KOOPMANS 39"]
["Koopmans 45zw"]
["Koos 22"]
["Kracer 40r"]
["Krohn 97/Vision 32"]
["KUSTVAARDER II"]
["L 28"]
["L 34"]
["L-6"]
["LA KREUZER"]
["LADY HELMSMAN"]
["LAGO 26"]
["LANCER 29"]
["Landmark 43"]
["LARSEN 25"]
["LARSEN 28"]
["LARSEN 34"]
["Laser 28"]
["LASER SB 20"]
["LASER SB3"]
["LATINI 52"]
["LB10"]
["LC-26 IMS RACER"]
["LCC 40"]
["LEF 34"]
["Legend 33"]
["LEGEND 40.5"]
["LEGEND 45"]
["LEGNOMANIA"]
["LEISURE 17"]
["Leisure 42"]
["LES 35"]
["LES-31"]
["LES-35"]
["LES-900"]
["LG 755"]
["Lidgard 48 Custom"]
["Life 7.5"]
["LIGHTWAVE 395"]
["Limbo 9.9 mod."]
["Lindenberg 28"]
["LINJETT 32 7/8"]
["LINJETT 33"]
["LINJETT 35"]
["LINJETT 37"]
["LONGTZE PREMIER"]
["Loper"]
["LORD HELMSMAN"]
["Luffe 3.6"]
["LUFFE 37"]
["LUFFE 40"]
["LUFFE 40 MH"]
["LUFFE 4004"]
["LUFFE 43"]
["LUFFE 43 DS"]
["LUFFE 43 MK2"]
["LUFFE 43/97"]
["LUFFE 44"]
["LUFFE 45"]
["LUFFE 48"]
["Lutra 52.5"]
["Lutra V1-30"]
["LutrA-40 Open"]
["LYONS 60 Custom"]
["M & W 48"]
["M 1"]
["M 2"]
["M 34"]
["M 37"]
["M M 41"]
["M25S"]
["M34"]
["M-34"]
["M37"]
["Macchi 50"]
["MACGREGOR 26"]
["MACWESTER 27"]
["MAELAN 36"]
["Maestro 35"]
["MAGIC 33"]
["MAGIC33"]
["MAGNIFIK MIDGET"]
["MAJESTIC 24 R"]
["MAK7 Cruise"]
["MAK7 RACE"]
["makTEN"]
["MALANGO Sym"]
["MALAR 25"]
["MALBEC 240"]
["MALBEC 290"]
["MALBEC 360"]
["MALBEC 360 QB"]
["MALBEC 360 R"]
["MALBEC 410"]
["MALU 33 (ESTE 33)"]
["MALU'7"]
["MAMBA 33"]
["MAMBA 341"]
["Mani 705 Miniton"]
["Mannerberg 31"]
["Mannerberg 38"]
["Mantra 7000"]
["MANTRA 8.5"]
["MANTRA-31"]
["MANZANITA"]
["MANZANITA (1/4T)"]
["Maramu 46"]
["MARCHI 39"]
["MARIEHOLM 26"]
["Marieholm 26 IF"]
["Marina 36 Sport"]
["MARSVIN"]
["Marten 49"]
["MARTEN 49 Mod"]
["MAT 10.10"]
["MAT 1010 (N?001)"]
["mat 11.80"]
["MAT 1180"]
["MAT 1245"]
["MAT1010"]
["MATCH 30"]
["MATCH 30 MOD"]
["MATCH 33"]
["MATCH 42"]
["MATCHER 31"]
["Maxfun 25"]
["MAXFUN 35"]
["maxi 1000"]
["Maxi 1050"]
["MAXI 1050 DK"]
["MAXI 108"]
["MAXI 108 MODIFIED"]
["Maxi 1100"]
["MAXI 1300"]
["MAXI 380+"]
["MAXI 68"]
["Maxi 77"]
["MAXI 84"]
["MAXI 87"]
["MAXI 909"]
["MAXI 95"]
["MAXI 999"]
["Maxi 999 * 1.45"]
["MAXI DOLPHIN 33"]
["MAXI DOLPHIN 65"]
["MAXI MAGIC"]
["MAXI ONE DESIGN"]
["MAXI RACER"]
["MAXUS 22"]
["MAXUS 24 DK"]
["MAYDA 39"]
["MAYO 637"]
["Mazurka"]
["MC 38"]
["MC 46"]
["MC CLIPPER"]
["MC38"]
["MD 35"]
["MEAN MARINE 32"]
["MEIRA V-900"]
["MELGES 20"]
["Melges 24"]
["MELGES 24 OD"]
["MELGES 30 MOD"]
["MELGES 32"]
["MELGES 32 MOD"]
["MELGES 32 OD"]
["MELGES32"]
["MELODY"]
["MESCAL 31 MOD."]
["MESCAL 959"]
["METEOR"]
["MF 42"]
["MG 26"]
["MG 38"]
["MG RS 34"]
["MG SPRING 25"]
["MIKE MUIR"]
["MIKKEL 32 spesial"]
["MILLENIUM 40"]
["MILLENIUM 40'"]
["MILLENIUM 40 Q.B."]
["Millennium 38"]
["Mills 43 Custom"]
["Mills 45 Custom"]
["MINALDO"]
["mini 6.50"]
["MINI 650 POGO 1 95"]
["Mini 650 PROTO"]
["MINI TON"]
["MINI TRANSAT 6.5"]
["MINI ZERO 650"]
["MINIBEE"]
["Miniton"]
["Miniton ONE OFF"]
["MINITONER"]
["MINITONNER"]
["MINITONNER 20"]
["MIRAGE 28"]
["MISCHIEF 24"]
["MISTRAL 31"]
["MISTRAL 750"]
["MISTRAL 750 Sym"]
["MISTRAL 950"]
["MISTRAL SUPER SPOR"]
["Miura"]
["MIXER CR"]
["MKCafe24"]
["MOANA 27"]
["MOANA 39"]
["mOcean 24"]
["mOcean 26"]
["Mod Farr 40"]
["MODULO 123"]
["MODULO 72"]
["MODULO 90"]
["MODULO 93"]
["MONO 22"]
["Moody 28"]
["MOODY 29"]
["MOODY 31 MK II"]
["MOODY 33"]
["MOODY 33 Mk I"]
["MOODY 34"]
["MOODY 376"]
["MOODY 38"]
["MOODY 38 NOSPI"]
["MOODY 39"]
["MOODY 42 DS"]
["More 55"]
["Morgan 422"]
["Morris 47"]
["MOSQUITO 85"]
["MOSQUITO 88"]
["MOSTER 36"]
["MOSTES 55"]
["MOUNT GAY 30"]
["MOUNT GAY 33"]
["MOUSSE"]
["MOUSSE 907"]
["MOUSSE 99"]
["MP 34"]
["MULTI 78"]
["MULTIMAR 32"]
["MUM 30"]
["MUM 30 std"]
["MUMM 30"]
["MUMM 30 OD"]
["MUMM 36"]
["Mumm 36 mod"]
["Mumm 36 mod."]
["MUMM36"]
["MUMM36 MOD"]
["MURENA"]
["MURPHY 26"]
["Murtic 52"]
["MUSCADET"]
["MYLIUS 11E25"]
["MYLIUS 14E55"]
["MYLIUS 15E25"]
["MYLIUS 18E35"]
["MYLIUS 18E35 CK"]
["MYLIUS 50'"]
["MYLIUS 55"]
["MYLIUS 76 DS"]
["MYLIUS 76 FD"]
["MYSTIC 290"]
["NACIRA 6.50"]
["NADIR 22"]
["NADIR 33.5"]
["NAJA 30"]
["NAJAD 320"]
["Najad 331"]
["Najad 360"]
["Najad 380"]
["Najad440ac"]
["NAJADE 900"]
["Nantucket 33"]
["NATIVO 38"]
["NAUDAR 40"]
["NAUTA 78"]
["NAUTATEC 42"]
["NAUTATECH 42"]
["NAUTICAT 321"]
["NAUTICAT 39"]
["NAUTILUS MARINA 43"]
["Nautiner 30S"]
["NEK 26 - DOLPHIN"]
["Nel/Mar 43"]
["NELSON & MAREK 41"]
["NEO 25"]
["NEO 400 CARBON"]
["NEREIS 30"]
["NEREIS 32stern ext"]
["NESSY 94 CR/R"]
["Nessy 94 Spesial"]
["Neva"]
["Next 37"]
["N-FUN 30"]
["NICHOLSON 33"]
["Nicholson 38"]
["Nicholson 43"]
["Nicholson31x1.52"]
["NISSEN 39"]
["NISSEN 55"]
["NISSEN 56"]
["NITRO 80"]
["NM 46 IMS RACER"]
["NM38S"]
["none"]
["Noray 38"]
["Nordborg 26"]
["NORDIC FOLKBOAT"]
["NORDSEE 41"]
["Norlin 37"]
["Norlin 37 A (SD)"]
["Norlin 37 MK II"]
["NORTH SEA 24"]
["NORTH WIND 435"]
["NORTH WIND 58"]
["Northshore 38"]
["NORTHWIND 35"]
["NORTHWIND 40"]
["NORTHWIND 55 (EST)"]
["NOVA-40"]
["NS 340"]
["NSX 38"]
["NSX 42"]
["N-YACHTS 41"]
["NYTEC 23"]
["NYTEC 25"]
["NYTEC 25 BULBO 98"]
["O-800"]
["Oceaan 25"]
["OCEAN STAR 51.2"]
["OCEAN YACHT 51.2 E"]
["OCEANIC  423"]
["OCEANIC 351"]
["OCEANIS 281"]
["Oceanis 31"]
["OCEANIS 31 DK"]
["OCEANIS 311"]
["OCEANIS 311 CLIPPE"]
["OCEANIS 320"]
["OCEANIS 321"]
["OCEANIS 323"]
["OCEANIS 323 C"]
["Oceanis 323 clippe"]
["OCEANIS 331"]
["Oceanis 331 Clippe"]
["OCEANIS 34"]
["OCEANIS 343"]
["OCEANIS 343 CLIP"]
["Oceanis 343 Clippe"]
["OCEANIS 343 DK"]
["OCEANIS 343CL"]
["OCEANIS 350"]
["OCEANIS 351"]
["OCEANIS 36 CC"]
["OCEANIS 361"]
["OCEANIS 361 CLIPPE"]
["OCEANIS 361 Clippr"]
["OCEANIS 361Clipper"]
["Oceanis 37"]
["OCEANIS 370"]
["Oceanis 373"]
["OCEANIS 373 CLIPPE"]
["Oceanis 38"]
["OCEANIS 38 CR"]
["OCEANIS 38 Cruiser"]
["OCEANIS 381"]
["OCEANIS 390"]
["OCEANIS 393"]
["Oceanis 393 C"]
["OCEANIS 40"]
["OCEANIS 400"]
["OCEANIS 405"]
["OCEANIS 41"]
["OCEANIS 411"]
["OCEANIS 411 CLIPER"]
["OCEANIS 411 CLIPPE"]
["OCEANIS 411 CLIPPR"]
["Oceanis 42 CC"]
["OCEANIS 423"]
["OCEANIS 43"]
["OCEANIS 430"]
["OCEANIS 440"]
["OCEANIS 440 WK"]
["Oceanis 45"]
["OCEANIS 46"]
["OCEANIS 473"]
["OCEANIS 48"]
["Oceanis 50"]
["OCEANIS 50 G5"]
["OCEANIS 500"]
["OCEANIS 510"]
["OCEANIS 523"]
["OCEANIS 523 CLIP."]
["OCEANIS 54"]
["OCEANIS 54 DK"]
["OCEANIS 55"]
["Oceanis 58"]
["OCEANIS 60"]
["OCEANLORD 41"]
["OCEANMASTER 48"]
["O'Day 40"]
["OE 32"]
["OFFSHORE 38"]
["OHLSON 29"]
["OHLSON 8:8"]
["Okazaki 42"]
["OKSO 32"]
["OLSEN 31"]
["OLSEN 34"]
["Olson 30"]
["OLSON 30 O.D."]
["OLYMPIC 42"]
["OLYMPIC SEA 42"]
["OLYMPIC SKY 39"]
["OMEGA 30"]
["OMEGA 34"]
["OMEGA 36"]
["Omega 42"]
["Onbekend"]
["ONE - OFF"]
["ONE 42"]
["One Off"]
["One Off 35"]
["ONE OFF 7.0m"]
["ONE OFF B13-50"]
["ONE TON"]
["One ton one off"]
["ONE TONNER"]
["ONE-OFF"]
["ONE-OFF  3/4 TON"]
["ONE-OFF 14.00m"]
["one-off 1-ton"]
["ONE-OFF 9M"]
["ONIAK 9400"]
["OOD 34"]
["Open 30"]
["OPEN 40"]
["OPEN 40 GERMAN FRERS"]
["OPEN 42"]
["OPEN 43'"]
["OPEN 5.5"]
["Open 5.70"]
["OPEN 50"]
["Open 60"]
["OPEN 750"]
["OPEN 950"]
["OPTIMA 101"]
["OPTIMA 101/106"]
["OPTIMA 106"]
["Optio 9"]
["ORC 26"]
["ORC GP 33"]
["ORCA 50"]
["Outborn 39"]
["OVER 33"]
["OVNI 445"]
["OYSTER 37"]
["Oyster 41"]
["OYSTER 54"]
["P 38"]
["P 38 MAGNUM"]
["Pacer 310"]
["PACER 376"]
["Pacific 36"]
["PALVIT 37"]
["PANDORA 34"]
["PANDORA-31"]
["Pasja 850"]
["PB 44"]
["PERCEPTION"]
["Performance 35"]
["Perry Sliver Class"]
["PERVERSION"]
["Phantom 28 neu"]
["PHANTOM 34"]
["PHASELUS"]
["PHOENIX"]
["PHOENIX 24"]
["PHUKET SPORTS 8"]
["PICCO 25"]
["PICCO 30"]
["PICCO 38' C/R"]
["PIERROT 9.16"]
["PIERROT 9.25"]
["Piewiet 1200"]
["Piewiet 1200 Mod."]
["PILOT 36"]
["PINGUIN 38"]
["Pion"]
["PION (OOD)"]
["PIONIER"]
["PIONIER 28,5"]
["PIONIER 870"]
["PIONIER 9"]
["Platu 25"]
["PLATU 25 OD"]
["PLENAMAR 27"]
["PLENAMAR 36"]
["PND 34"]
["POGO 10.50 LK"]
["Pogo 12.5"]
["POGO 12.50"]
["POGO 2 6.50"]
["POGO 30"]
["POGO 30 (LK) Carb"]
["POGO 30 (LK) Carbo"]
["POGO 40"]
["POGO 40 CR"]
["POGO 40 Cruiser SK"]
["POGO 50"]
["POGO 6.5"]
["POGO 6.50"]
["POGO 850"]
["POGO CLASS 40"]
["Pogo Classe 40"]
["Pogo12.50 QB"]
["Polaris"]
["POLARIS 33"]
["POLARIS 37"]
["POLO 86"]
["PORTOBELLO 28 QB"]
["Pretorian 35"]
["PRETORIEN 35"]
["PRIMA 38"]
["PROJECTION 762"]
["Pronavia 38"]
["PROTAGONIST 750"]
["PROTAGONIST 750 CR"]
["PROTEUS 90"]
["PROTEUS 90 MOD."]
["PROTO"]
["PROTO  Cl2"]
["PROTO 1/2 TON"]
["PROTO 1/2 TON 1978"]
["PROTO 1/2 TON 1980"]
["PROTO 1/2 TON 1981"]
["PROTO 1/2 TON 1983"]
["PROTO 1/4 TON 1981"]
["PROTO 25"]
["PROTO 3/4 TON Mod"]
["PROTO 31"]
["PROTO 40"]
["PROTO 850"]
["PROTO ILC 40"]
["PROTO IOR 1/2 TON"]
["PROTO IOR 1/4 TON"]
["PROTO IOR 1Ton mod"]
["PROTO IOR 3/4 T"]
["PROTO IOR 79"]
["PROTO IOR ONE TON"]
["Proto Madera"]
["PROTO MINI 6.50"]
["PROTO MINI TON 82"]
["PROTO MINITON"]
["PROTOTIPO"]
["PROTOTIPO 1/2 TON"]
["PROTOTIPO 3/4 TON"]
["PROTOTIPO CLASICO"]
["PROTOTIPO IMS 45"]
["PROTOTIPO ONE OFF"]
["PROTOTIPO TWO TON"]
["PROTOTYPE"]
["PRYD 26"]
["PSAROS 33"]
["PUMA 27"]
["PUMA 29-J"]
["PUMA 32"]
["PUMA 34"]
["PUMA 38"]
["PUMA 42"]
["Q-33"]
["QT"]
["QUANTUM 26"]
["QUARTERON 26"]
["QUEEN 34"]
["R/P 52"]
["R/P 55"]
["R/P66 CANTING KEEL"]
["Ragger 130"]
["RAIDER 34"]
["RAINBOW 42"]
["RAKETA 1200"]
["Raketa970"]
["RANDONNEUR 9.50 BQ"]
["RANGER 29"]
["RANGER 32"]
["Rasmussen"]
["RAVAGE 36"]
["RB 111"]
["RE DAVID JR"]
["RE DAVIDE"]
["REBEL 35"]
["RED ADMIRAL"]
["Reflex 38"]
["REGENT"]
["REICHEL/PUGH 30m"]
["Reichel/Pugh 60"]
["REINKE S10"]
["RESCH 32"]
["Retro Classic"]
["REVULL 75"]
["Rhapsody 34"]
["RHEPRO 21"]
["Ricochet 930"]
["Ricochet-900"]
["RIDAS 31"]
["RIGOLETTO"]
["Rikochet 26GP"]
["Rikochet 747"]
["Rikochet 930"]
["Rikoshet 747"]
["Rikoshet_mod"]
["Rikoshet-2"]
["RIMAR 36"]
["RIMAR 36 Modified"]
["RIMAR 44.3"]
["Ritchie 38"]
["RIVETTO"]
["RIVOLTA 90"]
["RJ 85"]
["RM 10.50 Twin Keel"]
["RM 12.60"]
["RM 1200"]
["RM 1260"]
["RO 265"]
["RO 300"]
["RO 330 (DK)"]
["RO 330 (SD)"]
["RO 330 DK"]
["RO 330 SD"]
["RO 340"]
["RO 400"]
["RO 400 (SK)"]
["ROBBER 3E"]
["ROBERTS 310"]
["Rock 20"]
["ROCKET 28"]
["Rocket 31x2.22"]
["RODE 30"]
["RODMAN 42"]
["RODMAN 42 MOD"]
["RODOS 39"]
["Roger 36"]
["ROGERS 46"]
["Rommel 33"]
["Ross 930"]
["ROY 38"]
["ROYAL 33"]
["RP 37 MK 2"]
["RP 63"]
["RS 280"]
["RS Elite"]
["RS280"]
["Rush"]
["Rush 31"]
["RUSH 31 SK"]
["RUSH GTE(Iron)"]
["Rush Royal"]
["RUSH Royal Tdf Mo"]
["RUSTLER 42"]
["SPARKMAN & STEPHENS"]
["SPARKMAN & STEPHENS 34"]
["S 40 OD"]
["S ODYSSEY 52.2 SD"]
["S&S 34"]
["S&S 34 (MOD)1.92"]
["SPARKMAN & STEPHENS 45"]
["SPARKMAN & STEPHENS 47"]
["SPARKMAN & STEPHENS 6.6"]
["S&S 6.6"]
["S-40"]
["SAARE 38"]
["SABRE 34"]
["Sabre 36-2 WK"]
["Sabre 386"]
["SADLER 32"]
["Saffier 26"]
["Saffier 36"]
["Saffier 8.00"]
["Saffier sc10m"]
["Saffier SE33"]
["SAFIR"]
["SAGITTA-35 Short M"]
["SAIL 31 IRC PROTO"]
["Salar 40"]
["Salona 33"]
["SALONA 33 Std"]
["Salona 34"]
["Salona 37"]
["SALONA 37 DK"]
["SALONA 37 LK"]
["Salona 37 RK"]
["Salona 37 SK"]
["SALONA 38"]
["Salona 38 BK"]
["SALONA 38 DK"]
["Salona 38 ibc"]
["Salona 41"]
["Salona 42"]
["SALONA 42 ibc"]
["SALONA 42 ND"]
["Salona 42R"]
["Salona 44"]
["Salona 45"]
["SALONA 45 LK"]
["SALONA 45 Standard"]
["Salona 45x2.10"]
["SalonA-35"]
["SalonA-35 SK"]
["SalonA-40"]
["SALONA-40 SD"]
["SalonA-40x 1.99"]
["SalonA-40x1.99"]
["SAMOA 48"]
["SANGERMANI 40"]
["SANTA CRUZ 27"]
["Santa Cruz 52"]
["SANTA CRUZ 52 SD"]
["Santa Cruz 70"]
["SAPHIR"]
["Saphire 27"]
["SARAIANA 50"]
["SAY 10"]
["SAYER 11.9"]
["SB20 ONE DESIGN"]
["Scaldis"]
["Scampi 30"]
["SCAN-kAP 99"]
["SCANMAR 33"]
["SCANMAR 345"]
["Scanner 361"]
["SCANNER 38"]
["Scanner 391"]
["Scholtz 32"]
["SCHONER"]
["SCHOONER"]
["SCIACCHETRA'"]
["SCIARELLI 55'"]
["SCIARELLI 60"]
["SCUDERIA 50"]
["ScythiA-35"]
["SEA MINI"]
["SEA SERPENT"]
["SEA STAR"]
["Seaeagle II"]
["SEAM 31"]
["SEAM 33"]
["SEAMASTER 815"]
["Seaquest 32"]
["Seaquest 36"]
["Seaquest 36RP"]
["Seascape 18"]
["SEASCAPE 24"]
["SEASCAPE 27"]
["SEA-TON"]
["SelectA-31"]
["SELECTION"]
["SELECTION 37"]
["SENSE 50"]
["Sentijn 1133"]
["Serendipity 43"]
["SERENITY"]
["SHAMROCK"]
["Shamrock 30"]
["SHAMROCK MK2 mod"]
["SHAW 35"]
["Shaw 650"]
["Shaw 9"]
["SHE 31"]
["She 36"]
["SHIPMAN 50"]
["SHOGUN"]
["SHOW 29"]
["SHOW 29 B.TRAPEZ."]
["SHOW 29 MOD."]
["SHOW 34"]
["SHOW 38"]
["SHOW 42"]
["SID 1045"]
["SIDNEY 40"]
["SIGMA 30"]
["SIGMA 33"]
["Sigma 33 OOD"]
["SIGMA 33S"]
["Sigma 36"]
["SIGMA 362"]
["SIGMA 38"]
["Sigma 38 OOD"]
["SIGMA 38OOD"]
["SIGMA-400"]
["Simones 45"]
["Simonis 35"]
["SinergiA-40"]
["SinergiA-40 IMS"]
["SINERGIA-40 MOD"]
["SINTESI 36"]
["SINTESI 45"]
["SIROCCO MK 2"]
["SIROCCO MK II"]
["SJ 320"]
["SKC PROJECT"]
["SKC22+"]
["SKIPJACK"]
["SKIPPER 30"]
["SKIPPER 30 QC"]
["SKIPPER 53"]
["SKIPPI 650 Cruiser"]
["SKIPPI 650 PERFORM"]
["Skippi 650 Race"]
["Skippi 650 Racing"]
["Skippi 650i racing"]
["Sliim 37"]
["SLOOP 45 LL"]
["SLOOP BERMUDIANO"]
["Slotta 1200"]
["SLY 38"]
["SLY 42"]
["SLY 43"]
["SLY 47"]
["SLY 47 CRO"]
["SLY 53"]
["Smaragd"]
["Smile"]
["Smokey 25"]
["SNC50"]
["SOL 1350"]
["Solaria One 42"]
["SOLARIS 36"]
["SOLARIS 36 O.D."]
["SOLARIS 36 OD"]
["SOLARIS 42"]
["SOLARIS 44"]
["SOLARIS 47"]
["SOLARIS 50"]
["SOLARIS 58"]
["SOLARIS 70"]
["SOLARIS ONE"]
["SOLARIS ONE 44"]
["SOLARIS ONE 48"]
["SOLEADA 34"]
["SOLERI 26.5 CRUISE"]
["SOLING OD"]
["Solution (Mod)"]
["SOMO 23"]
["SOMO 27"]
["SOMO 28 J"]
["SONAR"]
["SONATA 26"]
["Sonate Ovni 28 mod"]
["SONATE OVNI 33"]
["SOTO 36"]
["SOTO 39"]
["SOTO 40"]
["SOTO 40 OD"]
["SOTO 42"]
["SOTO 44 C/R"]
["SOTO 45"]
["SOTO 48"]
["SOTO ACEBAL 42"]
["Soto Acebal 65"]
["Soverel 33-2"]
["SP GAFFEL KETSCH"]
["SPACE 30"]
["Spacesailor 38"]
["SPACKHUGGARE"]
["Speeder 40"]
["Spirit 28"]
["Spirit 28 *1.42"]
["Spirit 32"]
["Spirit 32 SD"]
["Spirit 36"]
["Spirit 36 DD"]
["Spirit 36 S"]
["Spirit 36SD"]
["Spirit 41x1.98"]
["SPIRIT 42"]
["Spirit 42.5"]
["SPORTINA 680"]
["SPRINT 108 Mod"]
["Sprint 95"]
["SPRINT 95(BINN.RIG"]
["SPRINT 98"]
["SPRINT 98 Mod"]
["Sprinta"]
["Sprinta Sport"]
["SPRINTA-SPORT"]
["SPRINTA-SPORT OD"]
["SPW 9.5"]
["SQ25"]
["SR 33"]
["ST 23"]
["ST 25"]
["ST 251"]
["Stadt 34"]
["STAG 22"]
["STAG 24"]
["STAG 29"]
["STAG 32"]
["STAG 38"]
["STALLION 42"]
["Standfast 40"]
["Standfast 40s"]
["Standfast 43x 2.05"]
["STAR"]
["Starbuck"]
["STARKEL 55'"]
["STARLIGHT"]
["Staron"]
["STEDA 36"]
["Stern 33"]
["Stern 34"]
["STERN 37"]
["STERN 42 MAGOO"]
["Stern 44"]
["STIC 47.5"]
["Stila 44"]
["STOREBRO ROYAL 33"]
["STORM 22"]
["STP65"]
["STREAM 40'"]
["STREAMLINE"]
["STRINGER"]
["SUMMIT 35"]
["SUN 2000"]
["SUN 2500"]
["SUN BEAM 39"]
["SUN DANCE 36"]
["SUN DREAM 28"]
["Sun Fast  37"]
["Sun fast 26"]
["SUN FAST 31"]
["SUN FAST 32"]
["SUN FAST 32 (DK)"]
["SUN FAST 32 DK (3)"]
["SUN FAST 32 I"]
["SUN FAST 32 Mod"]
["Sun Fast 3200"]
["SUN FAST 3200 Sdt"]
["Sun Fast 32i"]
["SUN FAST 35"]
["Sun fast 35 (2.15)"]
["SUN FAST 36"]
["SUN FAST 36 (IK)"]
["SUN FAST 36 (LK)"]
["SUN FAST 36 (MOD)"]
["SUN FAST 36 Ir"]
["SUN FAST 36 MOD"]
["SUN FAST 3600"]
["SUN FAST 3600 Al"]
["Sun Fast 36x1.95"]
["Sun Fast 37"]
["SUN FAST 40"]
["SUN FAST 40 (SK)"]
["SUN FAST 40 DK"]
["SUN FAST 40 Perf"]
["SUN FAST 40.3"]
["SUN FAST 42"]
["SUN FAST 43"]
["SUN FIZZ"]
["SUN FIZZ 40"]
["SUN FIZZ 40 KETCH"]
["SUN KISS 47"]
["SUN LEGEND 41"]
["SUN LEGENDE 41"]
["SUN LIGHT 30"]
["SUN LIGHT 31"]
["SUN LIGHT 31 SK"]
["SUN MAGIC 44"]
["Sun Magiv 44"]
["Sun Od 29.2"]
["Sun Od 30i"]
["Sun Od 33i"]
["SUN OD 34.2 HR"]
["Sun Od 349"]
["Sun OD 35"]
["Sun OD 36i"]
["Sun OD 36i Perform"]
["Sun Od 37"]
["Sun OD 39 DS"]
["Sun OD 39i"]
["Sun OD 39i Perform"]
["Sun Od 40"]
["Sun OD 40.3"]
["Sun OD 409"]
["Sun OD 409 Perform"]
["Sun OD 42 DS"]
["Sun Od 42i Perform"]
["Sun OD 439"]
["Sun OD 45 ds"]
["Sun OD 49"]
["Sun OD 49 DS"]
["Sun Od 49 Perf."]
["Sun OD 49i"]
["Sun Oddyesey 45.1"]
["Sun Oddysey 509"]
["Sun Odessey 509"]
["SUN ODISSEY 40"]
["Sun Odissey 42 DS"]
["SUN ODISSEY 43"]
["Sun Odysey 36i"]
["SUN ODYSSEY 28.1"]
["Sun Odyssey 29,2"]
["SUN ODYSSEY 29.2"]
["SUN ODYSSEY 30 i"]
["SUN ODYSSEY 32"]
["SUN ODYSSEY 32 DK"]
["SUN ODYSSEY 32.2"]
["SUN ODYSSEY 32.I"]
["SUN ODYSSEY 32.IDK"]
["SUN ODYSSEY 32i"]
["SUN ODYSSEY 33"]
["SUN ODYSSEY 33.1"]
["Sun Odyssey 33i"]
["Sun Odyssey 33i P"]
["SUN ODYSSEY 34.2"]
["Sun Odyssey 349"]
["SUN ODYSSEY 35"]
["SUN ODYSSEY 36"]
["SUN ODYSSEY 36 i"]
["SUN ODYSSEY 36 i P"]
["SUN ODYSSEY 36.2"]
["SUN ODYSSEY 36.i"]
["Sun Odyssey 36i"]
["SUN ODYSSEY 36i P"]
["Sun Odyssey 37"]
["SUN ODYSSEY 37 LEG"]
["SUN ODYSSEY 37.1"]
["SUN ODYSSEY 379"]
["SUN ODYSSEY 39 DS"]
["SUN ODYSSEY 39 I"]
["SUN ODYSSEY 39i"]
["SUN ODYSSEY 40"]
["SUN ODYSSEY 40 DK"]
["SUN ODYSSEY 40 DS"]
["SUN ODYSSEY 40 SD"]
["SUN ODYSSEY 40 SK"]
["SUN ODYSSEY 40.3"]
["SUN ODYSSEY 40.3 E"]
["SUN ODYSSEY 409"]
["SUN ODYSSEY 409 DK"]
["SUN ODYSSEY 42 DS"]
["SUN ODYSSEY 42 I"]
["SUN ODYSSEY 42 P"]
["SUN ODYSSEY 42.2"]
["Sun Odyssey 42i"]
["Sun Odyssey 42i P"]
["SUN ODYSSEY 42iP"]
["SUN ODYSSEY 43"]
["SUN ODYSSEY 43 DS"]
["SUN ODYSSEY 43 MOD"]
["SUN ODYSSEY 439 SD"]
["Sun Odyssey 44"]
["Sun ODYSSEY 44 DK"]
["SUN ODYSSEY 44 I"]
["Sun Odyssey 44i"]
["SUN ODYSSEY 45"]
["SUN ODYSSEY 45 DS"]
["SUN ODYSSEY 45.1"]
["SUN ODYSSEY 452"]
["SUN ODYSSEY 49"]
["SUN ODYSSEY 49 DS"]
["SUN ODYSSEY 49i"]
["SUN ODYSSEY 49iP"]
["Sun Odyssey 50 DS"]
["Sun Odyssey 509"]
["SUN ODYSSEY 51"]
["SUN ODYSSEY 51 WK"]
["SUN ODYSSEY 52.2XR"]
["SUN ODYSSEY 54 DS"]
["Sun Odyssy 439"]
["SUN RISE 34"]
["SUN SHINE 38"]
["SUN WAY 29"]
["Sunbeam 30.1"]
["Sunbeam 34"]
["SUNBEAM 53"]
["SUNFAST 36"]
["SUNFAST 3600"]
["Sunfast 40"]
["SUNFAST 52"]
["SUNFAST39"]
["SUNRISE"]
["SUNRISE 35"]
["Sunshine"]
["SUNSHINE 36"]
["SUNSHINE 36 juppet"]
["SUNSHINE 36 ST.EXT"]
["SUNSHINE 38"]
["SunShine38"]
["SUNWIND 27"]
["SUNWIND 31"]
["SUNWIND 33"]
["SUPER ARLEQUIN DK"]
["SUPER CALIN 6.50"]
["SUPER CALIN 750 Mo"]
["SUPER MAXI"]
["Super Stag 40"]
["Superyacht"]
["SURPRISE"]
["SUSPENS Q +Jupe"]
["SUSPENS Q Mod"]
["SUSPENS-J"]
["SW YACHTS 340 LR"]
["SW YACHTS 38 CR"]
["SW YACHTS 45"]
["Sw. Yachts 45"]
["SWAN 115"]
["SWAN 36/7"]
["Swan 37"]
["SWAN 37 NORM"]
["SWAN 371"]
["SWAN 38"]
["Swan 38 (1974) MOD"]
["SWAN 39"]
["Swan 391"]
["SWAN 391/001"]
["Swan 40"]
["SWAN 40.2"]
["Swan 411 (1977)"]
["SWAN 42"]
["SWAN 42 CLUB"]
["SWAN 42 CS"]
["SWAN 43"]
["SWAN 43T"]
["Swan 44"]
["Swan 44 (1972)"]
["SWAN 44 (SPARKMAN & STEPHENS)"]
["Swan 44 S&S"]
["SWAN 44(1972) MOD"]
["SWAN 441"]
["SWAN 441H MOD."]
["SWAN 45"]
["SWAN 45 OD"]
["SWAN 45 SD"]
["SWAN 46"]
["SWAN 46 (2004)"]
["Swan 46 (DK)"]
["SWAN 46 MK2"]
["SWAN 47"]
["Swan 47  mod."]
["Swan 47 (mod)"]
["SWAN 47 CB"]
["SWAN 48"]
["Swan 48 (1971)"]
["Swan 48 (1971) mod"]
["Swan 48 (1995)"]
["SWAN 48 S"]
["SWAN 50 CS"]
["SWAN 51 (1981)"]
["SWAN 51 CB"]
["SWAN 53"]
["SWAN 53 (04)"]
["SWAN 53 (2005)"]
["SWAN 55"]
["Swan 55 (1970)"]
["SWAN 56"]
["SWAN 56 CR"]
["SWAN 56 MOD"]
["Swan 56-5"]
["SWAN 57"]
["SWAN 57 (1978)"]
["SWAN 57RS"]
["SWAN 60"]
["Swan 60 (1994)"]
["SWAN 60 SD"]
["SWAN 601"]
["SWAN 601 (2004)"]
["SWAN 61"]
["SWAN 65"]
["SWAN 65 Ketch"]
["Swan 651"]
["Swan 651 extended"]
["Swan 66"]
["SWAN 66 (2007)"]
["SWAN 68"]
["SWAN 70 RK"]
["Swan 75"]
["Swan 76 CB"]
["SWAN 80 (99)"]
["Swarbrick 945"]
["Swede 55"]
["Sweden 34"]
["Sweden 340"]
["Sweden 36 wingkeel"]
["SWEDEN 42 X2.10"]
["SWEDEN 45"]
["Sweden Yachts 340"]
["Sweden Yachts 38"]
["SWEDEN YACHTS 390"]
["Sweden Yachts 54"]
["Swedestar 370"]
["SYDNEY 32"]
["Sydney 32 OD"]
["SYDNEY 36 CR"]
["Sydney 38"]
["SYDNEY 38 OD"]
["SYDNEY 39"]
["SYDNEY 40"]
["SYDNEY 40 MOD KEEL"]
["Sydney 43 GTS"]
["SYDNEY 46"]
["SYMPHONIE 312"]
["SYMPHONY"]
["T 34"]
["T-34"]
["T750"]
["TABASKO-S"]
["TAKAI 34 IMS"]
["TAKAI 40 (1ton)"]
["Takeshai 44"]
["Tallinn 1/4"]
["TANGO 30"]
["TARGA 96"]
["TARGUI"]
["Tartan 28"]
["Tartan 34-2"]
["Tartan 3500 WK"]
["Tartan 4100"]
["TARTAN 46"]
["TASHIBA-40"]
["Taurus"]
["TAURUS MOD."]
["Team Heiner 38"]
["Teliga 89"]
["TEN"]
["TEN PF"]
["TES 720 BT"]
["TE'SALT"]
["THE ONE DESIGN"]
["TIM27"]
["Tina"]
["TIPTOP"]
["Tirena 27"]
["Tirion"]
["Tirion 28"]
["TIZH40"]
["TOFINOU 12"]
["TOFINOU 16"]
["TOFINOU 950"]
["Toledo 31 Mk2 M"]
["TOM 28"]
["TOR 41"]
["TP 52"]
["TP 52 J/V"]
["TP52"]
["TP52 - ONE OFF"]
["Transpac 52"]
["TRAPPER 500"]
["TRAPPER 950"]
["TREWES 35"]
["TREWES II"]
["TRIANA 26"]
["TRIANA 36"]
["TRIANA 36 MOD"]
["TRIDENT 80"]
["TRINTEL II"]
["Trintella 53"]
["Trintella IIIa"]
["TRIO 80"]
["Tripp 33"]
["TRIPP 36"]
["TRIPP 36 Mod"]
["Tripp 38"]
["TRIPP 40"]
["TRIPP 41"]
["TRISS MAGNUM"]
["TRITON 48"]
["TROTER INT."]
["TUCANA 28"]
["TUCANA SAIL 21"]
["Tun"]
["TWISTER 650"]
["TWO STAR 36"]
["Two tonner"]
["TWOSTAR 36"]
["Typhoon 37"]
["UFO"]
["UFO 22"]
["UFO 22 MODIFICATO"]
["UFO 27"]
["Ufo 28 OD"]
["UFO 28 OD Mod"]
["UFO 31"]
["Ufo 34"]
["UFO ONE DESIGN"]
["ULDB 50 SPOILER"]
["ULDB 65"]
["ULTIMATE 20"]
["UNKNOWN"]
["v.d. Stadt 34"]
["v.d. Stadt 40"]
["v/d Stadt Samoa 47"]
["V-1 30 Lutra Sport"]
["V-24"]
["VAGABOND 45"]
["VAN 30"]
["VAN DE STADT 30"]
["VAN DE STADT 34"]
["Varianta 37"]
["Varianta 44"]
["Varianta 65"]
["Varianta K4"]
["Vector 10"]
["VEGA"]
["Vickers 41"]
["Victoire 1044"]
["Victoire 1044*1.50"]
["Victoire 1122"]
["VICTOIRE 1200"]
["Victoire 34 x1.87"]
["Victoire 822 x1.20"]
["Victoire 855"]
["Victoire 855x1.20"]
["VICTOIRE 933 SD"]
["Victoire 933 x1.45"]
["Victoire 933 x1.80"]
["VICTORY 42"]
["VIKO S22"]
["VINDO 995"]
["VISIERS 35"]
["VISION 32"]
["VISMARA 34"]
["VISMARA 38"]
["VISMARA 41"]
["VISMARA 45"]
["VISMARA 45 FC"]
["VISMARA 46"]
["VISMARA 47'"]
["VISMARA 50 FC"]
["VISMARA 52 FC"]
["VISMARA MILLS 62"]
["VISMARA-40"]
["VITE 31"]
["VITE 312"]
["VK-35"]
["VO60 2.5TWASSERBAL"]
["VOLKER 39.5"]
["Volvo 70"]
["Voyage 12.5"]
["VOYAGE 12.50"]
["VQ 32"]
["VR 30"]
["VROLIJK 37"]
["VROLIJK 42"]
["VROLJK 37"]
["W 60"]
["W Race GP26"]
["Waarschip 1/4 *1,2"]
["Waarschip 1/4 x1.5"]
["Waarschip 1010x1.9"]
["Waarschip 1076"]
["Waarschip 1220"]
["WAARSCHIP 28 LD"]
["Waarschip 28LDx1.8"]
["Waarschip 40 ld"]
["Waarschip 600 SV"]
["Waarschip 700LD"]
["Waarschip 725"]
["Waarschip 740x1.65"]
["Waarschip 8.7"]
["Waarschip 900 plus"]
["Waarschip1/2Tx1.65"]
["Waarschip660x1.25"]
["Waarship1/2tx1.65"]
["WALLY 60"]
["Warwick 67"]
["WASA 30 HR RACER"]
["WASA 360"]
["Wasa 370"]
["Wasa 38"]
["WASA 38 CR"]
["Wasa 41"]
["WASA 55"]
["welbourn 12M"]
["WEST CUSTOM 33"]
["WEST WIND 35"]
["WESTERLY 26"]
["WESTERLY 32"]
["WESTERLY 33"]
["Westerly GK 24"]
["WILKE 26"]
["WILKE 49"]
["WILKE CR 950"]
["WILLING 31 LR"]
["WIND 34"]
["WIND 44 J"]
["WING 34"]
["Winner 10.20"]
["Winner 1010 x 1,80"]
["Winner 1010 x 1.80"]
["Winner 1010 x 1.95"]
["Winner 1010x1.40"]
["WINNER 11.20"]
["WINNER 1120"]
["Winner 12.20"]
["Winner 1220"]
["Winner 8"]
["Winner 900"]
["Winner 950"]
["Winner 950x1.30"]
["Winner 9Perf"]
["WPS 40"]
["X - 3/4 TON"]
["X 102"]
["X 3/4 - 2"]
["X 3/4 TON Mod"]
["X 302"]
["X 332"]
["X 332 QB"]
["X 35 mod."]
["X 362"]
["X 362 SPORT"]
["X 37"]
["X 372"]
["X 41"]
["X 442"]
["X 50"]
["X 99"]
["X-1 ton"]
["X-102"]
["X-102 (Mod.)"]
["X-102 Mk I"]
["X-102 MK I mod."]
["X-119"]
["X-119 CUSTOM KEEL"]
["X-3/4"]
["X-3/4 TON"]
["X-3/4 TON MK II"]
["X-3/4 TON SPES"]
["X-302"]
["X-302 DK MK2"]
["X-302 MK I"]
["X-312"]
["X-332"]
["X-332 DK"]
["X-332 SPORT"]
["X-332 SPORT MOD."]
["X-34"]
["X-342"]
["X-342 7/8"]
["X-342 MH"]
["X-342 x 1.85"]
["X-35"]
["X-35 MOD"]
["X35 MODIFIED"]
["X-35 OD"]
["X-35 OD MOD."]
["X-35 SD"]
["X-35SD"]
["X-362"]
["X-362 CLASSIC"]
["X-362 S"]
["X-362 SPORT"]
["X-362 SPORT HK"]
["X-362x2.05"]
["X-37"]
["X-37 dyp kjol"]
["X-37 SD"]
["X-37 Sdt"]
["X-372"]
["X-372 sport"]
["X-37x1.98"]
["X382"]
["X-382"]
["X-382 MK2"]
["X-40"]
["X-40 DK"]
["X-40 Dyp kjol"]
["X-40 S"]
["X-40 SPORT"]
["X-40 Sport Carbon"]
["X-402 MK II"]
["X-402 MOD."]
["X-40S"]
["X-40S-SD"]
["X-41"]
["X-41 mod"]
["X-41 OD"]
["X-412"]
["X-412 MK 3"]
["X-412 MK II"]
["X-412 MK III"]
["X-412 MK2"]
["X-412 MK3 NORMKEEL"]
["X-41OD"]
["X-43"]
["X-43 MOD."]
["X-43 x 2.50"]
["X-442"]
["X-442 Mk I"]
["X-442 Mk II"]
["X-442 SD"]
["X-452"]
["X-46"]
["X-46 DK"]
["X-46 grunn kjol"]
["X-482"]
["X-50"]
["X-50 x 2.40"]
["X-512"]
["X-55"]
["X-562"]
["X-65"]
["X79"]
["X-79"]
["X-79 OD"]
["X-95"]
["X-99"]
["X-99 mod"]
["X99 MOD."]
["X-99 Mod."]
["XC 42"]
["XC 45 DK"]
["XC-35"]
["XC-38"]
["XC-42"]
["Xc-45"]
["Xc-50"]
["XO RACER"]
["XP 33"]
["XP 38"]
["XP 38-210"]
["Xp 44"]
["Xp 44 SPORT"]
["Xp 50"]
["XP-33"]
["Xp-33 SK Cruis"]
["Xp38"]
["XP-38"]
["XP44"]
["XP-44"]
["XP-44 S"]
["X-TREME 25"]
["X-Treme 37"]
["Y 40"]
["Y40"]
["YAMAHA 1/4 TON"]
["Yamaha 24F"]
["Yamaha 24F (LTD)"]
["YAMAHA 30R"]
["YAMAHA 30R(-P)"]
["YAMAHA 30S N"]
["YAMAHA 33S"]
["YAMAHA 33S II"]
["YAMAHA 34S"]
["yamaha30"]
["YAMAHA30CRS"]
["YAMAHA-31"]
["YamahA-31 Festa"]
["YAMAHA-31S"]
["YATLANT 24"]
["YATLANT 28"]
["YAWL BERMUDIANO"]
["YCA 29"]
["YCA-29"]
["YLVA"]
["YNGLING"]
["YOK 41"]
["YOKOYAMA 12m"]
["YOUNG 11 Mod"]
["YOUNG 88"]
["YOUNG ROCKET 31"]
["YOUNG Rocket 8.4"]
["YOUNG99 MOD"]
["Z 34"]
["ZABRA 9.80"]
["ZEEBONK 267"]
["Zeeslang"]
["Zeester"]
["Zeeton"]
["Zeeton * 1.55"]
["ZERO"]
["ZERO 6.5"]
["ZIGGURAT 812"]
["ZIGGURAT 9.16"]
["ZIGGURAT 9.95"]
["ZIGGURAT 910"]
["ZIGGURAT 916"]
["ZIGGURAT 995"]
["ZIP 25-ILC"]
["ZIP 25-ILC  OD"]
["ZOU 40"]
["ZUANELLI 34"]
["ZUANELLI 40"]
["ZUANELLI/ALPA 34"]
[{"$f":"-Squib","v":{"$error":"#NAME?"}}]
[]
["SWAN"]

{"sheet":"Help","index":7,"n_rows":13,"n_cols":1,"rows_kept":13,"cut":false,"hidden":false,"merged":[]}
[]
["dans l'onglet \"ORC\", chercher le bateau qui vous interesse"]
["En cliquant dans les 3 celulles sous \"TYPE\", un fenètre s'ouvre, on peut retrouver un type de bateau"]
["cliquer ensuite sur le flèche bleu à gauche, cela filtre la liste (pour annuler le filtre, cliquer sur le rond rouge)"]
["Il est possible de filtrer sur d'autres critères en indiquant le critère choisi sous la cellule correspondante (ligne 2)"]
["Une fois le ou les bateaux sélectionné noter le N° de la ligne correspondant a ce bateau"]
["dans l'onglet \"Main\" inscrire le N° de la ligne dans la cellule C2, ce qui permettra d'afficher dans les onglets \"Polar\", Detail1 et New polar"]
["les caracterisques du bateau choisi"]
["renseigner les cellules c3, c4, etc. permet d'afficher d'autres bateaux pour comparaison"]
["en B8, on pourra choisir les forces de vent"]
["il est possible d'éditer une polaire au format .pol lisible par Maxsea, adrena, et d'autres logiciels:"]
["après avoir choisi le bateau en C2, aller dans l'onglet \"New polar\", cliquez sur le bouton \"macro new polar\", puis a l'aide du menu "]
["\"for the polar\" choisissez \"fill polar\" puis \"save as polar\" (voir aussi les autres possibilités de ce menu)"]

{"sheet":"New polar","index":8,"n_rows":36,"n_cols":8,"rows_kept":36,"cut":false,"hidden":false,"merged":[]}
["TWA",6,8,10,12,14,16,20]
[38.6,"","","","","",6.5034663855337085,""]
[38.799999999999997,"","","","","",6.5237866358611427,6.6122320503786112]
[39.200000000000003,"","","","",6.4422327490592393,6.5237866358611427,6.6216637873138264]
[40.5,"","","",6.3098936420189595,6.4840815467708923,6.5745872616797234,6.6688224719899081]
[41.8,"",5.1859206508163247,"",6.3926611379875018,6.5887035410500214,6.6761885133168848,6.7631398413420722]
[41.9,"",5.199088251232606,5.8840442096749364,6.3926611379875018,6.5887035410500214,6.6761885133168848,6.7631398413420722]
[43.5,4.412691830402931,5.3307642553954562,6.0260337677494338,6.5030177992788891,6.6933255353291514,6.7777897649540453,6.8574572106942355]
[52,4.9213943950786057,5.8574682720468596,6.5669463699379786,6.9444444444444446,7.1118135124456741,7.1841947715026935,7.234726688102894]
[60,5.2340796743239313,6.2068965517241379,6.8168907403900771,7.1315372424722661,7.3140999593661116,7.401315789473685,7.4611398963730569]
[75,5.519779208831646,6.4970221981591765,7.0025286909161641,7.293354943273906,7.5361105296211015,7.741935483870968,7.9330101366240635]
[90,5.4903156931523558,6.5561828446548898,7.1202531645569618,7.3439412484700126,7.5408462505236704,7.8040320832430083,7.9330101366240635]
[110,5.4827901309777642,6.6091426473288042,7.1641791044776122,7.5392670157068062,7.9190497140343155,8.1429540827866997,8.5106382978723403]
[135,5.3199349785724834,6.4493013256897163,7.0754716981132075,7.4503311258278151,7.8482668410725971,8.2930200414651001,8.8691796008869179]
[150,4.8257372654155493,5.920078934385792,6.7554888346781761,7.2014402880576123,7.5503355704697981,7.9435127978817297,8.8365243004418268]
[180,4.1081821294077372,5.1701852649719955,6.0821084642676126,6.8027210884353737,7.2072072072072073,7.5329566854990588,8.2949308755760374]
[]
[]
[]
[]
["TWA",6,8,10,12,14,16,20]
[{"$f":"Main!D79","v":44.2},{"$f":"IF(ISERROR(INDEX(speed,MATCH($A22&\" \"&B$21,angle&\" \"&force,0))),\"\",INDEX(speed,MATCH($A22&\" \"&B$21,angle&\" \"&force,0)))","v":4.1005606451356531},{"$f":"IF(ISERROR(INDEX(speed,MATCH($A22&\" \"&C$21,angle&\" \"&force,0))),\"\",INDEX(speed,MATCH($A22&\" \"&C$21,angle&\" \"&force,0)))","v":""},{"$f":"IF(ISERROR(INDEX(speed,MATCH($A22&\" \"&D$21,angle&\" \"&force,0))),\"\",INDEX(speed,MATCH($A22&\" \"&D$21,angle&\" \"&force,0)))","v":""},{"$f":"IF(ISERROR(INDEX(speed,MATCH($A22&\" \"&E$21,angle&\" \"&force,0))),\"\",INDEX(speed,MATCH($A22&\" \"&E$21,angle&\" \"&force,0)))","v":""},{"$f":"IF(ISERROR(INDEX(speed,MATCH($A22&\" \"&F$21,angle&\" \"&force,0))),\"\",INDEX(speed,MATCH($A22&\" \"&F$21,angle&\" \"&force,0)))","v":""},{"$f":"IF(ISERROR(INDEX(speed,MATCH($A22&\" \"&G$21,angle&\" \"&force,0))),\"\",INDEX(speed,MATCH($A22&\" \"&G$21,angle&\" \"&force,0)))","v":""},{"$f":"IF(ISERROR(INDEX(speed,MATCH($A22&\" \"&H$21,angle&\" \"&force,0))),\"\",INDEX(speed,MATCH($A22&\" \"&H$21,angle&\" \"&force,0)))","v":""}]
[{"$f":"Main!D80","v":42.8},{"$f":"IF(ISERROR(INDEX(speed,MATCH($A23&\" \"&B$21,angle&\" \"&force,0))),\"\",INDEX(speed,MATCH($A23&\" \"&B$21,angle&\" \"&force,0)))","v":""},{"$f":"IF(ISERROR(INDEX(speed,MATCH($A23&\" \"&C$21,angle&\" \"&force,0))),\"\",INDEX(speed,MATCH($A23&\" \"&C$21,angle&\" \"&force,0)))","v":4.8329766339587774},{"$f":"IF(ISERROR(INDEX(speed,MATCH($A23&\" \"&D$21,angle&\" \"&force,0))),\"\",INDEX(speed,MATCH($A23&\" \"&D$21,angle&\" \"&force,0)))","v":""},{"$f":"IF(ISERROR(INDEX(speed,MATCH($A23&\" \"&E$21,angle&\" \"&force,0))),\"\",INDEX(speed,MATCH($A23&\" \"&E$21,angle&\" \"&force,0)))","v":""},{"$f":"IF(ISERROR(INDEX(speed,MATCH($A23&\" \"&F$21,angle&\" \"&force,0))),\"\",INDEX(speed,MATCH($A23&\" \"&F$21,angle&\" \"&force,0)))","v":""},{"$f":"IF(ISERROR(INDEX(speed,MATCH($A23&\" \"&G$21,angle&\" \"&force,0))),\"\",INDEX(speed,MATCH($A23&\" \"&G$21,angle&\" \"&force,0)))","v":""},{"$f":"IF(ISERROR(INDEX(speed,MATCH($A23&\" \"&H$21,angle&\" \"&force,0))),\"\",INDEX(speed,MATCH($A23&\" \"&H$21,angle&\" \"&force,0)))","v":""}]
[{"$f":"Main!D81","v":43},{"$f":"IF(ISERROR(INDEX(speed,MATCH($A24&\" \"&B$21,angle&\" \"&force,0))),\"\",INDEX(speed,MATCH($A24&\" \"&B$21,angle&\" \"&force,0)))","v":""},{"$f":"IF(ISERROR(INDEX(speed,MATCH($A24&\" \"&C$21,angle&\" \"&force,0))),\"\",INDEX(speed,MATCH($A24&\" \"&C$21,angle&\" \"&force,0)))","v":""},{"$f":"IF(ISERROR(INDEX(speed,MATCH($A24&\" \"&D$21,angle&\" \"&force,0))),\"\",INDEX(speed,MATCH($A24&\" \"&D$21,angle&\" \"&force,0)))","v":5.4863785777473737},{"$f":"IF(ISERROR(INDEX(speed,MATCH($A24&\" \"&E$21,angle&\" \"&force,0))),\"\",INDEX(speed,MATCH($A24&\" \"&E$21,angle&\" \"&force,0)))","v":""},{"$f":"IF(ISERROR(INDEX(speed,MATCH($A24&\" \"&F$21,angle&\" \"&force,0))),\"\",INDEX(speed,MATCH($A24&\" \"&F$21,angle&\" \"&force,0)))","v":""},{"$f":"IF(ISERROR(INDEX(speed,MATCH($A24&\" \"&G$21,angle&\" \"&force,0))),\"\",INDEX(speed,MATCH($A24&\" \"&G$21,angle&\" \"&force,0)))","v":""},{"$f":"IF(ISERROR(INDEX(speed,MATCH($A24&\" \"&H$21,angle&\" \"&force,0))),\"\",INDEX(speed,MATCH($A24&\" \"&H$21,angle&\" \"&force,0)))","v":""}]
[{"$f":"Main!D82","v":41.9},{"$f":"IF(ISERROR(INDEX(speed,MATCH($A25&\" \"&B$21,angle&\" \"&force,0))),\"\",INDEX(speed,MATCH($A25&\" \"&B$21,angle&\" \"&force,0)))","v":""},{"$f":"IF(ISERROR(INDEX(speed,MATCH($A25&\" \"&C$21,angle&\" \"&force,0))),\"\",INDEX(speed,MATCH($A25&\" \"&C$21,angle&\" \"&force,0)))","v":""},{"$f":"IF(ISERROR(INDEX(speed,MATCH($A25&\" \"&D$21,angle&\" \"&force,0))),\"\",INDEX(speed,MATCH($A25&\" \"&D$21,angle&\" \"&force,0)))","v":""},{"$f":"IF(ISERROR(INDEX(speed,MATCH($A25&\" \"&E$21,angle&\" \"&force,0))),\"\",INDEX(speed,MATCH($A25&\" \"&E$21,angle&\" \"&force,0)))","v":5.9099271020928619},{"$f":"IF(ISERROR(INDEX(speed,MATCH($A25&\" \"&F$21,angle&\" \"&force,0))),\"\",INDEX(speed,MATCH($A25&\" \"&F$21,angle&\" \"&force,0)))","v":""},{"$f":"IF(ISERROR(INDEX(speed,MATCH($A25&\" \"&G$21,angle&\" \"&force,0))),\"\",INDEX(speed,MATCH($A25&\" \"&G$21,angle&\" \"&force,0)))","v":""},{"$f":"IF(ISERROR(INDEX(speed,MATCH($A25&\" \"&H$21,angle&\" \"&force,0))),\"\",INDEX(speed,MATCH($A25&\" \"&H$21,angle&\" \"&force,0)))","v":""}]
[{"$f":"Main!D83","v":40.9},{"$f":"IF(ISERROR(INDEX(speed,MATCH($A26&\" \"&B$21,angle&\" \"&force,0))),\"\",INDEX(speed,MATCH($A26&\" \"&B$21,angle&\" \"&force,0)))","v":""},{"$f":"IF(ISERROR(INDEX(speed,MATCH($A26&\" \"&C$21,angle&\" \"&force,0))),\"\",INDEX(speed,MATCH($A26&\" \"&C$21,angle&\" \"&force,0)))","v":""},{"$f":"IF(ISERROR(INDEX(speed,MATCH($A26&\" \"&D$21,angle&\" \"&force,0))),\"\",INDEX(speed,MATCH($A26&\" \"&D$21,angle&\" \"&force,0)))","v":""},{"$f":"IF(ISERROR(INDEX(speed,MATCH($A26&\" \"&E$21,angle&\" \"&force,0))),\"\",INDEX(speed,MATCH($A26&\" \"&E$21,angle&\" \"&force,0)))","v":""},{"$f":"IF(ISERROR(INDEX(speed,MATCH($A26&\" \"&F$21,angle&\" \"&force,0))),\"\",INDEX(speed,MATCH($A26&\" \"&F$21,angle&\" \"&force,0)))","v":6.1046243419104824},{"$f":"IF(ISERROR(INDEX(speed,MATCH($A26&\" \"&G$21,angle&\" \"&force,0))),\"\",INDEX(speed,MATCH($A26&\" \"&G$21,angle&\" \"&force,0)))","v":""},{"$f":"IF(ISERROR(INDEX(speed,MATCH($A26&\" \"&H$21,angle&\" \"&force,0))),\"\",INDEX(speed,MATCH($A26&\" \"&H$21,angle&\" \"&force,0)))","v":""}]
[{"$f":"Main!D84","v":40.200000000000003},{"$f":"IF(ISERROR(INDEX(speed,MATCH($A27&\" \"&B$21,angle&\" \"&force,0))),\"\",INDEX(speed,MATCH($A27&\" \"&B$21,angle&\" \"&force,0)))","v":""},{"$f":"IF(ISERROR(INDEX(speed,MATCH($A27&\" \"&C$21,angle&\" \"&force,0))),\"\",INDEX(speed,MATCH($A27&\" \"&C$21,angle&\" \"&force,0)))","v":""},{"$f":"IF(ISERROR(INDEX(speed,MATCH($A27&\" \"&D$21,angle&\" \"&force,0))),\"\",INDEX(speed,MATCH($A27&\" \"&D$21,angle&\" \"&force,0)))","v":""},{"$f":"IF(ISERROR(INDEX(speed,MATCH($A27&\" \"&E$21,angle&\" \"&force,0))),\"\",INDEX(speed,MATCH($A27&\" \"&E$21,angle&\" \"&force,0)))","v":""},{"$f":"IF(ISERROR(INDEX(speed,MATCH($A27&\" \"&F$21,angle&\" \"&force,0))),\"\",INDEX(speed,MATCH($A27&\" \"&F$21,angle&\" \"&force,0)))","v":""},{"$f":"IF(ISERROR(INDEX(speed,MATCH($A27&\" \"&G$21,angle&\" \"&force,0))),\"\",INDEX(speed,MATCH($A27&\" \"&G$21,angle&\" \"&force,0)))","v":6.1797564355001198},{"$f":"IF(ISERROR(INDEX(speed,MATCH($A27&\" \"&H$21,angle&\" \"&force,0))),\"\",INDEX(speed,MATCH($A27&\" \"&H$21,angle&\" \"&force,0)))","v":6.2287567508338064}]
[{"$f":"Main!D85","v":40.200000000000003},{"$f":"IF(ISERROR(INDEX(speed,MATCH($A28&\" \"&B$21,angle&\" \"&force,0))),\"\",INDEX(speed,MATCH($A28&\" \"&B$21,angle&\" \"&force,0)))","v":""},{"$f":"IF(ISERROR(INDEX(speed,MATCH($A28&\" \"&C$21,angle&\" \"&force,0))),\"\",INDEX(speed,MATCH($A28&\" \"&C$21,angle&\" \"&force,0)))","v":""},{"$f":"IF(ISERROR(INDEX(speed,MATCH($A28&\" \"&D$21,angle&\" \"&force,0))),\"\",INDEX(speed,MATCH($A28&\" \"&D$21,angle&\" \"&force,0)))","v":""},{"$f":"IF(ISERROR(INDEX(speed,MATCH($A28&\" \"&E$21,angle&\" \"&force,0))),\"\",INDEX(speed,MATCH($A28&\" \"&E$21,angle&\" \"&force,0)))","v":""},{"$f":"IF(ISERROR(INDEX(speed,MATCH($A28&\" \"&F$21,angle&\" \"&force,0))),\"\",INDEX(speed,MATCH($A28&\" \"&F$21,angle&\" \"&force,0)))","v":""},{"$f":"IF(ISERROR(INDEX(speed,MATCH($A28&\" \"&G$21,angle&\" \"&force,0))),\"\",INDEX(speed,MATCH($A28&\" \"&G$21,angle&\" \"&force,0)))","v":6.1797564355001198},{"$f":"IF(ISERROR(INDEX(speed,MATCH($A28&\" \"&H$21,angle&\" \"&force,0))),\"\",INDEX(speed,MATCH($A28&\" \"&H$21,angle&\" \"&force,0)))","v":6.2287567508338064}]
[52,{"$f":"INDEX(datpol,2,5)","v":4.5500505561172897},{"$f":"INDEX(datpol,3,5)","v":5.4306833609895913},{"$f":"INDEX(datpol,4,5)","v":6.1037639877924725},{"$f":"INDEX(datpol,5,5)","v":6.4806480648064806},{"$f":"INDEX(datpol,6,5)","v":6.6679014632339326},{"$f":"INDEX(datpol,7,5)","v":6.7529544175576808},{"$f":"INDEX(datpol,8,5)","v":6.8027210884353737}]
[60,{"$f":"INDEX(datpol,2,6)","v":4.8589553246052102},{"$f":"INDEX(datpol,3,6)","v":5.7831325301204819},{"$f":"INDEX(datpol,4,6)","v":6.3750664069417384},{"$f":"INDEX(datpol,5,6)","v":6.6740823136818692},{"$f":"INDEX(datpol,6,6)","v":6.8636796949475691},{"$f":"INDEX(datpol,7,6)","v":6.9848661233993017},{"$f":"INDEX(datpol,8,6)","v":7.0671378091872796}]
[75,{"$f":"INDEX(datpol,2,7)","v":5.1450621695012142},{"$f":"INDEX(datpol,3,7)","v":6.0831361946603586},{"$f":"INDEX(datpol,4,7)","v":6.5765436609426384},{"$f":"INDEX(datpol,5,7)","v":6.8467097755800692},{"$f":"INDEX(datpol,6,7)","v":7.0740813519355479},{"$f":"INDEX(datpol,7,7)","v":7.2815533980582527},{"$f":"INDEX(datpol,8,7)","v":7.5408462505236704}]
[90,{"$f":"INDEX(datpol,2,8)","v":5.1165434906196703},{"$f":"INDEX(datpol,3,8)","v":6.0504201680672267},{"$f":"INDEX(datpol,4,8)","v":6.5633546034639929},{"$f":"INDEX(datpol,5,8)","v":6.8873158599579103},{"$f":"INDEX(datpol,6,8)","v":7.0615927814829345},{"$f":"INDEX(datpol,7,8)","v":7.3022312373225153},{"$f":"INDEX(datpol,8,7)","v":7.5408462505236704}]
[110,{"$f":"INDEX(datpol,2,9)","v":4.9362402303578774},{"$f":"INDEX(datpol,3,9)","v":6.0130282278269576},{"$f":"INDEX(datpol,4,9)","v":6.6212985102078346},{"$f":"INDEX(datpol,5,9)","v":6.972690296339338},{"$f":"INDEX(datpol,6,9)","v":7.3260073260073266},{"$f":"INDEX(datpol,7,9)","v":7.6433121019108281},{"$f":"INDEX(datpol,8,9)","v":7.9365079365079358}]
[135,{"$f":"INDEX(datpol,2,10)","v":4.7923322683706067},{"$f":"INDEX(datpol,3,10)","v":5.8574682720468596},{"$f":"INDEX(datpol,4,10)","v":6.5395095367847409},{"$f":"INDEX(datpol,5,10)","v":6.9044879171461453},{"$f":"INDEX(datpol,6,10)","v":7.2449184946669352},{"$f":"INDEX(datpol,7,10)","v":7.6109936575052854},{"$f":"INDEX(datpol,8,10)","v":8.2549873882137117}]
[150,{"$f":"INDEX(datpol,2,11)","v":4.3662825955124314},{"$f":"INDEX(datpol,3,11)","v":5.3715308863025957},{"$f":"INDEX(datpol,4,11)","v":6.2229904926534143},{"$f":"INDEX(datpol,5,11)","v":6.6877206018948545},{"$f":"INDEX(datpol,6,11)","v":7.0107108081791623},{"$f":"INDEX(datpol,7,11)","v":7.3499387505104119},{"$f":"INDEX(datpol,8,11)","v":8.0572963294538944}]
[180,{"$f":"INDEX(datpol,2,12)","v":3.7453183520599249},{"$f":"INDEX(datpol,3,12)","v":4.7306176084099869},{"$f":"INDEX(datpol,4,12)","v":5.5822608156303302},{"$f":"INDEX(datpol,5,12)","v":6.2959076600209869},{"$f":"INDEX(datpol,6,12)","v":6.7014147431124345},{"$f":"INDEX(datpol,7,12)","v":7.0011668611435232},{"$f":"INDEX(datpol,8,12)","v":7.6449352304098541}]

{"sheet":"Empty","index":9,"n_rows":1,"n_cols":1,"rows_kept":1,"cut":false,"hidden":true,"merged":[]}
["TWA"]

{"sheet":"View Polar","index":10,"n_rows":42,"n_cols":20,"rows_kept":42,"cut":false,"hidden":true,"merged":[[41,15,41,16],[41,19,41,20],[40,13,40,14],[40,15,40,16],[40,17,40,18],[40,19,40,20]]}
["TWA",0,{"$f":"'New polar'!B1","v":6},{"$f":"'New polar'!C1","v":8},{"$f":"'New polar'!D1","v":10},{"$f":"'New polar'!E1","v":12},{"$f":"'New polar'!F1","v":14},{"$f":"'New polar'!G1","v":16},{"$f":"'New polar'!H1","v":20}]
[0,0,0,0,0,0,0,0]
[{"$f":"'New polar'!A2","v":38.6},0,{"$f":"'New polar'!B2","v":""},{"$f":"'New polar'!C2","v":""},{"$f":"'New polar'!D2","v":""},{"$f":"'New polar'!E2","v":""},{"$f":"'New polar'!F2","v":""},{"$f":"'New polar'!G2","v":6.5034663855337085},{"$f":"'New polar'!H2","v":""}]
[{"$f":"'New polar'!A3","v":38.799999999999997},0,{"$f":"'New polar'!B3","v":""},{"$f":"'New polar'!C3","v":""},{"$f":"'New polar'!D3","v":""},{"$f":"'New polar'!E3","v":""},{"$f":"'New polar'!F3","v":""},{"$f":"'New polar'!G3","v":6.5237866358611427},{"$f":"'New polar'!H3","v":6.6122320503786112}]
[{"$f":"'New polar'!A4","v":39.200000000000003},0,{"$f":"'New polar'!B4","v":""},{"$f":"'New polar'!C4","v":""},{"$f":"'New polar'!D4","v":""},{"$f":"'New polar'!E4","v":""},{"$f":"'New polar'!F4","v":6.4422327490592393},{"$f":"'New polar'!G4","v":6.5237866358611427},{"$f":"'New polar'!H4","v":6.6216637873138264}]
[{"$f":"'New polar'!A5","v":40.5},0,{"$f":"'New polar'!B5","v":""},{"$f":"'New polar'!C5","v":""},{"$f":"'New polar'!D5","v":""},{"$f":"'New polar'!E5","v":6.3098936420189595},{"$f":"'New polar'!F5","v":6.4840815467708923},{"$f":"'New polar'!G5","v":6.5745872616797234},{"$f":"'New polar'!H5","v":6.6688224719899081}]
[{"$f":"'New polar'!A6","v":41.8},0,{"$f":"'New polar'!B6","v":""},{"$f":"'New polar'!C6","v":5.1859206508163247},{"$f":"'New polar'!D6","v":""},{"$f":"'New polar'!E6","v":6.3926611379875018},{"$f":"'New polar'!F6","v":6.5887035410500214},{"$f":"'New polar'!G6","v":6.6761885133168848},{"$f":"'New polar'!H6","v":6.7631398413420722}]
[{"$f":"'New polar'!A7","v":41.9},0,{"$f":"'New polar'!B7","v":""},{"$f":"'New polar'!C7","v":5.199088251232606},{"$f":"'New polar'!D7","v":5.8840442096749364},{"$f":"'New polar'!E7","v":6.3926611379875018},{"$f":"'New polar'!F7","v":6.5887035410500214},{"$f":"'New polar'!G7","v":6.6761885133168848},{"$f":"'New polar'!H7","v":6.7631398413420722}]
[{"$f":"'New polar'!A8","v":43.5},1,{"$f":"'New polar'!B8","v":4.412691830402931},{"$f":"'New polar'!C8","v":5.3307642553954562},{"$f":"'New polar'!D8","v":6.0260337677494338},{"$f":"'New polar'!E8","v":6.5030177992788891},{"$f":"'New polar'!F8","v":6.6933255353291514},{"$f":"'New polar'!G8","v":6.7777897649540453},{"$f":"'New polar'!H8","v":6.8574572106942355}]
[{"$f":"'New polar'!A9","v":52},2,{"$f":"'New polar'!B9","v":4.9213943950786057},{"$f":"'New polar'!C9","v":5.8574682720468596},{"$f":"'New polar'!D9","v":6.5669463699379786},{"$f":"'New polar'!E9","v":6.9444444444444446},{"$f":"'New polar'!F9","v":7.1118135124456741},{"$f":"'New polar'!G9","v":7.1841947715026935},{"$f":"'New polar'!H9","v":7.234726688102894}]
[{"$f":"'New polar'!A10","v":60},3,{"$f":"'New polar'!B10","v":5.2340796743239313},{"$f":"'New polar'!C10","v":6.2068965517241379},{"$f":"'New polar'!D10","v":6.8168907403900771},{"$f":"'New polar'!E10","v":7.1315372424722661},{"$f":"'New polar'!F10","v":7.3140999593661116},{"$f":"'New polar'!G10","v":7.401315789473685},{"$f":"'New polar'!H10","v":7.4611398963730569}]
[{"$f":"'New polar'!A11","v":75},4,{"$f":"'New polar'!B11","v":5.519779208831646},{"$f":"'New polar'!C11","v":6.4970221981591765},{"$f":"'New polar'!D11","v":7.0025286909161641},{"$f":"'New polar'!E11","v":7.293354943273906},{"$f":"'New polar'!F11","v":7.5361105296211015},{"$f":"'New polar'!G11","v":7.741935483870968},{"$f":"'New polar'!H11","v":7.9330101366240635}]
[{"$f":"'New polar'!A12","v":90},5,{"$f":"'New polar'!B12","v":5.4903156931523558},{"$f":"'New polar'!C12","v":6.5561828446548898},{"$f":"'New polar'!D12","v":7.1202531645569618},{"$f":"'New polar'!E12","v":7.3439412484700126},{"$f":"'New polar'!F12","v":7.5408462505236704},{"$f":"'New polar'!G12","v":7.8040320832430083},{"$f":"'New polar'!H12","v":7.9330101366240635}]
[{"$f":"'New polar'!A13","v":110},6,{"$f":"'New polar'!B13","v":5.4827901309777642},{"$f":"'New polar'!C13","v":6.6091426473288042},{"$f":"'New polar'!D13","v":7.1641791044776122},{"$f":"'New polar'!E13","v":7.5392670157068062},{"$f":"'New polar'!F13","v":7.9190497140343155},{"$f":"'New polar'!G13","v":8.1429540827866997},{"$f":"'New polar'!H13","v":8.5106382978723403}]
[{"$f":"'New polar'!A14","v":135},7,{"$f":"'New polar'!B14","v":5.3199349785724834},{"$f":"'New polar'!C14","v":6.4493013256897163},{"$f":"'New polar'!D14","v":7.0754716981132075},{"$f":"'New polar'!E14","v":7.4503311258278151},{"$f":"'New polar'!F14","v":7.8482668410725971},{"$f":"'New polar'!G14","v":8.2930200414651001},{"$f":"'New polar'!H14","v":8.8691796008869179}]
[{"$f":"'New polar'!A15","v":150},8,{"$f":"'New polar'!B15","v":4.8257372654155493},{"$f":"'New polar'!C15","v":5.920078934385792},{"$f":"'New polar'!D15","v":6.7554888346781761},{"$f":"'New polar'!E15","v":7.2014402880576123},{"$f":"'New polar'!F15","v":7.5503355704697981},{"$f":"'New polar'!G15","v":7.9435127978817297},{"$f":"'New polar'!H15","v":8.8365243004418268}]
[{"$f":"'New polar'!A16","v":180},9,{"$f":"'New polar'!B16","v":4.1081821294077372},{"$f":"'New polar'!C16","v":5.1701852649719955},{"$f":"'New polar'!D16","v":6.0821084642676126},{"$f":"'New polar'!E16","v":6.8027210884353737},{"$f":"'New polar'!F16","v":7.2072072072072073},{"$f":"'New polar'!G16","v":7.5329566854990588},{"$f":"'New polar'!H16","v":8.2949308755760374}]
[]
[]
[]
[]
[]
[]
[]
[null,17]
[null,18]
[null,19]
[null,20]
[null,21]
[null,22]
[null,23]
[null,24]
[]
[]
[null,null,null,null,null,null,null,null,null,null,null,{"$f":"C1","v":6},8,10,12,14,16,20]
[null,null,null,null,null,null,null,null,null,null,"VMG",{"$f":"'Polar 0-360'!G363","v":{"$error":"#VALUE!"}},{"$f":"'Polar 0-360'!M363","v":{"$error":"#VALUE!"}},{"$f":"'Polar 0-360'!S363","v":{"$error":"#VALUE!"}},{"$f":"'Polar 0-360'!Y363","v":{"$error":"#VALUE!"}},{"$f":"'Polar 0-360'!AE363","v":{"$error":"#VALUE!"}},{"$f":"'Polar 0-360'!AK363","v":5.0699344374664452},{"$f":"'Polar 0-360'!AQ363","v":{"$error":"#VALUE!"}}]
[null,null,null,null,null,null,null,null,null,null,null,{"$f":"'Polar 0-360'!G364","v":{"$error":"#VALUE!"}},{"$f":"'Polar 0-360'!M364","v":{"$error":"#VALUE!"}},{"$f":"'Polar 0-360'!S364","v":{"$error":"#VALUE!"}},{"$f":"'Polar 0-360'!Y364","v":{"$error":"#VALUE!"}},{"$f":"'Polar 0-360'!AE364","v":{"$error":"#VALUE!"}},{"$f":"'Polar 0-360'!AK364","v":-7.5733517691979992},{"$f":"'Polar 0-360'!AQ364","v":{"$error":"#VALUE!"}}]
[null,null,null,null,null,null,null,null,null,null,"TWA",{"$f":"'Polar 0-360'!G365","v":{"$error":"#VALUE!"}},{"$f":"'Polar 0-360'!M365","v":{"$error":"#VALUE!"}},{"$f":"'Polar 0-360'!S365","v":{"$error":"#VALUE!"}},{"$f":"'Polar 0-360'!Y365","v":{"$error":"#VALUE!"}},{"$f":"'Polar 0-360'!AE365","v":{"$error":"#VALUE!"}},{"$f":"'Polar 0-360'!AK365","v":39},{"$f":"'Polar 0-360'!AQ365","v":{"$error":"#VALUE!"}}]
[null,null,null,null,null,null,null,null,null,null,null,{"$f":"'Polar 0-360'!G366","v":{"$error":"#VALUE!"}},{"$f":"'Polar 0-360'!M366","v":{"$error":"#VALUE!"}},{"$f":"'Polar 0-360'!S366","v":{"$error":"#VALUE!"}},{"$f":"'Polar 0-360'!Y366","v":{"$error":"#VALUE!"}},{"$f":"'Polar 0-360'!AE366","v":{"$error":"#VALUE!"}},{"$f":"'Polar 0-360'!AK366","v":174},{"$f":"'Polar 0-360'!AQ366","v":{"$error":"#VALUE!"}}]
[]
[null,null,null,null,null,null,null,null,null,null,null,"TWS",10,"TWS_INF/A",null,"STW_INF",null,"TWS_SUP/A",null,"STW_SUP"]
[null,null,null,null,null,null,null,null,null,null,null,"TWA",40,{"$f":"MATCH(M41,STW!$A$1:$AY$1)","v":5},{"$f":"INDEX(PolaireTitle,1,N42)","v":10},{"$f":"INDEX(PolaireTitle,M42,N42)","v":{"$error":"#VALUE!"}},null,{"$f":"N42+1","v":6},{"$f":"INDEX(PolaireTitle,1,R42)","v":12},{"$f":"INDEX(PolaireTitle,M42+1,R42)","v":{"$error":"#VALUE!"}}]

{"sheet":"Polar 0-360","index":11,"n_rows":366,"n_cols":43,"rows_kept":366,"cut":false,"hidden":true,"merged":[]}
[null,"XINF","XSUP","YINF","YSUP",{"$f":"INDEX(TWS,1,INT(((COLUMN()-2)/6)+3))","v":6},"VMG","XINF","XSUP","YINF","YSUP",{"$f":"INDEX(TWS,1,INT(((COLUMN()-2)/6)+3))","v":8},"VMG","XINF","XSUP","YINF","YSUP",{"$f":"INDEX(TWS,1,INT(((COLUMN()-2)/6)+3))","v":10},"VMG","XINF","XSUP","YINF","YSUP",{"$f":"INDEX(TWS,1,INT(((COLUMN()-2)/6)+3))","v":12},"VMG","XINF","XSUP","YINF","YSUP",{"$f":"INDEX(TWS,1,INT(((COLUMN()-2)/6)+3))","v":14},"VMG","XINF","XSUP","YINF","YSUP",{"$f":"INDEX(TWS,1,INT(((COLUMN()-2)/6)+3))","v":16},"VMG","XINF","XSUP","YINF","YSUP",{"$f":"INDEX(TWS,1,INT(((COLUMN()-2)/6)+3))","v":20},"VMG"]
[0,{"$f":"INDEX(PolaireBase,MATCH($A2,AngleBase),1)","v":0},{"$f":"INDEX(PolaireBase,MIN(MATCH($A2,AngleBase)+1, ROWS(AngleBase)),1)","v":38.6},{"$f":"INDEX(PolaireBase,MATCH($A2,AngleBase),INT((COLUMN()-2)/6)+3)","v":0},{"$f":"INDEX(PolaireBase,MIN(MATCH($A2,AngleBase)+1,ROWS(AngleBase)),INT((COLUMN()-2)/6)+3)","v":""},{"$f":"IF(B2=C2, D2, TREND(D2:E2,B2:C2,$A2))","v":{"$error":"#VALUE!"}},{"$f":"F2*COS!$B2","v":{"$error":"#VALUE!"}},{"$f":"INDEX(PolaireBase,MATCH($A2,AngleBase),1)","v":0},{"$f":"INDEX(PolaireBase,MIN(MATCH($A2,AngleBase)+1, ROWS(AngleBase)),1)","v":38.6},{"$f":"INDEX(PolaireBase,MATCH($A2,AngleBase),INT((COLUMN()-2)/6)+3)","v":0},{"$f":"INDEX(PolaireBase,MIN(MATCH($A2,AngleBase)+1,ROWS(AngleBase)),INT((COLUMN()-2)/6)+3)","v":""},{"$f":"IF(H2=I2, J2, TREND(J2:K2,H2:I2,$A2))","v":{"$error":"#VALUE!"}},{"$f":"L2*COS!$B2","v":{"$error":"#VALUE!"}},{"$f":"INDEX(PolaireBase,MATCH($A2,AngleBase),1)","v":0},{"$f":"INDEX(PolaireBase,MIN(MATCH($A2,AngleBase)+1, ROWS(AngleBase)),1)","v":38.6},{"$f":"INDEX(PolaireBase,MATCH($A2,AngleBase),INT((COLUMN()-2)/6)+3)","v":0},{"$f":"INDEX(PolaireBase,MIN(MATCH($A2,AngleBase)+1,ROWS(AngleBase)),INT((COLUMN()-2)/6)+3)","v":""},{"$f":"IF(N2=O2, P2, TREND(P2:Q2,N2:O2,$A2))","v":{"$error":"#VALUE!"}},{"$f":"R2*COS!$B2","v":{"$error":"#VALUE!"}},{"$f":"INDEX(PolaireBase,MATCH($A2,AngleBase),1)","v":0},{"$f":"INDEX(PolaireBase,MIN(MATCH($A2,AngleBase)+1, ROWS(AngleBase)),1)","v":38.6},{"$f":"INDEX(PolaireBase,MATCH($A2,AngleBase),INT((COLUMN()-2)/6)+3)","v":0},{"$f":"INDEX(PolaireBase,MIN(MATCH($A2,AngleBase)+1,ROWS(AngleBase)),INT((COLUMN()-2)/6)+3)","v":""},{"$f":"IF(T2=U2, V2, TREND(V2:W2,T2:U2,$A2))","v":{"$error":"#VALUE!"}},{"$f":"X2*COS!$B2","v":{"$error":"#VALUE!"}},{"$f":"INDEX(PolaireBase,MATCH($A2,AngleBase),1)","v":0},{"$f":"INDEX(PolaireBase,MIN(MATCH($A2,AngleBase)+1, ROWS(AngleBase)),1)","v":38.6},{"$f":"INDEX(PolaireBase,MATCH($A2,AngleBase),INT((COLUMN()-2)/6)+3)","v":0},{"$f":"INDEX(PolaireBase,MIN(MATCH($A2,AngleBase)+1,ROWS(AngleBase)),INT((COLUMN()-2)/6)+3)","v":""},{"$f":"IF(Z2=AA2, AB2, TREND(AB2:AC2,Z2:AA2,$A2))","v":{"$error":"#VALUE!"}},{"$f":"AD2*COS!$B2","v":{"$error":"#VALUE!"}},{"$f":"INDEX(PolaireBase,MATCH($A2,AngleBase),1)","v":0},{"$f":"INDEX(PolaireBase,MIN(MATCH($A2,AngleBase)+1, ROWS(AngleBase)),1)","v":38.6},{"$f":"INDEX(PolaireBase,MATCH($A2,AngleBase),INT((COLUMN()-2)/6)+3)","v":0},{"$f":"INDEX(PolaireBase,MIN(MATCH($A2,AngleBase)+1,ROWS(AngleBase)),INT((COLUMN()-2)/6)+3)","v":6.5034663855337085},{"$f":"IF(AF2=AG2, AH2, TREND(AH2:AI2,AF2:AG2,$A2))","v":-1.3322676295501878E-15},{"$f":"AJ2*COS!$B2","v":-1.3322676295501878E-15},{"$f":"INDEX(PolaireBase,MATCH($A2,AngleBase),1)","v":0},{"$f":"INDEX(PolaireBase,MIN(MATCH($A2,AngleBase)+1, ROWS(AngleBase)),1)","v":38.6},{"$f":"INDEX(PolaireBase,MATCH($A2,AngleBase),INT((COLUMN()-2)/6)+3)","v":0},{"$f":"INDEX(PolaireBase,MIN(MATCH($A2,AngleBase)+1,ROWS(AngleBase)),INT((COLUMN()-2)/6)+3)","v":""},{"$f":"IF(AL2=AM2, AN2, TREND(AN2:AO2,AL2:AM2,$A2))","v":{"$error":"#VALUE!"}},{"$f":"AP2*COS!$B2","v":{"$error":"#VALUE!"}}]
[1,0,38.6,0,"",{"$f":"IF(B3=C3, D3, TREND(D3:E3,B3:C3,$A3))","v":{"$error":"#VALUE!"}},{"$f":"F3*COS!$B3","v":{"$error":"#VALUE!"}},0,38.6,0,"",{"$error":"#VALUE!"},{"$f":"L3*COS!$B3","v":{"$error":"#VALUE!"}},0,38.6,0,"",{"$error":"#VALUE!"},{"$f":"R3*COS!$B3","v":{"$error":"#VALUE!"}},0,38.6,0,"",{"$error":"#VALUE!"},{"$f":"X3*COS!$B3","v":{"$error":"#VALUE!"}},0,38.6,0,"",{"$error":"#VALUE!"},{"$f":"AD3*COS!$B3","v":{"$error":"#VALUE!"}},0,38.6,0,6.5034663855337085,0.16848358511745232,{"$f":"AJ3*COS!$B3","v":0.16845792425137038},0,38.6,0,"",{"$error":"#VALUE!"},{"$f":"AP3*COS!$B3","v":{"$error":"#VALUE!"}}]
[2,0,38.6,0,"",{"$error":"#VALUE!"},{"$f":"F4*COS!$B4","v":{"$error":"#VALUE!"}},0,38.6,0,"",{"$error":"#VALUE!"},{"$f":"L4*COS!$B4","v":{"$error":"#VALUE!"}},0,38.6,0,"",{"$error":"#VALUE!"},{"$f":"R4*COS!$B4","v":{"$error":"#VALUE!"}},0,38.6,0,"",{"$error":"#VALUE!"},{"$f":"X4*COS!$B4","v":{"$error":"#VALUE!"}},0,38.6,0,"",{"$error":"#VALUE!"},{"$f":"AD4*COS!$B4","v":{"$error":"#VALUE!"}},0,38.6,0,6.5034663855337085,0.33696717023490597,{"$f":"AJ4*COS!$B4","v":0.3367618989393471},0,38.6,0,"",{"$error":"#VALUE!"},{"$f":"AP4*COS!$B4","v":{"$error":"#VALUE!"}}]
[3,0,38.6,0,"",{"$error":"#VALUE!"},{"$f":"F5*COS!$B5","v":{"$error":"#VALUE!"}},0,38.6,0,"",{"$error":"#VALUE!"},{"$f":"L5*COS!$B5","v":{"$error":"#VALUE!"}},0,38.6,0,"",{"$error":"#VALUE!"},{"$f":"R5*COS!$B5","v":{"$error":"#VALUE!"}},0,38.6,0,"",{"$error":"#VALUE!"},{"$f":"X5*COS!$B5","v":{"$error":"#VALUE!"}},0,38.6,0,"",{"$error":"#VALUE!"},{"$f":"AD5*COS!$B5","v":{"$error":"#VALUE!"}},0,38.6,0,6.5034663855337085,0.50545075535235962,{"$f":"AJ5*COS!$B5","v":0.50475805265887486},0,38.6,0,"",{"$error":"#VALUE!"},{"$f":"AP5*COS!$B5","v":{"$error":"#VALUE!"}}]
[4,0,38.6,0,"",{"$error":"#VALUE!"},{"$f":"F6*COS!$B6","v":{"$error":"#VALUE!"}},0,38.6,0,"",{"$error":"#VALUE!"},{"$f":"L6*COS!$B6","v":{"$error":"#VALUE!"}},0,38.6,0,"",{"$error":"#VALUE!"},{"$f":"R6*COS!$B6","v":{"$error":"#VALUE!"}},0,38.6,0,"",{"$error":"#VALUE!"},{"$f":"X6*COS!$B6","v":{"$error":"#VALUE!"}},0,38.6,0,"",{"$error":"#VALUE!"},{"$f":"AD6*COS!$B6","v":{"$error":"#VALUE!"}},0,38.6,0,6.5034663855337085,0.67393434046981326,{"$f":"AJ6*COS!$B6","v":0.67229267028825024},0,38.6,0,"",{"$error":"#VALUE!"},{"$f":"AP6*COS!$B6","v":{"$error":"#VALUE!"}}]
[5,0,38.6,0,"",{"$error":"#VALUE!"},{"$f":"F7*COS!$B7","v":{"$error":"#VALUE!"}},0,38.6,0,"",{"$error":"#VALUE!"},{"$f":"L7*COS!$B7","v":{"$error":"#VALUE!"}},0,38.6,0,"",{"$error":"#VALUE!"},{"$f":"R7*COS!$B7","v":{"$error":"#VALUE!"}},0,38.6,0,"",{"$error":"#VALUE!"},{"$f":"X7*COS!$B7","v":{"$error":"#VALUE!"}},0,38.6,0,"",{"$error":"#VALUE!"},{"$f":"AD7*COS!$B7","v":{"$error":"#VALUE!"}},0,38.6,0,6.5034663855337085,0.84241792558726691,{"$f":"AJ7*COS!$B7","v":0.83921227104748197},0,38.6,0,"",{"$error":"#VALUE!"},{"$f":"AP7*COS!$B7","v":{"$error":"#VALUE!"}}]
[6,0,38.6,0,"",{"$error":"#VALUE!"},{"$f":"F8*COS!$B8","v":{"$error":"#VALUE!"}},0,38.6,0,"",{"$error":"#VALUE!"},{"$f":"L8*COS!$B8","v":{"$error":"#VALUE!"}},0,38.6,0,"",{"$error":"#VALUE!"},{"$f":"R8*COS!$B8","v":{"$error":"#VALUE!"}},0,38.6,0,"",{"$error":"#VALUE!"},{"$f":"X8*COS!$B8","v":{"$error":"#VALUE!"}},0,38.6,0,"",{"$error":"#VALUE!"},{"$f":"AD8*COS!$B8","v":{"$error":"#VALUE!"}},0,38.6,0,6.5034663855337085,1.0109015107047206,{"$f":"AJ8*COS!$B8","v":1.0053636864567095},0,38.6,0,"",{"$error":"#VALUE!"},{"$f":"AP8*COS!$B8","v":{"$error":"#VALUE!"}}]
[7,0,38.6,0,"",{"$error":"#VALUE!"},{"$f":"F9*COS!$B9","v":{"$error":"#VALUE!"}},0,38.6,0,"",{"$error":"#VALUE!"},{"$f":"L9*COS!$B9","v":{"$error":"#VALUE!"}},0,38.6,0,"",{"$error":"#VALUE!"},{"$f":"R9*COS!$B9","v":{"$error":"#VALUE!"}},0,38.6,0,"",{"$error":"#VALUE!"},{"$f":"X9*COS!$B9","v":{"$error":"#VALUE!"}},0,38.6,0,"",{"$error":"#VALUE!"},{"$f":"AD9*COS!$B9","v":{"$error":"#VALUE!"}},0,38.6,0,6.5034663855337085,1.1793850958221741,{"$f":"AJ9*COS!$B9","v":1.1705941381614307},0,38.6,0,"",{"$error":"#VALUE!"},{"$f":"AP9*COS!$B9","v":{"$error":"#VALUE!"}}]
[8,0,38.6,0,"",{"$error":"#VALUE!"},{"$f":"F10*COS!$B10","v":{"$error":"#VALUE!"}},0,38.6,0,"",{"$error":"#VALUE!"},{"$f":"L10*COS!$B10","v":{"$error":"#VALUE!"}},0,38.6,0,"",{"$error":"#VALUE!"},{"$f":"R10*COS!$B10","v":{"$error":"#VALUE!"}},0,38.6,0,"",{"$error":"#VALUE!"},{"$f":"X10*COS!$B10","v":{"$error":"#VALUE!"}},0,38.6,0,"",{"$error":"#VALUE!"},{"$f":"AD10*COS!$B10","v":{"$error":"#VALUE!"}},0,38.6,0,6.5034663855337085,1.3478686809396279,{"$f":"AJ10*COS!$B10","v":1.3347513155913331},0,38.6,0,"",{"$error":"#VALUE!"},{"$f":"AP10*COS!$B10","v":{"$error":"#VALUE!"}}]
[9,0,38.6,0,"",{"$error":"#VALUE!"},{"$f":"F11*COS!$B11","v":{"$error":"#VALUE!"}},0,38.6,0,"",{"$error":"#VALUE!"},{"$f":"L11*COS!$B11","v":{"$error":"#VALUE!"}},0,38.6,0,"",{"$error":"#VALUE!"},{"$f":"R11*COS!$B11","v":{"$error":"#VALUE!"}},0,38.6,0,"",{"$error":"#VALUE!"},{"$f":"X11*COS!$B11","v":{"$error":"#VALUE!"}},0,38.6,0,"",{"$error":"#VALUE!"},{"$f":"AD11*COS!$B11","v":{"$error":"#VALUE!"}},0,38.6,0,6.5034663855337085,1.5163522660570816,{"$f":"AJ11*COS!$B11","v":1.4976834534195957},0,38.6,0,"",{"$error":"#VALUE!"},{"$f":"AP11*COS!$B11","v":{"$error":"#VALUE!"}}]
[10,0,38.6,0,"",{"$error":"#VALUE!"},{"$f":"F12*COS!$B12","v":{"$error":"#VALUE!"}},0,38.6,0,"",{"$error":"#VALUE!"},{"$f":"L12*COS!$B12","v":{"$error":"#VALUE!"}},0,38.6,0,"",{"$error":"#VALUE!"},{"$f":"R12*COS!$B12","v":{"$error":"#VALUE!"}},0,38.6,0,"",{"$error":"#VALUE!"},{"$f":"X12*COS!$B12","v":{"$error":"#VALUE!"}},0,38.6,0,"",{"$error":"#VALUE!"},{"$f":"AD12*COS!$B12","v":{"$error":"#VALUE!"}},0,38.6,0,6.5034663855337085,1.6848358511745352,{"$f":"AJ12*COS!$B12","v":1.659239408789605},0,38.6,0,"",{"$error":"#VALUE!"},{"$f":"AP12*COS!$B12","v":{"$error":"#VALUE!"}}]
[11,0,38.6,0,"",{"$error":"#VALUE!"},{"$f":"F13*COS!$B13","v":{"$error":"#VALUE!"}},0,38.6,0,"",{"$error":"#VALUE!"},{"$f":"L13*COS!$B13","v":{"$error":"#VALUE!"}},0,38.6,0,"",{"$error":"#VALUE!"},{"$f":"R13*COS!$B13","v":{"$error":"#VALUE!"}},0,38.6,0,"",{"$error":"#VALUE!"},{"$f":"X13*COS!$B13","v":{"$error":"#VALUE!"}},0,38.6,0,"",{"$error":"#VALUE!"},{"$f":"AD13*COS!$B13","v":{"$error":"#VALUE!"}},0,38.6,0,6.5034663855337085,1.8533194362919887,{"$f":"AJ13*COS!$B13","v":1.8192687382761172},0,38.6,0,"",{"$error":"#VALUE!"},{"$f":"AP13*COS!$B13","v":{"$error":"#VALUE!"}}]
[12,0,38.6,0,"",{"$error":"#VALUE!"},{"$f":"F14*COS!$B14","v":{"$error":"#VALUE!"}},0,38.6,0,"",{"$error":"#VALUE!"},{"$f":"L14*COS!$B14","v":{"$error":"#VALUE!"}},0,38.6,0,"",{"$error":"#VALUE!"},{"$f":"R14*COS!$B14","v":{"$error":"#VALUE!"}},0,38.6,0,"",{"$error":"#VALUE!"},{"$f":"X14*COS!$B14","v":{"$error":"#VALUE!"}},0,38.6,0,"",{"$error":"#VALUE!"},{"$f":"AD14*COS!$B14","v":{"$error":"#VALUE!"}},0,38.6,0,6.5034663855337085,2.0218030214094425,{"$f":"AJ14*COS!$B14","v":1.9776217745480054},0,38.6,0,"",{"$error":"#VALUE!"},{"$f":"AP14*COS!$B14","v":{"$error":"#VALUE!"}}]
[13,0,38.6,0,"",{"$error":"#VALUE!"},{"$f":"F15*COS!$B15","v":{"$error":"#VALUE!"}},0,38.6,0,"",{"$error":"#VALUE!"},{"$f":"L15*COS!$B15","v":{"$error":"#VALUE!"}},0,38.6,0,"",{"$error":"#VALUE!"},{"$f":"R15*COS!$B15","v":{"$error":"#VALUE!"}},0,38.6,0,"",{"$error":"#VALUE!"},{"$f":"X15*COS!$B15","v":{"$error":"#VALUE!"}},0,38.6,0,"",{"$error":"#VALUE!"},{"$f":"AD15*COS!$B15","v":{"$error":"#VALUE!"}},0,38.6,0,6.5034663855337085,2.1902866065268962,{"$f":"AJ15*COS!$B15","v":2.1341497026998448},0,38.6,0,"",{"$error":"#VALUE!"},{"$f":"AP15*COS!$B15","v":{"$error":"#VALUE!"}}]
[14,0,38.6,0,"",{"$error":"#VALUE!"},{"$f":"F16*COS!$B16","v":{"$error":"#VALUE!"}},0,38.6,0,"",{"$error":"#VALUE!"},{"$f":"L16*COS!$B16","v":{"$error":"#VALUE!"}},0,38.6,0,"",{"$error":"#VALUE!"},{"$f":"R16*COS!$B16","v":{"$error":"#VALUE!"}},0,38.6,0,"",{"$error":"#VALUE!"},{"$f":"X16*COS!$B16","v":{"$error":"#VALUE!"}},0,38.6,0,"",{"$error":"#VALUE!"},{"$f":"AD16*COS!$B16","v":{"$error":"#VALUE!"}},0,38.6,0,6.5034663855337085,2.3587701916443495,{"$f":"AJ16*COS!$B16","v":2.2887046362197254},0,38.6,0,"",{"$error":"#VALUE!"},{"$f":"AP16*COS!$B16","v":{"$error":"#VALUE!"}}]
[15,0,38.6,0,"",{"$error":"#VALUE!"},{"$f":"F17*COS!$B17","v":{"$error":"#VALUE!"}},0,38.6,0,"",{"$error":"#VALUE!"},{"$f":"L17*COS!$B17","v":{"$error":"#VALUE!"}},0,38.6,0,"",{"$error":"#VALUE!"},{"$f":"R17*COS!$B17","v":{"$error":"#VALUE!"}},0,38.6,0,"",{"$error":"#VALUE!"},{"$f":"X17*COS!$B17","v":{"$error":"#VALUE!"}},0,38.6,0,"",{"$error":"#VALUE!"},{"$f":"AD17*COS!$B17","v":{"$error":"#VALUE!"}},0,38.6,0,6.5034663855337085,2.5272537767618033,{"$f":"AJ17*COS!$B17","v":2.4411396925608133},0,38.6,0,"",{"$error":"#VALUE!"},{"$f":"AP17*COS!$B17","v":{"$error":"#VALUE!"}}]
[16,0,38.6,0,"",{"$error":"#VALUE!"},{"$f":"F18*COS!$B18","v":{"$error":"#VALUE!"}},0,38.6,0,"",{"$error":"#VALUE!"},{"$f":"L18*COS!$B18","v":{"$error":"#VALUE!"}},0,38.6,0,"",{"$error":"#VALUE!"},{"$f":"R18*COS!$B18","v":{"$error":"#VALUE!"}},0,38.6,0,"",{"$error":"#VALUE!"},{"$f":"X18*COS!$B18","v":{"$error":"#VALUE!"}},0,38.6,0,"",{"$error":"#VALUE!"},{"$f":"AD18*COS!$B18","v":{"$error":"#VALUE!"}},0,38.6,0,6.5034663855337085,2.6957373618792571,{"$f":"AJ18*COS!$B18","v":2.5913090682843443},0,38.6,0,"",{"$error":"#VALUE!"},{"$f":"AP18*COS!$B18","v":{"$error":"#VALUE!"}}]
[17,0,38.6,0,"",{"$error":"#VALUE!"},{"$f":"F19*COS!$B19","v":{"$error":"#VALUE!"}},0,38.6,0,"",{"$error":"#VALUE!"},{"$f":"L19*COS!$B19","v":{"$error":"#VALUE!"}},0,38.6,0,"",{"$error":"#VALUE!"},{"$f":"R19*COS!$B19","v":{"$error":"#VALUE!"}},0,38.6,0,"",{"$error":"#VALUE!"},{"$f":"X19*COS!$B19","v":{"$error":"#VALUE!"}},0,38.6,0,"",{"$error":"#VALUE!"},{"$f":"AD19*COS!$B19","v":{"$error":"#VALUE!"}},0,38.6,0,6.5034663855337085,2.8642209469967108,{"$f":"AJ19*COS!$B19","v":2.739068113741904},0,38.6,0,"",{"$error":"#VALUE!"},{"$f":"AP19*COS!$B19","v":{"$error":"#VALUE!"}}]
[18,0,38.6,0,"",{"$error":"#VALUE!"},{"$f":"F20*COS!$B20","v":{"$error":"#VALUE!"}},0,38.6,0,"",{"$error":"#VALUE!"},{"$f":"L20*COS!$B20","v":{"$error":"#VALUE!"}},0,38.6,0,"",{"$error":"#VALUE!"},{"$f":"R20*COS!$B20","v":{"$error":"#VALUE!"}},0,38.6,0,"",{"$error":"#VALUE!"},{"$f":"X20*COS!$B20","v":{"$error":"#VALUE!"}},0,38.6,0,"",{"$error":"#VALUE!"},{"$f":"AD20*COS!$B20","v":{"$error":"#VALUE!"}},0,38.6,0,6.5034663855337085,3.0327045321141646,{"$f":"AJ20*COS!$B20","v":2.8842734072650211},0,38.6,0,"",{"$error":"#VALUE!"},{"$f":"AP20*COS!$B20","v":{"$error":"#VALUE!"}}]
[19,0,38.6,0,"",{"$error":"#VALUE!"},{"$f":"F21*COS!$B21","v":{"$error":"#VALUE!"}},0,38.6,0,"",{"$error":"#VALUE!"},{"$f":"L21*COS!$B21","v":{"$error":"#VALUE!"}},0,38.6,0,"",{"$error":"#VALUE!"},{"$f":"R21*COS!$B21","v":{"$error":"#VALUE!"}},0,38.6,0,"",{"$error":"#VALUE!"},{"$f":"X21*COS!$B21","v":{"$error":"#VALUE!"}},0,38.6,0,"",{"$error":"#VALUE!"},{"$f":"AD21*COS!$B21","v":{"$error":"#VALUE!"}},0,38.6,0,6.5034663855337085,3.2011881172316179,{"$f":"AJ21*COS!$B21","v":3.0267828288302985},0,38.6,0,"",{"$error":"#VALUE!"},{"$f":"AP21*COS!$B21","v":{"$error":"#VALUE!"}}]
[20,0,38.6,0,"",{"$error":"#VALUE!"},{"$f":"F22*COS!$B22","v":{"$error":"#VALUE!"}},0,38.6,0,"",{"$error":"#VALUE!"},{"$f":"L22*COS!$B22","v":{"$error":"#VALUE!"}},0,38.6,0,"",{"$error":"#VALUE!"},{"$f":"R22*COS!$B22","v":{"$error":"#VALUE!"}},0,38.6,0,"",{"$error":"#VALUE!"},{"$f":"X22*COS!$B22","v":{"$error":"#VALUE!"}},0,38.6,0,"",{"$error":"#VALUE!"},{"$f":"AD22*COS!$B22","v":{"$error":"#VALUE!"}},0,38.6,0,6.5034663855337085,3.3696717023490717,{"$f":"AJ22*COS!$B22","v":3.1664556331685128},0,38.6,0,"",{"$error":"#VALUE!"},{"$f":"AP22*COS!$B22","v":{"$error":"#VALUE!"}}]
[21,0,38.6,0,"",{"$error":"#VALUE!"},{"$f":"F23*COS!$B23","v":{"$error":"#VALUE!"}},0,38.6,0,"",{"$error":"#VALUE!"},{"$f":"L23*COS!$B23","v":{"$error":"#VALUE!"}},0,38.6,0,"",{"$error":"#VALUE!"},{"$f":"R23*COS!$B23","v":{"$error":"#VALUE!"}},0,38.6,0,"",{"$error":"#VALUE!"},{"$f":"X23*COS!$B23","v":{"$error":"#VALUE!"}},0,38.6,0,"",{"$error":"#VALUE!"},{"$f":"AD23*COS!$B23","v":{"$error":"#VALUE!"}},0,38.6,0,6.5034663855337085,3.5381552874665254,{"$f":"AJ23*COS!$B23","v":3.3031525222863283},0,38.6,0,"",{"$error":"#VALUE!"},{"$f":"AP23*COS!$B23","v":{"$error":"#VALUE!"}}]
[22,0,38.6,0,"",{"$error":"#VALUE!"},{"$f":"F24*COS!$B24","v":{"$error":"#VALUE!"}},0,38.6,0,"",{"$error":"#VALUE!"},{"$f":"L24*COS!$B24","v":{"$error":"#VALUE!"}},0,38.6,0,"",{"$error":"#VALUE!"},{"$f":"R24*COS!$B24","v":{"$error":"#VALUE!"}},0,38.6,0,"",{"$error":"#VALUE!"},{"$f":"X24*COS!$B24","v":{"$error":"#VALUE!"}},0,38.6,0,"",{"$error":"#VALUE!"},{"$f":"AD24*COS!$B24","v":{"$error":"#VALUE!"}},0,38.6,0,6.5034663855337085,3.7066388725839787,{"$f":"AJ24*COS!$B24","v":3.4367357173695048},0,38.6,0,"",{"$error":"#VALUE!"},{"$f":"AP24*COS!$B24","v":{"$error":"#VALUE!"}}]
[23,0,38.6,0,"",{"$error":"#VALUE!"},{"$f":"F25*COS!$B25","v":{"$error":"#VALUE!"}},0,38.6,0,"",{"$error":"#VALUE!"},{"$f":"L25*COS!$B25","v":{"$error":"#VALUE!"}},0,38.6,0,"",{"$error":"#VALUE!"},{"$f":"R25*COS!$B25","v":{"$error":"#VALUE!"}},0,38.6,0,"",{"$error":"#VALUE!"},{"$f":"X25*COS!$B25","v":{"$error":"#VALUE!"}},0,38.6,0,"",{"$error":"#VALUE!"},{"$f":"AD25*COS!$B25","v":{"$error":"#VALUE!"}},0,38.6,0,6.5034663855337085,3.8751224577014325,{"$f":"AJ25*COS!$B25","v":3.5670690300367176},0,38.6,0,"",{"$error":"#VALUE!"},{"$f":"AP25*COS!$B25","v":{"$error":"#VALUE!"}}]
[24,0,38.6,0,"",{"$error":"#VALUE!"},{"$f":"F26*COS!$B26","v":{"$error":"#VALUE!"}},0,38.6,0,"",{"$error":"#VALUE!"},{"$f":"L26*COS!$B26","v":{"$error":"#VALUE!"}},0,38.6,0,"",{"$error":"#VALUE!"},{"$f":"R26*COS!$B26","v":{"$error":"#VALUE!"}},0,38.6,0,"",{"$error":"#VALUE!"},{"$f":"X26*COS!$B26","v":{"$error":"#VALUE!"}},0,38.6,0,"",{"$error":"#VALUE!"},{"$f":"AD26*COS!$B26","v":{"$error":"#VALUE!"}},0,38.6,0,6.5034663855337085,4.0436060428188867,{"$f":"AJ26*COS!$B26","v":3.6940179329133662},0,38.6,0,"",{"$error":"#VALUE!"},{"$f":"AP26*COS!$B26","v":{"$error":"#VALUE!"}}]
[25,0,38.6,0,"",{"$error":"#VALUE!"},{"$f":"F27*COS!$B27","v":{"$error":"#VALUE!"}},0,38.6,0,"",{"$error":"#VALUE!"},{"$f":"L27*COS!$B27","v":{"$error":"#VALUE!"}},0,38.6,0,"",{"$error":"#VALUE!"},{"$f":"R27*COS!$B27","v":{"$error":"#VALUE!"}},0,38.6,0,"",{"$error":"#VALUE!"},{"$f":"X27*COS!$B27","v":{"$error":"#VALUE!"}},0,38.6,0,"",{"$error":"#VALUE!"},{"$f":"AD27*COS!$B27","v":{"$error":"#VALUE!"}},0,38.6,0,6.5034663855337085,4.21208962793634,{"$f":"AJ27*COS!$B27","v":3.8174496294950107},0,38.6,0,"",{"$error":"#VALUE!"},{"$f":"AP27*COS!$B27","v":{"$error":"#VALUE!"}}]
[26,0,38.6,0,"",{"$error":"#VALUE!"},{"$f":"F28*COS!$B28","v":{"$error":"#VALUE!"}},0,38.6,0,"",{"$error":"#VALUE!"},{"$f":"L28*COS!$B28","v":{"$error":"#VALUE!"}},0,38.6,0,"",{"$error":"#VALUE!"},{"$f":"R28*COS!$B28","v":{"$error":"#VALUE!"}},0,38.6,0,"",{"$error":"#VALUE!"},{"$f":"X28*COS!$B28","v":{"$error":"#VALUE!"}},0,38.6,0,"",{"$error":"#VALUE!"},{"$f":"AD28*COS!$B28","v":{"$error":"#VALUE!"}},0,38.6,0,6.5034663855337085,4.3805732130537933,{"$f":"AJ28*COS!$B28","v":3.9372331232703619},0,38.6,0,"",{"$error":"#VALUE!"},{"$f":"AP28*COS!$B28","v":{"$error":"#VALUE!"}}]
[27,0,38.6,0,"",{"$error":"#VALUE!"},{"$f":"F29*COS!$B29","v":{"$error":"#VALUE!"}},0,38.6,0,"",{"$error":"#VALUE!"},{"$f":"L29*COS!$B29","v":{"$error":"#VALUE!"}},0,38.6,0,"",{"$error":"#VALUE!"},{"$f":"R29*COS!$B29","v":{"$error":"#VALUE!"}},0,38.6,0,"",{"$error":"#VALUE!"},{"$f":"X29*COS!$B29","v":{"$error":"#VALUE!"}},0,38.6,0,"",{"$error":"#VALUE!"},{"$f":"AD29*COS!$B29","v":{"$error":"#VALUE!"}},0,38.6,0,6.5034663855337085,4.5490567981712466,{"$f":"AJ29*COS!$B29","v":4.0532392860740281},0,38.6,0,"",{"$error":"#VALUE!"},{"$f":"AP29*COS!$B29","v":{"$error":"#VALUE!"}}]
[28,0,38.6,0,"",{"$error":"#VALUE!"},{"$f":"F30*COS!$B30","v":{"$error":"#VALUE!"}},0,38.6,0,"",{"$error":"#VALUE!"},{"$f":"L30*COS!$B30","v":{"$error":"#VALUE!"}},0,38.6,0,"",{"$error":"#VALUE!"},{"$f":"R30*COS!$B30","v":{"$error":"#VALUE!"}},0,38.6,0,"",{"$error":"#VALUE!"},{"$f":"X30*COS!$B30","v":{"$error":"#VALUE!"}},0,38.6,0,"",{"$error":"#VALUE!"},{"$f":"AD30*COS!$B30","v":{"$error":"#VALUE!"}},0,38.6,0,6.5034663855337085,4.7175403832887,{"$f":"AJ30*COS!$B30","v":4.1653409256395371},0,38.6,0,"",{"$error":"#VALUE!"},{"$f":"AP30*COS!$B30","v":{"$error":"#VALUE!"}}]
[29,0,38.6,0,"",{"$error":"#VALUE!"},{"$f":"F31*COS!$B31","v":{"$error":"#VALUE!"}},0,38.6,0,"",{"$error":"#VALUE!"},{"$f":"L31*COS!$B31","v":{"$error":"#VALUE!"}},0,38.6,0,"",{"$error":"#VALUE!"},{"$f":"R31*COS!$B31","v":{"$error":"#VALUE!"}},0,38.6,0,"",{"$error":"#VALUE!"},{"$f":"X31*COS!$B31","v":{"$error":"#VALUE!"}},0,38.6,0,"",{"$error":"#VALUE!"},{"$f":"AD31*COS!$B31","v":{"$error":"#VALUE!"}},0,38.6,0,6.5034663855337085,4.886023968406155,{"$f":"AJ31*COS!$B31","v":4.2734128523234594},0,38.6,0,"",{"$error":"#VALUE!"},{"$f":"AP31*COS!$B31","v":{"$error":"#VALUE!"}}]
[30,0,38.6,0,"",{"$error":"#VALUE!"},{"$f":"F32*COS!$B32","v":{"$error":"#VALUE!"}},0,38.6,0,"",{"$error":"#VALUE!"},{"$f":"L32*COS!$B32","v":{"$error":"#VALUE!"}},0,38.6,0,"",{"$error":"#VALUE!"},{"$f":"R32*COS!$B32","v":{"$error":"#VALUE!"}},0,38.6,0,"",{"$error":"#VALUE!"},{"$f":"X32*COS!$B32","v":{"$error":"#VALUE!"}},0,38.6,0,"",{"$error":"#VALUE!"},{"$f":"AD32*COS!$B32","v":{"$error":"#VALUE!"}},0,38.6,0,6.5034663855337085,5.0545075535236084,{"$f":"AJ32*COS!$B32","v":4.377331944971778},0,38.6,0,"",{"$error":"#VALUE!"},{"$f":"AP32*COS!$B32","v":{"$error":"#VALUE!"}}]
[31,0,38.6,0,"",{"$error":"#VALUE!"},{"$f":"F33*COS!$B33","v":{"$error":"#VALUE!"}},0,38.6,0,"",{"$error":"#VALUE!"},{"$f":"L33*COS!$B33","v":{"$error":"#VALUE!"}},0,38.6,0,"",{"$error":"#VALUE!"},{"$f":"R33*COS!$B33","v":{"$error":"#VALUE!"}},0,38.6,0,"",{"$error":"#VALUE!"},{"$f":"X33*COS!$B33","v":{"$error":"#VALUE!"}},0,38.6,0,"",{"$error":"#VALUE!"},{"$f":"AD33*COS!$B33","v":{"$error":"#VALUE!"}},0,38.6,0,6.5034663855337085,5.2229911386410617,{"$f":"AJ33*COS!$B33","v":4.4769772159000114},0,38.6,0,"",{"$error":"#VALUE!"},{"$f":"AP33*COS!$B33","v":{"$error":"#VALUE!"}}]
[32,{"$f":"INDEX(PolaireBase,MATCH($A34,AngleBase),1)","v":0},{"$f":"INDEX(PolaireBase,MIN(MATCH($A34,AngleBase)+1, ROWS(AngleBase)),1)","v":38.6},{"$f":"INDEX(PolaireBase,MATCH($A34,AngleBase),INT((COLUMN()-2)/6)+3)","v":0},{"$f":"INDEX(PolaireBase,MIN(MATCH($A34,AngleBase)+1,ROWS(AngleBase)),INT((COLUMN()-2)/6)+3)","v":""},{"$f":"IF(B34=C34, D34, TREND(D34:E34,B34:C34,$A34))","v":{"$error":"#VALUE!"}},{"$f":"F34*COS!$B34","v":{"$error":"#VALUE!"}},{"$f":"INDEX(PolaireBase,MATCH($A34,AngleBase),1)","v":0},{"$f":"INDEX(PolaireBase,MIN(MATCH($A34,AngleBase)+1, ROWS(AngleBase)),1)","v":38.6},{"$f":"INDEX(PolaireBase,MATCH($A34,AngleBase),INT((COLUMN()-2)/6)+3)","v":0},{"$f":"INDEX(PolaireBase,MIN(MATCH($A34,AngleBase)+1,ROWS(AngleBase)),INT((COLUMN()-2)/6)+3)","v":""},{"$f":"IF(H34=I34, J34, TREND(J34:K34,H34:I34,$A34))","v":{"$error":"#VALUE!"}},{"$f":"L34*COS!$B34","v":{"$error":"#VALUE!"}},{"$f":"INDEX(PolaireBase,MATCH($A34,AngleBase),1)","v":0},{"$f":"INDEX(PolaireBase,MIN(MATCH($A34,AngleBase)+1, ROWS(AngleBase)),1)","v":38.6},{"$f":"INDEX(PolaireBase,MATCH($A34,AngleBase),INT((COLUMN()-2)/6)+3)","v":0},{"$f":"INDEX(PolaireBase,MIN(MATCH($A34,AngleBase)+1,ROWS(AngleBase)),INT((COLUMN()-2)/6)+3)","v":""},{"$f":"IF(N34=O34, P34, TREND(P34:Q34,N34:O34,$A34))","v":{"$error":"#VALUE!"}},{"$f":"R34*COS!$B34","v":{"$error":"#VALUE!"}},{"$f":"INDEX(PolaireBase,MATCH($A34,AngleBase),1)","v":0},{"$f":"INDEX(PolaireBase,MIN(MATCH($A34,AngleBase)+1, ROWS(AngleBase)),1)","v":38.6},{"$f":"INDEX(PolaireBase,MATCH($A34,AngleBase),INT((COLUMN()-2)/6)+3)","v":0},{"$f":"INDEX(PolaireBase,MIN(MATCH($A34,AngleBase)+1,ROWS(AngleBase)),INT((COLUMN()-2)/6)+3)","v":""},{"$f":"IF(T34=U34, V34, TREND(V34:W34,T34:U34,$A34))","v":{"$error":"#VALUE!"}},{"$f":"X34*COS!$B34","v":{"$error":"#VALUE!"}},{"$f":"INDEX(PolaireBase,MATCH($A34,AngleBase),1)","v":0},{"$f":"INDEX(PolaireBase,MIN(MATCH($A34,AngleBase)+1, ROWS(AngleBase)),1)","v":38.6},{"$f":"INDEX(PolaireBase,MATCH($A34,AngleBase),INT((COLUMN()-2)/6)+3)","v":0},{"$f":"INDEX(PolaireBase,MIN(MATCH($A34,AngleBase)+1,ROWS(AngleBase)),INT((COLUMN()-2)/6)+3)","v":""},{"$f":"IF(Z34=AA34, AB34, TREND(AB34:AC34,Z34:AA34,$A34))","v":{"$error":"#VALUE!"}},{"$f":"AD34*COS!$B34","v":{"$error":"#VALUE!"}},{"$f":"INDEX(PolaireBase,MATCH($A34,AngleBase),1)","v":0},{"$f":"INDEX(PolaireBase,MIN(MATCH($A34,AngleBase)+1, ROWS(AngleBase)),1)","v":38.6},{"$f":"INDEX(PolaireBase,MATCH($A34,AngleBase),INT((COLUMN()-2)/6)+3)","v":0},{"$f":"INDEX(PolaireBase,MIN(MATCH($A34,AngleBase)+1,ROWS(AngleBase)),INT((COLUMN()-2)/6)+3)","v":6.5034663855337085},{"$f":"IF(AF34=AG34, AH34, TREND(AH34:AI34,AF34:AG34,$A34))","v":5.391474723758515},{"$f":"AJ34*COS!$B34","v":4.572229874958901},{"$f":"INDEX(PolaireBase,MATCH($A34,AngleBase),1)","v":0},{"$f":"INDEX(PolaireBase,MIN(MATCH($A34,AngleBase)+1, ROWS(AngleBase)),1)","v":38.6},{"$f":"INDEX(PolaireBase,MATCH($A34,AngleBase),INT((COLUMN()-2)/6)+3)","v":0},{"$f":"INDEX(PolaireBase,MIN(MATCH($A34,AngleBase)+1,ROWS(AngleBase)),INT((COLUMN()-2)/6)+3)","v":""},{"$f":"IF(AL34=AM34, AN34, TREND(AN34:AO34,AL34:AM34,$A34))","v":{"$error":"#VALUE!"}},{"$f":"AP34*COS!$B34","v":{"$error":"#VALUE!"}}]
[33,0,38.6,0,"",{"$error":"#VALUE!"},{"$f":"F35*COS!$B35","v":{"$error":"#VALUE!"}},0,38.6,0,"",{"$error":"#VALUE!"},{"$f":"L35*COS!$B35","v":{"$error":"#VALUE!"}},0,38.6,0,"",{"$error":"#VALUE!"},{"$f":"R35*COS!$B35","v":{"$error":"#VALUE!"}},0,38.6,0,"",{"$error":"#VALUE!"},{"$f":"X35*COS!$B35","v":{"$error":"#VALUE!"}},0,38.6,0,"",{"$error":"#VALUE!"},{"$f":"AD35*COS!$B35","v":{"$error":"#VALUE!"}},0,38.6,0,6.5034663855337085,5.5599583088759683,{"$f":"AJ35*COS!$B35","v":4.6629733926578876},0,38.6,0,"",{"$error":"#VALUE!"},{"$f":"AP35*COS!$B35","v":{"$error":"#VALUE!"}}]
[34,0,38.6,0,"",{"$error":"#VALUE!"},{"$f":"F36*COS!$B36","v":{"$error":"#VALUE!"}},0,38.6,0,"",{"$error":"#VALUE!"},{"$f":"L36*COS!$B36","v":{"$error":"#VALUE!"}},0,38.6,0,"",{"$error":"#VALUE!"},{"$f":"R36*COS!$B36","v":{"$error":"#VALUE!"}},0,38.6,0,"",{"$error":"#VALUE!"},{"$f":"X36*COS!$B36","v":{"$error":"#VALUE!"}},0,38.6,0,"",{"$error":"#VALUE!"},{"$f":"AD36*COS!$B36","v":{"$error":"#VALUE!"}},0,38.6,0,6.5034663855337085,5.7284418939934234,{"$f":"AJ36*COS!$B36","v":4.7490935623189126},0,38.6,0,"",{"$error":"#VALUE!"},{"$f":"AP36*COS!$B36","v":{"$error":"#VALUE!"}}]
[35,0,38.6,0,"",{"$error":"#VALUE!"},{"$f":"F37*COS!$B37","v":{"$error":"#VALUE!"}},0,38.6,0,"",{"$error":"#VALUE!"},{"$f":"L37*COS!$B37","v":{"$error":"#VALUE!"}},0,38.6,0,"",{"$error":"#VALUE!"},{"$f":"R37*COS!$B37","v":{"$error":"#VALUE!"}},0,38.6,0,"",{"$error":"#VALUE!"},{"$f":"X37*COS!$B37","v":{"$error":"#VALUE!"}},0,38.6,0,"",{"$error":"#VALUE!"},{"$f":"AD37*COS!$B37","v":{"$error":"#VALUE!"}},0,38.6,0,6.5034663855337085,5.8969254791108767,{"$f":"AJ37*COS!$B37","v":4.8304785612335168},0,38.6,0,"",{"$error":"#VALUE!"},{"$f":"AP37*COS!$B37","v":{"$error":"#VALUE!"}}]
[36,0,38.6,0,"",{"$error":"#VALUE!"},{"$f":"F38*COS!$B38","v":{"$error":"#VALUE!"}},0,38.6,0,"",{"$error":"#VALUE!"},{"$f":"L38*COS!$B38","v":{"$error":"#VALUE!"}},0,38.6,0,"",{"$error":"#VALUE!"},{"$f":"R38*COS!$B38","v":{"$error":"#VALUE!"}},0,38.6,0,"",{"$error":"#VALUE!"},{"$f":"X38*COS!$B38","v":{"$error":"#VALUE!"}},0,38.6,0,"",{"$error":"#VALUE!"},{"$f":"AD38*COS!$B38","v":{"$error":"#VALUE!"}},0,38.6,0,6.5034663855337085,6.06540906422833,{"$f":"AJ38*COS!$B38","v":4.9070190107965663},0,38.6,0,"",{"$error":"#VALUE!"},{"$f":"AP38*COS!$B38","v":{"$error":"#VALUE!"}}]
[37,0,38.6,0,"",{"$error":"#VALUE!"},{"$f":"F39*COS!$B39","v":{"$error":"#VALUE!"}},0,38.6,0,"",{"$error":"#VALUE!"},{"$f":"L39*COS!$B39","v":{"$error":"#VALUE!"}},0,38.6,0,"",{"$error":"#VALUE!"},{"$f":"R39*COS!$B39","v":{"$error":"#VALUE!"}},0,38.6,0,"",{"$error":"#VALUE!"},{"$f":"X39*COS!$B39","v":{"$error":"#VALUE!"}},0,38.6,0,"",{"$error":"#VALUE!"},{"$f":"AD39*COS!$B39","v":{"$error":"#VALUE!"}},0,38.6,0,6.5034663855337085,6.2338926493457834,{"$f":"AJ39*COS!$B39","v":4.978608035590339},0,38.6,0,"",{"$error":"#VALUE!"},{"$f":"AP39*COS!$B39","v":{"$error":"#VALUE!"}}]
[38,0,38.6,0,"",{"$error":"#VALUE!"},{"$f":"F40*COS!$B40","v":{"$error":"#VALUE!"}},0,38.6,0,"",{"$error":"#VALUE!"},{"$f":"L40*COS!$B40","v":{"$error":"#VALUE!"}},0,38.6,0,"",{"$error":"#VALUE!"},{"$f":"R40*COS!$B40","v":{"$error":"#VALUE!"}},0,38.6,0,"",{"$error":"#VALUE!"},{"$f":"X40*COS!$B40","v":{"$error":"#VALUE!"}},0,38.6,0,"",{"$error":"#VALUE!"},{"$f":"AD40*COS!$B40","v":{"$error":"#VALUE!"}},0,38.6,0,6.5034663855337085,6.4023762344632367,{"$f":"AJ40*COS!$B40","v":5.0451413213931424},0,38.6,0,"",{"$error":"#VALUE!"},{"$f":"AP40*COS!$B40","v":{"$error":"#VALUE!"}}]
[39,38.799999999999997,39.200000000000003,{"$f":"INDEX(PolaireBase,MATCH($A41,AngleBase),INT((COLUMN()-2)/6)+3)","v":""},"",{"$error":"#VALUE!"},{"$f":"F41*COS!$B41","v":{"$error":"#VALUE!"}},38.799999999999997,39.200000000000003,"","",{"$error":"#VALUE!"},{"$f":"L41*COS!$B41","v":{"$error":"#VALUE!"}},38.799999999999997,39.200000000000003,"","",{"$error":"#VALUE!"},{"$f":"R41*COS!$B41","v":{"$error":"#VALUE!"}},38.799999999999997,39.200000000000003,"","",{"$error":"#VALUE!"},{"$f":"X41*COS!$B41","v":{"$error":"#VALUE!"}},38.799999999999997,39.200000000000003,"",6.4422327490592393,{"$error":"#VALUE!"},{"$f":"AD41*COS!$B41","v":{"$error":"#VALUE!"}},38.799999999999997,39.200000000000003,6.5237866358611427,6.5237866358611427,6.5237866358611427,{"$f":"AJ41*COS!$B41","v":5.0699344374664452},38.799999999999997,39.200000000000003,6.6122320503786112,6.6216637873138264,6.6169479188462184,{"$f":"AP41*COS!$B41","v":5.1423343523024467}]
[40,39.200000000000003,40.5,{"$f":"INDEX(PolaireBase,MATCH($A42,AngleBase),INT((COLUMN()-2)/6)+3)","v":""},"",{"$error":"#VALUE!"},{"$f":"F42*COS!$B42","v":{"$error":"#VALUE!"}},39.200000000000003,40.5,"","",{"$error":"#VALUE!"},{"$f":"L42*COS!$B42","v":{"$error":"#VALUE!"}},39.200000000000003,40.5,"","",{"$error":"#VALUE!"},{"$f":"R42*COS!$B42","v":{"$error":"#VALUE!"}},39.200000000000003,40.5,"",6.3098936420189595,{"$error":"#VALUE!"},{"$f":"X42*COS!$B42","v":{"$error":"#VALUE!"}},39.200000000000003,40.5,6.4422327490592393,6.4840815467708923,6.4679858553433336,{"$f":"AD42*COS!$B42","v":4.954764622657911},39.200000000000003,40.5,6.5237866358611427,6.5745872616797234,6.5550485594418078,{"$f":"AJ42*COS!$B42","v":5.0214585233354585},39.200000000000003,40.5,6.6216637873138264,6.6688224719899081,6.6506845163452599,{"$f":"AP42*COS!$B42","v":5.0947199166837143}]
[41,40.5,41.8,"","",{"$error":"#VALUE!"},{"$f":"F43*COS!$B43","v":{"$error":"#VALUE!"}},40.5,41.8,"",5.1859206508163247,{"$error":"#VALUE!"},{"$f":"L43*COS!$B43","v":{"$error":"#VALUE!"}},40.5,41.8,"","",{"$error":"#VALUE!"},{"$f":"R43*COS!$B43","v":{"$error":"#VALUE!"}},40.5,41.8,6.3098936420189595,6.3926611379875018,6.3417272943145537,{"$f":"X43*COS!$B43","v":4.7861623441794334},40.5,41.8,6.4840815467708923,6.5887035410500214,6.5243207753397883,{"$f":"AD43*COS!$B43","v":4.9239673935954027},40.5,41.8,6.5745872616797234,6.6761885133168848,6.6136646661555556,{"$f":"AJ43*COS!$B43","v":4.9913960839284401},40.5,41.8,6.6688224719899081,6.7631398413420722,6.7050983832792017,{"$f":"AP43*COS!$B43","v":5.060401986197034}]
[42,41.9,43.5,"",4.412691830402931,{"$error":"#VALUE!"},{"$f":"F44*COS!$B44","v":{"$error":"#VALUE!"}},41.9,43.5,5.199088251232606,5.3307642553954562,5.2073180014927836,{"$f":"L44*COS!$B44","v":3.8697914274246479},41.9,43.5,5.8840442096749364,6.0260337677494338,5.8929185570545926,{"$f":"R44*COS!$B44","v":4.3792919326348327},41.9,43.5,6.3926611379875018,6.5030177992788891,6.3995584293182137,{"$f":"X44*COS!$B44","v":4.7557987320880715},41.9,43.5,6.5887035410500214,6.6933255353291514,6.5952424156924669,{"$f":"AD44*COS!$B44","v":4.9012202739908863},41.9,43.5,6.6761885133168848,6.7777897649540453,6.6825385915442066,{"$f":"AJ44*COS!$B44","v":4.9660939753590716},41.9,43.5,6.7631398413420722,6.8574572106942355,6.7690346769265819,{"$f":"AP44*COS!$B44","v":5.0303730936350348}]
[43,41.9,43.5,"",4.412691830402931,{"$error":"#VALUE!"},{"$f":"F45*COS!$B45","v":{"$error":"#VALUE!"}},41.9,43.5,5.199088251232606,5.3307642553954562,5.2896155040945647,{"$f":"L45*COS!$B45","v":3.868579879061715},41.9,43.5,5.8840442096749364,6.0260337677494338,5.9816620308511528,{"$f":"R45*COS!$B45","v":4.374710668097836},41.9,43.5,6.3926611379875018,6.5030177992788891,6.4685313426253304,{"$f":"X45*COS!$B45","v":4.7307843414686586},41.9,43.5,6.5887035410500214,6.6933255353291514,6.660631162116923,{"$f":"AD45*COS!$B45","v":4.871277255534209},41.9,43.5,6.6761885133168848,6.7777897649540453,6.7460393738174318,{"$f":"AJ45*COS!$B45","v":4.9337408673100507},41.9,43.5,6.7631398413420722,6.8574572106942355,6.8279830327716837,{"$f":"AP45*COS!$B45","v":4.9936706656104617}]
[44,43.5,52,4.412691830402931,4.9213943950786057,{"$f":"IF(B46=C46, D46, TREND(D46:E46,B46:C46,$A46))","v":4.442615510677971},{"$f":"F46*COS!$B46","v":3.1957501544324867},43.5,52,5.3307642553954562,5.8574682720468596,5.361746844610245,{"$f":"L46*COS!$B46","v":3.8569179046683266},43.5,52,6.0260337677494338,6.5669463699379786,6.0578521561134657,{"$f":"R46*COS!$B46","v":4.3576541604597283},43.5,52,6.5030177992788891,6.9444444444444446,6.5289840725239214,{"$f":"X46*COS!$B46","v":4.6965580991435916},43.5,52,6.6933255353291514,7.1118135124456741,6.7179424751595356,{"$f":"AD46*COS!$B46","v":4.8324833987678044},43.5,52,6.7777897649540453,7.1841947715026935,6.8016959418098484,{"$f":"AJ46*COS!$B46","v":4.8927306007457103},43.5,52,6.8574572106942355,7.234726688102894,6.879649532894744,{"$f":"AP46*COS!$B46","v":4.9488057213924002}]
[45,43.5,52,4.412691830402931,4.9213943950786057,4.5024628712280501,{"$f":"F47*COS!$B47","v":3.1837220282860077},43.5,52,5.3307642553954562,5.8574682720468596,5.4237120230398217,{"$f":"L47*COS!$B47","v":3.8351435506944664},43.5,52,6.0260337677494338,6.5669463699379786,6.1214889328415296,{"$f":"R47*COS!$B47","v":4.3285463353706479},43.5,52,6.5030177992788891,6.9444444444444446,6.5809166190139869,{"$f":"X47*COS!$B47","v":4.6534107677280376},43.5,52,6.6933255353291514,7.1118135124456741,6.767176354820303,{"$f":"AD47*COS!$B47","v":4.7851162899786983},43.5,52,6.7777897649540453,7.1841947715026935,6.8495082955214546,{"$f":"AJ47*COS!$B47","v":4.843333763556732},43.5,52,6.8574572106942355,7.234726688102894,6.9240341772957628,{"$f":"AP47*COS!$B47","v":4.8960315199332518}]
[46,43.5,52,4.412691830402931,4.9213943950786057,4.5623102317781292,{"$f":"F48*COS!$B48","v":3.169246991135406},43.5,52,5.3307642553954562,5.8574682720468596,5.4856772014693984,{"$f":"L48*COS!$B48","v":3.8106715856368054},43.5,52,6.0260337677494338,6.5669463699379786,6.1851257095695935,{"$f":"R48*COS!$B48","v":4.2965493464936637},43.5,52,6.5030177992788891,6.9444444444444446,6.6328491655040516,{"$f":"X48*COS!$B48","v":4.6075641928093649},43.5,52,6.6933255353291514,7.1118135124456741,6.8164102344810704,{"$f":"AD48*COS!$B48","v":4.7350764258646523},43.5,52,6.7777897649540453,7.1841947715026935,6.8973206492330599,{"$f":"AJ48*COS!$B48","v":4.791281522729431},43.5,52,6.8574572106942355,7.234726688102894,6.9684188216967815,{"$f":"AP48*COS!$B48","v":4.8406704633556927}]
[47,43.5,52,4.412691830402931,4.9213943950786057,4.6221575923282092,{"$f":"F49*COS!$B49","v":3.1523038979182649},43.5,52,5.3307642553954562,5.8574682720468596,5.547642379898976,{"$f":"L49*COS!$B49","v":3.7834830053043178},43.5,52,6.0260337677494338,6.5669463699379786,6.2487624862976583,{"$f":"R49*COS!$B49","v":4.2616457680750637},43.5,52,6.5030177992788891,6.9444444444444446,6.684781711994118,{"$f":"X49*COS!$B49","v":4.5590101649557697},43.5,52,6.6933255353291514,7.1118135124456741,6.8656441141418378,{"$f":"AD49*COS!$B49","v":4.6823580266174787},43.5,52,6.7777897649540453,7.1841947715026935,6.9451330029446652,{"$f":"AJ49*COS!$B49","v":4.7365693184241975},43.5,52,6.8574572106942355,7.234726688102894,7.0128034660978003,{"$f":"AP49*COS!$B49","v":4.782720463319305}]
[48,43.5,52,4.412691830402931,4.9213943950786057,4.6820049528782883,{"$f":"F50*COS!$B50","v":3.1328728130946266},43.5,52,5.3307642553954562,5.8574682720468596,5.6096075583285518,{"$f":"L50*COS!$B50","v":3.7535601069396183},43.5,52,6.0260337677494338,6.5669463699379786,6.3123992630257231,{"$f":"R50*COS!$B50","v":4.2238195464476123},43.5,52,6.5030177992788891,6.9444444444444446,6.7367142584841826,{"$f":"X50*COS!$B50","v":4.507741696645887},43.5,52,6.6933255353291514,7.1118135124456741,6.9148779938026053,{"$f":"AD50*COS!$B50","v":4.6269565048906625},43.5,52,6.7777897649540453,7.1841947715026935,6.9929453566562714,{"$f":"AJ50*COS!$B50","v":4.6791937667337731},43.5,52,6.8574572106942355,7.234726688102894,7.057188110498819,{"$f":"AP50*COS!$B50","v":4.7221805595666}]
[49,43.5,52,4.412691830402931,4.9213943950786057,4.7418523134283674,{"$f":"F51*COS!$B51","v":3.1109350243642053},43.5,52,5.3307642553954562,5.8574682720468596,5.6715727367581295,{"$f":"L51*COS!$B51","v":3.7208865025265725},43.5,52,6.0260337677494338,6.5669463699379786,6.376036039753787,{"$f":"R51*COS!$B51","v":4.1830560130493488},43.5,52,6.5030177992788891,6.9444444444444446,6.7886468049742481,{"$f":"X51*COS!$B51","v":4.4537530310309146},43.5,52,6.6933255353291514,7.1118135124456741,6.9641118734633727,{"$f":"AD51*COS!$B51","v":4.5688684734856428},43.5,52,6.7777897649540453,7.1841947715026935,7.0407577103678776,{"$f":"AJ51*COS!$B51","v":4.6191526668213774},43.5,52,6.8574572106942355,7.234726688102894,7.1015727548998377,{"$f":"AP51*COS!$B51","v":4.6590509258850297}]
[50,43.5,52,4.412691830402931,4.9213943950786057,4.8016996739784474,{"$f":"F52*COS!$B52","v":3.0864730558692415},43.5,52,5.3307642553954562,5.8574682720468596,5.7335379151877062,{"$f":"L52*COS!$B52","v":3.6854471315506498},43.5,52,6.0260337677494338,6.5669463699379786,6.4396728164818509,{"$f":"R52*COS!$B52","v":4.1393418968697535},43.5,52,6.5030177992788891,6.9444444444444446,6.8405793514643136,{"$f":"X52*COS!$B52","v":4.3970396501988436},43.5,52,6.6933255353291514,7.1118135124456741,7.0133457531241401,{"$f":"AD52*COS!$B52","v":4.5080917525559085},43.5,52,6.7777897649540453,7.1841947715026935,7.088570064079482,{"$f":"AJ52*COS!$B52","v":4.556445007585209},43.5,52,6.8574572106942355,7.234726688102894,7.1459573993008565,{"$f":"AP52*COS!$B52","v":4.5933328756184366}]
[51,43.5,52,4.412691830402931,4.9213943950786057,4.8615470345285265,{"$f":"F53*COS!$B53","v":3.0594706808766703},43.5,52,5.3307642553954562,5.8574682720468596,5.7955030936172829,{"$f":"L53*COS!$B53","v":3.6472282732057715},43.5,52,6.0260337677494338,6.5669463699379786,6.5033095932099148,{"$f":"R53*COS!$B53","v":4.0926653363170233},43.5,52,6.5030177992788891,6.9444444444444446,6.8925118979543791,{"$f":"X53*COS!$B53","v":4.3375982829363071},43.5,52,6.6933255353291514,7.1118135124456741,7.0625796327849075,{"$f":"AD53*COS!$B53","v":4.444625376324816},43.5,52,6.7777897649540453,7.1841947715026935,7.1363824177910882,{"$f":"AJ53*COS!$B53","v":4.4910709738454724},43.5,52,6.8574572106942355,7.234726688102894,7.1903420437018752,{"$f":"AP53*COS!$B53","v":4.5250288667245515}]
[52,52,60,4.9213943950786057,5.2340796743239313,4.9213943950786057,{"$f":"F54*COS!$B54","v":3.0299129339335198},52,60,5.8574682720468596,6.2068965517241379,5.8574682720468596,{"$f":"L54*COS!$B54","v":3.606217558041604},52,60,6.5669463699379786,6.8168907403900771,6.5669463699379786,{"$f":"R54*COS!$B54","v":4.0430158905004925},52,60,6.9444444444444446,7.1315372424722661,6.9444444444444446,{"$f":"X54*COS!$B54","v":4.2754269119837387},52,60,7.1118135124456741,7.3140999593661116,7.1118135124456741,{"$f":"AD54*COS!$B54","v":4.3784695993132559},52,60,7.1841947715026935,7.401315789473685,7.1841947715026926,{"$f":"AJ54*COS!$B54","v":4.4230319520502279},52,60,7.234726688102894,7.4611398963730569,7.234726688102894,{"$f":"AP54*COS!$B54","v":4.4541425063753417}]
[53,52,60,4.9213943950786057,5.2340796743239313,4.9604800549842718,{"$f":"F55*COS!$B55","v":2.9852914191356339},52,60,5.8574682720468596,6.2068965517241379,5.9011468070065192,{"$f":"L55*COS!$B55","v":3.5513988022822649},52,60,6.5669463699379786,6.8168907403900771,6.598189416244491,{"$f":"R55*COS!$B55","v":3.970889516298779},52,60,6.9444444444444446,7.1315372424722661,6.9678310441979221,{"$f":"X55*COS!$B55","v":4.1933454011835343},52,60,7.1118135124456741,7.3140999593661116,7.1370993183107281,{"$f":"AD55*COS!$B55","v":4.2952135914876397},52,60,7.1841947715026935,7.401315789473685,7.2113348987490671,{"$f":"AJ55*COS!$B55","v":4.3398896790478441},52,60,7.234726688102894,7.4611398963730569,7.2630283391366639,{"$f":"AP55*COS!$B55","v":4.3709995680715146}]
[54,52,60,4.9213943950786057,5.2340796743239313,4.9995657148899371,{"$f":"F56*COS!$B56","v":2.9386709950793803},52,60,5.8574682720468596,6.2068965517241379,5.9448253419661796,{"$f":"L56*COS!$B56","v":3.4942806634622787},52,60,6.5669463699379786,6.8168907403900771,6.6294324625510033,{"$f":"R56*COS!$B56","v":3.8966826325564528},52,60,6.9444444444444446,7.1315372424722661,6.9912176439513996,{"$f":"X56*COS!$B56","v":4.1093346266815631},52,60,7.1118135124456741,7.3140999593661116,7.162385124175783,{"$f":"AD56*COS!$B56","v":4.209944347229519},52,60,7.1841947715026935,7.401315789473685,7.2384750259954407,{"$f":"AJ56*COS!$B56","v":4.2546688693674959},52,60,7.234726688102894,7.4611398963730569,7.2913299901704347,{"$f":"AP56*COS!$B56","v":4.2857362378200046}]
[55,52,60,4.9213943950786057,5.2340796743239313,5.0386513747956023,{"$f":"F57*COS!$B57","v":2.8900516995705612},52,60,5.8574682720468596,6.2068965517241379,5.9885038769258392,{"$f":"L57*COS!$B57","v":3.4348647128015468},52,60,6.5669463699379786,6.8168907403900771,6.6606755088575156,{"$f":"R57*COS!$B57","v":3.8204065220611847},52,60,6.9444444444444446,7.1315372424722661,7.0146042437048779,{"$f":"X57*COS!$B57","v":4.0234117045171693},52,60,7.1118135124456741,7.3140999593661116,7.1876709300408379,{"$f":"AD57*COS!$B57","v":4.1226786777168334},52,60,7.1841947715026935,7.401315789473685,7.2656151532418143,{"$f":"AJ57*COS!$B57","v":4.1673856474945996},52,60,7.234726688102894,7.4611398963730569,7.3196316412042046,{"$f":"AP57*COS!$B57","v":4.1983682321642668}]
[56,52,60,4.9213943950786057,5.2340796743239313,5.0777370347012685,{"$f":"F58*COS!$B58","v":2.8394345154955425},52,60,5.8574682720468596,6.2068965517241379,6.0321824118854988,{"$f":"L58*COS!$B58","v":3.3731535971674242},52,60,6.5669463699379786,6.8168907403900771,6.6919185551640279,{"$f":"R58*COS!$B58","v":3.7420733666519377},52,60,6.9444444444444446,7.1315372424722661,7.0379908434583554,{"$f":"X58*COS!$B58","v":3.9355945343540077},52,60,7.1118135124456741,7.3140999593661116,7.2129567359058928,{"$f":"AD58*COS!$B58","v":4.033434219760097},52,60,7.1841947715026935,7.401315789473685,7.2927552804881888,{"$f":"AJ58*COS!$B58","v":4.0780569995978109},52,60,7.234726688102894,7.4611398963730569,7.3479332922379754,{"$f":"AP58*COS!$B58","v":4.1089121521959173}]
[57,52,60,4.9213943950786057,5.2340796743239313,5.1168226946069346,{"$f":"F59*COS!$B59","v":2.7868213747337123},52,60,5.8574682720468596,6.2068965517241379,6.0758609468451592,{"$f":"L59*COS!$B59","v":3.3091510429752371},52,60,6.5669463699379786,6.8168907403900771,6.7231616014705402,{"$f":"R59*COS!$B59","v":3.6616962468750001},52,60,6.9444444444444446,7.1315372424722661,7.0613774432118328,{"$f":"X59*COS!$B59","v":3.8459017965477726},52,60,7.1118135124456741,7.3140999593661116,7.2382425417709477,{"$f":"AD59*COS!$B59","v":3.9422294331548469},52,60,7.1841947715026935,7.401315789473685,7.3198954077345624,{"$f":"AJ59*COS!$B59","v":3.9867007712794811},52,60,7.234726688102894,7.4611398963730569,7.3762349432717453,{"$f":"AP59*COS!$B59","v":4.0173854815476471}]
[58,52,60,4.9213943950786057,5.2340796743239313,5.1559083545125999,{"$f":"F60*COS!$B60","v":2.7322151616771513},52,60,5.8574682720468596,6.2068965517241379,6.1195394818048179,{"$f":"L60*COS!$B60","v":3.2428618596440573},52,60,6.5669463699379786,6.8168907403900771,6.7544046477770525,{"$f":"R60*COS!$B60","v":3.579289141283355},52,60,6.9444444444444446,7.1315372424722661,7.0847640429653111,{"$f":"X60*COS!$B60","v":3.7543529489140437},52,60,7.1118135124456741,7.3140999593661116,7.2635283476360026,{"$f":"AD60*COS!$B60","v":3.8490835977162972},52,60,7.1841947715026935,7.401315789473685,7.347035534980936,{"$f":"AJ60*COS!$B60","v":3.8933356649923083},52,60,7.234726688102894,7.4611398963730569,7.4045365943055161,{"$f":"AP60*COS!$B60","v":3.9238065840422198}]
[59,52,60,4.9213943950786057,5.2340796743239313,5.1949940144182651,{"$f":"F61*COS!$B61","v":2.6756197163552384},52,60,5.8574682720468596,6.2068965517241379,6.1632180167644783,{"$f":"L61*COS!$B61","v":3.1742919426053402},52,60,6.5669463699379786,6.8168907403900771,6.7856476940835648,{"$f":"R61*COS!$B61","v":3.4948669253786488},52,60,6.9444444444444446,7.1315372424722661,7.1081506427187886,{"$f":"X61*COS!$B61","v":3.6609682231965506},52,60,7.1118135124456741,7.3140999593661116,7.2888141535010567,{"$f":"AD61*COS!$B61","v":3.754016809996342},52,60,7.1841947715026935,7.401315789473685,7.3741756622273105,{"$f":"AJ61*COS!$B61","v":3.7979812371221295},52,60,7.234726688102894,7.4611398963730569,7.4328382453392869,{"$f":"AP61*COS!$B61","v":3.8281947009973729}]
[60,60,75,5.2340796743239313,5.519779208831646,5.2340796743239313,{"$f":"F62*COS!$B62","v":2.6170398371619656},60,75,6.2068965517241379,6.4970221981591765,6.2068965517241388,{"$f":"L62*COS!$B62","v":3.1034482758620694},60,75,6.8168907403900771,7.0025286909161641,6.8168907403900771,{"$f":"R62*COS!$B62","v":3.4084453701950386},60,75,7.1315372424722661,7.293354943273906,7.1315372424722661,{"$f":"X62*COS!$B62","v":3.565768621236133},60,75,7.3140999593661116,7.5361105296211015,7.3140999593661107,{"$f":"AD62*COS!$B62","v":3.6570499796830553},60,75,7.401315789473685,7.741935483870968,7.401315789473685,{"$f":"AJ62*COS!$B62","v":3.7006578947368425},60,75,7.4611398963730569,7.9330101366240635,7.4611398963730577,{"$f":"AP62*COS!$B62","v":3.7305699481865289}]
[61,60,75,5.2340796743239313,5.519779208831646,5.2531263099577785,{"$f":"F63*COS!$B63","v":2.5467661714366727},60,75,6.2068965517241379,6.4970221981591765,6.2262382614864737,{"$f":"L63*COS!$B63","v":3.0185402071144716},60,75,6.8168907403900771,7.0025286909161641,6.8292666037584828,{"$f":"R63*COS!$B63","v":3.3108941487291426},60,75,7.1315372424722661,7.293354943273906,7.1423250891923749,{"$f":"X63*COS!$B63","v":3.4626679141672412},60,75,7.3140999593661116,7.5361105296211015,7.3289006640497769,{"$f":"AD63*COS!$B63","v":3.5531215477611005},60,75,7.401315789473685,7.741935483870968,7.4240237691001703,{"$f":"AJ63*COS!$B63","v":3.5992381441972339},60,75,7.4611398963730569,7.9330101366240635,7.4925979123897921,{"$f":"AP63*COS!$B63","v":3.6324835485641933}]
[62,60,75,5.2340796743239313,5.519779208831646,5.2721729455916266,{"$f":"F64*COS!$B64","v":2.4751352720443944},60,75,6.2068965517241379,6.4970221981591765,6.2455799712488105,{"$f":"L64*COS!$B64","v":2.9321221896064382},60,75,6.8168907403900771,7.0025286909161641,6.8416424671268885,{"$f":"R64*COS!$B64","v":3.2119565810643782},60,75,7.1315372424722661,7.293354943273906,7.1531129359124845,{"$f":"X64*COS!$B64","v":3.3581831088068061},60,75,7.3140999593661116,7.5361105296211015,7.3437013687334431,{"$f":"AD64*COS!$B64","v":3.4476589582121755},60,75,7.401315789473685,7.741935483870968,7.4467317487266556,{"$f":"AJ64*COS!$B64","v":3.4960287917220128},60,75,7.4611398963730569,7.9330101366240635,7.5240559284065256,{"$f":"AP64*COS!$B64","v":3.5323302951974584}]
[63,60,75,5.2340796743239313,5.519779208831646,5.2912195812254739,{"$f":"F65*COS!$B65","v":2.4021634219122285},60,75,6.2068965517241379,6.4970221981591765,6.2649216810111463,{"$f":"L65*COS!$B65","v":2.8442149247913719},60,75,6.8168907403900771,7.0025286909161641,6.8540183304952942,{"$f":"R65*COS!$B65","v":3.1116592070855731},60,75,7.1315372424722661,7.293354943273906,7.1639007826325933,{"$f":"X65*COS!$B65","v":3.2523428963919017},60,75,7.3140999593661116,7.5361105296211015,7.3585020734171085,{"$f":"AD65*COS!$B65","v":3.3406900336451244},60,75,7.401315789473685,7.741935483870968,7.4694397283531409,{"$f":"AJ65*COS!$B65","v":3.391054675049467},60,75,7.4611398963730569,7.9330101366240635,7.5555139444232591,{"$f":"AP65*COS!$B65","v":3.4301315514178299}]
[64,{"$f":"INDEX(PolaireBase,MATCH($A66,AngleBase),1)","v":60},{"$f":"INDEX(PolaireBase,MIN(MATCH($A66,AngleBase)+1, ROWS(AngleBase)),1)","v":75},{"$f":"INDEX(PolaireBase,MATCH($A66,AngleBase),INT((COLUMN()-2)/6)+3)","v":5.2340796743239313},{"$f":"INDEX(PolaireBase,MIN(MATCH($A66,AngleBase)+1,ROWS(AngleBase)),INT((COLUMN()-2)/6)+3)","v":5.519779208831646},{"$f":"IF(B66=C66, D66, TREND(D66:E66,B66:C66,$A66))","v":5.310266216859322},{"$f":"F66*COS!$B66","v":2.3278674912399167},{"$f":"INDEX(PolaireBase,MATCH($A66,AngleBase),1)","v":60},{"$f":"INDEX(PolaireBase,MIN(MATCH($A66,AngleBase)+1, ROWS(AngleBase)),1)","v":75},{"$f":"INDEX(PolaireBase,MATCH($A66,AngleBase),INT((COLUMN()-2)/6)+3)","v":6.2068965517241379},{"$f":"INDEX(PolaireBase,MIN(MATCH($A66,AngleBase)+1,ROWS(AngleBase)),INT((COLUMN()-2)/6)+3)","v":6.4970221981591765},{"$f":"IF(H66=I66, J66, TREND(J66:K66,H66:I66,$A66))","v":6.2842633907734822},{"$f":"L66*COS!$B66","v":2.7548397493379877},{"$f":"INDEX(PolaireBase,MATCH($A66,AngleBase),1)","v":60},{"$f":"INDEX(PolaireBase,MIN(MATCH($A66,AngleBase)+1, ROWS(AngleBase)),1)","v":75},{"$f":"INDEX(PolaireBase,MATCH($A66,AngleBase),INT((COLUMN()-2)/6)+3)","v":6.8168907403900771},{"$f":"INDEX(PolaireBase,MIN(MATCH($A66,AngleBase)+1,ROWS(AngleBase)),INT((COLUMN()-2)/6)+3)","v":7.0025286909161641},{"$f":"IF(N66=O66, P66, TREND(P66:Q66,N66:O66,$A66))","v":6.8663941938636999},{"$f":"R66*COS!$B66","v":3.0100290970698933},{"$f":"INDEX(PolaireBase,MATCH($A66,AngleBase),1)","v":60},{"$f":"INDEX(PolaireBase,MIN(MATCH($A66,AngleBase)+1, ROWS(AngleBase)),1)","v":75},{"$f":"INDEX(PolaireBase,MATCH($A66,AngleBase),INT((COLUMN()-2)/6)+3)","v":7.1315372424722661},{"$f":"INDEX(PolaireBase,MIN(MATCH($A66,AngleBase)+1,ROWS(AngleBase)),INT((COLUMN()-2)/6)+3)","v":7.293354943273906},{"$f":"IF(T66=U66, V66, TREND(V66:W66,T66:U66,$A66))","v":7.174688629352703},{"$f":"X66*COS!$B66","v":3.1451764823038988},{"$f":"INDEX(PolaireBase,MATCH($A66,AngleBase),1)","v":60},{"$f":"INDEX(PolaireBase,MIN(MATCH($A66,AngleBase)+1, ROWS(AngleBase)),1)","v":75},{"$f":"INDEX(PolaireBase,MATCH($A66,AngleBase),INT((COLUMN()-2)/6)+3)","v":7.3140999593661116},{"$f":"INDEX(PolaireBase,MIN(MATCH($A66,AngleBase)+1,ROWS(AngleBase)),INT((COLUMN()-2)/6)+3)","v":7.5361105296211015},{"$f":"IF(Z66=AA66, AB66, TREND(AB66:AC66,Z66:AA66,$A66))","v":7.3733027781007747},{"$f":"AD66*COS!$B66","v":3.2322431944591274},{"$f":"INDEX(PolaireBase,MATCH($A66,AngleBase),1)","v":60},{"$f":"INDEX(PolaireBase,MIN(MATCH($A66,AngleBase)+1, ROWS(AngleBase)),1)","v":75},{"$f":"INDEX(PolaireBase,MATCH($A66,AngleBase),INT((COLUMN()-2)/6)+3)","v":7.401315789473685},{"$f":"INDEX(PolaireBase,MIN(MATCH($A66,AngleBase)+1,ROWS(AngleBase)),INT((COLUMN()-2)/6)+3)","v":7.741935483870968},{"$f":"IF(AF66=AG66, AH66, TREND(AH66:AI66,AF66:AG66,$A66))","v":7.4921477079796261},{"$f":"AJ66*COS!$B66","v":3.284341382660187},{"$f":"INDEX(PolaireBase,MATCH($A66,AngleBase),1)","v":60},{"$f":"INDEX(PolaireBase,MIN(MATCH($A66,AngleBase)+1, ROWS(AngleBase)),1)","v":75},{"$f":"INDEX(PolaireBase,MATCH($A66,AngleBase),INT((COLUMN()-2)/6)+3)","v":7.4611398963730569},{"$f":"INDEX(PolaireBase,MIN(MATCH($A66,AngleBase)+1,ROWS(AngleBase)),INT((COLUMN()-2)/6)+3)","v":7.9330101366240635},{"$f":"IF(AL66=AM66, AN66, TREND(AN66:AO66,AL66:AM66,$A66))","v":7.5869719604399926},{"$f":"AP66*COS!$B66","v":3.3259095989546545}]
[65,60,75,5.2340796743239313,5.519779208831646,5.3293128524931692,{"$f":"F67*COS!$B67","v":2.2522649339930316},60,75,6.2068965517241379,6.4970221981591765,6.303605100535818,{"$f":"L67*COS!$B67","v":2.6640186302882545},60,75,6.8168907403900771,7.0025286909161641,6.8787700572321064,{"$f":"R67*COS!$B67","v":2.9070938445014045},60,75,7.1315372424722661,7.293354943273906,7.1854764760728127,{"$f":"X67*COS!$B67","v":3.0367135780965788},60,75,7.3140999593661116,7.5361105296211015,7.388103482784441,{"$f":"AD67*COS!$B67","v":3.1223474514547678},60,75,7.401315789473685,7.741935483870968,7.5148556876061123,{"$f":"AJ67*COS!$B67","v":3.1759152479283039},60,75,7.4611398963730569,7.9330101366240635,7.6184299764567269,{"$f":"AP67*COS!$B67","v":3.2196876338433795}]
[66,60,75,5.2340796743239313,5.519779208831646,5.3483594881270173,{"$f":"F68*COS!$B68","v":2.175373784163388},60,75,6.2068965517241379,6.4970221981591765,6.3229468102981539,{"$f":"L68*COS!$B68","v":2.5717741599675095},60,75,6.8168907403900771,7.0025286909161641,6.8911459206005121,{"$f":"R68*COS!$B68","v":2.8028815586905473},60,75,7.1315372424722661,7.293354943273906,7.1962643227929215,{"$f":"X68*COS!$B68","v":2.9269843933389397},60,75,7.3140999593661116,7.5361105296211015,7.4029041874681063,{"$f":"AD68*COS!$B68","v":3.0110323982225617},60,75,7.401315789473685,7.741935483870968,7.5375636672325976,{"$f":"AJ68*COS!$B68","v":3.0658033429803049},60,75,7.4611398963730569,7.9330101366240635,7.6498879924734604,{"$f":"AP68*COS!$B68","v":3.1114897619645276}]
[67,60,75,5.2340796743239313,5.519779208831646,5.3674061237608646,{"$f":"F69*COS!$B69","v":2.0972126517973222},60,75,6.2068965517241379,6.4970221981591765,6.3422885200604897,{"$f":"L69*COS!$B69","v":2.478129550647802},60,75,6.8168907403900771,7.0025286909161641,6.9035217839689178,{"$f":"R69*COS!$B69","v":2.697420857200461},60,75,7.1315372424722661,7.293354943273906,7.2070521695130312,{"$f":"X69*COS!$B69","v":2.8160196272748967},60,75,7.3140999593661116,7.5361105296211015,7.4177048921517725,{"$f":"AD69*COS!$B69","v":2.8983282033108702},60,75,7.401315789473685,7.741935483870968,7.5602716468590829,{"$f":"AJ69*COS!$B69","v":2.9540334722627111},60,75,7.4611398963730569,7.9330101366240635,7.6813460084901948,{"$f":"AP69*COS!$B69","v":3.0013409942139537}]
[68,60,75,5.2340796743239313,5.519779208831646,5.3864527593947127,{"$f":"F70*COS!$B70","v":2.0178007187925924},60,75,6.2068965517241379,6.4970221981591765,6.3616302298228256,{"$f":"L70*COS!$B70","v":2.3831086289656138},60,75,6.8168907403900771,7.0025286909161641,6.9158976473373235,{"$f":"R70*COS!$B70","v":2.5907408580821549},60,75,7.1315372424722661,7.293354943273906,7.21784001623314,{"$f":"X70*COS!$B70","v":2.7038504603021472},60,75,7.3140999593661116,7.5361105296211015,7.4325055968354388,{"$f":"AD70*COS!$B70","v":2.7842656021752235},60,75,7.401315789473685,7.741935483870968,7.5829796264855691,{"$f":"AJ70*COS!$B70","v":2.8406341658200236},60,75,7.4611398963730569,7.9330101366240635,7.7128040245069283,{"$f":"AP70*COS!$B70","v":2.8892672413050762}]
[69,60,75,5.2340796743239313,5.519779208831646,5.4054993950285599,{"$f":"F71*COS!$B71","v":1.9371577344647466},60,75,6.2068965517241379,6.4970221981591765,6.3809719395851614,{"$f":"L71*COS!$B71","v":2.2867358300952327},60,75,6.8168907403900771,7.0025286909161641,6.9282735107057292,{"$f":"R71*COS!$B71","v":2.4828711719206318},60,75,7.1315372424722661,7.293354943273906,7.2286278629532497,{"$f":"X71*COS!$B71","v":2.5905085452725829},60,75,7.3140999593661116,7.5361105296211015,7.447306301519105,{"$f":"AD71*COS!$B71","v":2.6688758889111961},60,75,7.401315789473685,7.741935483870968,7.6056876061120544,{"$f":"AJ71*COS!$B71","v":2.7256346722844813},60,75,7.4611398963730569,7.9330101366240635,7.7442620405236617,{"$f":"AP71*COS!$B71","v":2.7752953082039684}]
[70,60,75,5.2340796743239313,5.519779208831646,5.4245460306624071,{"$f":"F72*COS!$B72","v":1.8553040108838443},60,75,6.2068965517241379,6.4970221981591765,6.4003136493474972,{"$f":"L72*COS!$B72","v":2.1890361916790653},60,75,6.8168907403900771,7.0025286909161641,6.9406493740741348,{"$f":"R72*COS!$B72","v":2.3738418936940491},60,75,7.1315372424722661,7.293354943273906,7.2394157096733593,{"$f":"X72*COS!$B72","v":2.4760259986165809},60,75,7.3140999593661116,7.5361105296211015,7.4621070062027712,{"$f":"AD72*COS!$B72","v":2.5521909077729492},60,75,7.401315789473685,7.741935483870968,7.6283955857385397,{"$f":"AJ72*COS!$B72","v":2.6090649515791946},60,75,7.4611398963730569,7.9330101366240635,7.7757200565403952,{"$f":"AP72*COS!$B72","v":2.6594528881982238}]
[71,60,75,5.2340796743239313,5.519779208831646,5.4435926662962553,{"$f":"F73*COS!$B73","v":1.7722604179825849},60,75,6.2068965517241379,6.4970221981591765,6.4196553591098331,{"$f":"L73*COS!$B73","v":2.0900353475163844},60,75,6.8168907403900771,7.0025286909161641,6.9530252374425405,{"$f":"R73*COS!$B73","v":2.2636835944482021},60,75,7.1315372424722661,7.293354943273906,7.2502035563934681,{"$f":"X73*COS!$B73","v":2.3604353912937359},60,75,7.3140999593661116,7.5361105296211015,7.4769077108864366,{"$f":"AD73*COS!$B73","v":2.4342430444797816},60,75,7.401315789473685,7.741935483870968,7.651103565365025,{"$f":"AJ73*COS!$B73","v":2.490955667336463},60,75,7.4611398963730569,7.9330101366240635,7.8071780725571287,{"$f":"AP73*COS!$B73","v":2.5417685566008066}]
[72,60,75,5.2340796743239313,5.519779208831646,5.4626393019301034,{"$f":"F74*COS!$B74","v":1.6880483784369016},60,75,6.2068965517241379,6.4970221981591765,6.4389970688721689,{"$f":"L74*COS!$B74","v":1.9897595210119741},60,75,6.8168907403900771,7.0025286909161641,6.9654011008109471,{"$f":"R74*COS!$B74","v":2.1524273127885492},60,75,7.1315372424722661,7.293354943273906,7.2609914031135778,{"$f":"X74*COS!$B74","v":2.2437697395724903},60,75,7.3140999593661116,7.5361105296211015,7.4917084155701028,{"$f":"AD74*COS!$B74","v":2.3150652173129731},60,75,7.401315789473685,7.741935483870968,7.6738115449915103,{"$f":"AJ74*COS!$B74","v":2.3713381790330486},60,75,7.4611398963730569,7.9330101366240635,7.8386360885738631,{"$f":"AP74*COS!$B74","v":2.4222717640900897}]
[73,60,75,5.2340796743239313,5.519779208831646,5.4816859375639506,{"$f":"F75*COS!$B75","v":1.6026898623202259},60,75,6.2068965517241379,6.4970221981591765,6.4583387786345048,{"$f":"L75*COS!$B75","v":1.888235518386328},60,75,6.8168907403900771,7.0025286909161641,6.9777769641793528,{"$f":"R75*COS!$B75","v":2.0401045461921603},60,75,7.1315372424722661,7.293354943273906,7.2717792498336866,{"$f":"X75*COS!$B75","v":2.1260624956412988},60,75,7.3140999593661116,7.5361105296211015,7.506509120253769,{"$f":"AD75*COS!$B75","v":2.1946908680053654},60,75,7.401315789473685,7.741935483870968,7.6965195246179965,{"$f":"AJ75*COS!$B75","v":2.2502445338443913},60,75,7.4611398963730569,7.9330101366240635,7.8700941045905974,{"$f":"AP75*COS!$B75","v":2.3009928296875137}]
[74,60,75,5.2340796743239313,5.519779208831646,5.5007325731977978,{"$f":"F76*COS!$B76","v":1.5162073815326789},60,75,6.2068965517241379,6.4970221981591765,6.4776804883968406,{"$f":"L76*COS!$B76","v":1.785490721649073},60,75,6.8168907403900771,7.0025286909161641,6.9901528275477585,{"$f":"R76*COS!$B76","v":1.9267472421419842},60,75,7.1315372424722661,7.293354943273906,7.2825670965537963,{"$f":"X76*COS!$B76","v":2.0073475380539691},60,75,7.3140999593661116,7.5361105296211015,7.5213098249374344,{"$f":"AD76*COS!$B76","v":2.0731539524261713},60,75,7.401315789473685,7.741935483870968,7.7192275042444818,{"$f":"AJ76*COS!$B76","v":2.1277074582198026},60,75,7.4611398963730569,7.9330101366240635,7.9015521206073309,{"$f":"AP76*COS!$B76","v":2.1779629333744071}]
[75,75,90,5.519779208831646,5.4903156931523558,5.5197792088316451,{"$f":"F77*COS!$B77","v":1.4286239840065538},75,90,6.4970221981591765,6.5561828446548898,6.4970221981591765,{"$f":"L77*COS!$B77","v":1.6815530813374384},75,90,7.0025286909161641,7.1202531645569618,7.0025286909161641,{"$f":"R77*COS!$B77","v":1.8123877890859261},75,90,7.293354943273906,7.3439412484700126,7.2933549432739051,{"$f":"X77*COS!$B77","v":1.8876591620119014},75,90,7.5361105296211015,7.5408462505236704,7.5361105296211024,{"$f":"AD77*COS!$B77","v":1.9504889310635856},75,90,7.741935483870968,7.8040320832430083,7.741935483870968,{"$f":"AJ77*COS!$B77","v":2.0037603491808058},75,90,7.9330101366240635,7.9330101366240635,7.9330101366240635,{"$f":"AP77*COS!$B77","v":2.0532141083496578}]
[76,75,90,5.519779208831646,5.4903156931523558,5.5178149744530254,{"$f":"F78*COS!$B78","v":1.3348802581879089},75,90,6.4970221981591765,6.5561828446548898,6.5009662412588902,{"$f":"L78*COS!$B78","v":1.5727260763147985},75,90,7.0025286909161641,7.1202531645569618,7.0103769891588836,{"$f":"R78*COS!$B78","v":1.6959636900856097},75,90,7.293354943273906,7.3439412484700126,7.2967273636203123,{"$f":"X78*COS!$B78","v":1.7652381154809931},75,90,7.5361105296211015,7.5408462505236704,7.5364262443479406,{"$f":"AD78*COS!$B78","v":1.8232265230797398},75,90,7.741935483870968,7.8040320832430083,7.7460752571624374,{"$f":"AJ78*COS!$B78","v":1.8739452096704219},75,90,7.9330101366240635,7.9330101366240635,7.9330101366240635,{"$f":"AP78*COS!$B78","v":1.9191688500634738}]
[77,75,90,5.519779208831646,5.4903156931523558,5.5158507400744066,{"$f":"F79*COS!$B79","v":1.2407964395831255},75,90,6.4970221981591765,6.5561828446548898,6.5049102843586049,{"$f":"L79*COS!$B79","v":1.4632864268787182},75,90,7.0025286909161641,7.1202531645569618,7.018225287401604,{"$f":"R79*COS!$B79","v":1.5787571780237653},75,90,7.293354943273906,7.3439412484700126,7.3000997839667194,{"$f":"X79*COS!$B79","v":1.6421651432187341},75,90,7.5361105296211015,7.5408462505236704,7.536741959074778,{"$f":"AD79*COS!$B79","v":1.6953980500115173},75,90,7.741935483870968,7.8040320832430083,7.7502150304539068,{"$f":"AJ79*COS!$B79","v":1.7434190424922755},75,90,7.9330101366240635,7.9330101366240635,7.9330101366240635,{"$f":"AP79*COS!$B79","v":1.784538994354151}]
[78,75,90,5.519779208831646,5.4903156931523558,5.5138865056957869,{"$f":"F80*COS!$B80","v":1.1464014663764386},75,90,6.4970221981591765,6.5561828446548898,6.5088543274583195,{"$f":"L80*COS!$B80","v":1.3532669085083497},75,90,7.0025286909161641,7.1202531645569618,7.0260735856443235,{"$f":"R80*COS!$B80","v":1.460802839001309},75,90,7.293354943273906,7.3439412484700126,7.3034722043131266,{"$f":"X80*COS!$B80","v":1.5184772548392509},75,90,7.5361105296211015,7.5408462505236704,7.5370576738016162,{"$f":"AD80*COS!$B80","v":1.5670424047510629},75,90,7.741935483870968,7.8040320832430083,7.7543548037453762,{"$f":"AJ80*COS!$B80","v":1.6122210184475165},75,90,7.9330101366240635,7.9330101366240635,7.9330101366240635,{"$f":"AP80*COS!$B80","v":1.6493655507799341}]
[79,75,90,5.519779208831646,5.4903156931523558,5.5119222713171681,{"$f":"F81*COS!$B81","v":1.0517243511836325},75,90,6.4970221981591765,6.5561828446548898,6.5127983705580332,{"$f":"L81*COS!$B81","v":1.2427005141761771},75,90,7.0025286909161641,7.1202531645569618,7.033921883887043,{"$f":"R81*COS!$B81","v":1.342135568221581},75,90,7.293354943273906,7.3439412484700126,7.3068446246595338,{"$f":"X81*COS!$B81","v":1.3942116822037931},75,90,7.5361105296211015,7.5408462505236704,7.5373733885284544,{"$f":"AD81*COS!$B81","v":1.4381986440430186},75,90,7.741935483870968,7.8040320832430083,7.7584945770368456,{"$f":"AJ81*COS!$B81","v":1.4803905558787722},75,90,7.9330101366240635,7.9330101366240635,7.9330101366240635,{"$f":"AP81*COS!$B81","v":1.5136896944811848}]
[80,75,90,5.519779208831646,5.4903156931523558,5.5099580369385484,{"$f":"F82*COS!$B82","v":0.95679417213563622},75,90,6.4970221981591765,6.5561828446548898,6.5167424136577479,{"$f":"L82*COS!$B82","v":1.1316204444564615},75,90,7.0025286909161641,7.1202531645569618,7.0417701821297634,{"$f":"R82*COS!$B82","v":1.2227905596761621},75,90,7.293354943273906,7.3439412484700126,7.3102170450059409,{"$f":"X82*COS!$B82","v":1.2694058682150147},75,90,7.5361105296211015,7.5408462505236704,7.5376891032552917,{"$f":"AD82*COS!$B82","v":1.3089059766001603},75,90,7.741935483870968,7.8040320832430083,7.7626343503283142,{"$f":"AJ82*COS!$B82","v":1.3479673088292281},75,90,7.9330101366240635,7.9330101366240635,7.9330101366240635,{"$f":"AP82*COS!$B82","v":1.3775527536380554}]
[81,75,90,5.519779208831646,5.4903156931523558,5.5079938025599287,{"$f":"F83*COS!$B83","v":0.86164006394836978},75,90,6.4970221981591765,6.5561828446548898,6.5206864567574616,{"$f":"L83*COS!$B83","v":1.0200600975579324},75,90,7.0025286909161641,7.1202531645569618,7.0496184803724828,{"$f":"R83*COS!$B83","v":1.1028032957147951},75,90,7.293354943273906,7.3439412484700126,7.3135894653523481,{"$f":"X83*COS!$B83","v":1.1440974555362631},75,90,7.5361105296211015,7.5408462505236704,7.53800481798213,{"$f":"AD83*COS!$B83","v":1.1792037511717177},75,90,7.741935483870968,7.8040320832430083,7.7667741236197836,{"$f":"AJ83*COS!$B83","v":1.2149911551167691},75,90,7.9330101366240635,7.9330101366240635,7.9330101366240635,{"$f":"AP83*COS!$B83","v":1.2409961968815146}]
[82,75,90,5.519779208831646,5.4903156931523558,5.5060295681813098,{"$f":"F84*COS!$B84","v":0.7662912089816043},75,90,6.4970221981591765,6.5561828446548898,6.5246304998571762,{"$f":"L84*COS!$B84","v":0.90805305928374669},75,90,7.0025286909161641,7.1202531645569618,7.0574667786152023,{"$f":"R84*COS!$B84","v":0.98220953650252307},75,90,7.293354943273906,7.3439412484700126,7.3169618856987553,{"$f":"X84*COS!$B84","v":1.0183242752393056},75,90,7.5361105296211015,7.5408462505236704,7.5383205327089682,{"$f":"AD84*COS!$B84","v":1.0491314445680413},75,90,7.741935483870968,7.8040320832430083,7.770913896911253,{"$f":"AJ84*COS!$B84","v":1.0815021843268073},75,90,7.9330101366240635,7.9330101366240635,7.9330101366240635,{"$f":"AP84*COS!$B84","v":1.1040616206616052}]
[83,75,90,5.519779208831646,5.4903156931523558,5.5040653338026901,{"$f":"F85*COS!$B85","v":0.67077682828956775},75,90,6.4970221981591765,6.5561828446548898,6.52857454295689,{"$f":"L85*COS!$B85","v":0.79563309292171702},75,90,7.0025286909161641,7.1202531645569618,7.0653150768579227,{"$f":"R85*COS!$B85","v":0.86104530936716417},75,90,7.293354943273906,7.3439412484700126,7.3203343060451616,{"$f":"X85*COS!$B85","v":0.89212433538389979},75,90,7.5361105296211015,7.5408462505236704,7.5386362474358055,{"$f":"AD85*COS!$B85","v":0.91872864964524659},75,90,7.741935483870968,7.8040320832430083,7.7750536702027224,{"$f":"AJ85*COS!$B85","v":0.94754068572738792},75,90,7.9330101366240635,7.9330101366240635,7.9330101366240635,{"$f":"AP85*COS!$B85","v":0.96679073657675396}]
[84,75,90,5.519779208831646,5.4903156931523558,5.5021010994240713,{"$f":"F86*COS!$B86","v":0.57512617266606469},75,90,6.4970221981591765,6.5561828446548898,6.5325185860566046,{"$f":"L86*COS!$B86","v":0.68283412906788132},75,90,7.0025286909161641,7.1202531645569618,7.0731633751006422,{"$f":"R86*COS!$B86","v":0.73934689804031928},75,90,7.293354943273906,7.3439412484700126,7.3237067263915687,{"$f":"X86*COS!$B86","v":0.76553580953268763},75,90,7.5361105296211015,7.5408462505236704,7.5389519621626437,{"$f":"AD86*COS!$B86","v":0.78803506325352191},75,90,7.741935483870968,7.8040320832430083,7.7791934434941918,{"$f":"AJ86*COS!$B86","v":0.81314713611025324},75,90,7.9330101366240635,7.9330101366240635,7.9330101366240635,{"$f":"AP86*COS!$B86","v":0.82922535866803093}]
[85,75,90,5.519779208831646,5.4903156931523558,5.5001368650454516,{"$f":"F87*COS!$B87","v":0.47936851368681227},75,90,6.4970221981591765,6.5561828446548898,6.5364626291563184,{"$f":"L87*COS!$B87","v":0.56969025538642926},75,90,7.0025286909161641,7.1202531645569618,7.0810116733433626,{"$f":"R87*COS!$B87","v":0.61715083179507835},75,90,7.293354943273906,7.3439412484700126,7.3270791467379759,{"$f":"X87*COS!$B87","v":0.63859702520482553},75,90,7.5361105296211015,7.5408462505236704,7.539267676889482,{"$f":"AD87*COS!$B87","v":0.65709047415271393},75,90,7.741935483870968,7.8040320832430083,7.7833332167856613,{"$f":"AJ87*COS!$B87","v":0.6783621875614736},75,90,7.9330101366240635,7.9330101366240635,7.9330101366240635,{"$f":"AP87*COS!$B87","v":0.69140739068217116}]
[86,75,90,5.519779208831646,5.4903156931523558,5.4981726306668319,{"$f":"F88*COS!$B88","v":0.38353313475178002},75,90,6.4970221981591765,6.5561828446548898,6.540406672256033,{"$f":"L88*COS!$B88","v":0.45623570630913091},75,90,7.0025286909161641,7.1202531645569618,7.0888599715860821,{"$f":"R88*COS!$B88","v":0.49449387448372645},75,90,7.293354943273906,7.3439412484700126,7.3304515670843831,{"$f":"X88*COS!$B88","v":0.51134645227190512},75,90,7.5361105296211015,7.5408462505236704,7.5395833916163193,{"$f":"AD88*COS!$B88","v":0.52593475089892816},75,90,7.741935483870968,7.8040320832430083,7.7874729900771307,{"$f":"AJ88*COS!$B88","v":0.54322665516540147},75,90,7.9330101366240635,7.9330101366240635,7.9330101366240635,{"$f":"AP88*COS!$B88","v":0.55337881330729755}]
[87,75,90,5.519779208831646,5.4903156931523558,5.4962083962882131,{"$f":"F89*COS!$B89","v":0.28764932213024114},75,90,6.4970221981591765,6.5561828446548898,6.5443507153557468,{"$f":"L89*COS!$B89","v":0.34250485267733743},75,90,7.0025286909161641,7.1202531645569618,7.0967082698288024,{"$f":"R89*COS!$B89","v":0.37141301347869876},75,90,7.293354943273906,7.3439412484700126,7.3338239874307902,{"$f":"X89*COS!$B89","v":0.3838226912996307},75,90,7.5361105296211015,7.5408462505236704,7.5398991063431575,{"$f":"AD89*COS!$B89","v":0.39460782970578778},75,90,7.741935483870968,7.8040320832430083,7.7916127633686001,{"$f":"AJ89*COS!$B89","v":0.40778150464562279},75,90,7.9330101366240635,7.9330101366240635,7.9330101366240635,{"$f":"AP89*COS!$B89","v":0.41518167138518791}]
[88,75,90,5.519779208831646,5.4903156931523558,5.4942441619095934,{"$f":"F90*COS!$B90","v":0.19174635601129966},75,90,6.4970221981591765,6.5561828446548898,6.5482947584554614,{"$f":"L90*COS!$B90","v":0.2285321913297215},75,90,7.0025286909161641,7.1202531645569618,7.1045565680715219,{"$f":"R90*COS!$B90","v":0.24794544852014447},75,90,7.293354943273906,7.3439412484700126,7.3371964077771974,{"$f":"X90*COS!$B90","v":0.25606446183882309},75,90,7.5361105296211015,7.5408462505236704,7.5402148210699957,{"$f":"AD90*COS!$B90","v":0.26314970228408208},75,90,7.741935483870968,7.8040320832430083,7.7957525366600695,{"$f":"AJ90*COS!$B90","v":0.27206783994668254},75,90,7.9330101366240635,7.9330101366240635,7.9330101366240635,{"$f":"AP90*COS!$B90","v":0.27685806110401917}]
[89,75,90,5.519779208831646,5.4903156931523558,5.4922799275309746,{"$f":"F91*COS!$B91","v":9.585350156260386E-2},75,90,6.4970221981591765,6.5561828446548898,6.5522388015551751,{"$f":"L91*COS!$B91","v":0.11435233463887945},75,90,7.0025286909161641,7.1202531645569618,7.1124048663142414,{"$f":"R91*COS!$B91","v":0.12412858047342828},75,90,7.293354943273906,7.3439412484700126,7.3405688281236046,{"$f":"X91*COS!$B91","v":0.12811059066926608},75,90,7.5361105296211015,7.5408462505236704,7.5405305357968331,{"$f":"AD91*COS!$B91","v":0.1316004036634725},75,90,7.741935483870968,7.8040320832430083,7.7998923099515389,{"$f":"AJ91*COS!$B91","v":0.13612689076031534},75,90,7.9330101366240635,7.9330101366240635,7.9330101366240635,{"$f":"AP91*COS!$B91","v":0.13845011717545208}]
[90,90,110,5.4903156931523558,5.4827901309777642,5.4903156931523558,{"$f":"F92*COS!$B92","v":3.363225894213079E-16},90,110,6.5561828446548898,6.6091426473288042,6.5561828446548898,{"$f":"L92*COS!$B92","v":4.0161486411136697E-16},90,110,7.1202531645569618,7.1641791044776122,7.1202531645569618,{"$f":"R92*COS!$B92","v":4.3616835815575867E-16},90,110,7.3439412484700126,7.5392670157068062,7.3439412484700126,{"$f":"X92*COS!$B92","v":4.498709136751359E-16},90,110,7.5408462505236704,7.9190497140343155,7.5408462505236713,{"$f":"AD92*COS!$B92","v":4.6193280662662683E-16},90,110,7.8040320832430083,8.1429540827866997,7.8040320832430083,{"$f":"AJ92*COS!$B92","v":4.780548924421235E-16},90,110,7.9330101366240635,8.5106382978723403,7.9330101366240626,{"$f":"AP92*COS!$B92","v":4.8595575558296958E-16}]
[91,90,110,5.4903156931523558,5.4827901309777642,5.4899394150436258,{"$f":"F93*COS!$B93","v":-9.5812653987403656E-2},90,110,6.5561828446548898,6.6091426473288042,6.5588308347885853,{"$f":"L93*COS!$B93","v":-0.11446738148211767},90,110,7.1202531645569618,7.1641791044776122,7.1224494615529945,{"$f":"R93*COS!$B93","v":-0.12430388283203371},90,110,7.3439412484700126,7.5392670157068062,7.3537075368318519,{"$f":"X93*COS!$B93","v":-0.12833989275370422},90,110,7.5408462505236704,7.9190497140343155,7.559756423699203,{"$f":"AD93*COS!$B93","v":-0.13193594167326309},90,110,7.8040320832430083,8.1429540827866997,7.820978183220193,{"$f":"AJ93*COS!$B93","v":-0.13649488999068574},90,110,7.9330101366240635,8.5106382978723403,7.9618915446864769,{"$f":"AP93*COS!$B93","v":-0.13895416724743914}]
[92,90,110,5.4903156931523558,5.4827901309777642,5.4895631369348958,{"$f":"F94*COS!$B94","v":-0.19158299059562897},90,110,6.5561828446548898,6.6091426473288042,6.5614788249222809,{"$f":"L94*COS!$B94","v":-0.22899230861390352},90,110,7.1202531645569618,7.1641791044776122,7.1246457585490273,{"$f":"R94*COS!$B94","v":-0.2486465511569676},90,110,7.3439412484700126,7.5392670157068062,7.363473825193692,{"$f":"X94*COS!$B94","v":-0.25698153048129774},90,110,7.5408462505236704,7.9190497140343155,7.5786665968747355,{"$f":"AD94*COS!$B94","v":-0.26449164990698226},90,110,7.8040320832430083,8.1429540827866997,7.8379242831973777,{"$f":"AJ94*COS!$B94","v":-0.27353961267589733},90,110,7.9330101366240635,8.5106382978723403,7.9907729527488911,{"$f":"AP94*COS!$B94","v":-0.27887395431489198}]
[93,90,110,5.4903156931523558,5.4827901309777642,5.4891868588261667,{"$f":"F95*COS!$B95","v":-0.28728184325286737},90,110,6.5561828446548898,6.6091426473288042,6.5641268150559773,{"$f":"L95*COS!$B95","v":-0.34353985376590251},90,110,7.1202531645569618,7.1641791044776122,7.12684205554506,{"$f":"R95*COS!$B95","v":-0.3729900939693766},90,110,7.3439412484700126,7.5392670157068062,7.3732401135555312,{"$f":"X95*COS!$B95","v":-0.38588557195175893},90,110,7.5408462505236704,7.9190497140343155,7.5975767700502672,{"$f":"AD95*COS!$B95","v":-0.39762644538975572},90,110,7.8040320832430083,8.1429540827866997,7.8548703831745623,{"$f":"AJ95*COS!$B95","v":-0.41109215266781768},90,110,7.9330101366240635,8.5106382978723403,8.0196543608113053,{"$f":"AP95*COS!$B95","v":-0.41971627971095243}]
[94,90,110,5.4903156931523558,5.4827901309777642,5.4888105807174368,{"$f":"F96*COS!$B96","v":-0.38288007116029321},90,110,6.5561828446548898,6.6091426473288042,6.5667748051896728,{"$f":"L96*COS!$B96","v":-0.45807505428179712},90,110,7.1202531645569618,7.1641791044776122,7.1290383525410919,{"$f":"R96*COS!$B96","v":-0.49729657665989518},90,110,7.3439412484700126,7.5392670157068062,7.3830064019173713,{"$f":"X96*COS!$B96","v":-0.51501249222805834},90,110,7.5408462505236704,7.9190497140343155,7.6164869432257998,{"$f":"AD96*COS!$B96","v":-0.53129927147760392},90,110,7.8040320832430083,8.1429540827866997,7.871816483151747,{"$f":"AJ96*COS!$B96","v":-0.54911015982554778},90,110,7.9330101366240635,8.5106382978723403,8.0485357688737196,{"$f":"AP96*COS!$B96","v":-0.56143747404009314}]
[95,90,110,5.4903156931523558,5.4827901309777642,5.4884343026087077,{"$f":"F97*COS!$B97","v":-0.47834856816558757},90,110,6.5561828446548898,6.6091426473288042,6.5694227953233684,{"$f":"L97*COS!$B97","v":-0.57256292314980539},90,110,7.1202531645569618,7.1641791044776122,7.1312346495371246,{"$f":"R97*COS!$B97","v":-0.6215280525882444},90,110,7.3439412484700126,7.5392670157068062,7.3927726902792106,{"$f":"X97*COS!$B97","v":-0.64432259478588816},90,110,7.5408462505236704,7.9190497140343155,7.6353971164013323,{"$f":"AD97*COS!$B97","v":-0.66546870685328607},90,110,7.8040320832430083,8.1429540827866997,7.8887625831289307,{"$f":"AJ97*COS!$B97","v":-0.68755096229253698},90,110,7.9330101366240635,8.5106382978723403,8.077417176936132,{"$f":"AP97*COS!$B97","v":-0.70399329353856133}]
[96,{"$f":"INDEX(PolaireBase,MATCH($A98,AngleBase),1)","v":90},{"$f":"INDEX(PolaireBase,MIN(MATCH($A98,AngleBase)+1, ROWS(AngleBase)),1)","v":110},{"$f":"INDEX(PolaireBase,MATCH($A98,AngleBase),INT((COLUMN()-2)/6)+3)","v":5.4903156931523558},{"$f":"INDEX(PolaireBase,MIN(MATCH($A98,AngleBase)+1,ROWS(AngleBase)),INT((COLUMN()-2)/6)+3)","v":5.4827901309777642},{"$f":"IF(B98=C98, D98, TREND(D98:E98,B98:C98,$A98))","v":5.4880580244999777},{"$f":"F98*COS!$B98","v":-0.57365827162469607},{"$f":"INDEX(PolaireBase,MATCH($A98,AngleBase),1)","v":90},{"$f":"INDEX(PolaireBase,MIN(MATCH($A98,AngleBase)+1, ROWS(AngleBase)),1)","v":110},{"$f":"INDEX(PolaireBase,MATCH($A98,AngleBase),INT((COLUMN()-2)/6)+3)","v":6.5561828446548898},{"$f":"INDEX(PolaireBase,MIN(MATCH($A98,AngleBase)+1,ROWS(AngleBase)),INT((COLUMN()-2)/6)+3)","v":6.6091426473288042},{"$f":"IF(H98=I98, J98, TREND(J98:K98,H98:I98,$A98))","v":6.5720707854570639},{"$f":"L98*COS!$B98","v":-0.68696845969006626},{"$f":"INDEX(PolaireBase,MATCH($A98,AngleBase),1)","v":90},{"$f":"INDEX(PolaireBase,MIN(MATCH($A98,AngleBase)+1, ROWS(AngleBase)),1)","v":110},{"$f":"INDEX(PolaireBase,MATCH($A98,AngleBase),INT((COLUMN()-2)/6)+3)","v":7.1202531645569618},{"$f":"INDEX(PolaireBase,MIN(MATCH($A98,AngleBase)+1,ROWS(AngleBase)),INT((COLUMN()-2)/6)+3)","v":7.1641791044776122},{"$f":"IF(N98=O98, P98, TREND(P98:Q98,N98:O98,$A98))","v":7.1334309465331573},{"$f":"R98*COS!$B98","v":-0.74564657466703266},{"$f":"INDEX(PolaireBase,MATCH($A98,AngleBase),1)","v":90},{"$f":"INDEX(PolaireBase,MIN(MATCH($A98,AngleBase)+1, ROWS(AngleBase)),1)","v":110},{"$f":"INDEX(PolaireBase,MATCH($A98,AngleBase),INT((COLUMN()-2)/6)+3)","v":7.3439412484700126},{"$f":"INDEX(PolaireBase,MIN(MATCH($A98,AngleBase)+1,ROWS(AngleBase)),INT((COLUMN()-2)/6)+3)","v":7.5392670157068062},{"$f":"IF(T98=U98, V98, TREND(V98:W98,T98:U98,$A98))","v":7.4025389786410507},{"$f":"X98*COS!$B98","v":-0.77377602371625309},{"$f":"INDEX(PolaireBase,MATCH($A98,AngleBase),1)","v":90},{"$f":"INDEX(PolaireBase,MIN(MATCH($A98,AngleBase)+1, ROWS(AngleBase)),1)","v":110},{"$f":"INDEX(PolaireBase,MATCH($A98,AngleBase),INT((COLUMN()-2)/6)+3)","v":7.5408462505236704},{"$f":"INDEX(PolaireBase,MIN(MATCH($A98,AngleBase)+1,ROWS(AngleBase)),INT((COLUMN()-2)/6)+3)","v":7.9190497140343155},{"$f":"IF(Z98=AA98, AB98, TREND(AB98:AC98,Z98:AA98,$A98))","v":7.6543072895768649},{"$f":"AD98*COS!$B98","v":-0.80009297835786641},{"$f":"INDEX(PolaireBase,MATCH($A98,AngleBase),1)","v":90},{"$f":"INDEX(PolaireBase,MIN(MATCH($A98,AngleBase)+1, ROWS(AngleBase)),1)","v":110},{"$f":"INDEX(PolaireBase,MATCH($A98,AngleBase),INT((COLUMN()-2)/6)+3)","v":7.8040320832430083},{"$f":"INDEX(PolaireBase,MIN(MATCH($A98,AngleBase)+1,ROWS(AngleBase)),INT((COLUMN()-2)/6)+3)","v":8.1429540827866997},{"$f":"IF(AF98=AG98, AH98, TREND(AH98:AI98,AF98:AG98,$A98))","v":7.9057086831061154},{"$f":"AJ98*COS!$B98","v":-0.82637157968682562},{"$f":"INDEX(PolaireBase,MATCH($A98,AngleBase),1)","v":90},{"$f":"INDEX(PolaireBase,MIN(MATCH($A98,AngleBase)+1, ROWS(AngleBase)),1)","v":110},{"$f":"INDEX(PolaireBase,MATCH($A98,AngleBase),INT((COLUMN()-2)/6)+3)","v":7.9330101366240635},{"$f":"INDEX(PolaireBase,MIN(MATCH($A98,AngleBase)+1,ROWS(AngleBase)),INT((COLUMN()-2)/6)+3)","v":8.5106382978723403},{"$f":"IF(AL98=AM98, AN98, TREND(AN98:AO98,AL98:AM98,$A98))","v":8.1062985849985463},{"$f":"AP98*COS!$B98","v":-0.84733893387865078}]
[97,90,110,5.4903156931523558,5.4827901309777642,5.4876817463912486,{"$f":"F99*COS!$B99","v":-0.66878017124911393},90,110,6.5561828446548898,6.6091426473288042,6.5747187755907595,{"$f":"L99*COS!$B99","v":-0.80125666025474029},90,110,7.1202531645569618,7.1641791044776122,7.1356272435291901,{"$f":"R99*COS!$B99","v":-0.86961420695278402},90,110,7.3439412484700126,7.5392670157068062,7.4123052670028899,{"$f":"X99*COS!$B99","v":-0.90333277600815776},90,110,7.5408462505236704,7.9190497140343155,7.6732174627523966,{"$f":"AD99*COS!$B99","v":-0.93512997399054543},90,110,7.8040320832430083,8.1429540827866997,7.9226547830833001,{"$f":"AJ99*COS!$B99","v":-0.96552873644001203},90,110,7.9330101366240635,8.5106382978723403,8.1351799930609605,{"$f":"AP99*COS!$B99","v":-0.9914290442370306}]
[98,90,110,5.4903156931523558,5.4827901309777642,5.4873054682825186,{"$f":"F100*COS!$B100","v":-0.7636853179360017},90,110,6.5561828446548898,6.6091426473288042,6.5773667657244559,{"$f":"L100*COS!$B100","v":-0.91539252893754819},90,110,7.1202531645569618,7.1641791044776122,7.1378235405252219,{"$f":"R100*COS!$B100","v":-0.9933930362406479},90,110,7.3439412484700126,7.5392670157068062,7.4220715553647301,{"$f":"X100*COS!$B100","v":-1.0329527139076049},90,110,7.5408462505236704,7.9190497140343155,7.6921276359279291,{"$f":"AD100*COS!$B100","v":-1.0705372560727064},90,110,7.8040320832430083,8.1429540827866997,7.9396008830604847,{"$f":"AJ100*COS!$B100","v":-1.104978875280801},90,110,7.9330101366240635,8.5106382978723403,8.164061401123373,{"$f":"AP100*COS!$B100","v":-1.1362177416227157}]
[99,90,110,5.4903156931523558,5.4827901309777642,5.4869291901737896,{"$f":"F101*COS!$B101","v":-0.85834483257846483},90,110,6.5561828446548898,6.6091426473288042,6.5800147558581514,{"$f":"L101*COS!$B101","v":-1.0293410882894964},90,110,7.1202531645569618,7.1641791044776122,7.1400198375212547,{"$f":"R101*COS!$B101","v":-1.1169451836592748},90,110,7.3439412484700126,7.5392670157068062,7.4318378437265693,{"$f":"X101*COS!$B101","v":-1.1625955773491099},90,110,7.5408462505236704,7.9190497140343155,7.7110378091034608,{"$f":"AD101*COS!$B101","v":-1.206272074572095},90,110,7.8040320832430083,8.1429540827866997,7.9565469830376694,{"$f":"AJ101*COS!$B101","v":-1.244678170858962},90,110,7.9330101366240635,8.5106382978723403,8.1929428091857872,{"$f":"AP101*COS!$B101","v":-1.2816586254601863}]
[100,90,110,5.4903156931523558,5.4827901309777642,5.4865529120650596,{"$f":"F102*COS!$B102","v":-0.95272991485328729},90,110,6.5561828446548898,6.6091426473288042,6.582662745991847,{"$f":"L102*COS!$B102","v":-1.1430673900374755},90,110,7.1202531645569618,7.1641791044776122,7.1422161345172874,{"$f":"R102*COS!$B102","v":-1.2402328162622742},90,110,7.3439412484700126,7.5392670157068062,7.4416041320884094,{"$f":"X102*COS!$B102","v":-1.2922209964558509},90,110,7.5408462505236704,7.9190497140343155,7.7299479822789934,{"$f":"AD102*COS!$B102","v":-1.342291380582912},90,110,7.8040320832430083,8.1429540827866997,7.973493083014854,{"$f":"AJ102*COS!$B102","v":-1.3845825435054033},90,110,7.9330101366240635,8.5106382978723403,8.2218242172482014,{"$f":"AP102*COS!$B102","v":-1.4277047924229858}]
[101,90,110,5.4903156931523558,5.4827901309777642,5.4861766339563296,{"$f":"F103*COS!$B103","v":-1.0468118519834815},90,110,6.5561828446548898,6.6091426473288042,6.5853107361255425,{"$f":"L103*COS!$B103","v":-1.2565365258024894},90,110,7.1202531645569618,7.1641791044776122,7.1444124315133202,{"$f":"R103*COS!$B103","v":-1.3632181586127543},90,110,7.3439412484700126,7.5392670157068062,7.4513704204502487,{"$f":"X103*COS!$B103","v":-1.4217885041046141},90,110,7.5408462505236704,7.9190497140343155,7.7488581554545259,{"$f":"AD103*COS!$B103","v":-1.4785518399576241},90,110,7.8040320832430083,8.1429540827866997,7.9904391829920387,{"$f":"AJ103*COS!$B103","v":-1.5246476731240903},90,110,7.9330101366240635,8.5106382978723403,8.2507056253106157,{"$f":"AP103*COS!$B103","v":-1.5743088515131254}]
[102,90,110,5.4903156931523558,5.4827901309777642,5.4858003558476005,{"$f":"F104*COS!$B104","v":-1.1405620274729393},90,110,6.5561828446548898,6.6091426473288042,6.5879587262592381,{"$f":"L104*COS!$B104","v":-1.369713637814169},90,110,7.1202531645569618,7.1641791044776122,7.146608728509352,{"$f":"R104*COS!$B104","v":-1.4858635043573349},90,110,7.3439412484700126,7.5392670157068062,7.4611367088120888,{"$f":"X104*COS!$B104","v":-1.5512575485515718},90,110,7.5408462505236704,7.9190497140343155,7.7677683286300576,{"$f":"AD104*COS!$B104","v":-1.6150098470861141},90,110,7.8040320832430083,8.1429540827866997,8.0073852829692225,{"$f":"AJ104*COS!$B104","v":-1.6648290132113717},90,110,7.9330101366240635,8.5106382978723403,8.2795870333730299,{"$f":"AP104*COS!$B104","v":-1.7214229393813809}]
[103,90,110,5.4903156931523558,5.4827901309777642,5.4854240777388705,{"$f":"F105*COS!$B105","v":-1.2339519298105812},90,110,6.5561828446548898,6.6091426473288042,6.5906067163929345,{"$f":"L105*COS!$B105","v":-1.4825639296183475},90,110,7.1202531645569618,7.1641791044776122,7.1488050255053848,{"$f":"R105*COS!$B105","v":-1.6081312277861557},90,110,7.3439412484700126,7.5392670157068062,7.470902997173928,{"$f":"X105*COS!$B105","v":-1.6805875061150148},90,110,7.5408462505236704,7.9190497140343155,7.7866785018055902,{"$f":"AD105*COS!$B105","v":-1.7516215388178731},90,110,7.8040320832430083,8.1429540827866997,8.0243313829464071,{"$f":"AJ105*COS!$B105","v":-1.805081804998357},90,110,7.9330101366240635,8.5106382978723403,8.3084684414354424,{"$f":"AP105*COS!$B105","v":-1.86899873588363}]
[104,90,110,5.4903156931523558,5.4827901309777642,5.4850477996301414,{"$f":"F106*COS!$B106","v":-1.3269531611413106},90,110,6.5561828446548898,6.6091426473288042,6.59325470652663,{"$f":"L106*COS!$B106","v":-1.5950526767743536},90,110,7.1202531645569618,7.1641791044776122,7.1510013225014175,{"$f":"R106*COS!$B106","v":-1.7299837953752741},90,110,7.3439412484700126,7.5392670157068062,7.4806692855357682,{"$f":"X106*COS!$B106","v":-1.8097376939110255},90,110,7.5408462505236704,7.9190497140343155,7.8055886749811219,{"$f":"AD106*COS!$B106","v":-1.8883428085227321},90,110,7.8040320832430083,8.1429540827866997,8.0412774829235918,{"$f":"AJ106*COS!$B106","v":-1.9453610917118005},90,110,7.9330101366240635,8.5106382978723403,8.3373498494978566,{"$f":"AP106*COS!$B106","v":-2.0169874798681264}]
[105,90,110,5.4903156931523558,5.4827901309777642,5.4846715215214115,{"$f":"F107*COS!$B107","v":-1.4195374459011618},90,110,6.5561828446548898,6.6091426473288042,6.5959026966603256,{"$f":"L107*COS!$B107","v":-1.7071452375387677},90,110,7.1202531645569618,7.1641791044776122,7.1531976194974503,{"$f":"R107*COS!$B107","v":-1.8513837773079553},90,110,7.3439412484700126,7.5392670157068062,7.4904355738976074,{"$f":"X107*COS!$B107","v":-1.9386673826381315},90,110,7.5408462505236704,7.9190497140343155,7.8244988481566544,{"$f":"AD107*COS!$B107","v":-2.0251293202856795},90,110,7.8040320832430083,8.1429540827866997,8.0582235829007764,{"$f":"AJ107*COS!$B107","v":-2.0856217329489932},90,110,7.9330101366240635,8.5106382978723403,8.3662312575602709,{"$f":"AP107*COS!$B107","v":-2.1653399851886115}]
[106,90,110,5.4903156931523558,5.4827901309777642,5.4842952434126824,{"$f":"F108*COS!$B108","v":-1.5116766394140169},90,110,6.5561828446548898,6.6091426473288042,6.5985506867940211,{"$f":"L108*COS!$B108","v":-1.818807063532347},90,110,7.1202531645569618,7.1641791044776122,7.1553939164934821,{"$f":"R108*COS!$B108","v":-1.9722938589713044},90,110,7.3439412484700126,7.5392670157068062,7.5002018622594475,{"$f":"X108*COS!$B108","v":-2.0673358094069263},90,110,7.5408462505236704,7.9190497140343155,7.843409021332187,{"$f":"AD108*COS!$B108","v":-2.1619365232312004},90,110,7.8040320832430083,8.1429540827866997,8.0751696828779611,{"$f":"AJ108*COS!$B108","v":-2.225818419162076},90,110,7.9330101366240635,8.5106382978723403,8.3951126656226851,{"$f":"AP108*COS!$B108","v":-2.3140066569380355}]
[107,90,110,5.4903156931523558,5.4827901309777642,5.4839189653039524,{"$f":"F109*COS!$B109","v":-1.6033427364472628},90,110,6.5561828446548898,6.6091426473288042,6.6011986769277167,{"$f":"L109*COS!$B109","v":-1.9300037103868304},90,110,7.1202531645569618,7.1641791044776122,7.1575902134895149,{"$f":"R109*COS!$B109","v":-2.0926768524247059},90,110,7.3439412484700126,7.5392670157068062,7.5099681506212868,{"$f":"X109*COS!$B109","v":-2.1957021906106036},90,110,7.5408462505236704,7.9190497140343155,7.8623191945077195,{"$f":"AD109*COS!$B109","v":-2.2987196659725155},90,110,7.8040320832430083,8.1429540827866997,8.0921157828551458,{"$f":"AJ109*COS!$B109","v":-2.3659056862471215},90,110,7.9330101366240635,8.5106382978723403,8.4239940736850976,{"$f":"AP109*COS!$B109","v":-2.4629375078975428}]
[108,90,110,5.4903156931523558,5.4827901309777642,5.4835426871952233,{"$f":"F110*COS!$B110","v":-1.69450787972379},90,110,6.5561828446548898,6.6091426473288042,6.6038466670614131,{"$f":"L110*COS!$B110","v":-2.0407008483683313},90,110,7.1202531645569618,7.1641791044776122,7.1597865104855476,{"$f":"R110*COS!$B110","v":-2.2124957078365362},90,110,7.3439412484700126,7.5392670157068062,7.5197344389831269,{"$f":"X110*COS!$B110","v":-2.3237257348323466},90,110,7.5408462505236704,7.9190497140343155,7.8812293676832512,{"$f":"AD110*COS!$B110","v":-2.4354338111810452},90,110,7.8040320832430083,8.1429540827866997,8.1090618828323304,{"$f":"AJ110*COS!$B110","v":-2.505837930233298},90,110,7.9330101366240635,8.5106382978723403,8.4528754817475118,{"$f":"AP110*COS!$B110","v":-2.6120821751953009}]
[109,90,110,5.4903156931523558,5.4827901309777642,5.4831664090864933,{"$f":"F111*COS!$B111","v":-1.7851443683877632},90,110,6.5561828446548898,6.6091426473288042,6.6064946571951086,{"$f":"L111*COS!$B111","v":-2.1508642729740757},90,110,7.1202531645569618,7.1641791044776122,7.1619828074815803,{"$f":"R111*COS!$B111","v":-2.3317135248856617},90,110,7.3439412484700126,7.5392670157068062,7.5295007273449661,{"$f":"X111*COS!$B111","v":-2.4513656557855175},90,110,7.5408462505236704,7.9190497140343155,7.9001395408587838,{"$f":"AD111*COS!$B111","v":-2.5720338502714015},90,110,7.8040320832430083,8.1429540827866997,8.1260079828095151,{"$f":"AJ111*COS!$B111","v":-2.6455694220674144},90,110,7.9330101366240635,8.5106382978723403,8.481756889809926,{"$f":"AP111*COS!$B111","v":-2.7613899371696888}]
[110,110,135,5.4827901309777642,5.3199349785724834,5.4827901309777642,{"$f":"F112*COS!$B112","v":-1.8752246664215768},110,135,6.6091426473288042,6.4493013256897163,6.6091426473288033,{"$f":"L112*COS!$B112","v":-2.2604599154991867},110,135,7.1641791044776122,7.0754716981132075,7.1641791044776122,{"$f":"R112*COS!$B112","v":-2.4502935641241939},110,135,7.5392670157068062,7.4503311258278151,7.5392670157068062,{"$f":"X112*COS!$B112","v":-2.5785811852825287},110,135,7.9190497140343155,7.8482668410725971,7.9190497140343146,{"$f":"AD112*COS!$B112","v":-2.7084745181971122},110,135,8.1429540827866997,8.2930200414651001,8.1429540827866997,{"$f":"AJ112*COS!$B112","v":-2.7850543224890463},110,135,8.5106382978723403,8.8691796008869179,8.5106382978723403,{"$f":"AP112*COS!$B112","v":-2.910809730431223}]
[111,110,135,5.4827901309777642,5.3199349785724834,5.4762759248815529,{"$f":"F113*COS!$B113","v":-1.9625217743440948},110,135,6.6091426473288042,6.4493013256897163,6.6027489944632398,{"$f":"L113*COS!$B113","v":-2.3662136185080844},110,135,7.1641791044776122,7.0754716981132075,7.1606308082230363,{"$f":"R113*COS!$B113","v":-2.566140580193796},110,135,7.5392670157068062,7.4503311258278151,7.5357095801116465,{"$f":"X113*COS!$B113","v":-2.7005567905934864},110,135,7.9190497140343155,7.8482668410725971,7.9162183991158459,{"$f":"AD113*COS!$B113","v":-2.8369189558439252},110,135,8.1429540827866997,8.2930200414651001,8.1489567211338354,{"$f":"AJ113*COS!$B113","v":-2.920324911086126},110,135,8.5106382978723403,8.8691796008869179,8.5249799499929217,{"$f":"AP113*COS!$B113","v":-3.0550795845937597}]
[112,110,135,5.4827901309777642,5.3199349785724834,5.4697617187853416,{"$f":"F114*COS!$B114","v":-2.0490088042709407},110,135,6.6091426473288042,6.4493013256897163,6.5963553415976763,{"$f":"L114*COS!$B114","v":-2.4710382034767604},110,135,7.1641791044776122,7.0754716981132075,7.1570825119684605,{"$f":"R114*COS!$B114","v":-2.6810902986051035},110,135,7.5392670157068062,7.4503311258278151,7.5321521445164867,{"$f":"X114*COS!$B114","v":-2.8215938559476776},110,135,7.9190497140343155,7.8482668410725971,7.9133870841973772,{"$f":"AD114*COS!$B114","v":-2.964406977992657},110,135,8.1429540827866997,8.2930200414651001,8.1549593594809728,{"$f":"AJ114*COS!$B114","v":-3.0549015451003756},110,135,8.5106382978723403,8.8691796008869179,8.539321602113505,{"$f":"AP114*COS!$B114","v":-3.1988861754506486}]
[113,110,135,5.4827901309777642,5.3199349785724834,5.4632475126891311,{"$f":"F115*COS!$B115","v":-2.1346608658492414},110,135,6.6091426473288042,6.4493013256897163,6.5899616887321129,{"$f":"L115*COS!$B115","v":-2.5749031673393779},110,135,7.1641791044776122,7.0754716981132075,7.1535342157138837,{"$f":"R115*COS!$B115","v":-2.7951084967925164},110,135,7.5392670157068062,7.4503311258278151,7.5285947089213279,{"$f":"X115*COS!$B115","v":-2.9416563065552048},110,135,7.9190497140343155,7.8482668410725971,7.9105557692789086,{"$f":"AD115*COS!$B115","v":-3.090900382707682},110,135,8.1429540827866997,8.2930200414651001,8.1609619978281085,{"$f":"AJ115*COS!$B115","v":-3.1887418909694536},110,135,8.5106382978723403,8.8691796008869179,8.5536632542340882,{"$f":"AP115*COS!$B115","v":-3.3421824960441175}]
[114,110,135,5.4827901309777642,5.3199349785724834,5.4567333065929198,{"$f":"F116*COS!$B116","v":-2.2194533872835147},110,135,6.6091426473288042,6.4493013256897163,6.5835680358665494,{"$f":"L116*COS!$B116","v":-2.6777783623694984},110,135,7.1641791044776122,7.0754716981132075,7.1499859194593078,{"$f":"R116*COS!$B116","v":-2.9081612709201163},110,135,7.5392670157068062,7.4503311258278151,7.5250372733261681,{"$f":"X116*COS!$B116","v":-3.0607083995729574},110,135,7.9190497140343155,7.8482668410725971,7.9077244543604399,{"$f":"AD116*COS!$B116","v":-3.2163612989349777},110,135,8.1429540827866997,8.2930200414651001,8.1669646361752442,{"$f":"AJ116*COS!$B116","v":-3.3218037802366913},110,135,8.5106382978723403,8.8691796008869179,8.5680049063546715,{"$f":"AP116*COS!$B116","v":-3.4849215534676836}]
[115,110,135,5.4827901309777642,5.3199349785724834,5.4502191004967084,{"$f":"F117*COS!$B117","v":-2.3033621223578766},110,135,6.6091426473288042,6.4493013256897163,6.5771743830009859,{"$f":"L117*COS!$B117","v":-2.7796340049093331},110,135,7.1641791044776122,7.0754716981132075,7.146437623204732,{"$f":"R117*COS!$B117","v":-3.0202150459571184},110,135,7.5392670157068062,7.4503311258278151,7.5214798377310084,{"$f":"X117*COS!$B117","v":-3.1787147347395961},110,135,7.9190497140343155,7.8482668410725971,7.9048931394419713,{"$f":"AD117*COS!$B117","v":-3.3407521978369457},110,135,8.1429540827866997,8.2930200414651001,8.1729672745223798,{"$f":"AJ117*COS!$B117","v":-3.4540452228222693},110,135,8.5106382978723403,8.8691796008869179,8.5823465584752547,{"$f":"AP117*COS!$B117","v":-3.6270563841990855}]
[116,110,135,5.4827901309777642,5.3199349785724834,5.4437048944004971,{"$f":"F118*COS!$B118","v":-2.3863631573396602},110,135,6.6091426473288042,6.4493013256897163,6.5707807301354224,{"$f":"L118*COS!$B118","v":-2.8804406839690371},110,135,7.1641791044776122,7.0754716981132075,7.1428893269501552,{"$f":"R118*COS!$B118","v":-3.1312365856426014},110,135,7.5392670157068062,7.4503311258278151,7.5179224021358486,{"$f":"X118*COS!$B118","v":-3.2956402648955883},110,135,7.9190497140343155,7.8482668410725971,7.9020618245235026,{"$f":"AD118*COS!$B118","v":-3.4640359040145579},110,135,8.1429540827866997,8.2930200414651001,8.1789699128695155,{"$f":"AJ118*COS!$B118","v":-3.5854244202579708},110,135,8.5106382978723403,8.8691796008869179,8.596688210595838,{"$f":"AP118*COS!$B118","v":-3.7685400694670403}]
[117,110,135,5.4827901309777642,5.3199349785724834,5.4371906883042858,{"$f":"F119*COS!$B119","v":-2.4684329177624726},110,135,6.6091426473288042,6.4493013256897163,6.5643870772698589,{"$f":"L119*COS!$B119","v":-2.9801693696935656},110,135,7.1641791044776122,7.0754716981132075,7.1393410306955793,{"$f":"R119*COS!$B119","v":-3.2411930023365363},110,135,7.5392670157068062,7.4503311258278151,7.5143649665406889,{"$f":"X119*COS!$B119","v":-3.4114503063851496},110,135,7.9190497140343155,7.8482668410725971,7.8992305096050339,{"$f":"AD119*COS!$B119","v":-3.5861756066134634},110,135,8.1429540827866997,8.2930200414651001,8.1849725512166529,{"$f":"AJ119*COS!$B119","v":-3.7158997788813206},110,135,8.5106382978723403,8.8691796008869179,8.6110298627164212,{"$f":"AP119*COS!$B119","v":-3.9093257506467882}]
[118,110,135,5.4827901309777642,5.3199349785724834,5.4306764822080744,{"$f":"F120*COS!$B120","v":-2.549548175086807},110,135,6.6091426473288042,6.4493013256897163,6.5579934244042954,{"$f":"L120*COS!$B120","v":-3.0787914216946786},110,135,7.1641791044776122,7.0754716981132075,7.1357927344410035,{"$f":"R120*COS!$B120","v":-3.3500517667542211},110,135,7.5392670157068062,7.4503311258278151,7.5108075309455291,{"$f":"X120*COS!$B120","v":-3.5261105493370333},110,135,7.9190497140343155,7.8482668410725971,7.8963991946865644,{"$f":"AD120*COS!$B120","v":-3.7071348703107487},110,135,8.1429540827866997,8.2930200414651001,8.1909751895637886,{"$f":"AJ120*COS!$B120","v":-3.8454299229849678},110,135,8.5106382978723403,8.8691796008869179,8.6253715148370045,{"$f":"AP120*COS!$B120","v":-4.0493666446794325}]
[119,110,135,5.4827901309777642,5.3199349785724834,5.4241622761118631,{"$f":"F121*COS!$B121","v":-2.6296860532362993},110,135,6.6091426473288042,6.4493013256897163,6.551599771538732,{"$f":"L121*COS!$B121","v":-3.1762785972456808},110,135,7.1641791044776122,7.0754716981132075,7.1322444381864267,{"$f":"R121*COS!$B121","v":-3.457780717581211},110,135,7.5392670157068062,7.4503311258278151,7.5072500953503694,{"$f":"X121*COS!$B121","v":-3.6395870678210898},110,135,7.9190497140343155,7.8482668410725971,7.8935678797680957,{"$f":"AD121*COS!$B121","v":-3.8268776461790539},110,135,8.1429540827866997,8.2930200414651001,8.1969778279109242,{"$f":"AJ121*COS!$B121","v":-3.9739737079171396},110,135,8.5106382978723403,8.8691796008869179,8.6397131669575877,{"$f":"AP121*COS!$B121","v":-4.1886160595099859}]
[120,110,135,5.4827901309777642,5.3199349785724834,5.4176480700156517,{"$f":"F122*COS!$B122","v":-2.7088240350078259},110,135,6.6091426473288042,6.4493013256897163,6.5452061186731685,{"$f":"L122*COS!$B122","v":-3.2726030593365842},110,135,7.1641791044776122,7.0754716981132075,7.1286961419318509,{"$f":"R122*COS!$B122","v":-3.5643480709659254},110,135,7.5392670157068062,7.4503311258278151,7.5036926597552096,{"$f":"X122*COS!$B122","v":-3.7518463298776048},110,135,7.9190497140343155,7.8482668410725971,7.890736564849627,{"$f":"AD122*COS!$B122","v":-3.9453682824248135},110,135,8.1429540827866997,8.2930200414651001,8.2029804662580599,{"$f":"AJ122*COS!$B122","v":-4.1014902331290299},110,135,8.5106382978723403,8.8691796008869179,8.654054819078171,{"$f":"AP122*COS!$B122","v":-4.3270274095390855}]
[121,110,135,5.4827901309777642,5.3199349785724834,5.4111338639194404,{"$f":"F123*COS!$B123","v":-2.7869399683536722},110,135,6.6091426473288042,6.4493013256897163,6.538812465807605,{"$f":"L123*COS!$B123","v":-3.3677373845874139},110,135,7.1641791044776122,7.0754716981132075,7.1251478456772741,{"$f":"R123*COS!$B123","v":-3.6697224298871438},110,135,7.5392670157068062,7.4503311258278151,7.5001352241600507,{"$f":"X123*COS!$B123","v":-3.862855207416481},110,135,7.9190497140343155,7.8482668410725971,7.8879052499311584,{"$f":"AD123*COS!$B123","v":-4.0625715349974545},110,135,8.1429540827866997,8.2930200414651001,8.2089831046051955,{"$f":"AJ123*COS!$B123","v":-4.2279388551650205},110,135,8.5106382978723403,8.8691796008869179,8.6683964711987542,{"$f":"AP123*COS!$B123","v":-4.464554231083314}]
[122,110,135,5.4827901309777642,5.3199349785724834,5.4046196578232291,{"$f":"F124*COS!$B124","v":-2.8640120725340004},110,135,6.6091426473288042,6.4493013256897163,6.5324188129420415,{"$f":"L124*COS!$B124","v":-3.4616545710173918},110,135,7.1641791044776122,7.0754716981132075,7.1215995494226982,{"$f":"R124*COS!$B124","v":-3.7738727933935992},110,135,7.5392670157068062,7.4503311258278151,7.496577788564891,{"$f":"X124*COS!$B124","v":-3.9725809859832926},110,135,7.9190497140343155,7.8482668410725971,7.8850739350126897,{"$f":"AD124*COS!$B124","v":-4.1784525780663451},110,135,8.1429540827866997,8.2930200414651001,8.214985742952333,{"$f":"AJ124*COS!$B124","v":-4.3532792005915679},110,135,8.5106382978723403,8.8691796008869179,8.6827381233193375,{"$f":"AP124*COS!$B124","v":-4.6011501978389804}]
[123,110,135,5.4827901309777642,5.3199349785724834,5.3981054517270186,{"$f":"F125*COS!$B125","v":-2.9400189441379605},110,135,6.6091426473288042,6.4493013256897163,6.526025160076478,{"$f":"L125*COS!$B125","v":-3.5543280456678406},110,135,7.1641791044776122,7.0754716981132075,7.1180512531681224,{"$f":"R125*COS!$B125","v":-3.8767685657129904},110,135,7.5392670157068062,7.4503311258278151,7.4930203529697312,{"$f":"X125*COS!$B125","v":-4.0809913743893924},110,135,7.9190497140343155,7.8482668410725971,7.8822426200942211,{"$f":"AD125*COS!$B125","v":-4.2929770143624353},110,135,8.1429540827866997,8.2930200414651001,8.2209883812994686,{"$f":"AJ125*COS!$B125","v":-4.477471178860692},110,135,8.5106382978723403,8.8691796008869179,8.6970797754399207,{"$f":"AP125*COS!$B125","v":-4.7367691363443072}]
[124,110,135,5.4827901309777642,5.3199349785724834,5.3915912456308073,{"$f":"F126*COS!$B126","v":-3.014939562971751},110,135,6.6091426473288042,6.4493013256897163,6.5196315072109146,{"$f":"L126*COS!$B126","v":-3.6457316720766317},110,135,7.1641791044776122,7.0754716981132075,7.1145029569135456,{"$f":"R126*COS!$B126","v":-3.9783795652276983},110,135,7.5392670157068062,7.4503311258278151,7.4894629173745715,{"$f":"X126*COS!$B126","v":-4.1880545142031753},110,135,7.9190497140343155,7.8482668410725971,7.8794113051757524,{"$f":"AD126*COS!$B126","v":-4.4061108853814543},110,135,8.1429540827866997,8.2930200414651001,8.2269910196466043,{"$f":"AJ126*COS!$B126","v":-4.6004749951039434},110,135,8.5106382978723403,8.8691796008869179,8.7114214275605022,{"$f":"AP126*COS!$B126","v":-4.8713650414348342}]
[125,110,135,5.4827901309777642,5.3199349785724834,5.3850770395345959,{"$f":"F127*COS!$B127","v":-3.0887532978120933},110,135,6.6091426473288042,6.4493013256897163,6.5132378543453511,{"$f":"L127*COS!$B127","v":-3.7358397576021387},110,135,7.1641791044776122,7.0754716981132075,7.1109546606589698,{"$f":"R127*COS!$B127","v":-4.0786760333146326},110,135,7.5392670157068062,7.4503311258278151,7.4859054817794117,{"$f":"X127*COS!$B127","v":-4.2937389890997935},110,135,7.9190497140343155,7.8482668410725971,7.8765799902572837,{"$f":"AD127*COS!$B127","v":-4.5178206814457278},110,135,8.1429540827866997,8.2930200414651001,8.2329936579937399,{"$f":"AJ127*COS!$B127","v":-4.7222511628528103},110,135,8.5106382978723403,8.8691796008869179,8.7257630796810854,{"$f":"AP127*COS!$B127","v":-5.0048920916870037}]
[126,110,135,5.4827901309777642,5.3199349785724834,5.3785628334383846,{"$f":"F128*COS!$B128","v":-3.1614399120234995},110,135,6.6091426473288042,6.4493013256897163,6.5068442014797876,{"$f":"L128*COS!$B128","v":-3.824627060594612},110,135,7.1641791044776122,7.0754716981132075,7.1074063644043939,{"$f":"R128*COS!$B128","v":-4.1776286430465648},110,135,7.5392670157068062,7.4503311258278151,7.482348046184252,{"$f":"X128*COS!$B128","v":-4.3980138340665036},110,135,7.9190497140343155,7.8482668410725971,7.8737486753388151,{"$f":"AD128*COS!$B128","v":-4.6280733516215511},110,135,8.1429540827866997,8.2930200414651001,8.2389962963408756,{"$f":"AJ128*COS!$B128","v":-4.842760516681472},110,135,8.5106382978723403,8.8691796008869179,8.7401047318016687,{"$f":"AP128*COS!$B128","v":-5.137304664844681}]
[127,110,135,5.4827901309777642,5.3199349785724834,5.3720486273421733,{"$f":"F129*COS!$B129","v":-3.2329795690378598},110,135,6.6091426473288042,6.4493013256897163,6.5004505486142241,{"$f":"L129*COS!$B129","v":-3.9120687974130148},110,135,7.1641791044776122,7.0754716981132075,7.1038580681498171,{"$f":"R129*COS!$B129","v":-4.2752085077524482},110,135,7.5392670157068062,7.4503311258278151,7.4787906105890922,{"$f":"X129*COS!$B129","v":-4.5008485444609967},110,135,7.9190497140343155,7.8482668410725971,7.8709173604203464,{"$f":"AD129*COS!$B129","v":-4.7368363134892304},110,135,8.1429540827866997,8.2930200414651001,8.244998934688013,{"$f":"AJ129*COS!$B129","v":-4.9619642247678808},110,135,8.5106382978723403,8.8691796008869179,8.7544463839222519,{"$f":"AP129*COS!$B129","v":-5.2685573532235361}]
[128,{"$f":"INDEX(PolaireBase,MATCH($A130,AngleBase),1)","v":110},{"$f":"INDEX(PolaireBase,MIN(MATCH($A130,AngleBase)+1, ROWS(AngleBase)),1)","v":135},{"$f":"INDEX(PolaireBase,MATCH($A130,AngleBase),INT((COLUMN()-2)/6)+3)","v":5.4827901309777642},{"$f":"INDEX(PolaireBase,MIN(MATCH($A130,AngleBase)+1,ROWS(AngleBase)),INT((COLUMN()-2)/6)+3)","v":5.3199349785724834},{"$f":"IF(B130=C130, D130, TREND(D130:E130,B130:C130,$A130))","v":5.3655344212459619},{"$f":"F130*COS!$B130","v":-3.3033528376948911},{"$f":"INDEX(PolaireBase,MATCH($A130,AngleBase),1)","v":110},{"$f":"INDEX(PolaireBase,MIN(MATCH($A130,AngleBase)+1, ROWS(AngleBase)),1)","v":135},{"$f":"INDEX(PolaireBase,MATCH($A130,AngleBase),INT((COLUMN()-2)/6)+3)","v":6.6091426473288042},{"$f":"INDEX(PolaireBase,MIN(MATCH($A130,AngleBase)+1,ROWS(AngleBase)),INT((COLUMN()-2)/6)+3)","v":6.4493013256897163},{"$f":"IF(H130=I130, J130, TREND(J130:K130,H130:I130,$A130))","v":6.4940568957486606},{"$f":"L130*COS!$B130","v":-3.9981406492853853},{"$f":"INDEX(PolaireBase,MATCH($A130,AngleBase),1)","v":110},{"$f":"INDEX(PolaireBase,MIN(MATCH($A130,AngleBase)+1, ROWS(AngleBase)),1)","v":135},{"$f":"INDEX(PolaireBase,MATCH($A130,AngleBase),INT((COLUMN()-2)/6)+3)","v":7.1641791044776122},{"$f":"INDEX(PolaireBase,MIN(MATCH($A130,AngleBase)+1,ROWS(AngleBase)),INT((COLUMN()-2)/6)+3)","v":7.0754716981132075},{"$f":"IF(N130=O130, P130, TREND(P130:Q130,N130:O130,$A130))","v":7.1003097718952413},{"$f":"R130*COS!$B130","v":-4.3713871894342127},{"$f":"INDEX(PolaireBase,MATCH($A130,AngleBase),1)","v":110},{"$f":"INDEX(PolaireBase,MIN(MATCH($A130,AngleBase)+1, ROWS(AngleBase)),1)","v":135},{"$f":"INDEX(PolaireBase,MATCH($A130,AngleBase),INT((COLUMN()-2)/6)+3)","v":7.5392670157068062},{"$f":"INDEX(PolaireBase,MIN(MATCH($A130,AngleBase)+1,ROWS(AngleBase)),INT((COLUMN()-2)/6)+3)","v":7.4503311258278151},{"$f":"IF(T130=U130, V130, TREND(V130:W130,T130:U130,$A130))","v":7.4752331749939325},{"$f":"X130*COS!$B130","v":-4.6022130849200691},{"$f":"INDEX(PolaireBase,MATCH($A130,AngleBase),1)","v":110},{"$f":"INDEX(PolaireBase,MIN(MATCH($A130,AngleBase)+1, ROWS(AngleBase)),1)","v":135},{"$f":"INDEX(PolaireBase,MATCH($A130,AngleBase),INT((COLUMN()-2)/6)+3)","v":7.9190497140343155},{"$f":"INDEX(PolaireBase,MIN(MATCH($A130,AngleBase)+1,ROWS(AngleBase)),INT((COLUMN()-2)/6)+3)","v":7.8482668410725971},{"$f":"IF(Z130=AA130, AB130, TREND(AB130:AC130,Z130:AA130,$A130))","v":7.8680860455018777},{"$f":"AD130*COS!$B130","v":-4.8440774627629102},{"$f":"INDEX(PolaireBase,MATCH($A130,AngleBase),1)","v":110},{"$f":"INDEX(PolaireBase,MIN(MATCH($A130,AngleBase)+1, ROWS(AngleBase)),1)","v":135},{"$f":"INDEX(PolaireBase,MATCH($A130,AngleBase),INT((COLUMN()-2)/6)+3)","v":8.1429540827866997},{"$f":"INDEX(PolaireBase,MIN(MATCH($A130,AngleBase)+1,ROWS(AngleBase)),INT((COLUMN()-2)/6)+3)","v":8.2930200414651001},{"$f":"IF(AF130=AG130, AH130, TREND(AH130:AI130,AF130:AG130,$A130))","v":8.2510015730351487},{"$f":"AJ130*COS!$B130","v":-5.0798238013691472},{"$f":"INDEX(PolaireBase,MATCH($A130,AngleBase),1)","v":110},{"$f":"INDEX(PolaireBase,MIN(MATCH($A130,AngleBase)+1, ROWS(AngleBase)),1)","v":135},{"$f":"INDEX(PolaireBase,MATCH($A130,AngleBase),INT((COLUMN()-2)/6)+3)","v":8.5106382978723403},{"$f":"INDEX(PolaireBase,MIN(MATCH($A130,AngleBase)+1,ROWS(AngleBase)),INT((COLUMN()-2)/6)+3)","v":8.8691796008869179},{"$f":"IF(AL130=AM130, AN130, TREND(AN130:AO130,AL130:AM130,$A130))","v":8.7687880360428352},{"$f":"AP130*COS!$B130","v":-5.3986049790881134}]
[129,110,135,5.4827901309777642,5.3199349785724834,5.3590202151497506,{"$f":"F131*COS!$B131","v":-3.372540697442024},110,135,6.6091426473288042,6.4493013256897163,6.4876632428830971,{"$f":"L131*COS!$B131","v":-4.0828187690108457},110,135,7.1641791044776122,7.0754716981132075,7.0967614756406654,{"$f":"R131*COS!$B131","v":-4.4661367070376041},110,135,7.5392670157068062,7.4503311258278151,7.4716757393987727,{"$f":"X131*COS!$B131","v":-4.7020778981160181},110,135,7.9190497140343155,7.8482668410725971,7.8652547305834091,{"$f":"AD131*COS!$B131","v":-4.9497651827573339},110,135,8.1429540827866997,8.2930200414651001,8.2570042113822844,{"$f":"AJ131*COS!$B131","v":-5.1963011192072521},110,135,8.5106382978723403,8.8691796008869179,8.7831296881634184,{"$f":"AP131*COS!$B131","v":-5.5274026099964377}]
[130,110,135,5.4827901309777642,5.3199349785724834,5.3525060090535401,{"$f":"F132*COS!$B132","v":-3.4405245433923635},110,135,6.6091426473288042,6.4493013256897163,6.4812695900175328,{"$f":"L132*COS!$B132","v":-4.1660797875014266},110,135,7.1641791044776122,7.0754716981132075,7.0932131793860886,{"$f":"R132*COS!$B132","v":-4.559429544574642},110,135,7.5392670157068062,7.4503311258278151,7.4681183038036139,{"$f":"X132*COS!$B132","v":-4.8004139133582173},110,135,7.9190497140343155,7.8482668410725971,7.8624234156649404,{"$f":"AD132*COS!$B132","v":-5.0538683536987437},110,135,8.1429540827866997,8.2930200414651001,8.26300684972942,{"$f":"AJ132*COS!$B132","v":-5.3113584217610761},110,135,8.5106382978723403,8.8691796008869179,8.7974713402840017,{"$f":"AP132*COS!$B132","v":-5.6549055741069889}]
[131,110,135,5.4827901309777642,5.3199349785724834,5.3459918029573288,{"$f":"F133*COS!$B133","v":-3.5072861912393978},110,135,6.6091426473288042,6.4493013256897163,6.4748759371519693,{"$f":"L133*COS!$B133","v":-4.2479008201619228},110,135,7.1641791044776122,7.0754716981132075,7.0896648831315128,{"$f":"R133*COS!$B133","v":-4.6512386590953598},110,135,7.5392670157068062,7.4503311258278151,7.4645608682084541,{"$f":"X133*COS!$B133","v":-4.8971925550373783},110,135,7.9190497140343155,7.8482668410725971,7.8595921007464709,{"$f":"AD133*COS!$B133","v":-5.1563563618771928},110,135,8.1429540827866997,8.2930200414651001,8.2690094880765557,{"$f":"AJ133*COS!$B133","v":-5.4249583354607989},110,135,8.5106382978723403,8.8691796008869179,8.8118129924045849,{"$f":"AP133*COS!$B133","v":-5.78106947544289}]
[132,110,135,5.4827901309777642,5.3199349785724834,5.3394775968611174,{"$f":"F134*COS!$B134","v":-3.5728078820272189},110,135,6.6091426473288042,6.4493013256897163,6.4684822842864058,{"$f":"L134*COS!$B134","v":-4.3282594731060948},110,135,7.1641791044776122,7.0754716981132075,7.0861165868769369,{"$f":"R134*COS!$B134","v":-4.7415374885065278},110,135,7.5392670157068062,7.4503311258278151,7.4610034326132944,{"$f":"X134*COS!$B134","v":-4.9923857509100564},110,135,7.9190497140343155,7.8482668410725971,7.8567607858280022,{"$f":"AD134*COS!$B134","v":-5.2571991086375904},110,135,8.1429540827866997,8.2930200414651001,8.2750121264236931,{"$f":"AJ134*COS!$B134","v":-5.5370638817807905},110,135,8.5106382978723403,8.8691796008869179,8.8261546445251682,{"$f":"AP134*COS!$B134","v":-5.9058502091081788}]
[133,110,135,5.4827901309777642,5.3199349785724834,5.3329633907649061,{"$f":"F135*COS!$B135","v":-3.6370722867750067},110,135,6.6091426473288042,6.4493013256897163,6.4620886314208423,{"$f":"L135*COS!$B135","v":-4.4071338492075292},110,135,7.1641791044776122,7.0754716981132075,7.0825682906223602,{"$f":"R135*COS!$B135","v":-4.8302999592351021},110,135,7.5392670157068062,7.4503311258278151,7.4574459970181346,{"$f":"X135*COS!$B135","v":-5.0859659402210111},110,135,7.9190497140343155,7.8482668410725971,7.8539294709095335,{"$f":"AD135*COS!$B135","v":-5.3563670192068269},110,135,8.1429540827866997,8.2930200414651001,8.2810147647708288,{"$f":"AJ135*COS!$B135","v":-5.6476384892270408},110,135,8.5106382978723403,8.8691796008869179,8.8404962966457514,{"$f":"AP135*COS!$B135","v":-6.0292039764509928}]
[134,110,135,5.4827901309777642,5.3199349785724834,5.3264491846686948,{"$f":"F136*COS!$B136","v":-3.7000625109546088},110,135,6.6091426473288042,6.4493013256897163,6.4556949785552789,{"$f":"L136*COS!$B136","v":-4.4845025539835399},110,135,7.1641791044776122,7.0754716981132075,7.0790199943677843,{"$f":"R136*COS!$B136","v":-4.9175004937341837},110,135,7.5392670157068062,7.4503311258278151,7.4538885614229748,{"$f":"X136*COS!$B136","v":-5.1779060816610416},110,135,7.9190497140343155,7.8482668410725971,7.8510981559910649,{"$f":"AD136*COS!$B136","v":-5.4538310513543893},110,135,8.1429540827866997,8.2930200414651001,8.2870174031179644,{"$f":"AJ136*COS!$B136","v":-5.7566460052152744},110,135,8.5106382978723403,8.8691796008869179,8.8548379487663347,{"$f":"AP136*COS!$B136","v":-6.15108730016851}]
[135,135,150,5.3199349785724834,4.8257372654155493,5.3199349785724834,{"$f":"F137*COS!$B137","v":-3.761762098820113},135,150,6.4493013256897163,5.920078934385792,6.4493013256897163,{"$f":"L137*COS!$B137","v":-4.5603447013105889},135,150,7.0754716981132075,6.7554888346781761,7.0754716981132066,{"$f":"R137*COS!$B137","v":-5.0031140178293443},135,150,7.4503311258278151,7.2014402880576123,7.4503311258278151,{"$f":"X137*COS!$B137","v":-5.2681796611580527},135,150,7.8482668410725971,7.5503355704697981,7.8482668410725971,{"$f":"AD137*COS!$B137","v":-5.5495627038839572},135,150,8.2930200414651001,7.9435127978817297,8.2930200414651001,{"$f":"AJ137*COS!$B137","v":-5.864050707835915},135,150,8.8691796008869179,8.8365243004418268,8.8691796008869179,{"$f":"AP137*COS!$B137","v":-6.2714570393485358}]
[136,135,150,5.3199349785724834,4.8257372654155493,5.2869884643620217,{"$f":"F138*COS!$B138","v":-3.8031412263469289},135,150,6.4493013256897163,5.920078934385792,6.4140198329361215,{"$f":"L138*COS!$B138","v":-4.6138597459924187},135,150,7.0754716981132075,6.7554888346781761,7.0541395072175384,{"$f":"R138*COS!$B138","v":-5.0743233046828555},135,150,7.4503311258278151,7.2014402880576123,7.4337384033098015,{"$f":"X138*COS!$B138","v":-5.347383898806636},135,150,7.8482668410725971,7.5503355704697981,7.8284047563657442,{"$f":"AD138*COS!$B138","v":-5.6312831144142814},135,150,8.2930200414651001,7.9435127978817297,8.269719558559542,{"$f":"AJ138*COS!$B138","v":-5.9487384161108592},135,150,8.8691796008869179,8.8365243004418268,8.8670025808572461,{"$f":"AP138*COS!$B138","v":-6.3783878661161566}]
[137,135,150,5.3199349785724834,4.8257372654155493,5.2540419501515592,{"$f":"F139*COS!$B139","v":-3.8425630287057477},135,150,6.4493013256897163,5.920078934385792,6.3787383401825268,{"$f":"L139*COS!$B139","v":-4.6651138967526142},135,150,7.0754716981132075,6.7554888346781761,7.0328073163218692,{"$f":"R139*COS!$B139","v":-5.1434696635663837},135,150,7.4503311258278151,7.2014402880576123,7.4171456807917879,{"$f":"X139*COS!$B139","v":-5.4245569490957166},135,150,7.8482668410725971,7.5503355704697981,7.8085426716588913,{"$f":"AD139*COS!$B139","v":-5.7108065871689773},135,150,8.2930200414651001,7.9435127978817297,8.2464190756539839,{"$f":"AJ139*COS!$B139","v":-6.0310491160824791},135,150,8.8691796008869179,8.8365243004418268,8.8648255608275726,{"$f":"AP139*COS!$B139","v":-6.4833229881194843}]
[138,135,150,5.3199349785724834,4.8257372654155493,5.2210954359410966,{"$f":"F140*COS!$B140","v":-3.8800300565432648},135,150,6.4493013256897163,5.920078934385792,6.3434568474289321,{"$f":"L140*COS!$B140","v":-4.714107131805954},135,150,7.0754716981132075,6.7554888346781761,7.0114751254262,{"$f":"R140*COS!$B140","v":-5.2105414584239425},135,150,7.4503311258278151,7.2014402880576123,7.4005529582737744,{"$f":"X140*COS!$B140","v":-5.4996826366125759},135,150,7.8482668410725971,7.5503355704697981,7.7886805869520375,{"$f":"AD140*COS!$B140","v":-5.7881176754896391},135,150,8.2930200414651001,7.9435127978817297,8.2231185927484258,{"$f":"AJ140*COS!$B140","v":-6.1109680314879427},135,150,8.8691796008869179,8.8365243004418268,8.862648540797899,{"$f":"AP140*COS!$B140","v":-6.5862314031187355}]
[139,135,150,5.3199349785724834,4.8257372654155493,5.1881489217306349,{"$f":"F141*COS!$B141","v":-3.9155456948525549},135,150,6.4493013256897163,5.920078934385792,6.3081753546753365,{"$f":"L141*COS!$B141","v":-4.7608403738986595},135,150,7.0754716981132075,6.7554888346781761,6.9901429345305317,{"$f":"R141*COS!$B141","v":-5.2755278398167134},135,150,7.4503311258278151,7.2014402880576123,7.3839602357557617,{"$f":"X141*COS!$B141","v":-5.5727455299088717},135,150,7.8482668410725971,7.5503355704697981,7.7688185022451837,{"$f":"AD141*COS!$B141","v":-5.8632017506563674},135,150,8.2930200414651001,7.9435127978817297,8.1998181098428677,{"$f":"AJ141*COS!$B141","v":-6.1884812835825942},135,150,8.8691796008869179,8.8365243004418268,8.8604715207682272,{"$f":"AP141*COS!$B141","v":-6.6870827420148151}]
[140,135,150,5.3199349785724834,4.8257372654155493,5.1552024075201723,{"$f":"F142*COS!$B142","v":-3.9491141574344044},135,150,6.4493013256897163,5.920078934385792,6.2728938619217418,{"$f":"L142*COS!$B142","v":-4.8053154852002953},135,150,7.0754716981132075,6.7554888346781761,6.9688107436348634,{"$f":"R142*COS!$B142","v":-5.338418745309319},135,150,7.4503311258278151,7.2014402880576123,7.3673675132377472,{"$f":"X142*COS!$B142","v":-5.6437309439310592},135,150,7.8482668410725971,7.5503355704697981,7.7489564175383308,{"$f":"AD142*COS!$B142","v":-5.936045003626381},135,150,8.2930200414651001,7.9435127978817297,8.1765176269373097,{"$f":"AJ142*COS!$B142","v":-6.2635758921796985},135,150,8.8691796008869179,8.8365243004418268,8.8582945007385536,{"$f":"AP142*COS!$B142","v":-6.7858472778021701}]
[141,135,150,5.3199349785724834,4.8257372654155493,5.1222558933097098,{"$f":"F143*COS!$B143","v":-3.9807404810348088},135,150,6.4493013256897163,5.920078934385792,6.2376123691681471,{"$f":"L143*COS!$B143","v":-4.8475352618330723},135,150,7.0754716981132075,6.7554888346781761,6.9474785527391942,{"$f":"R143*COS!$B143","v":-5.3992048995701847},135,150,7.4503311258278151,7.2014402880576123,7.3507747907197345,{"$f":"X143*COS!$B143","v":-5.7126249421875501},135,150,7.8482668410725971,7.5503355704697981,7.7290943328314778,{"$f":"AD143*COS!$B143","v":-6.0066344464799419},135,150,8.2930200414651001,7.9435127978817297,8.1532171440317516,{"$f":"AJ143*COS!$B143","v":-6.3362397763660123},135,150,8.8691796008869179,8.8365243004418268,8.8561174807088818,{"$f":"AP143*COS!$B143","v":-6.8824959343213887}]
[142,135,150,5.3199349785724834,4.8257372654155493,5.0893093790992481,{"$f":"F144*COS!$B144","v":-4.0104305191617566},135,150,6.4493013256897163,5.920078934385792,6.2023308764145515,{"$f":"L144*COS!$B144","v":-4.8875034280416703},135,150,7.0754716981132075,6.7554888346781761,6.9261463618435251,{"$f":"R144*COS!$B144","v":-5.4578778141867712},135,150,7.4503311258278151,7.2014402880576123,7.33418206820172,{"$f":"X144*COS!$B144","v":-5.7794143386525434},135,150,7.8482668410725971,7.5503355704697981,7.7092322481246249,{"$f":"AD144*COS!$B144","v":-6.0749579135739289},135,150,8.2930200414651001,7.9435127978817297,8.1299166611261935,{"$f":"AJ144*COS!$B144","v":-6.406461754893896},135,150,8.8691796008869179,8.8365243004418268,8.8539404606792083,{"$f":"AP144*COS!$B144","v":-6.9770002948088692}]
[143,135,150,5.3199349785724834,4.8257372654155493,5.0563628648887855,{"$f":"F145*COS!$B145","v":-4.0381909355846464},135,150,6.4493013256897163,5.920078934385792,6.1670493836609568,{"$f":"L145*COS!$B145","v":-4.9252246300069116},135,150,7.0754716981132075,6.7554888346781761,6.9048141709478568,{"$f":"R145*COS!$B145","v":-5.5144297871967174},135,150,7.4503311258278151,7.2014402880576123,7.3175893456837073,{"$f":"X145*COS!$B145","v":-5.844086699406744},135,150,7.8482668410725971,7.5503355704697981,7.6893701634177711,{"$f":"AD145*COS!$B145","v":-6.1410040624035878},135,150,8.2930200414651001,7.9435127978817297,8.1066161782206354,{"$f":"AJ145*COS!$B145","v":-6.4742315462508735},135,150,8.8691796008869179,8.8365243004418268,8.8517634406495365,{"$f":"AP145*COS!$B145","v":-7.0693326102411236}]
[144,135,150,5.3199349785724834,4.8257372654155493,5.0234163506783229,{"$f":"F146*COS!$B146","v":-4.0640291975197433},135,150,6.4493013256897163,5.920078934385792,6.1317678909073621,{"$f":"L146*COS!$B146","v":-4.9607044293066842},135,150,7.0754716981132075,6.7554888346781761,6.8834819800521885,{"$f":"R146*COS!$B146","v":-5.5688539023359329},135,150,7.4503311258278151,7.2014402880576123,7.3009966231656929,{"$f":"X146*COS!$B146","v":-5.9066303440151486},135,150,7.8482668410725971,7.5503355704697981,7.6695080787109173,{"$f":"AD146*COS!$B146","v":-6.2047623741730833},135,150,8.2930200414651001,7.9435127978817297,8.0833156953150773,{"$f":"AJ146*COS!$B146","v":-6.5395397684076411},135,150,8.8691796008869179,8.8365243004418268,8.8495864206198629,{"$f":"AP146*COS!$B146","v":-7.1594658074712303}]
[145,135,150,5.3199349785724834,4.8257372654155493,4.9904698364678612,{"$f":"F147*COS!$B147","v":-4.0879535685051982},135,150,6.4493013256897163,5.920078934385792,6.0964863981537674,{"$f":"L147*COS!$B147","v":-4.9939492960276892},135,150,7.0754716981132075,6.7554888346781761,6.8621497891565193,{"$f":"R147*COS!$B147","v":-5.621144028004835},135,150,7.4503311258278151,7.2014402880576123,7.2844039006476802,{"$f":"X147*COS!$B147","v":-5.9670343466422517},135,150,7.8482668410725971,7.5503355704697981,7.6496459940040644,{"$f":"AD147*COS!$B147","v":-6.266223154075524},135,150,8.2930200414651001,7.9435127978817297,8.0600152124095192,{"$f":"AJ147*COS!$B147","v":-6.6023779382456285},135,150,8.8691796008869179,8.8365243004418268,8.8474094005901911,{"$f":"AP147*COS!$B147","v":-7.2473734971550963}]
[146,135,150,5.3199349785724834,4.8257372654155493,4.9575233222573987,{"$f":"F148*COS!$B148","v":-4.1099731009692793},135,150,6.4493013256897163,5.920078934385792,6.0612049054001726,{"$f":"L148*COS!$B148","v":-5.0249666015316699},135,150,7.0754716981132075,6.7554888346781761,6.8408175982608501,{"$f":"R148*COS!$B148","v":-5.6712948159539849},135,150,7.4503311258278151,7.2014402880576123,7.2678111781296666,{"$f":"X148*COS!$B148","v":-6.0252885369050162},135,150,7.8482668410725971,7.5503355704697981,7.6297839092972115,{"$f":"AD148*COS!$B148","v":-6.3253775312832765},135,150,8.2930200414651001,7.9435127978817297,8.0367147295039612,{"$f":"AJ148*COS!$B148","v":-6.6627384706653121},135,150,8.8691796008869179,8.8365243004418268,8.8452323805605175,{"$f":"AP148*COS!$B148","v":-7.3330299814651436}]
[147,135,150,5.3199349785724834,4.8257372654155493,4.9245768080469361,{"$f":"F149*COS!$B149","v":-4.1300976284955881},135,150,6.4493013256897163,5.920078934385792,6.025923412646577,{"$f":"L149*COS!$B149","v":-5.0537646108799334},135,150,7.0754716981132075,6.7554888346781761,6.8194854073651818,{"$f":"R149*COS!$B149","v":-5.7193016996904893},135,150,7.4503311258278151,7.2014402880576123,7.251218455611653,{"$f":"X149*COS!$B149","v":-6.0813835004641668},135,150,7.8482668410725971,7.5503355704697981,7.6099218245903586,{"$f":"AD149*COS!$B149","v":-6.3822174586494747},135,150,8.2930200414651001,7.9435127978817297,8.0134142465984031,{"$f":"AJ149*COS!$B149","v":-6.720614677376636},135,150,8.8691796008869179,8.8365243004418268,8.8430553605308457,{"$f":"AP149*COS!$B149","v":-7.416410261589232}]
[148,135,150,5.3199349785724834,4.8257372654155493,4.8916302938364744,{"$f":"F150*COS!$B150","v":-4.1483377577891209},135,150,6.4493013256897163,5.920078934385792,5.9906419198929823,{"$f":"L150*COS!$B150","v":-5.0803524749201197},135,150,7.0754716981132075,6.7554888346781761,6.7981532164695135,{"$f":"R150*COS!$B150","v":-5.7651608926066542},135,150,7.4503311258278151,7.2014402880576123,7.2346257330936394,{"$f":"X150*COS!$B150","v":-6.1353105793543481},135,150,7.8482668410725971,7.5503355704697981,7.5900597398835048,{"$f":"AD150*COS!$B150","v":-6.4367357121217434},135,150,8.2930200414651001,7.9435127978817297,7.990113763692845,{"$f":"AJ150*COS!$B150","v":-6.7760007653729719},135,150,8.8691796008869179,8.8365243004418268,8.8408783405011722,{"$f":"AP150*COS!$B150","v":-7.4974900450126016}]
[149,135,150,5.3199349785724834,4.8257372654155493,4.8586837796260118,{"$f":"F151*COS!$B151","v":-4.1647048603471646},135,150,6.4493013256897163,5.920078934385792,5.9553604271393876,{"$f":"L151*COS!$B151","v":-5.104740222039247},135,150,7.0754716981132075,6.7554888346781761,6.7768210255738444,{"$f":"R151*COS!$B151","v":-5.8088693858324518},135,150,7.4503311258278151,7.2014402880576123,7.2180330105756259,{"$f":"X151*COS!$B151","v":-6.1870618720538495},135,150,7.8482668410725971,7.5503355704697981,7.570197655176651,{"$f":"AD151*COS!$B151","v":-6.488925889869229},135,150,8.2930200414651001,7.9435127978817297,7.9668132807872869,{"$f":"AJ151*COS!$B151","v":-6.8288918350901779},135,150,8.8691796008869179,8.8365243004418268,8.8387013204715004,{"$f":"AP151*COS!$B151","v":-7.5762457525807507}]
[150,150,180,4.8257372654155493,4.1081821294077372,4.8257372654155493,{"$f":"F152*COS!$B152","v":-4.179211063839114},150,180,5.920078934385792,5.1701852649719955,5.9200789343857911,{"$f":"L152*COS!$B152","v":-5.1269387495872047},150,180,6.7554888346781761,6.0821084642676126,6.7554888346781752,{"$f":"R152*COS!$B152","v":-5.8504249458134341},150,180,7.2014402880576123,6.8027210884353737,7.2014402880576114,{"$f":"X152*COS!$B152","v":-6.2366302332946173},150,180,7.5503355704697981,7.2072072072072073,7.5503355704697981,{"$f":"AD152*COS!$B152","v":-6.5387824111241173},150,180,7.9435127978817297,7.5329566854990588,7.9435127978817306,{"$f":"AJ152*COS!$B152","v":-6.879283878252382},150,180,8.8365243004418268,8.2949308755760374,8.8365243004418286,{"$f":"AP152*COS!$B152","v":-7.6526545253411395}]
[151,150,180,4.8257372654155493,4.1081821294077372,4.8018187608819556,{"$f":"F153*COS!$B153","v":-4.1997653183790318},150,180,5.920078934385792,5.1701852649719955,5.8950824787386651,{"$f":"L153*COS!$B153","v":-5.155955311116994},150,180,6.7554888346781761,6.0821084642676126,6.7330428223311571,{"$f":"R153*COS!$B153","v":-5.8888519414242868},150,180,7.2014402880576123,6.8027210884353737,7.188149648070203,{"$f":"X153*COS!$B153","v":-6.2868973400693111},150,180,7.5503355704697981,7.2072072072072073,7.5388979583610443,{"$f":"AD153*COS!$B153","v":-6.593668724495525},150,180,7.9435127978817297,7.5329566854990588,7.9298275941356415,{"$f":"AJ153*COS!$B153","v":-6.9355834880488141},150,180,8.8365243004418268,8.2949308755760374,8.8184711862796359,{"$f":"AP153*COS!$B153","v":-7.712808686361095}]
[152,150,180,4.8257372654155493,4.1081821294077372,4.7779002563483619,{"$f":"F154*COS!$B154","v":-4.2186355302628353},150,180,5.920078934385792,5.1701852649719955,5.8700860230915382,{"$f":"L154*COS!$B154","v":-5.1829783239635043},150,180,6.7554888346781761,6.0821084642676126,6.7105968099841373,{"$f":"R154*COS!$B154","v":-5.9251053000222864},150,180,7.2014402880576123,6.8027210884353737,7.1748590080827954,{"$f":"X154*COS!$B154","v":-6.335024490288891},150,180,7.5503355704697981,7.2072072072072073,7.5274603462522922,{"$f":"AD154*COS!$B154","v":-6.6463529930644851},150,180,7.9435127978817297,7.5329566854990588,7.9161423903895525,{"$f":"AJ154*COS!$B154","v":-6.989538868322966},150,180,8.8365243004418268,8.2949308755760374,8.8004180721174432,{"$f":"AP154*COS!$B154","v":-7.7703079529282935}]
[153,150,180,4.8257372654155493,4.1081821294077372,4.7539817518147682,{"$f":"F155*COS!$B155","v":-4.2358287567394042},150,180,5.920078934385792,5.1701852649719955,5.8450895674444112,{"$f":"L155*COS!$B155","v":-5.2080129390583352},150,180,6.7554888346781761,6.0821084642676126,6.6881507976371193,{"$f":"R155*COS!$B155","v":-5.9591859954503095},150,180,7.2014402880576123,6.8027210884353737,7.1615683680953879,{"$f":"X155*COS!$B155","v":-6.3810041393940331},150,180,7.5503355704697981,7.2072072072072073,7.5160227341435384,{"$f":"AD155*COS!$B155","v":-6.6968252920699864},150,180,7.9435127978817297,7.5329566854990588,7.9024571866434634,{"$f":"AJ155*COS!$B155","v":-7.04114091041858},150,180,8.8365243004418268,8.2949308755760374,8.7823649579552487,{"$f":"AP155*COS!$B155","v":-7.8251444753414274}]
[154,150,180,4.8257372654155493,4.1081821294077372,4.7300632472811746,{"$f":"F156*COS!$B156","v":-4.2513526852748242},150,180,5.920078934385792,5.1701852649719955,5.8200931117972852,{"$f":"L156*COS!$B156","v":-5.2310650377901924},150,180,6.7554888346781761,6.0821084642676126,6.6657047852901004,{"$f":"R156*COS!$B156","v":-5.9910957754066096},150,180,7.2014402880576123,6.8027210884353737,7.1482777281079795,{"$f":"X156*COS!$B156","v":-6.4248294633163878},150,180,7.5503355704697981,7.2072072072072073,7.5045851220347854,{"$f":"AD156*COS!$B156","v":-6.7450764276301731},150,180,7.9435127978817297,7.5329566854990588,7.8887719828973744,{"$f":"AJ156*COS!$B156","v":-7.0903812908398347},150,180,8.8365243004418268,8.2949308755760374,8.7643118437930561,{"$f":"AP156*COS!$B156","v":-7.8773113051104744}]
[155,150,180,4.8257372654155493,4.1081821294077372,4.7061447427475809,{"$f":"F157*COS!$B157","v":-4.2652156272737241},150,180,5.920078934385792,5.1701852649719955,5.7950966561501582,{"$f":"L157*COS!$B157","v":-5.2521412260989395},150,180,6.7554888346781761,6.0821084642676126,6.6432587729430814,{"$f":"R157*COS!$B157","v":-6.020837157217855},150,180,7.2014402880576123,6.8027210884353737,7.134987088120571,{"$f":"X157*COS!$B157","v":-6.4664943583696255},150,180,7.5503355704697981,7.2072072072072073,7.4931475099260325,{"$f":"AD157*COS!$B157","v":-6.7910979376602461},150,180,7.9435127978817297,7.5329566854990588,7.8750867791512853,{"$f":"AJ157*COS!$B157","v":-7.1372524715341807},150,180,8.8365243004418268,8.2949308755760374,8.7462587296308634,{"$f":"AP157*COS!$B157","v":-7.9268023941017294}]
[156,150,180,4.8257372654155493,4.1081821294077372,4.6822262382139872,{"$f":"F158*COS!$B158","v":-4.2774265115753902},150,180,5.920078934385792,5.1701852649719955,5.7701002005030322,{"$f":"L158*COS!$B158","v":-5.2712488283122045},150,180,6.7554888346781761,6.0821084642676126,6.6208127605960634,{"$f":"R158*COS!$B158","v":-6.0484134233447016},150,180,7.2014402880576123,6.8027210884353737,7.1216964481331635,{"$f":"X158*COS!$B158","v":-6.505993440901495},150,180,7.5503355704697981,7.2072072072072073,7.4817098978172796,{"$f":"AD158*COS!$B158","v":-6.8348820925506626},150,180,7.9435127978817297,7.5329566854990588,7.8614015754051962,{"$f":"AJ158*COS!$B158","v":-7.1817476999158023},150,180,8.8365243004418268,8.2949308755760374,8.7282056154686707,{"$f":"AP158*COS!$B158","v":-7.973612593382045}]
[157,150,180,4.8257372654155493,4.1081821294077372,4.6583077336803935,{"$f":"F159*COS!$B159","v":-4.2879948777278392},150,180,5.920078934385792,5.1701852649719955,5.7451037448559052,{"$f":"L159*COS!$B159","v":-5.2883958807276503},150,180,6.7554888346781761,6.0821084642676126,6.5983667482490436,{"$f":"R159*COS!$B159","v":-6.07382861662244},150,180,7.2014402880576123,6.8027210884353737,7.108405808145756,{"$f":"X159*COS!$B159","v":-6.5433220467076838},150,180,7.5503355704697981,7.2072072072072073,7.4702722857085266,{"$f":"AD159*COS!$B159","v":-6.8764218956059526},150,180,7.9435127978817297,7.5329566854990588,7.8477163716591072,{"$f":"AJ159*COS!$B159","v":-7.2238610086303821},150,180,8.8365243004418268,8.2949308755760374,8.710152501306478,{"$f":"AP159*COS!$B159","v":-8.0177376517635253}]
[158,150,180,4.8257372654155493,4.1081821294077372,4.6343892291467998,{"$f":"F160*COS!$B160","v":-4.2969308690431323},150,180,5.920078934385792,5.1701852649719955,5.7201072892087783,{"$f":"L160*COS!$B160","v":-5.3035911249441723},150,180,6.7554888346781761,6.0821084642676126,6.5759207359020255,{"$f":"R160*COS!$B160","v":-6.0970875352393046},150,180,7.2014402880576123,6.8027210884353737,7.0951151681583475,{"$f":"X160*COS!$B160","v":-6.5784762302083362},150,180,7.5503355704697981,7.2072072072072073,7.4588346735997737,{"$f":"AD160*COS!$B160","v":-6.9157110832446431},150,180,7.9435127978817297,7.5329566854990588,7.8340311679130181,{"$f":"AJ160*COS!$B160","v":-7.2635872150619427},150,180,8.8365243004418268,8.2949308755760374,8.6920993871442853,{"$f":"AP160*COS!$B160","v":-8.0591742140500475}]
[159,150,180,4.8257372654155493,4.1081821294077372,4.6104707246132062,{"$f":"F161*COS!$B161","v":-4.3042452254372598},150,180,5.920078934385792,5.1701852649719955,5.6951108335616523,{"$f":"L161*COS!$B161","v":-5.3168440009453217},150,180,6.7554888346781761,6.0821084642676126,6.5534747235550066,{"$f":"R161*COS!$B161","v":-6.118195727455114},150,180,7.2014402880576123,6.8027210884353737,7.08182452817094,{"$f":"X161*COS!$B161","v":-6.6114527633881703},150,180,7.5503355704697981,7.2072072072072073,7.4473970614910208,{"$f":"AD161*COS!$B161","v":-6.9527441249607937},150,180,7.9435127978817297,7.5329566854990588,7.8203459641669291,{"$f":"AJ161*COS!$B161","v":-7.3009219205826321},150,180,8.8365243004418268,8.2949308755760374,8.6740462729820926,{"$f":"AP161*COS!$B161","v":-8.0979198189870853}]
[160,{"$f":"INDEX(PolaireBase,MATCH($A162,AngleBase),1)","v":150},{"$f":"INDEX(PolaireBase,MIN(MATCH($A162,AngleBase)+1, ROWS(AngleBase)),1)","v":180},{"$f":"INDEX(PolaireBase,MATCH($A162,AngleBase),INT((COLUMN()-2)/6)+3)","v":4.8257372654155493},{"$f":"INDEX(PolaireBase,MIN(MATCH($A162,AngleBase)+1,ROWS(AngleBase)),INT((COLUMN()-2)/6)+3)","v":4.1081821294077372},{"$f":"IF(B162=C162, D162, TREND(D162:E162,B162:C162,$A162))","v":4.5865522200796125},{"$f":"F162*COS!$B162","v":-4.3099492760580373},{"$f":"INDEX(PolaireBase,MATCH($A162,AngleBase),1)","v":150},{"$f":"INDEX(PolaireBase,MIN(MATCH($A162,AngleBase)+1, ROWS(AngleBase)),1)","v":180},{"$f":"INDEX(PolaireBase,MATCH($A162,AngleBase),INT((COLUMN()-2)/6)+3)","v":5.920078934385792},{"$f":"INDEX(PolaireBase,MIN(MATCH($A162,AngleBase)+1,ROWS(AngleBase)),INT((COLUMN()-2)/6)+3)","v":5.1701852649719955},{"$f":"IF(H162=I162, J162, TREND(J162:K162,H162:I162,$A162))","v":5.6701143779145262},{"$f":"L162*COS!$B162","v":-5.3281646399383611},{"$f":"INDEX(PolaireBase,MATCH($A162,AngleBase),1)","v":150},{"$f":"INDEX(PolaireBase,MIN(MATCH($A162,AngleBase)+1, ROWS(AngleBase)),1)","v":180},{"$f":"INDEX(PolaireBase,MATCH($A162,AngleBase),INT((COLUMN()-2)/6)+3)","v":6.7554888346781761},{"$f":"INDEX(PolaireBase,MIN(MATCH($A162,AngleBase)+1,ROWS(AngleBase)),INT((COLUMN()-2)/6)+3)","v":6.0821084642676126},{"$f":"IF(N162=O162, P162, TREND(P162:Q162,N162:O162,$A162))","v":6.5310287112079877},{"$f":"R162*COS!$B162","v":-6.1371594860630472},{"$f":"INDEX(PolaireBase,MATCH($A162,AngleBase),1)","v":150},{"$f":"INDEX(PolaireBase,MIN(MATCH($A162,AngleBase)+1, ROWS(AngleBase)),1)","v":180},{"$f":"INDEX(PolaireBase,MATCH($A162,AngleBase),INT((COLUMN()-2)/6)+3)","v":7.2014402880576123},{"$f":"INDEX(PolaireBase,MIN(MATCH($A162,AngleBase)+1,ROWS(AngleBase)),INT((COLUMN()-2)/6)+3)","v":6.8027210884353737},{"$f":"IF(T162=U162, V162, TREND(V162:W162,T162:U162,$A162))","v":7.0685338881835325},{"$f":"X162*COS!$B162","v":-6.6422491345011903},{"$f":"INDEX(PolaireBase,MATCH($A162,AngleBase),1)","v":150},{"$f":"INDEX(PolaireBase,MIN(MATCH($A162,AngleBase)+1, ROWS(AngleBase)),1)","v":180},{"$f":"INDEX(PolaireBase,MATCH($A162,AngleBase),INT((COLUMN()-2)/6)+3)","v":7.5503355704697981},{"$f":"INDEX(PolaireBase,MIN(MATCH($A162,AngleBase)+1,ROWS(AngleBase)),INT((COLUMN()-2)/6)+3)","v":7.2072072072072073},{"$f":"IF(Z162=AA162, AB162, TREND(AB162:AC162,Z162:AA162,$A162))","v":7.4359594493822678},{"$f":"AD162*COS!$B162","v":-6.9875162230477628},{"$f":"INDEX(PolaireBase,MATCH($A162,AngleBase),1)","v":150},{"$f":"INDEX(PolaireBase,MIN(MATCH($A162,AngleBase)+1, ROWS(AngleBase)),1)","v":180},{"$f":"INDEX(PolaireBase,MATCH($A162,AngleBase),INT((COLUMN()-2)/6)+3)","v":7.9435127978817297},{"$f":"INDEX(PolaireBase,MIN(MATCH($A162,AngleBase)+1,ROWS(AngleBase)),INT((COLUMN()-2)/6)+3)","v":7.5329566854990588},{"$f":"IF(AF162=AG162, AH162, TREND(AH162:AI162,AF162:AG162,$A162))","v":7.80666076042084},{"$f":"AJ162*COS!$B162","v":-7.3358615095463708},{"$f":"INDEX(PolaireBase,MATCH($A162,AngleBase),1)","v":150},{"$f":"INDEX(PolaireBase,MIN(MATCH($A162,AngleBase)+1, ROWS(AngleBase)),1)","v":180},{"$f":"INDEX(PolaireBase,MATCH($A162,AngleBase),INT((COLUMN()-2)/6)+3)","v":8.8365243004418268},{"$f":"INDEX(PolaireBase,MIN(MATCH($A162,AngleBase)+1,ROWS(AngleBase)),INT((COLUMN()-2)/6)+3)","v":8.2949308755760374},{"$f":"IF(AL162=AM162, AN162, TREND(AN162:AO162,AL162:AM162,$A162))","v":8.6559931588198999},{"$f":"AP162*COS!$B162","v":-8.1339728969163652}]
[161,150,180,4.8257372654155493,4.1081821294077372,4.5626337155460188,{"$f":"F163*COS!$B163","v":-4.3140549317044901},150,180,5.920078934385792,5.1701852649719955,5.6451179222673993,{"$f":"L163*COS!$B163","v":-5.3375638569524462},150,180,6.7554888346781761,6.0821084642676126,6.5085826988609696,{"$f":"R163*COS!$B163","v":-6.1539858425973808},150,180,7.2014402880576123,6.8027210884353737,7.055243248196124,{"$f":"X163*COS!$B163","v":-6.6708635465410957},150,180,7.5503355704697981,7.2072072072072073,7.4245218372735149,{"$f":"AD163*COS!$B163","v":-7.0200233120848763},150,180,7.9435127978817297,7.5329566854990588,7.7929755566747509,{"$f":"AJ163*COS!$B163","v":-7.3684031480274026},150,180,8.8365243004418268,8.2949308755760374,8.6379400446577055,{"$f":"AP163*COS!$B163","v":-8.1673327671370526}]
[162,150,180,4.8257372654155493,4.1081821294077372,4.5387152110124243,{"$f":"F164*COS!$B164","v":-4.3165746770412987},150,180,5.920078934385792,5.1701852649719955,5.6201214666202723,{"$f":"L164*COS!$B164","v":-5.3450531431994852},150,180,6.7554888346781761,6.0821084642676126,6.4861366865139498,{"$f":"R164*COS!$B164","v":-6.1686825612901472},150,180,7.2014402880576123,6.8027210884353737,7.0419526082087156,{"$f":"X164*COS!$B164","v":-6.697294915478551},150,180,7.5503355704697981,7.2072072072072073,7.4130842251647611,{"$f":"AD164*COS!$B164","v":-7.0502620581877551},150,180,7.9435127978817297,7.5329566854990588,7.7792903529286619,{"$f":"AJ164*COS!$B164","v":-7.3985447823048283},150,180,8.8365243004418268,8.2949308755760374,8.6198869304955128,{"$f":"AP164*COS!$B164","v":-8.1979996349751865}]
[163,150,180,4.8257372654155493,4.1081821294077372,4.5147967064788306,{"$f":"F165*COS!$B165","v":-4.3175215626119545},150,180,5.920078934385792,5.1701852649719955,5.5951250109731463,{"$f":"L165*COS!$B165","v":-5.3506446582013503},150,180,6.7554888346781761,6.0821084642676126,6.4636906741669318,{"$f":"R165*COS!$B165","v":-6.1812581327797558},150,180,7.2014402880576123,6.8027210884353737,7.0286619682213081,{"$f":"X165*COS!$B165","v":-6.7215428682665461},150,180,7.5503355704697981,7.2072072072072073,7.401646613056009,{"$f":"AD165*COS!$B165","v":-7.0782298580231542},150,180,7.9435127978817297,7.5329566854990588,7.7656051491825728,{"$f":"AJ165*COS!$B165","v":-7.4262851370943315},150,180,8.8365243004418268,8.2949308755760374,8.6018338163333201,{"$f":"AP165*COS!$B165","v":-8.2259745885632221}]
[164,150,180,4.8257372654155493,4.1081821294077372,4.4908782019452369,{"$f":"F166*COS!$B166","v":-4.3169091966543052},150,180,5.920078934385792,5.1701852649719955,5.5701285553260194,{"$f":"L166*COS!$B166","v":-5.3543512216871463},150,180,6.7554888346781761,6.0821084642676126,6.4412446618199128,{"$f":"R166*COS!$B166","v":-6.1917217675746512},150,180,7.2014402880576123,6.8027210884353737,7.0153713282339005,{"$f":"X166*COS!$B166","v":-6.7436077406151744},150,180,7.5503355704697981,7.2072072072072073,7.3902090009472552,{"$f":"AD166*COS!$B166","v":-7.1039248375891866},150,180,7.9435127978817297,7.5329566854990588,7.7519199454364838,{"$f":"AJ166*COS!$B166","v":-7.4516237135283534},150,180,8.8365243004418268,8.2949308755760374,8.5837807021711274,{"$f":"AP166*COS!$B166","v":-8.2512595953316303}]
[165,150,180,4.8257372654155493,4.1081821294077372,4.4669596974116432,{"$f":"F167*COS!$B167","v":-4.3147517367223074},150,180,5.920078934385792,5.1701852649719955,5.5451320996788933,{"$f":"L167*COS!$B167","v":-5.3561863052643703},150,180,6.7554888346781761,6.0821084642676126,6.4187986494728939,{"$f":"R167*COS!$B167","v":-6.2000833892752603},150,180,7.2014402880576123,6.8027210884353737,7.0020806882464921,{"$f":"X167*COS!$B167","v":-6.7634905745372205},150,180,7.5503355704697981,7.2072072072072073,7.3787713888385023,{"$f":"AD167*COS!$B167","v":-7.1273458507619658},150,180,7.9435127978817297,7.5329566854990588,7.7382347416903947,{"$f":"AJ167*COS!$B167","v":-7.4745607868860686},150,180,8.8365243004418268,8.2949308755760374,8.565727588008933,{"$f":"AP167*COS!$B167","v":-8.2738574982145963}]
[166,150,180,4.8257372654155493,4.1081821294077372,4.4430411928780496,{"$f":"F168*COS!$B168","v":-4.3110638811177768},150,180,5.920078934385792,5.1701852649719955,5.5201356440317664,{"$f":"L168*COS!$B168","v":-5.3561640238678185},150,180,6.7554888346781761,6.0821084642676126,6.396352637125875,{"$f":"R168*COS!$B168","v":-6.2063536275574362},150,180,7.2014402880576123,6.8027210884353737,6.9887900482590837,{"$f":"X168*COS!$B168","v":-6.7811931156660039},150,180,7.5503355704697981,7.2072072072072073,7.3673337767297493,{"$f":"AD168*COS!$B168","v":-7.1484924776096719},150,180,7.9435127978817297,7.5329566854990588,7.7245495379443057,{"$f":"AJ168*COS!$B168","v":-7.495097404074583},150,180,8.8365243004418268,8.2949308755760374,8.5476744738467403,{"$f":"AP168*COS!$B168","v":-8.2937720115719191}]
[167,150,180,4.8257372654155493,4.1081821294077372,4.4191226883444559,{"$f":"F169*COS!$B169","v":-4.3058608601360904},150,180,5.920078934385792,5.1701852649719955,5.4951391883846394,{"$f":"L169*COS!$B169","v":-5.3542991269902265},150,180,6.7554888346781761,6.0821084642676126,6.3739066247788561,{"$f":"R169*COS!$B169","v":-6.2105438109208144},150,180,7.2014402880576123,6.8027210884353737,6.9754994082716761,{"$f":"X169*COS!$B169","v":-6.7967178103470429},150,180,7.5503355704697981,7.2072072072072073,7.3558961646209964,{"$f":"AD169*COS!$B169","v":-7.1673650224752237},150,180,7.9435127978817297,7.5329566854990588,7.7108643341982166,{"$f":"AJ169*COS!$B169","v":-7.5132353808628762},150,180,8.8365243004418268,8.2949308755760374,8.5296213596845476,{"$f":"AP169*COS!$B169","v":-8.3110077168293586}]
[168,150,180,4.8257372654155493,4.1081821294077372,4.3952041838108622,{"$f":"F170*COS!$B170","v":-4.2991584271297798},150,180,5.920078934385792,5.1701852649719955,5.4701427327375134,{"$f":"L170*COS!$B170","v":-5.3506069896986617},150,180,6.7554888346781761,6.0821084642676126,6.351460612431838,{"$f":"R170*COS!$B170","v":-6.21266595920547},150,180,7.2014402880576123,6.8027210884353737,6.9622087682842686,{"$f":"X170*COS!$B170","v":-6.810067802505122},150,180,7.5503355704697981,7.2072072072072073,7.3444585525122434,{"$f":"AD170*COS!$B170","v":-7.1839645118287301},150,180,7.9435127978817297,7.5329566854990588,7.6971791304521275,{"$f":"AJ170*COS!$B170","v":-7.5289772988700694},150,180,8.8365243004418268,8.2949308755760374,8.5115682455223549,{"$f":"AP170*COS!$B170","v":-8.3255700578397391}]
[169,150,180,4.8257372654155493,4.1081821294077372,4.3712856792772685,{"$f":"F171*COS!$B171","v":-4.2909728493940538},150,180,5.920078934385792,5.1701852649719955,5.4451462770903865,{"$f":"L171*COS!$B171","v":-5.3451036034407693},150,180,6.7554888346781761,6.0821084642676126,6.3290146000848182,{"$f":"R171*COS!$B171","v":-6.2127327758804034},150,180,7.2014402880576123,6.8027210884353737,6.9489181282968602,{"$f":"X171*COS!$B171","v":-6.82124693028846},150,180,7.5503355704697981,7.2072072072072073,7.3330209404034905,{"$f":"AD171*COS!$B171","v":-7.1982926918910186},150,180,7.9435127978817297,7.5329566854990588,7.6834939267060385,{"$f":"AJ171*COS!$B171","v":-7.5423265023096802},150,180,8.8365243004418268,8.2949308755760374,8.4935151313601622,{"$f":"AP171*COS!$B171","v":-8.3374653359671917}]
[170,150,180,4.8257372654155493,4.1081821294077372,4.3473671747436748,{"$f":"F172*COS!$B172","v":-4.2813208988783495},150,180,5.920078934385792,5.1701852649719955,5.4201498214432604,{"$f":"L172*COS!$B172","v":-5.3378055666450575},150,180,6.7554888346781761,6.0821084642676126,6.3065685877378002,{"$f":"R172*COS!$B172","v":-6.2107576401074374},150,180,7.2014402880576123,6.8027210884353737,6.9356274883094517,{"$f":"X172*COS!$B172","v":-6.8302597224917356},150,180,7.5503355704697981,7.2072072072072073,7.3215833282947376,{"$f":"AD172*COS!$B172","v":-7.2103520260295841},150,180,7.9435127978817297,7.5329566854990588,7.6698087229599494,{"$f":"AJ172*COS!$B172","v":-7.5532870944916208},150,180,8.8365243004418268,8.2949308755760374,8.4754620171979695,{"$f":"AP172*COS!$B172","v":-8.3467007048970476}]
[171,150,180,4.8257372654155493,4.1081821294077372,4.3234486702100812,{"$f":"F173*COS!$B173","v":-4.27021984272805},150,180,5.920078934385792,5.1701852649719955,5.3951533657961335,{"$f":"L173*COS!$B173","v":-5.3287300751194548},150,180,6.7554888346781761,6.0821084642676126,6.2841225753907812,{"$f":"R173*COS!$B173","v":-6.2067545985841637},150,180,7.2014402880576123,6.8027210884353737,6.9223368483220442,{"$f":"X173*COS!$B173","v":-6.8371113947597753},150,180,7.5503355704697981,7.2072072072072073,7.3101457161859846,{"$f":"AD173*COS!$B173","v":-7.2201456919283897},150,180,7.9435127978817297,7.5329566854990588,7.6561235192138604,{"$f":"AJ173*COS!$B173","v":-7.5618639340837435},150,180,8.8365243004418268,8.2949308755760374,8.4574089030357769,{"$f":"AP173*COS!$B173","v":-8.3532841651739496}]
[172,150,180,4.8257372654155493,4.1081821294077372,4.2995301656764875,{"$f":"F174*COS!$B174","v":-4.2576874336605792},150,180,5.920078934385792,5.1701852649719955,5.3701569101490074,{"$f":"L174*COS!$B174","v":-5.3178949122524557},150,180,6.7554888346781761,6.0821084642676126,6.2616765630437623,{"$f":"R174*COS!$B174","v":-6.2007383571696995},150,180,7.2014402880576123,6.8027210884353737,6.9090462083346367,{"$f":"X174*COS!$B174","v":-6.8418078455738094},150,180,7.5503355704697981,7.2072072072072073,7.2987081040772317,{"$f":"AD174*COS!$B174","v":-7.2276775785330081},150,180,7.9435127978817297,7.5329566854990588,7.6424383154677713,{"$f":"AJ174*COS!$B174","v":-7.5680626311348496},150,180,8.8365243004418268,8.2949308755760374,8.4393557888735842,{"$f":"AP174*COS!$B174","v":-8.3572245584708345}]
[173,150,180,4.8257372654155493,4.1081821294077372,4.2756116611428938,{"$f":"F175*COS!$B175","v":-4.2437419001801393},150,180,5.920078934385792,5.1701852649719955,5.3451604545018805,{"$f":"L175*COS!$B175","v":-5.3053184390212209},150,180,6.7554888346781761,6.0821084642676126,6.2392305506967443,{"$f":"R175*COS!$B175","v":-6.1927242722970197},150,180,7.2014402880576123,6.8027210884353737,6.8957555683472282,{"$f":"X175*COS!$B175","v":-6.8443556520222586},150,180,7.5503355704697981,7.2072072072072073,7.2872704919684779,{"$f":"AD175*COS!$B175","v":-7.2329522827726755},150,180,7.9435127978817297,7.5329566854990588,7.6287531117216831,{"$f":"AJ175*COS!$B175","v":-7.5718895428611166},150,180,8.8365243004418268,8.2949308755760374,8.4213026747113897,{"$f":"AP175*COS!$B175","v":-8.3585315615915619}]
[174,150,180,4.8257372654155493,4.1081821294077372,4.2516931566092993,{"$f":"F176*COS!$B176","v":-4.2284019366353967},150,180,5.920078934385792,5.1701852649719955,5.3201639988547536,{"$f":"L176*COS!$B176","v":-5.2910195838110816},150,180,6.7554888346781761,6.0821084642676126,6.2167845383497244,{"$f":"R176*COS!$B176","v":-6.1827283421757437},150,180,7.2014402880576123,6.8027210884353737,6.8824649283598207,{"$f":"X176*COS!$B176","v":-6.8447620653580765},150,180,7.5503355704697981,7.2072072072072073,7.2758328798597249,{"$f":"AD176*COS!$B176","v":-7.2359751060608959},150,180,7.9435127978817297,7.5329566854990588,7.6150679079755941,{"$f":"AJ176*COS!$B176","v":-7.5733517691979992},150,180,8.8365243004418268,8.2949308755760374,8.403249560549197,{"$f":"AP176*COS!$B176","v":-8.3572156802099968}]
[175,150,180,4.8257372654155493,4.1081821294077372,4.2277746520757056,{"$f":"F177*COS!$B177","v":-4.2116866931244923},150,180,5.920078934385792,5.1701852649719955,5.2951675432076275,{"$f":"L177*COS!$B177","v":-5.2750178320509322},150,180,6.7554888346781761,6.0821084642676126,6.1943385260027064,{"$f":"R177*COS!$B177","v":-6.1707671977893339},150,180,7.2014402880576123,6.8027210884353737,6.8691742883724132,{"$f":"X177*COS!$B177","v":-6.8430350063447376},150,180,7.5503355704697981,7.2072072072072073,7.264395267750972,{"$f":"AD177*COS!$B177","v":-7.2367520505762846},150,180,7.9435127978817297,7.5329566854990588,7.601382704229505,{"$f":"AJ177*COS!$B177","v":-7.572457148119728},150,180,8.8365243004418268,8.2949308755760374,8.3851964463870043,{"$f":"AP177*COS!$B177","v":-8.35328824234848}]
[176,150,180,4.8257372654155493,4.1081821294077372,4.2038561475421119,{"$f":"F178*COS!$B178","v":-4.1936157652517698},150,180,5.920078934385792,5.1701852649719955,5.2701710875605006,{"$f":"L178*COS!$B178","v":-5.2573332156690755},150,180,6.7554888346781761,6.0821084642676126,6.1718925136556875,{"$f":"R178*COS!$B178","v":-6.156858093690655},150,180,7.2014402880576123,6.8027210884353737,6.8558836483850047,{"$f":"X178*COS!$B178","v":-6.8391830603930455},150,180,7.5503355704697981,7.2072072072072073,7.2529576556422191,{"$f":"AD178*COS!$B178","v":-7.2352898153254515},150,180,7.9435127978817297,7.5329566854990588,7.587697500483416,{"$f":"AJ178*COS!$B178","v":-7.5692142507285807},150,180,8.8365243004418268,8.2949308755760374,8.3671433322248117,{"$f":"AP178*COS!$B178","v":-8.3467613915986654}]
[177,150,180,4.8257372654155493,4.1081821294077372,4.1799376430085182,{"$f":"F179*COS!$B179","v":-4.1742091837407269},150,180,5.920078934385792,5.1701852649719955,5.2451746319133745,{"$f":"L179*COS!$B179","v":-5.2379863023741464},150,180,6.7554888346781761,6.0821084642676126,6.1494465013086685,{"$f":"R179*COS!$B179","v":-6.1410188986000174},150,180,7.2014402880576123,6.8027210884353737,6.8425930083975963,{"$f":"X179*COS!$B179","v":-6.8332154724909913},150,180,7.5503355704697981,7.2072072072072073,7.2415200435334661,{"$f":"AD179*COS!$B179","v":-7.2315957919897462},150,180,7.9435127978817297,7.5329566854990588,7.5740122967373269,{"$f":"AJ179*COS!$B179","v":-7.5636323761162183},150,180,8.8365243004418268,8.2949308755760374,8.3490902180626172,{"$f":"AP179*COS!$B179","v":-8.3376480800878348}]
[178,150,180,4.8257372654155493,4.1081821294077372,4.1560191384749245,{"$f":"F180*COS!$B180","v":-4.1534874039076444},150,180,5.920078934385792,5.1701852649719955,5.2201781762662476,{"$f":"L180*COS!$B180","v":-5.2169981847657603},150,180,6.7554888346781761,6.0821084642676126,6.1270004889616505,{"$f":"R180*COS!$B180","v":-6.1232680858097881},150,180,7.2014402880576123,6.8027210884353737,6.8293023684101888,{"$f":"X180*COS!$B180","v":-6.8251421419289278},150,180,7.5503355704697981,7.2072072072072073,7.2300824314247132,{"$f":"AD180*COS!$B180","v":-7.2256780605577786},150,180,7.9435127978817297,7.5329566854990588,7.5603270929912378,{"$f":"AJ180*COS!$B180","v":-7.5557215459993889},150,180,8.8365243004418268,8.2949308755760374,8.3310371039004245,{"$f":"AP180*COS!$B180","v":-8.3259620611938185}]
[179,150,180,4.8257372654155493,4.1081821294077372,4.1321006339413309,{"$f":"F181*COS!$B181","v":-4.1314712950005026},150,180,5.920078934385792,5.1701852649719955,5.1951817206191215,{"$f":"L181*COS!$B181","v":-5.1943904692796439},150,180,6.7554888346781761,6.0821084642676126,6.1045544766146307,{"$f":"R181*COS!$B181","v":-6.1036247233997694},150,180,7.2014402880576123,6.8027210884353737,6.8160117284227812,{"$f":"X181*COS!$B181","v":-6.8149736168224484},150,180,7.5503355704697981,7.2072072072072073,7.2186448193159602,{"$f":"AD181*COS!$B181","v":-7.2175453847456872},150,180,7.9435127978817297,7.5329566854990588,7.5466418892451488,{"$f":"AJ181*COS!$B181","v":-7.5454924991324361},150,180,8.8365243004418268,8.2949308755760374,8.3129839897382318,{"$f":"AP181*COS!$B181","v":-8.3117178820117523}]
[180,180,0,4.1081821294077372,0,4.1081821294077372,{"$f":"F182*COS!$B182","v":-4.1081821294077372},180,0,5.1701852649719955,0,5.1701852649719946,{"$f":"L182*COS!$B182","v":-5.1701852649719946},180,0,6.0821084642676126,0,6.0821084642676126,{"$f":"R182*COS!$B182","v":-6.0821084642676126},180,0,6.8027210884353737,0,6.8027210884353746,{"$f":"X182*COS!$B182","v":-6.8027210884353746},180,0,7.2072072072072073,0,7.2072072072072064,{"$f":"AD182*COS!$B182","v":-7.2072072072072064},180,0,7.5329566854990588,0,7.5329566854990588,{"$f":"AJ182*COS!$B182","v":-7.5329566854990588},180,0,8.2949308755760374,0,8.2949308755760356,{"$f":"AP182*COS!$B182","v":-8.2949308755760356}]
[181,null,null,null,null,{"$f":"INDEX($1:$370,364-ROW(),COLUMN())","v":4.1321006339413309},-4.1314712950005026,null,null,null,null,{"$f":"INDEX($1:$370,364-ROW(),COLUMN())","v":5.1951817206191215},-5.1943904692796439,null,null,null,null,{"$f":"INDEX($1:$370,364-ROW(),COLUMN())","v":6.1045544766146307},-6.1036247233997694,null,null,null,null,{"$f":"INDEX($1:$370,364-ROW(),COLUMN())","v":6.8160117284227812},-6.8149736168224484,null,null,null,null,{"$f":"INDEX($1:$370,364-ROW(),COLUMN())","v":7.2186448193159602},-7.2175453847456872,null,null,null,null,{"$f":"INDEX($1:$370,364-ROW(),COLUMN())","v":7.5466418892451488},-7.5454924991324361,null,null,null,null,{"$f":"INDEX($1:$370,364-ROW(),COLUMN())","v":8.3129839897382318},-8.3117178820117523]
[182,null,null,null,null,4.1560191384749245,-4.1534874039076444,null,null,null,null,5.2201781762662476,-5.2169981847657603,null,null,null,null,6.1270004889616505,-6.1232680858097881,null,null,null,null,6.8293023684101888,-6.8251421419289278,null,null,null,null,7.2300824314247132,-7.2256780605577786,null,null,null,null,7.5603270929912378,-7.5557215459993889,null,null,null,null,8.3310371039004245,-8.3259620611938185]
[183,null,null,null,null,4.1799376430085182,-4.1742091837407269,null,null,null,null,5.2451746319133745,-5.2379863023741464,null,null,null,null,6.1494465013086685,-6.1410188986000174,null,null,null,null,6.8425930083975963,-6.8332154724909913,null,null,null,null,7.2415200435334661,-7.2315957919897462,null,null,null,null,7.5740122967373269,-7.5636323761162183,null,null,null,null,8.3490902180626172,-8.3376480800878348]
[184,null,null,null,null,4.2038561475421119,-4.1936157652517698,null,null,null,null,5.2701710875605006,-5.2573332156690755,null,null,null,null,6.1718925136556875,-6.156858093690655,null,null,null,null,6.8558836483850047,-6.8391830603930455,null,null,null,null,7.2529576556422191,-7.2352898153254515,null,null,null,null,7.587697500483416,-7.5692142507285807,null,null,null,null,8.3671433322248117,-8.3467613915986654]
[185,null,null,null,null,4.2277746520757056,-4.2116866931244923,null,null,null,null,5.2951675432076275,-5.2750178320509322,null,null,null,null,6.1943385260027064,-6.1707671977893339,null,null,null,null,6.8691742883724132,-6.8430350063447376,null,null,null,null,7.264395267750972,-7.2367520505762846,null,null,null,null,7.601382704229505,-7.572457148119728,null,null,null,null,8.3851964463870043,-8.35328824234848]
[186,null,null,null,null,4.2516931566092993,-4.2284019366353967,null,null,null,null,5.3201639988547536,-5.2910195838110816,null,null,null,null,6.2167845383497244,-6.1827283421757437,null,null,null,null,6.8824649283598207,-6.8447620653580765,null,null,null,null,7.2758328798597249,-7.2359751060608959,null,null,null,null,7.6150679079755941,-7.5733517691979992,null,null,null,null,8.403249560549197,-8.3572156802099968]
[187,null,null,null,null,4.2756116611428938,-4.2437419001801393,null,null,null,null,5.3451604545018805,-5.3053184390212209,null,null,null,null,6.2392305506967443,-6.1927242722970197,null,null,null,null,6.8957555683472282,-6.8443556520222586,null,null,null,null,7.2872704919684779,-7.2329522827726755,null,null,null,null,7.6287531117216831,-7.5718895428611166,null,null,null,null,8.4213026747113897,-8.3585315615915619]
[188,null,null,null,null,4.2995301656764875,-4.2576874336605792,null,null,null,null,5.3701569101490074,-5.3178949122524557,null,null,null,null,6.2616765630437623,-6.2007383571696995,null,null,null,null,6.9090462083346367,-6.8418078455738094,null,null,null,null,7.2987081040772317,-7.2276775785330081,null,null,null,null,7.6424383154677713,-7.5680626311348496,null,null,null,null,8.4393557888735842,-8.3572245584708345]
[189,null,null,null,null,4.3234486702100812,-4.27021984272805,null,null,null,null,5.3951533657961335,-5.3287300751194548,null,null,null,null,6.2841225753907812,-6.2067545985841637,null,null,null,null,6.9223368483220442,-6.8371113947597753,null,null,null,null,7.3101457161859846,-7.2201456919283897,null,null,null,null,7.6561235192138604,-7.5618639340837435,null,null,null,null,8.4574089030357769,-8.3532841651739496]
[190,null,null,null,null,4.3473671747436748,-4.2813208988783495,null,null,null,null,5.4201498214432604,-5.3378055666450575,null,null,null,null,6.3065685877378002,-6.2107576401074374,null,null,null,null,6.9356274883094517,-6.8302597224917356,null,null,null,null,7.3215833282947376,-7.2103520260295841,null,null,null,null,7.6698087229599494,-7.5532870944916208,null,null,null,null,8.4754620171979695,-8.3467007048970476]
[191,null,null,null,null,4.3712856792772685,-4.2909728493940538,null,null,null,null,5.4451462770903865,-5.3451036034407693,null,null,null,null,6.3290146000848182,-6.2127327758804034,null,null,null,null,6.9489181282968602,-6.82124693028846,null,null,null,null,7.3330209404034905,-7.1982926918910186,null,null,null,null,7.6834939267060385,-7.5423265023096802,null,null,null,null,8.4935151313601622,-8.3374653359671917]
[192,null,null,null,null,4.3952041838108622,-4.2991584271297798,null,null,null,null,5.4701427327375134,-5.3506069896986617,null,null,null,null,6.351460612431838,-6.21266595920547,null,null,null,null,6.9622087682842686,-6.810067802505122,null,null,null,null,7.3444585525122434,-7.1839645118287301,null,null,null,null,7.6971791304521275,-7.5289772988700694,null,null,null,null,8.5115682455223549,-8.3255700578397391]
[193,null,null,null,null,4.4191226883444559,-4.3058608601360904,null,null,null,null,5.4951391883846394,-5.3542991269902265,null,null,null,null,6.3739066247788561,-6.2105438109208144,null,null,null,null,6.9754994082716761,-6.7967178103470429,null,null,null,null,7.3558961646209964,-7.1673650224752237,null,null,null,null,7.7108643341982166,-7.5132353808628762,null,null,null,null,8.5296213596845476,-8.3110077168293586]
[194,null,null,null,null,4.4430411928780496,-4.3110638811177768,null,null,null,null,5.5201356440317664,-5.3561640238678185,null,null,null,null,6.396352637125875,-6.2063536275574362,null,null,null,null,6.9887900482590837,-6.7811931156660039,null,null,null,null,7.3673337767297493,-7.1484924776096719,null,null,null,null,7.7245495379443057,-7.495097404074583,null,null,null,null,8.5476744738467403,-8.2937720115719191]
[195,null,null,null,null,4.4669596974116432,-4.3147517367223074,null,null,null,null,5.5451320996788933,-5.3561863052643703,null,null,null,null,6.4187986494728939,-6.2000833892752603,null,null,null,null,7.0020806882464921,-6.7634905745372205,null,null,null,null,7.3787713888385023,-7.1273458507619658,null,null,null,null,7.7382347416903947,-7.4745607868860686,null,null,null,null,8.565727588008933,-8.2738574982145963]
[196,null,null,null,null,4.4908782019452369,-4.3169091966543052,null,null,null,null,5.5701285553260194,-5.3543512216871463,null,null,null,null,6.4412446618199128,-6.1917217675746512,null,null,null,null,7.0153713282339005,-6.7436077406151744,null,null,null,null,7.3902090009472552,-7.1039248375891866,null,null,null,null,7.7519199454364838,-7.4516237135283534,null,null,null,null,8.5837807021711274,-8.2512595953316303]
[197,null,null,null,null,4.5147967064788306,-4.3175215626119545,null,null,null,null,5.5951250109731463,-5.3506446582013503,null,null,null,null,6.4636906741669318,-6.1812581327797558,null,null,null,null,7.0286619682213081,-6.7215428682665461,null,null,null,null,7.401646613056009,-7.0782298580231542,null,null,null,null,7.7656051491825728,-7.4262851370943315,null,null,null,null,8.6018338163333201,-8.2259745885632221]
[198,null,null,null,null,4.5387152110124243,-4.3165746770412987,null,null,null,null,5.6201214666202723,-5.3450531431994852,null,null,null,null,6.4861366865139498,-6.1686825612901472,null,null,null,null,7.0419526082087156,-6.697294915478551,null,null,null,null,7.4130842251647611,-7.0502620581877551,null,null,null,null,7.7792903529286619,-7.3985447823048283,null,null,null,null,8.6198869304955128,-8.1979996349751865]
[199,null,null,null,null,4.5626337155460188,-4.3140549317044901,null,null,null,null,5.6451179222673993,-5.3375638569524462,null,null,null,null,6.5085826988609696,-6.1539858425973808,null,null,null,null,7.055243248196124,-6.6708635465410957,null,null,null,null,7.4245218372735149,-7.0200233120848763,null,null,null,null,7.7929755566747509,-7.3684031480274026,null,null,null,null,8.6379400446577055,-8.1673327671370526]
[200,null,null,null,null,4.5865522200796125,-4.3099492760580373,null,null,null,null,5.6701143779145262,-5.3281646399383611,null,null,null,null,6.5310287112079877,-6.1371594860630472,null,null,null,null,7.0685338881835325,-6.6422491345011903,null,null,null,null,7.4359594493822678,-6.9875162230477628,null,null,null,null,7.80666076042084,-7.3358615095463708,null,null,null,null,8.6559931588198999,-8.1339728969163652]
[201,null,null,null,null,{"$f":"INDEX($1:$370,364-ROW(),COLUMN())","v":4.6104707246132062},-4.3042452254372598,null,null,null,null,{"$f":"INDEX($1:$370,364-ROW(),COLUMN())","v":5.6951108335616523},-5.3168440009453217,null,null,null,null,{"$f":"INDEX($1:$370,364-ROW(),COLUMN())","v":6.5534747235550066},-6.118195727455114,null,null,null,null,{"$f":"INDEX($1:$370,364-ROW(),COLUMN())","v":7.08182452817094},-6.6114527633881703,null,null,null,null,{"$f":"INDEX($1:$370,364-ROW(),COLUMN())","v":7.4473970614910208},-6.9527441249607937,null,null,null,null,{"$f":"INDEX($1:$370,364-ROW(),COLUMN())","v":7.8203459641669291},-7.3009219205826321,null,null,null,null,{"$f":"INDEX($1:$370,364-ROW(),COLUMN())","v":8.6740462729820926},-8.0979198189870853]
[202,null,null,null,null,4.6343892291467998,-4.2969308690431323,null,null,null,null,5.7201072892087783,-5.3035911249441723,null,null,null,null,6.5759207359020255,-6.0970875352393046,null,null,null,null,7.0951151681583475,-6.5784762302083362,null,null,null,null,7.4588346735997737,-6.9157110832446431,null,null,null,null,7.8340311679130181,-7.2635872150619427,null,null,null,null,8.6920993871442853,-8.0591742140500475]
[203,null,null,null,null,4.6583077336803935,-4.2879948777278392,null,null,null,null,5.7451037448559052,-5.2883958807276503,null,null,null,null,6.5983667482490436,-6.07382861662244,null,null,null,null,7.108405808145756,-6.5433220467076838,null,null,null,null,7.4702722857085266,-6.8764218956059526,null,null,null,null,7.8477163716591072,-7.2238610086303821,null,null,null,null,8.710152501306478,-8.0177376517635253]
[204,null,null,null,null,4.6822262382139872,-4.2774265115753902,null,null,null,null,5.7701002005030322,-5.2712488283122045,null,null,null,null,6.6208127605960634,-6.0484134233447016,null,null,null,null,7.1216964481331635,-6.505993440901495,null,null,null,null,7.4817098978172796,-6.8348820925506626,null,null,null,null,7.8614015754051962,-7.1817476999158023,null,null,null,null,8.7282056154686707,-7.973612593382045]
[205,null,null,null,null,4.7061447427475809,-4.2652156272737241,null,null,null,null,5.7950966561501582,-5.2521412260989395,null,null,null,null,6.6432587729430814,-6.020837157217855,null,null,null,null,7.134987088120571,-6.4664943583696255,null,null,null,null,7.4931475099260325,-6.7910979376602461,null,null,null,null,7.8750867791512853,-7.1372524715341807,null,null,null,null,8.7462587296308634,-7.9268023941017294]
[206,null,null,null,null,4.7300632472811746,-4.2513526852748242,null,null,null,null,5.8200931117972852,-5.2310650377901924,null,null,null,null,6.6657047852901004,-5.9910957754066096,null,null,null,null,7.1482777281079795,-6.4248294633163878,null,null,null,null,7.5045851220347854,-6.7450764276301731,null,null,null,null,7.8887719828973744,-7.0903812908398347,null,null,null,null,8.7643118437930561,-7.8773113051104744]
[207,null,null,null,null,4.7539817518147682,-4.2358287567394042,null,null,null,null,5.8450895674444112,-5.2080129390583352,null,null,null,null,6.6881507976371193,-5.9591859954503095,null,null,null,null,7.1615683680953879,-6.3810041393940331,null,null,null,null,7.5160227341435384,-6.6968252920699864,null,null,null,null,7.9024571866434634,-7.04114091041858,null,null,null,null,8.7823649579552487,-7.8251444753414274]
[208,null,null,null,null,4.7779002563483619,-4.2186355302628353,null,null,null,null,5.8700860230915382,-5.1829783239635043,null,null,null,null,6.7105968099841373,-5.9251053000222864,null,null,null,null,7.1748590080827954,-6.335024490288891,null,null,null,null,7.5274603462522922,-6.6463529930644851,null,null,null,null,7.9161423903895525,-6.989538868322966,null,null,null,null,8.8004180721174432,-7.7703079529282935]
[209,null,null,null,null,4.8018187608819556,-4.1997653183790318,null,null,null,null,5.8950824787386651,-5.155955311116994,null,null,null,null,6.7330428223311571,-5.8888519414242868,null,null,null,null,7.188149648070203,-6.2868973400693111,null,null,null,null,7.5388979583610443,-6.593668724495525,null,null,null,null,7.9298275941356415,-6.9355834880488141,null,null,null,null,8.8184711862796359,-7.712808686361095]
[210,null,null,null,null,4.8257372654155493,-4.179211063839114,null,null,null,null,5.9200789343857911,-5.1269387495872047,null,null,null,null,6.7554888346781752,-5.8504249458134341,null,null,null,null,7.2014402880576114,-6.2366302332946173,null,null,null,null,7.5503355704697981,-6.5387824111241173,null,null,null,null,7.9435127978817306,-6.879283878252382,null,null,null,null,8.8365243004418286,-7.6526545253411395]
[211,null,null,null,null,4.8586837796260118,-4.1647048603471646,null,null,null,null,5.9553604271393876,-5.104740222039247,null,null,null,null,6.7768210255738444,-5.8088693858324518,null,null,null,null,7.2180330105756259,-6.1870618720538495,null,null,null,null,7.570197655176651,-6.488925889869229,null,null,null,null,7.9668132807872869,-6.8288918350901779,null,null,null,null,8.8387013204715004,-7.5762457525807507]
[212,null,null,null,null,4.8916302938364744,-4.1483377577891209,null,null,null,null,5.9906419198929823,-5.0803524749201197,null,null,null,null,6.7981532164695135,-5.7651608926066542,null,null,null,null,7.2346257330936394,-6.1353105793543481,null,null,null,null,7.5900597398835048,-6.4367357121217434,null,null,null,null,7.990113763692845,-6.7760007653729719,null,null,null,null,8.8408783405011722,-7.4974900450126016]
[213,null,null,null,null,4.9245768080469361,-4.1300976284955881,null,null,null,null,6.025923412646577,-5.0537646108799334,null,null,null,null,6.8194854073651818,-5.7193016996904893,null,null,null,null,7.251218455611653,-6.0813835004641668,null,null,null,null,7.6099218245903586,-6.3822174586494747,null,null,null,null,8.0134142465984031,-6.720614677376636,null,null,null,null,8.8430553605308457,-7.416410261589232]
[214,null,null,null,null,4.9575233222573987,-4.1099731009692793,null,null,null,null,6.0612049054001726,-5.0249666015316699,null,null,null,null,6.8408175982608501,-5.6712948159539849,null,null,null,null,7.2678111781296666,-6.0252885369050162,null,null,null,null,7.6297839092972115,-6.3253775312832765,null,null,null,null,8.0367147295039612,-6.6627384706653121,null,null,null,null,8.8452323805605175,-7.3330299814651436]
[215,null,null,null,null,4.9904698364678612,-4.0879535685051982,null,null,null,null,6.0964863981537674,-4.9939492960276892,null,null,null,null,6.8621497891565193,-5.621144028004835,null,null,null,null,7.2844039006476802,-5.9670343466422517,null,null,null,null,7.6496459940040644,-6.266223154075524,null,null,null,null,8.0600152124095192,-6.6023779382456285,null,null,null,null,8.8474094005901911,-7.2473734971550963]
[216,null,null,null,null,5.0234163506783229,-4.0640291975197433,null,null,null,null,6.1317678909073621,-4.9607044293066842,null,null,null,null,6.8834819800521885,-5.5688539023359329,null,null,null,null,7.3009966231656929,-5.9066303440151486,null,null,null,null,7.6695080787109173,-6.2047623741730833,null,null,null,null,8.0833156953150773,-6.5395397684076411,null,null,null,null,8.8495864206198629,-7.1594658074712303]
[217,null,null,null,null,5.0563628648887855,-4.0381909355846464,null,null,null,null,6.1670493836609568,-4.9252246300069116,null,null,null,null,6.9048141709478568,-5.5144297871967174,null,null,null,null,7.3175893456837073,-5.844086699406744,null,null,null,null,7.6893701634177711,-6.1410040624035878,null,null,null,null,8.1066161782206354,-6.4742315462508735,null,null,null,null,8.8517634406495365,-7.0693326102411236]
[218,null,null,null,null,5.0893093790992481,-4.0104305191617566,null,null,null,null,6.2023308764145515,-4.8875034280416703,null,null,null,null,6.9261463618435251,-5.4578778141867712,null,null,null,null,7.33418206820172,-5.7794143386525434,null,null,null,null,7.7092322481246249,-6.0749579135739289,null,null,null,null,8.1299166611261935,-6.406461754893896,null,null,null,null,8.8539404606792083,-6.9770002948088692]
[219,null,null,null,null,5.1222558933097098,-3.9807404810348088,null,null,null,null,6.2376123691681471,-4.8475352618330723,null,null,null,null,6.9474785527391942,-5.3992048995701847,null,null,null,null,7.3507747907197345,-5.7126249421875501,null,null,null,null,7.7290943328314778,-6.0066344464799419,null,null,null,null,8.1532171440317516,-6.3362397763660123,null,null,null,null,8.8561174807088818,-6.8824959343213887]
[220,null,null,null,null,5.1552024075201723,-3.9491141574344044,null,null,null,null,6.2728938619217418,-4.8053154852002953,null,null,null,null,6.9688107436348634,-5.338418745309319,null,null,null,null,7.3673675132377472,-5.6437309439310592,null,null,null,null,7.7489564175383308,-5.936045003626381,null,null,null,null,8.1765176269373097,-6.2635758921796985,null,null,null,null,8.8582945007385536,-6.7858472778021701]
[221,null,null,null,null,{"$f":"INDEX($1:$370,364-ROW(),COLUMN())","v":5.1881489217306349},-3.9155456948525549,null,null,null,null,{"$f":"INDEX($1:$370,364-ROW(),COLUMN())","v":6.3081753546753365},-4.7608403738986595,null,null,null,null,{"$f":"INDEX($1:$370,364-ROW(),COLUMN())","v":6.9901429345305317},-5.2755278398167134,null,null,null,null,{"$f":"INDEX($1:$370,364-ROW(),COLUMN())","v":7.3839602357557617},-5.5727455299088717,null,null,null,null,{"$f":"INDEX($1:$370,364-ROW(),COLUMN())","v":7.7688185022451837},-5.8632017506563674,null,null,null,null,{"$f":"INDEX($1:$370,364-ROW(),COLUMN())","v":8.1998181098428677},-6.1884812835825942,null,null,null,null,{"$f":"INDEX($1:$370,364-ROW(),COLUMN())","v":8.8604715207682272},-6.6870827420148151]
[222,null,null,null,null,5.2210954359410966,-3.8800300565432648,null,null,null,null,6.3434568474289321,-4.714107131805954,null,null,null,null,7.0114751254262,-5.2105414584239425,null,null,null,null,7.4005529582737744,-5.4996826366125759,null,null,null,null,7.7886805869520375,-5.7881176754896391,null,null,null,null,8.2231185927484258,-6.1109680314879427,null,null,null,null,8.862648540797899,-6.5862314031187355]
[223,null,null,null,null,5.2540419501515592,-3.8425630287057477,null,null,null,null,6.3787383401825268,-4.6651138967526142,null,null,null,null,7.0328073163218692,-5.1434696635663837,null,null,null,null,7.4171456807917879,-5.4245569490957166,null,null,null,null,7.8085426716588913,-5.7108065871689773,null,null,null,null,8.2464190756539839,-6.0310491160824791,null,null,null,null,8.8648255608275726,-6.4833229881194843]
[224,null,null,null,null,5.2869884643620217,-3.8031412263469289,null,null,null,null,6.4140198329361215,-4.6138597459924187,null,null,null,null,7.0541395072175384,-5.0743233046828555,null,null,null,null,7.4337384033098015,-5.347383898806636,null,null,null,null,7.8284047563657442,-5.6312831144142814,null,null,null,null,8.269719558559542,-5.9487384161108592,null,null,null,null,8.8670025808572461,-6.3783878661161566]
[225,null,null,null,null,5.3199349785724834,-3.761762098820113,null,null,null,null,6.4493013256897163,-4.5603447013105889,null,null,null,null,7.0754716981132066,-5.0031140178293443,null,null,null,null,7.4503311258278151,-5.2681796611580527,null,null,null,null,7.8482668410725971,-5.5495627038839572,null,null,null,null,8.2930200414651001,-5.864050707835915,null,null,null,null,8.8691796008869179,-6.2714570393485358]
[226,null,null,null,null,5.3264491846686948,-3.7000625109546088,null,null,null,null,6.4556949785552789,-4.4845025539835399,null,null,null,null,7.0790199943677843,-4.9175004937341837,null,null,null,null,7.4538885614229748,-5.1779060816610416,null,null,null,null,7.8510981559910649,-5.4538310513543893,null,null,null,null,8.2870174031179644,-5.7566460052152744,null,null,null,null,8.8548379487663347,-6.15108730016851]
[227,null,null,null,null,5.3329633907649061,-3.6370722867750067,null,null,null,null,6.4620886314208423,-4.4071338492075292,null,null,null,null,7.0825682906223602,-4.8302999592351021,null,null,null,null,7.4574459970181346,-5.0859659402210111,null,null,null,null,7.8539294709095335,-5.3563670192068269,null,null,null,null,8.2810147647708288,-5.6476384892270408,null,null,null,null,8.8404962966457514,-6.0292039764509928]
[228,null,null,null,null,5.3394775968611174,-3.5728078820272189,null,null,null,null,6.4684822842864058,-4.3282594731060948,null,null,null,null,7.0861165868769369,-4.7415374885065278,null,null,null,null,7.4610034326132944,-4.9923857509100564,null,null,null,null,7.8567607858280022,-5.2571991086375904,null,null,null,null,8.2750121264236931,-5.5370638817807905,null,null,null,null,8.8261546445251682,-5.9058502091081788]
[229,null,null,null,null,5.3459918029573288,-3.5072861912393978,null,null,null,null,6.4748759371519693,-4.2479008201619228,null,null,null,null,7.0896648831315128,-4.6512386590953598,null,null,null,null,7.4645608682084541,-4.8971925550373783,null,null,null,null,7.8595921007464709,-5.1563563618771928,null,null,null,null,8.2690094880765557,-5.4249583354607989,null,null,null,null,8.8118129924045849,-5.78106947544289]
[230,null,null,null,null,5.3525060090535401,-3.4405245433923635,null,null,null,null,6.4812695900175328,-4.1660797875014266,null,null,null,null,7.0932131793860886,-4.559429544574642,null,null,null,null,7.4681183038036139,-4.8004139133582173,null,null,null,null,7.8624234156649404,-5.0538683536987437,null,null,null,null,8.26300684972942,-5.3113584217610761,null,null,null,null,8.7974713402840017,-5.6549055741069889]
[231,null,null,null,null,5.3590202151497506,-3.372540697442024,null,null,null,null,6.4876632428830971,-4.0828187690108457,null,null,null,null,7.0967614756406654,-4.4661367070376041,null,null,null,null,7.4716757393987727,-4.7020778981160181,null,null,null,null,7.8652547305834091,-4.9497651827573339,null,null,null,null,8.2570042113822844,-5.1963011192072521,null,null,null,null,8.7831296881634184,-5.5274026099964377]
[232,null,null,null,null,5.3655344212459619,-3.3033528376948911,null,null,null,null,6.4940568957486606,-3.9981406492853853,null,null,null,null,7.1003097718952413,-4.3713871894342127,null,null,null,null,7.4752331749939325,-4.6022130849200691,null,null,null,null,7.8680860455018777,-4.8440774627629102,null,null,null,null,8.2510015730351487,-5.0798238013691472,null,null,null,null,8.7687880360428352,-5.3986049790881134]
[233,null,null,null,null,5.3720486273421733,-3.2329795690378598,null,null,null,null,6.5004505486142241,-3.9120687974130148,null,null,null,null,7.1038580681498171,-4.2752085077524482,null,null,null,null,7.4787906105890922,-4.5008485444609967,null,null,null,null,7.8709173604203464,-4.7368363134892304,null,null,null,null,8.244998934688013,-4.9619642247678808,null,null,null,null,8.7544463839222519,-5.2685573532235361]
[234,null,null,null,null,5.3785628334383846,-3.1614399120234995,null,null,null,null,6.5068442014797876,-3.824627060594612,null,null,null,null,7.1074063644043939,-4.1776286430465648,null,null,null,null,7.482348046184252,-4.3980138340665036,null,null,null,null,7.8737486753388151,-4.6280733516215511,null,null,null,null,8.2389962963408756,-4.842760516681472,null,null,null,null,8.7401047318016687,-5.137304664844681]
[235,null,null,null,null,5.3850770395345959,-3.0887532978120933,null,null,null,null,6.5132378543453511,-3.7358397576021387,null,null,null,null,7.1109546606589698,-4.0786760333146326,null,null,null,null,7.4859054817794117,-4.2937389890997935,null,null,null,null,7.8765799902572837,-4.5178206814457278,null,null,null,null,8.2329936579937399,-4.7222511628528103,null,null,null,null,8.7257630796810854,-5.0048920916870037]
[236,null,null,null,null,5.3915912456308073,-3.014939562971751,null,null,null,null,6.5196315072109146,-3.6457316720766317,null,null,null,null,7.1145029569135456,-3.9783795652276983,null,null,null,null,7.4894629173745715,-4.1880545142031753,null,null,null,null,7.8794113051757524,-4.4061108853814543,null,null,null,null,8.2269910196466043,-4.6004749951039434,null,null,null,null,8.7114214275605022,-4.8713650414348342]
[237,null,null,null,null,5.3981054517270186,-2.9400189441379605,null,null,null,null,6.526025160076478,-3.5543280456678406,null,null,null,null,7.1180512531681224,-3.8767685657129904,null,null,null,null,7.4930203529697312,-4.0809913743893924,null,null,null,null,7.8822426200942211,-4.2929770143624353,null,null,null,null,8.2209883812994686,-4.477471178860692,null,null,null,null,8.6970797754399207,-4.7367691363443072]
[238,null,null,null,null,5.4046196578232291,-2.8640120725340004,null,null,null,null,6.5324188129420415,-3.4616545710173918,null,null,null,null,7.1215995494226982,-3.7738727933935992,null,null,null,null,7.496577788564891,-3.9725809859832926,null,null,null,null,7.8850739350126897,-4.1784525780663451,null,null,null,null,8.214985742952333,-4.3532792005915679,null,null,null,null,8.6827381233193375,-4.6011501978389804]
[239,null,null,null,null,5.4111338639194404,-2.7869399683536722,null,null,null,null,6.538812465807605,-3.3677373845874139,null,null,null,null,7.1251478456772741,-3.6697224298871438,null,null,null,null,7.5001352241600507,-3.862855207416481,null,null,null,null,7.8879052499311584,-4.0625715349974545,null,null,null,null,8.2089831046051955,-4.2279388551650205,null,null,null,null,8.6683964711987542,-4.464554231083314]
[240,null,null,null,null,5.4176480700156517,-2.7088240350078259,null,null,null,null,6.5452061186731685,-3.2726030593365842,null,null,null,null,7.1286961419318509,-3.5643480709659254,null,null,null,null,7.5036926597552096,-3.7518463298776048,null,null,null,null,7.890736564849627,-3.9453682824248135,null,null,null,null,8.2029804662580599,-4.1014902331290299,null,null,null,null,8.654054819078171,-4.3270274095390855]
[241,null,null,null,null,{"$f":"INDEX($1:$370,364-ROW(),COLUMN())","v":5.4241622761118631},-2.6296860532362993,null,null,null,null,{"$f":"INDEX($1:$370,364-ROW(),COLUMN())","v":6.551599771538732},-3.1762785972456808,null,null,null,null,{"$f":"INDEX($1:$370,364-ROW(),COLUMN())","v":7.1322444381864267},-3.457780717581211,null,null,null,null,{"$f":"INDEX($1:$370,364-ROW(),COLUMN())","v":7.5072500953503694},-3.6395870678210898,null,null,null,null,{"$f":"INDEX($1:$370,364-ROW(),COLUMN())","v":7.8935678797680957},-3.8268776461790539,null,null,null,null,{"$f":"INDEX($1:$370,364-ROW(),COLUMN())","v":8.1969778279109242},-3.9739737079171396,null,null,null,null,{"$f":"INDEX($1:$370,364-ROW(),COLUMN())","v":8.6397131669575877},-4.1886160595099859]
[242,null,null,null,null,5.4306764822080744,-2.549548175086807,null,null,null,null,6.5579934244042954,-3.0787914216946786,null,null,null,null,7.1357927344410035,-3.3500517667542211,null,null,null,null,7.5108075309455291,-3.5261105493370333,null,null,null,null,7.8963991946865644,-3.7071348703107487,null,null,null,null,8.1909751895637886,-3.8454299229849678,null,null,null,null,8.6253715148370045,-4.0493666446794325]
[243,null,null,null,null,5.4371906883042858,-2.4684329177624726,null,null,null,null,6.5643870772698589,-2.9801693696935656,null,null,null,null,7.1393410306955793,-3.2411930023365363,null,null,null,null,7.5143649665406889,-3.4114503063851496,null,null,null,null,7.8992305096050339,-3.5861756066134634,null,null,null,null,8.1849725512166529,-3.7158997788813206,null,null,null,null,8.6110298627164212,-3.9093257506467882]
[244,null,null,null,null,5.4437048944004971,-2.3863631573396602,null,null,null,null,6.5707807301354224,-2.8804406839690371,null,null,null,null,7.1428893269501552,-3.1312365856426014,null,null,null,null,7.5179224021358486,-3.2956402648955883,null,null,null,null,7.9020618245235026,-3.4640359040145579,null,null,null,null,8.1789699128695155,-3.5854244202579708,null,null,null,null,8.596688210595838,-3.7685400694670403]
[245,null,null,null,null,5.4502191004967084,-2.3033621223578766,null,null,null,null,6.5771743830009859,-2.7796340049093331,null,null,null,null,7.146437623204732,-3.0202150459571184,null,null,null,null,7.5214798377310084,-3.1787147347395961,null,null,null,null,7.9048931394419713,-3.3407521978369457,null,null,null,null,8.1729672745223798,-3.4540452228222693,null,null,null,null,8.5823465584752547,-3.6270563841990855]
[246,null,null,null,null,5.4567333065929198,-2.2194533872835147,null,null,null,null,6.5835680358665494,-2.6777783623694984,null,null,null,null,7.1499859194593078,-2.9081612709201163,null,null,null,null,7.5250372733261681,-3.0607083995729574,null,null,null,null,7.9077244543604399,-3.2163612989349777,null,null,null,null,8.1669646361752442,-3.3218037802366913,null,null,null,null,8.5680049063546715,-3.4849215534676836]
[247,null,null,null,null,5.4632475126891311,-2.1346608658492414,null,null,null,null,6.5899616887321129,-2.5749031673393779,null,null,null,null,7.1535342157138837,-2.7951084967925164,null,null,null,null,7.5285947089213279,-2.9416563065552048,null,null,null,null,7.9105557692789086,-3.090900382707682,null,null,null,null,8.1609619978281085,-3.1887418909694536,null,null,null,null,8.5536632542340882,-3.3421824960441175]
[248,null,null,null,null,5.4697617187853416,-2.0490088042709407,null,null,null,null,6.5963553415976763,-2.4710382034767604,null,null,null,null,7.1570825119684605,-2.6810902986051035,null,null,null,null,7.5321521445164867,-2.8215938559476776,null,null,null,null,7.9133870841973772,-2.964406977992657,null,null,null,null,8.1549593594809728,-3.0549015451003756,null,null,null,null,8.539321602113505,-3.1988861754506486]
[249,null,null,null,null,5.4762759248815529,-1.9625217743440948,null,null,null,null,6.6027489944632398,-2.3662136185080844,null,null,null,null,7.1606308082230363,-2.566140580193796,null,null,null,null,7.5357095801116465,-2.7005567905934864,null,null,null,null,7.9162183991158459,-2.8369189558439252,null,null,null,null,8.1489567211338354,-2.920324911086126,null,null,null,null,8.5249799499929217,-3.0550795845937597]
[250,null,null,null,null,5.4827901309777642,-1.8752246664215768,null,null,null,null,6.6091426473288033,-2.2604599154991867,null,null,null,null,7.1641791044776122,-2.4502935641241939,null,null,null,null,7.5392670157068062,-2.5785811852825287,null,null,null,null,7.9190497140343146,-2.7084745181971122,null,null,null,null,8.1429540827866997,-2.7850543224890463,null,null,null,null,8.5106382978723403,-2.910809730431223]
[251,null,null,null,null,5.4831664090864933,-1.7851443683877632,null,null,null,null,6.6064946571951086,-2.1508642729740757,null,null,null,null,7.1619828074815803,-2.3317135248856617,null,null,null,null,7.5295007273449661,-2.4513656557855175,null,null,null,null,7.9001395408587838,-2.5720338502714015,null,null,null,null,8.1260079828095151,-2.6455694220674144,null,null,null,null,8.481756889809926,-2.7613899371696888]
[252,null,null,null,null,5.4835426871952233,-1.69450787972379,null,null,null,null,6.6038466670614131,-2.0407008483683313,null,null,null,null,7.1597865104855476,-2.2124957078365362,null,null,null,null,7.5197344389831269,-2.3237257348323466,null,null,null,null,7.8812293676832512,-2.4354338111810452,null,null,null,null,8.1090618828323304,-2.505837930233298,null,null,null,null,8.4528754817475118,-2.6120821751953009]
[253,null,null,null,null,5.4839189653039524,-1.6033427364472628,null,null,null,null,6.6011986769277167,-1.9300037103868304,null,null,null,null,7.1575902134895149,-2.0926768524247059,null,null,null,null,7.5099681506212868,-2.1957021906106036,null,null,null,null,7.8623191945077195,-2.2987196659725155,null,null,null,null,8.0921157828551458,-2.3659056862471215,null,null,null,null,8.4239940736850976,-2.4629375078975428]
[254,null,null,null,null,5.4842952434126824,-1.5116766394140169,null,null,null,null,6.5985506867940211,-1.818807063532347,null,null,null,null,7.1553939164934821,-1.9722938589713044,null,null,null,null,7.5002018622594475,-2.0673358094069263,null,null,null,null,7.843409021332187,-2.1619365232312004,null,null,null,null,8.0751696828779611,-2.225818419162076,null,null,null,null,8.3951126656226851,-2.3140066569380355]
[255,null,null,null,null,5.4846715215214115,-1.4195374459011618,null,null,null,null,6.5959026966603256,-1.7071452375387677,null,null,null,null,7.1531976194974503,-1.8513837773079553,null,null,null,null,7.4904355738976074,-1.9386673826381315,null,null,null,null,7.8244988481566544,-2.0251293202856795,null,null,null,null,8.0582235829007764,-2.0856217329489932,null,null,null,null,8.3662312575602709,-2.1653399851886115]
[256,null,null,null,null,5.4850477996301414,-1.3269531611413106,null,null,null,null,6.59325470652663,-1.5950526767743536,null,null,null,null,7.1510013225014175,-1.7299837953752741,null,null,null,null,7.4806692855357682,-1.8097376939110255,null,null,null,null,7.8055886749811219,-1.8883428085227321,null,null,null,null,8.0412774829235918,-1.9453610917118005,null,null,null,null,8.3373498494978566,-2.0169874798681264]
[257,null,null,null,null,5.4854240777388705,-1.2339519298105812,null,null,null,null,6.5906067163929345,-1.4825639296183475,null,null,null,null,7.1488050255053848,-1.6081312277861557,null,null,null,null,7.470902997173928,-1.6805875061150148,null,null,null,null,7.7866785018055902,-1.7516215388178731,null,null,null,null,8.0243313829464071,-1.805081804998357,null,null,null,null,8.3084684414354424,-1.86899873588363]
[258,null,null,null,null,5.4858003558476005,-1.1405620274729393,null,null,null,null,6.5879587262592381,-1.369713637814169,null,null,null,null,7.146608728509352,-1.4858635043573349,null,null,null,null,7.4611367088120888,-1.5512575485515718,null,null,null,null,7.7677683286300576,-1.6150098470861141,null,null,null,null,8.0073852829692225,-1.6648290132113717,null,null,null,null,8.2795870333730299,-1.7214229393813809]
[259,null,null,null,null,5.4861766339563296,-1.0468118519834815,null,null,null,null,6.5853107361255425,-1.2565365258024894,null,null,null,null,7.1444124315133202,-1.3632181586127543,null,null,null,null,7.4513704204502487,-1.4217885041046141,null,null,null,null,7.7488581554545259,-1.4785518399576241,null,null,null,null,7.9904391829920387,-1.5246476731240903,null,null,null,null,8.2507056253106157,-1.5743088515131254]
[260,null,null,null,null,5.4865529120650596,-0.95272991485328729,null,null,null,null,6.582662745991847,-1.1430673900374755,null,null,null,null,7.1422161345172874,-1.2402328162622742,null,null,null,null,7.4416041320884094,-1.2922209964558509,null,null,null,null,7.7299479822789934,-1.342291380582912,null,null,null,null,7.973493083014854,-1.3845825435054033,null,null,null,null,8.2218242172482014,-1.4277047924229858]
[261,null,null,null,null,{"$f":"INDEX($1:$370,364-ROW(),COLUMN())","v":5.4869291901737896},-0.85834483257846483,null,null,null,null,{"$f":"INDEX($1:$370,364-ROW(),COLUMN())","v":6.5800147558581514},-1.0293410882894964,null,null,null,null,{"$f":"INDEX($1:$370,364-ROW(),COLUMN())","v":7.1400198375212547},-1.1169451836592748,null,null,null,null,{"$f":"INDEX($1:$370,364-ROW(),COLUMN())","v":7.4318378437265693},-1.1625955773491099,null,null,null,null,{"$f":"INDEX($1:$370,364-ROW(),COLUMN())","v":7.7110378091034608},-1.206272074572095,null,null,null,null,{"$f":"INDEX($1:$370,364-ROW(),COLUMN())","v":7.9565469830376694},-1.244678170858962,null,null,null,null,{"$f":"INDEX($1:$370,364-ROW(),COLUMN())","v":8.1929428091857872},-1.2816586254601863]
[262,null,null,null,null,5.4873054682825186,-0.7636853179360017,null,null,null,null,6.5773667657244559,-0.91539252893754819,null,null,null,null,7.1378235405252219,-0.9933930362406479,null,null,null,null,7.4220715553647301,-1.0329527139076049,null,null,null,null,7.6921276359279291,-1.0705372560727064,null,null,null,null,7.9396008830604847,-1.104978875280801,null,null,null,null,8.164061401123373,-1.1362177416227157]
[263,null,null,null,null,5.4876817463912486,-0.66878017124911393,null,null,null,null,6.5747187755907595,-0.80125666025474029,null,null,null,null,7.1356272435291901,-0.86961420695278402,null,null,null,null,7.4123052670028899,-0.90333277600815776,null,null,null,null,7.6732174627523966,-0.93512997399054543,null,null,null,null,7.9226547830833001,-0.96552873644001203,null,null,null,null,8.1351799930609605,-0.9914290442370306]
[264,null,null,null,null,5.4880580244999777,-0.57365827162469607,null,null,null,null,6.5720707854570639,-0.68696845969006626,null,null,null,null,7.1334309465331573,-0.74564657466703266,null,null,null,null,7.4025389786410507,-0.77377602371625309,null,null,null,null,7.6543072895768649,-0.80009297835786641,null,null,null,null,7.9057086831061154,-0.82637157968682562,null,null,null,null,8.1062985849985463,-0.84733893387865078]
[265,null,null,null,null,5.4884343026087077,-0.47834856816558757,null,null,null,null,6.5694227953233684,-0.57256292314980539,null,null,null,null,7.1312346495371246,-0.6215280525882444,null,null,null,null,7.3927726902792106,-0.64432259478588816,null,null,null,null,7.6353971164013323,-0.66546870685328607,null,null,null,null,7.8887625831289307,-0.68755096229253698,null,null,null,null,8.077417176936132,-0.70399329353856133]
[266,null,null,null,null,5.4888105807174368,-0.38288007116029321,null,null,null,null,6.5667748051896728,-0.45807505428179712,null,null,null,null,7.1290383525410919,-0.49729657665989518,null,null,null,null,7.3830064019173713,-0.51501249222805834,null,null,null,null,7.6164869432257998,-0.53129927147760392,null,null,null,null,7.871816483151747,-0.54911015982554778,null,null,null,null,8.0485357688737196,-0.56143747404009314]
[267,null,null,null,null,5.4891868588261667,-0.28728184325286737,null,null,null,null,6.5641268150559773,-0.34353985376590251,null,null,null,null,7.12684205554506,-0.3729900939693766,null,null,null,null,7.3732401135555312,-0.38588557195175893,null,null,null,null,7.5975767700502672,-0.39762644538975572,null,null,null,null,7.8548703831745623,-0.41109215266781768,null,null,null,null,8.0196543608113053,-0.41971627971095243]
[268,null,null,null,null,5.4895631369348958,-0.19158299059562897,null,null,null,null,6.5614788249222809,-0.22899230861390352,null,null,null,null,7.1246457585490273,-0.2486465511569676,null,null,null,null,7.363473825193692,-0.25698153048129774,null,null,null,null,7.5786665968747355,-0.26449164990698226,null,null,null,null,7.8379242831973777,-0.27353961267589733,null,null,null,null,7.9907729527488911,-0.27887395431489198]
[269,null,null,null,null,5.4899394150436258,-9.5812653987403656E-2,null,null,null,null,6.5588308347885853,-0.11446738148211767,null,null,null,null,7.1224494615529945,-0.12430388283203371,null,null,null,null,7.3537075368318519,-0.12833989275370422,null,null,null,null,7.559756423699203,-0.13193594167326309,null,null,null,null,7.820978183220193,-0.13649488999068574,null,null,null,null,7.9618915446864769,-0.13895416724743914]
[270,null,null,null,null,5.4903156931523558,3.363225894213079E-16,null,null,null,null,6.5561828446548898,4.0161486411136697E-16,null,null,null,null,7.1202531645569618,4.3616835815575867E-16,null,null,null,null,7.3439412484700126,4.498709136751359E-16,null,null,null,null,7.5408462505236713,4.6193280662662683E-16,null,null,null,null,7.8040320832430083,4.780548924421235E-16,null,null,null,null,7.9330101366240626,4.8595575558296958E-16]
[271,null,null,null,null,5.4922799275309746,9.585350156260386E-2,null,null,null,null,6.5522388015551751,0.11435233463887945,null,null,null,null,7.1124048663142414,0.12412858047342828,null,null,null,null,7.3405688281236046,0.12811059066926608,null,null,null,null,7.5405305357968331,0.1316004036634725,null,null,null,null,7.7998923099515389,0.13612689076031534,null,null,null,null,7.9330101366240635,0.13845011717545208]
[272,null,null,null,null,5.4942441619095934,0.19174635601129966,null,null,null,null,6.5482947584554614,0.2285321913297215,null,null,null,null,7.1045565680715219,0.24794544852014447,null,null,null,null,7.3371964077771974,0.25606446183882309,null,null,null,null,7.5402148210699957,0.26314970228408208,null,null,null,null,7.7957525366600695,0.27206783994668254,null,null,null,null,7.9330101366240635,0.27685806110401917]
[273,null,null,null,null,5.4962083962882131,0.28764932213024114,null,null,null,null,6.5443507153557468,0.34250485267733743,null,null,null,null,7.0967082698288024,0.37141301347869876,null,null,null,null,7.3338239874307902,0.3838226912996307,null,null,null,null,7.5398991063431575,0.39460782970578778,null,null,null,null,7.7916127633686001,0.40778150464562279,null,null,null,null,7.9330101366240635,0.41518167138518791]
[274,null,null,null,null,5.4981726306668319,0.38353313475178002,null,null,null,null,6.540406672256033,0.45623570630913091,null,null,null,null,7.0888599715860821,0.49449387448372645,null,null,null,null,7.3304515670843831,0.51134645227190512,null,null,null,null,7.5395833916163193,0.52593475089892816,null,null,null,null,7.7874729900771307,0.54322665516540147,null,null,null,null,7.9330101366240635,0.55337881330729755]
[275,null,null,null,null,5.5001368650454516,0.47936851368681227,null,null,null,null,6.5364626291563184,0.56969025538642926,null,null,null,null,7.0810116733433626,0.61715083179507835,null,null,null,null,7.3270791467379759,0.63859702520482553,null,null,null,null,7.539267676889482,0.65709047415271393,null,null,null,null,7.7833332167856613,0.6783621875614736,null,null,null,null,7.9330101366240635,0.69140739068217116]
[276,null,null,null,null,5.5021010994240713,0.57512617266606469,null,null,null,null,6.5325185860566046,0.68283412906788132,null,null,null,null,7.0731633751006422,0.73934689804031928,null,null,null,null,7.3237067263915687,0.76553580953268763,null,null,null,null,7.5389519621626437,0.78803506325352191,null,null,null,null,7.7791934434941918,0.81314713611025324,null,null,null,null,7.9330101366240635,0.82922535866803093]
[277,null,null,null,null,5.5040653338026901,0.67077682828956775,null,null,null,null,6.52857454295689,0.79563309292171702,null,null,null,null,7.0653150768579227,0.86104530936716417,null,null,null,null,7.3203343060451616,0.89212433538389979,null,null,null,null,7.5386362474358055,0.91872864964524659,null,null,null,null,7.7750536702027224,0.94754068572738792,null,null,null,null,7.9330101366240635,0.96679073657675396]
[278,null,null,null,null,5.5060295681813098,0.7662912089816043,null,null,null,null,6.5246304998571762,0.90805305928374669,null,null,null,null,7.0574667786152023,0.98220953650252307,null,null,null,null,7.3169618856987553,1.0183242752393056,null,null,null,null,7.5383205327089682,1.0491314445680413,null,null,null,null,7.770913896911253,1.0815021843268073,null,null,null,null,7.9330101366240635,1.1040616206616052]
[279,null,null,null,null,5.5079938025599287,0.86164006394836978,null,null,null,null,6.5206864567574616,1.0200600975579324,null,null,null,null,7.0496184803724828,1.1028032957147951,null,null,null,null,7.3135894653523481,1.1440974555362631,null,null,null,null,7.53800481798213,1.1792037511717177,null,null,null,null,7.7667741236197836,1.2149911551167691,null,null,null,null,7.9330101366240635,1.2409961968815146]
[280,null,null,null,null,5.5099580369385484,0.95679417213563622,null,null,null,null,6.5167424136577479,1.1316204444564615,null,null,null,null,7.0417701821297634,1.2227905596761621,null,null,null,null,7.3102170450059409,1.2694058682150147,null,null,null,null,7.5376891032552917,1.3089059766001603,null,null,null,null,7.7626343503283142,1.3479673088292281,null,null,null,null,7.9330101366240635,1.3775527536380554]
[281,null,null,null,null,{"$f":"INDEX($1:$370,364-ROW(),COLUMN())","v":5.5119222713171681},1.0517243511836325,null,null,null,null,{"$f":"INDEX($1:$370,364-ROW(),COLUMN())","v":6.5127983705580332},1.2427005141761771,null,null,null,null,{"$f":"INDEX($1:$370,364-ROW(),COLUMN())","v":7.033921883887043},1.342135568221581,null,null,null,null,{"$f":"INDEX($1:$370,364-ROW(),COLUMN())","v":7.3068446246595338},1.3942116822037931,null,null,null,null,{"$f":"INDEX($1:$370,364-ROW(),COLUMN())","v":7.5373733885284544},1.4381986440430186,null,null,null,null,{"$f":"INDEX($1:$370,364-ROW(),COLUMN())","v":7.7584945770368456},1.4803905558787722,null,null,null,null,{"$f":"INDEX($1:$370,364-ROW(),COLUMN())","v":7.9330101366240635},1.5136896944811848]
[282,null,null,null,null,5.5138865056957869,1.1464014663764386,null,null,null,null,6.5088543274583195,1.3532669085083497,null,null,null,null,7.0260735856443235,1.460802839001309,null,null,null,null,7.3034722043131266,1.5184772548392509,null,null,null,null,7.5370576738016162,1.5670424047510629,null,null,null,null,7.7543548037453762,1.6122210184475165,null,null,null,null,7.9330101366240635,1.6493655507799341]
[283,null,null,null,null,5.5158507400744066,1.2407964395831255,null,null,null,null,6.5049102843586049,1.4632864268787182,null,null,null,null,7.018225287401604,1.5787571780237653,null,null,null,null,7.3000997839667194,1.6421651432187341,null,null,null,null,7.536741959074778,1.6953980500115173,null,null,null,null,7.7502150304539068,1.7434190424922755,null,null,null,null,7.9330101366240635,1.784538994354151]
[284,null,null,null,null,5.5178149744530254,1.3348802581879089,null,null,null,null,6.5009662412588902,1.5727260763147985,null,null,null,null,7.0103769891588836,1.6959636900856097,null,null,null,null,7.2967273636203123,1.7652381154809931,null,null,null,null,7.5364262443479406,1.8232265230797398,null,null,null,null,7.7460752571624374,1.8739452096704219,null,null,null,null,7.9330101366240635,1.9191688500634738]
[285,null,null,null,null,5.5197792088316451,1.4286239840065538,null,null,null,null,6.4970221981591765,1.6815530813374384,null,null,null,null,7.0025286909161641,1.8123877890859261,null,null,null,null,7.2933549432739051,1.8876591620119014,null,null,null,null,7.5361105296211024,1.9504889310635856,null,null,null,null,7.741935483870968,2.0037603491808058,null,null,null,null,7.9330101366240635,2.0532141083496578]
[286,null,null,null,null,5.5007325731977978,1.5162073815326789,null,null,null,null,6.4776804883968406,1.785490721649073,null,null,null,null,6.9901528275477585,1.9267472421419842,null,null,null,null,7.2825670965537963,2.0073475380539691,null,null,null,null,7.5213098249374344,2.0731539524261713,null,null,null,null,7.7192275042444818,2.1277074582198026,null,null,null,null,7.9015521206073309,2.1779629333744071]
[287,null,null,null,null,5.4816859375639506,1.6026898623202259,null,null,null,null,6.4583387786345048,1.888235518386328,null,null,null,null,6.9777769641793528,2.0401045461921603,null,null,null,null,7.2717792498336866,2.1260624956412988,null,null,null,null,7.506509120253769,2.1946908680053654,null,null,null,null,7.6965195246179965,2.2502445338443913,null,null,null,null,7.8700941045905974,2.3009928296875137]
[288,null,null,null,null,5.4626393019301034,1.6880483784369016,null,null,null,null,6.4389970688721689,1.9897595210119741,null,null,null,null,6.9654011008109471,2.1524273127885492,null,null,null,null,7.2609914031135778,2.2437697395724903,null,null,null,null,7.4917084155701028,2.3150652173129731,null,null,null,null,7.6738115449915103,2.3713381790330486,null,null,null,null,7.8386360885738631,2.4222717640900897]
[289,null,null,null,null,5.4435926662962553,1.7722604179825849,null,null,null,null,6.4196553591098331,2.0900353475163844,null,null,null,null,6.9530252374425405,2.2636835944482021,null,null,null,null,7.2502035563934681,2.3604353912937359,null,null,null,null,7.4769077108864366,2.4342430444797816,null,null,null,null,7.651103565365025,2.490955667336463,null,null,null,null,7.8071780725571287,2.5417685566008066]
[290,null,null,null,null,5.4245460306624071,1.8553040108838443,null,null,null,null,6.4003136493474972,2.1890361916790653,null,null,null,null,6.9406493740741348,2.3738418936940491,null,null,null,null,7.2394157096733593,2.4760259986165809,null,null,null,null,7.4621070062027712,2.5521909077729492,null,null,null,null,7.6283955857385397,2.6090649515791946,null,null,null,null,7.7757200565403952,2.6594528881982238]
[291,null,null,null,null,5.4054993950285599,1.9371577344647466,null,null,null,null,6.3809719395851614,2.2867358300952327,null,null,null,null,6.9282735107057292,2.4828711719206318,null,null,null,null,7.2286278629532497,2.5905085452725829,null,null,null,null,7.447306301519105,2.6688758889111961,null,null,null,null,7.6056876061120544,2.7256346722844813,null,null,null,null,7.7442620405236617,2.7752953082039684]
[292,null,null,null,null,5.3864527593947127,2.0178007187925924,null,null,null,null,6.3616302298228256,2.3831086289656138,null,null,null,null,6.9158976473373235,2.5907408580821549,null,null,null,null,7.21784001623314,2.7038504603021472,null,null,null,null,7.4325055968354388,2.7842656021752235,null,null,null,null,7.5829796264855691,2.8406341658200236,null,null,null,null,7.7128040245069283,2.8892672413050762]
[293,null,null,null,null,5.3674061237608646,2.0972126517973222,null,null,null,null,6.3422885200604897,2.478129550647802,null,null,null,null,6.9035217839689178,2.697420857200461,null,null,null,null,7.2070521695130312,2.8160196272748967,null,null,null,null,7.4177048921517725,2.8983282033108702,null,null,null,null,7.5602716468590829,2.9540334722627111,null,null,null,null,7.6813460084901948,3.0013409942139537]
[294,null,null,null,null,5.3483594881270173,2.175373784163388,null,null,null,null,6.3229468102981539,2.5717741599675095,null,null,null,null,6.8911459206005121,2.8028815586905473,null,null,null,null,7.1962643227929215,2.9269843933389397,null,null,null,null,7.4029041874681063,3.0110323982225617,null,null,null,null,7.5375636672325976,3.0658033429803049,null,null,null,null,7.6498879924734604,3.1114897619645276]
[295,null,null,null,null,5.3293128524931692,2.2522649339930316,null,null,null,null,6.303605100535818,2.6640186302882545,null,null,null,null,6.8787700572321064,2.9070938445014045,null,null,null,null,7.1854764760728127,3.0367135780965788,null,null,null,null,7.388103482784441,3.1223474514547678,null,null,null,null,7.5148556876061123,3.1759152479283039,null,null,null,null,7.6184299764567269,3.2196876338433795]
[296,null,null,null,null,5.310266216859322,2.3278674912399167,null,null,null,null,6.2842633907734822,2.7548397493379877,null,null,null,null,6.8663941938636999,3.0100290970698933,null,null,null,null,7.174688629352703,3.1451764823038988,null,null,null,null,7.3733027781007747,3.2322431944591274,null,null,null,null,7.4921477079796261,3.284341382660187,null,null,null,null,7.5869719604399926,3.3259095989546545]
[297,null,null,null,null,5.2912195812254739,2.4021634219122285,null,null,null,null,6.2649216810111463,2.8442149247913719,null,null,null,null,6.8540183304952942,3.1116592070855731,null,null,null,null,7.1639007826325933,3.2523428963919017,null,null,null,null,7.3585020734171085,3.3406900336451244,null,null,null,null,7.4694397283531409,3.391054675049467,null,null,null,null,7.5555139444232591,3.4301315514178299]
[298,null,null,null,null,5.2721729455916266,2.4751352720443944,null,null,null,null,6.2455799712488105,2.9321221896064382,null,null,null,null,6.8416424671268885,3.2119565810643782,null,null,null,null,7.1531129359124845,3.3581831088068061,null,null,null,null,7.3437013687334431,3.4476589582121755,null,null,null,null,7.4467317487266556,3.4960287917220128,null,null,null,null,7.5240559284065256,3.5323302951974584]
[299,null,null,null,null,5.2531263099577785,2.5467661714366727,null,null,null,null,6.2262382614864737,3.0185402071144716,null,null,null,null,6.8292666037584828,3.3108941487291426,null,null,null,null,7.1423250891923749,3.4626679141672412,null,null,null,null,7.3289006640497769,3.5531215477611005,null,null,null,null,7.4240237691001703,3.5992381441972339,null,null,null,null,7.4925979123897921,3.6324835485641933]
[300,null,null,null,null,5.2340796743239313,2.6170398371619656,null,null,null,null,6.2068965517241388,3.1034482758620694,null,null,null,null,6.8168907403900771,3.4084453701950386,null,null,null,null,7.1315372424722661,3.565768621236133,null,null,null,null,7.3140999593661107,3.6570499796830553,null,null,null,null,7.401315789473685,3.7006578947368425,null,null,null,null,7.4611398963730577,3.7305699481865289]
[301,null,null,null,null,{"$f":"INDEX($1:$370,364-ROW(),COLUMN())","v":5.1949940144182651},2.6756197163552384,null,null,null,null,{"$f":"INDEX($1:$370,364-ROW(),COLUMN())","v":6.1632180167644783},3.1742919426053402,null,null,null,null,{"$f":"INDEX($1:$370,364-ROW(),COLUMN())","v":6.7856476940835648},3.4948669253786488,null,null,null,null,{"$f":"INDEX($1:$370,364-ROW(),COLUMN())","v":7.1081506427187886},3.6609682231965506,null,null,null,null,{"$f":"INDEX($1:$370,364-ROW(),COLUMN())","v":7.2888141535010567},3.754016809996342,null,null,null,null,{"$f":"INDEX($1:$370,364-ROW(),COLUMN())","v":7.3741756622273105},3.7979812371221295,null,null,null,null,{"$f":"INDEX($1:$370,364-ROW(),COLUMN())","v":7.4328382453392869},3.8281947009973729]
[302,null,null,null,null,5.1559083545125999,2.7322151616771513,null,null,null,null,6.1195394818048179,3.2428618596440573,null,null,null,null,6.7544046477770525,3.579289141283355,null,null,null,null,7.0847640429653111,3.7543529489140437,null,null,null,null,7.2635283476360026,3.8490835977162972,null,null,null,null,7.347035534980936,3.8933356649923083,null,null,null,null,7.4045365943055161,3.9238065840422198]
[303,null,null,null,null,5.1168226946069346,2.7868213747337123,null,null,null,null,6.0758609468451592,3.3091510429752371,null,null,null,null,6.7231616014705402,3.6616962468750001,null,null,null,null,7.0613774432118328,3.8459017965477726,null,null,null,null,7.2382425417709477,3.9422294331548469,null,null,null,null,7.3198954077345624,3.9867007712794811,null,null,null,null,7.3762349432717453,4.0173854815476471]
[304,null,null,null,null,5.0777370347012685,2.8394345154955425,null,null,null,null,6.0321824118854988,3.3731535971674242,null,null,null,null,6.6919185551640279,3.7420733666519377,null,null,null,null,7.0379908434583554,3.9355945343540077,null,null,null,null,7.2129567359058928,4.033434219760097,null,null,null,null,7.2927552804881888,4.0780569995978109,null,null,null,null,7.3479332922379754,4.1089121521959173]
[305,null,null,null,null,5.0386513747956023,2.8900516995705612,null,null,null,null,5.9885038769258392,3.4348647128015468,null,null,null,null,6.6606755088575156,3.8204065220611847,null,null,null,null,7.0146042437048779,4.0234117045171693,null,null,null,null,7.1876709300408379,4.1226786777168334,null,null,null,null,7.2656151532418143,4.1673856474945996,null,null,null,null,7.3196316412042046,4.1983682321642668]
[306,null,null,null,null,4.9995657148899371,2.9386709950793803,null,null,null,null,5.9448253419661796,3.4942806634622787,null,null,null,null,6.6294324625510033,3.8966826325564528,null,null,null,null,6.9912176439513996,4.1093346266815631,null,null,null,null,7.162385124175783,4.209944347229519,null,null,null,null,7.2384750259954407,4.2546688693674959,null,null,null,null,7.2913299901704347,4.2857362378200046]
[307,null,null,null,null,4.9604800549842718,2.9852914191356339,null,null,null,null,5.9011468070065192,3.5513988022822649,null,null,null,null,6.598189416244491,3.970889516298779,null,null,null,null,6.9678310441979221,4.1933454011835343,null,null,null,null,7.1370993183107281,4.2952135914876397,null,null,null,null,7.2113348987490671,4.3398896790478441,null,null,null,null,7.2630283391366639,4.3709995680715146]
[308,null,null,null,null,4.9213943950786057,3.0299129339335198,null,null,null,null,5.8574682720468596,3.606217558041604,null,null,null,null,6.5669463699379786,4.0430158905004925,null,null,null,null,6.9444444444444446,4.2754269119837387,null,null,null,null,7.1118135124456741,4.3784695993132559,null,null,null,null,7.1841947715026926,4.4230319520502279,null,null,null,null,7.234726688102894,4.4541425063753417]
[309,null,null,null,null,4.8615470345285265,3.0594706808766703,null,null,null,null,5.7955030936172829,3.6472282732057715,null,null,null,null,6.5033095932099148,4.0926653363170233,null,null,null,null,6.8925118979543791,4.3375982829363071,null,null,null,null,7.0625796327849075,4.444625376324816,null,null,null,null,7.1363824177910882,4.4910709738454724,null,null,null,null,7.1903420437018752,4.5250288667245515]
[310,null,null,null,null,4.8016996739784474,3.0864730558692415,null,null,null,null,5.7335379151877062,3.6854471315506498,null,null,null,null,6.4396728164818509,4.1393418968697535,null,null,null,null,6.8405793514643136,4.3970396501988436,null,null,null,null,7.0133457531241401,4.5080917525559085,null,null,null,null,7.088570064079482,4.556445007585209,null,null,null,null,7.1459573993008565,4.5933328756184366]
[311,null,null,null,null,4.7418523134283674,3.1109350243642053,null,null,null,null,5.6715727367581295,3.7208865025265725,null,null,null,null,6.376036039753787,4.1830560130493488,null,null,null,null,6.7886468049742481,4.4537530310309146,null,null,null,null,6.9641118734633727,4.5688684734856428,null,null,null,null,7.0407577103678776,4.6191526668213774,null,null,null,null,7.1015727548998377,4.6590509258850297]
[312,null,null,null,null,4.6820049528782883,3.1328728130946266,null,null,null,null,5.6096075583285518,3.7535601069396183,null,null,null,null,6.3123992630257231,4.2238195464476123,null,null,null,null,6.7367142584841826,4.507741696645887,null,null,null,null,6.9148779938026053,4.6269565048906625,null,null,null,null,6.9929453566562714,4.6791937667337731,null,null,null,null,7.057188110498819,4.7221805595666]
[313,null,null,null,null,4.6221575923282092,3.1523038979182649,null,null,null,null,5.547642379898976,3.7834830053043178,null,null,null,null,6.2487624862976583,4.2616457680750637,null,null,null,null,6.684781711994118,4.5590101649557697,null,null,null,null,6.8656441141418378,4.6823580266174787,null,null,null,null,6.9451330029446652,4.7365693184241975,null,null,null,null,7.0128034660978003,4.782720463319305]
[314,null,null,null,null,4.5623102317781292,3.169246991135406,null,null,null,null,5.4856772014693984,3.8106715856368054,null,null,null,null,6.1851257095695935,4.2965493464936637,null,null,null,null,6.6328491655040516,4.6075641928093649,null,null,null,null,6.8164102344810704,4.7350764258646523,null,null,null,null,6.8973206492330599,4.791281522729431,null,null,null,null,6.9684188216967815,4.8406704633556927]
[315,null,null,null,null,4.5024628712280501,3.1837220282860077,null,null,null,null,5.4237120230398217,3.8351435506944664,null,null,null,null,6.1214889328415296,4.3285463353706479,null,null,null,null,6.5809166190139869,4.6534107677280376,null,null,null,null,6.767176354820303,4.7851162899786983,null,null,null,null,6.8495082955214546,4.843333763556732,null,null,null,null,6.9240341772957628,4.8960315199332518]
[316,null,null,null,null,4.442615510677971,3.1957501544324867,null,null,null,null,5.361746844610245,3.8569179046683266,null,null,null,null,6.0578521561134657,4.3576541604597283,null,null,null,null,6.5289840725239214,4.6965580991435916,null,null,null,null,6.7179424751595356,4.8324833987678044,null,null,null,null,6.8016959418098484,4.8927306007457103,null,null,null,null,6.879649532894744,4.9488057213924002]
[317,null,null,null,null,{"$error":"#VALUE!"},{"$error":"#VALUE!"},null,null,null,null,5.2896155040945647,3.868579879061715,null,null,null,null,5.9816620308511528,4.374710668097836,null,null,null,null,6.4685313426253304,4.7307843414686586,null,null,null,null,6.660631162116923,4.871277255534209,null,null,null,null,6.7460393738174318,4.9337408673100507,null,null,null,null,6.8279830327716837,4.9936706656104617]
[318,null,null,null,null,{"$error":"#VALUE!"},{"$error":"#VALUE!"},null,null,null,null,5.2073180014927836,3.8697914274246479,null,null,null,null,5.8929185570545926,4.3792919326348327,null,null,null,null,6.3995584293182137,4.7557987320880715,null,null,null,null,6.5952424156924669,4.9012202739908863,null,null,null,null,6.6825385915442066,4.9660939753590716,null,null,null,null,6.7690346769265819,5.0303730936350348]
[319,null,null,null,null,{"$error":"#VALUE!"},{"$error":"#VALUE!"},null,null,null,null,{"$error":"#VALUE!"},{"$error":"#VALUE!"},null,null,null,null,{"$error":"#VALUE!"},{"$error":"#VALUE!"},null,null,null,null,6.3417272943145537,4.7861623441794334,null,null,null,null,6.5243207753397883,4.9239673935954027,null,null,null,null,6.6136646661555556,4.9913960839284401,null,null,null,null,6.7050983832792017,5.060401986197034]
[320,null,null,null,null,{"$error":"#VALUE!"},{"$error":"#VALUE!"},null,null,null,null,{"$error":"#VALUE!"},{"$error":"#VALUE!"},null,null,null,null,{"$error":"#VALUE!"},{"$error":"#VALUE!"},null,null,null,null,{"$error":"#VALUE!"},{"$error":"#VALUE!"},null,null,null,null,6.4679858553433336,4.954764622657911,null,null,null,null,6.5550485594418078,5.0214585233354585,null,null,null,null,6.6506845163452599,5.0947199166837143]
[321,null,null,null,null,{"$f":"INDEX($1:$370,364-ROW(),COLUMN())","v":{"$error":"#VALUE!"}},{"$error":"#VALUE!"},null,null,null,null,{"$f":"INDEX($1:$370,364-ROW(),COLUMN())","v":{"$error":"#VALUE!"}},{"$error":"#VALUE!"},null,null,null,null,{"$f":"INDEX($1:$370,364-ROW(),COLUMN())","v":{"$error":"#VALUE!"}},{"$error":"#VALUE!"},null,null,null,null,{"$f":"INDEX($1:$370,364-ROW(),COLUMN())","v":{"$error":"#VALUE!"}},{"$error":"#VALUE!"},null,null,null,null,{"$f":"INDEX($1:$370,364-ROW(),COLUMN())","v":{"$error":"#VALUE!"}},{"$error":"#VALUE!"},null,null,null,null,{"$f":"INDEX($1:$370,364-ROW(),COLUMN())","v":6.5237866358611427},5.0699344374664452,null,null,null,null,{"$f":"INDEX($1:$370,364-ROW(),COLUMN())","v":6.6169479188462184},5.1423343523024467]
[322,null,null,null,null,{"$error":"#VALUE!"},{"$error":"#VALUE!"},null,null,null,null,{"$error":"#VALUE!"},{"$error":"#VALUE!"},null,null,null,null,{"$error":"#VALUE!"},{"$error":"#VALUE!"},null,null,null,null,{"$error":"#VALUE!"},{"$error":"#VALUE!"},null,null,null,null,{"$error":"#VALUE!"},{"$error":"#VALUE!"},null,null,null,null,6.4023762344632367,5.0451413213931424,null,null,null,null,{"$error":"#VALUE!"},{"$error":"#VALUE!"}]
[323,null,null,null,null,{"$error":"#VALUE!"},{"$error":"#VALUE!"},null,null,null,null,{"$error":"#VALUE!"},{"$error":"#VALUE!"},null,null,null,null,{"$error":"#VALUE!"},{"$error":"#VALUE!"},null,null,null,null,{"$error":"#VALUE!"},{"$error":"#VALUE!"},null,null,null,null,{"$error":"#VALUE!"},{"$error":"#VALUE!"},null,null,null,null,6.2338926493457834,4.978608035590339,null,null,null,null,{"$error":"#VALUE!"},{"$error":"#VALUE!"}]
[324,null,null,null,null,{"$error":"#VALUE!"},{"$error":"#VALUE!"},null,null,null,null,{"$error":"#VALUE!"},{"$error":"#VALUE!"},null,null,null,null,{"$error":"#VALUE!"},{"$error":"#VALUE!"},null,null,null,null,{"$error":"#VALUE!"},{"$error":"#VALUE!"},null,null,null,null,{"$error":"#VALUE!"},{"$error":"#VALUE!"},null,null,null,null,6.06540906422833,4.9070190107965663,null,null,null,null,{"$error":"#VALUE!"},{"$error":"#VALUE!"}]
[325,null,null,null,null,{"$error":"#VALUE!"},{"$error":"#VALUE!"},null,null,null,null,{"$error":"#VALUE!"},{"$error":"#VALUE!"},null,null,null,null,{"$error":"#VALUE!"},{"$error":"#VALUE!"},null,null,null,null,{"$error":"#VALUE!"},{"$error":"#VALUE!"},null,null,null,null,{"$error":"#VALUE!"},{"$error":"#VALUE!"},null,null,null,null,5.8969254791108767,4.8304785612335168,null,null,null,null,{"$error":"#VALUE!"},{"$error":"#VALUE!"}]
[326,null,null,null,null,{"$error":"#VALUE!"},{"$error":"#VALUE!"},null,null,null,null,{"$error":"#VALUE!"},{"$error":"#VALUE!"},null,null,null,null,{"$error":"#VALUE!"},{"$error":"#VALUE!"},null,null,null,null,{"$error":"#VALUE!"},{"$error":"#VALUE!"},null,null,null,null,{"$error":"#VALUE!"},{"$error":"#VALUE!"},null,null,null,null,5.7284418939934234,4.7490935623189126,null,null,null,null,{"$error":"#VALUE!"},{"$error":"#VALUE!"}]
[327,null,null,null,null,{"$error":"#VALUE!"},{"$error":"#VALUE!"},null,null,null,null,{"$error":"#VALUE!"},{"$error":"#VALUE!"},null,null,null,null,{"$error":"#VALUE!"},{"$error":"#VALUE!"},null,null,null,null,{"$error":"#VALUE!"},{"$error":"#VALUE!"},null,null,null,null,{"$error":"#VALUE!"},{"$error":"#VALUE!"},null,null,null,null,5.5599583088759683,4.6629733926578876,null,null,null,null,{"$error":"#VALUE!"},{"$error":"#VALUE!"}]
[328,null,null,null,null,{"$error":"#VALUE!"},{"$error":"#VALUE!"},null,null,null,null,{"$error":"#VALUE!"},{"$error":"#VALUE!"},null,null,null,null,{"$error":"#VALUE!"},{"$error":"#VALUE!"},null,null,null,null,{"$error":"#VALUE!"},{"$error":"#VALUE!"},null,null,null,null,{"$error":"#VALUE!"},{"$error":"#VALUE!"},null,null,null,null,5.391474723758515,4.572229874958901,null,null,null,null,{"$error":"#VALUE!"},{"$error":"#VALUE!"}]
[329,null,null,null,null,{"$error":"#VALUE!"},{"$error":"#VALUE!"},null,null,null,null,{"$error":"#VALUE!"},{"$error":"#VALUE!"},null,null,null,null,{"$error":"#VALUE!"},{"$error":"#VALUE!"},null,null,null,null,{"$error":"#VALUE!"},{"$error":"#VALUE!"},null,null,null,null,{"$error":"#VALUE!"},{"$error":"#VALUE!"},null,null,null,null,5.2229911386410617,4.4769772159000114,null,null,null,null,{"$error":"#VALUE!"},{"$error":"#VALUE!"}]
[330,null,null,null,null,{"$error":"#VALUE!"},{"$error":"#VALUE!"},null,null,null,null,{"$error":"#VALUE!"},{"$error":"#VALUE!"},null,null,null,null,{"$error":"#VALUE!"},{"$error":"#VALUE!"},null,null,null,null,{"$error":"#VALUE!"},{"$error":"#VALUE!"},null,null,null,null,{"$error":"#VALUE!"},{"$error":"#VALUE!"},null,null,null,null,5.0545075535236084,4.377331944971778,null,null,null,null,{"$error":"#VALUE!"},{"$error":"#VALUE!"}]
[331,null,null,null,null,{"$error":"#VALUE!"},{"$error":"#VALUE!"},null,null,null,null,{"$error":"#VALUE!"},{"$error":"#VALUE!"},null,null,null,null,{"$error":"#VALUE!"},{"$error":"#VALUE!"},null,null,null,null,{"$error":"#VALUE!"},{"$error":"#VALUE!"},null,null,null,null,{"$error":"#VALUE!"},{"$error":"#VALUE!"},null,null,null,null,4.886023968406155,4.2734128523234594,null,null,null,null,{"$error":"#VALUE!"},{"$error":"#VALUE!"}]
[332,null,null,null,null,{"$error":"#VALUE!"},{"$error":"#VALUE!"},null,null,null,null,{"$error":"#VALUE!"},{"$error":"#VALUE!"},null,null,null,null,{"$error":"#VALUE!"},{"$error":"#VALUE!"},null,null,null,null,{"$error":"#VALUE!"},{"$error":"#VALUE!"},null,null,null,null,{"$error":"#VALUE!"},{"$error":"#VALUE!"},null,null,null,null,4.7175403832887,4.1653409256395371,null,null,null,null,{"$error":"#VALUE!"},{"$error":"#VALUE!"}]
[333,null,null,null,null,{"$error":"#VALUE!"},{"$error":"#VALUE!"},null,null,null,null,{"$error":"#VALUE!"},{"$error":"#VALUE!"},null,null,null,null,{"$error":"#VALUE!"},{"$error":"#VALUE!"},null,null,null,null,{"$error":"#VALUE!"},{"$error":"#VALUE!"},null,null,null,null,{"$error":"#VALUE!"},{"$error":"#VALUE!"},null,null,null,null,4.5490567981712466,4.0532392860740281,null,null,null,null,{"$error":"#VALUE!"},{"$error":"#VALUE!"}]
[334,null,null,null,null,{"$error":"#VALUE!"},{"$error":"#VALUE!"},null,null,null,null,{"$error":"#VALUE!"},{"$error":"#VALUE!"},null,null,null,null,{"$error":"#VALUE!"},{"$error":"#VALUE!"},null,null,null,null,{"$error":"#VALUE!"},{"$error":"#VALUE!"},null,null,null,null,{"$error":"#VALUE!"},{"$error":"#VALUE!"},null,null,null,null,4.3805732130537933,3.9372331232703619,null,null,null,null,{"$error":"#VALUE!"},{"$error":"#VALUE!"}]
[335,null,null,null,null,{"$error":"#VALUE!"},{"$error":"#VALUE!"},null,null,null,null,{"$error":"#VALUE!"},{"$error":"#VALUE!"},null,null,null,null,{"$error":"#VALUE!"},{"$error":"#VALUE!"},null,null,null,null,{"$error":"#VALUE!"},{"$error":"#VALUE!"},null,null,null,null,{"$error":"#VALUE!"},{"$error":"#VALUE!"},null,null,null,null,4.21208962793634,3.8174496294950107,null,null,null,null,{"$error":"#VALUE!"},{"$error":"#VALUE!"}]
[336,null,null,null,null,{"$error":"#VALUE!"},{"$error":"#VALUE!"},null,null,null,null,{"$error":"#VALUE!"},{"$error":"#VALUE!"},null,null,null,null,{"$error":"#VALUE!"},{"$error":"#VALUE!"},null,null,null,null,{"$error":"#VALUE!"},{"$error":"#VALUE!"},null,null,null,null,{"$error":"#VALUE!"},{"$error":"#VALUE!"},null,null,null,null,4.0436060428188867,3.6940179329133662,null,null,null,null,{"$error":"#VALUE!"},{"$error":"#VALUE!"}]
[337,null,null,null,null,{"$error":"#VALUE!"},{"$error":"#VALUE!"},null,null,null,null,{"$error":"#VALUE!"},{"$error":"#VALUE!"},null,null,null,null,{"$error":"#VALUE!"},{"$error":"#VALUE!"},null,null,null,null,{"$error":"#VALUE!"},{"$error":"#VALUE!"},null,null,null,null,{"$error":"#VALUE!"},{"$error":"#VALUE!"},null,null,null,null,3.8751224577014325,3.5670690300367176,null,null,null,null,{"$error":"#VALUE!"},{"$error":"#VALUE!"}]
[338,null,null,null,null,{"$error":"#VALUE!"},{"$error":"#VALUE!"},null,null,null,null,{"$error":"#VALUE!"},{"$error":"#VALUE!"},null,null,null,null,{"$error":"#VALUE!"},{"$error":"#VALUE!"},null,null,null,null,{"$error":"#VALUE!"},{"$error":"#VALUE!"},null,null,null,null,{"$error":"#VALUE!"},{"$error":"#VALUE!"},null,null,null,null,3.7066388725839787,3.4367357173695048,null,null,null,null,{"$error":"#VALUE!"},{"$error":"#VALUE!"}]
[339,null,null,null,null,{"$error":"#VALUE!"},{"$error":"#VALUE!"},null,null,null,null,{"$error":"#VALUE!"},{"$error":"#VALUE!"},null,null,null,null,{"$error":"#VALUE!"},{"$error":"#VALUE!"},null,null,null,null,{"$error":"#VALUE!"},{"$error":"#VALUE!"},null,null,null,null,{"$error":"#VALUE!"},{"$error":"#VALUE!"},null,null,null,null,3.5381552874665254,3.3031525222863283,null,null,null,null,{"$error":"#VALUE!"},{"$error":"#VALUE!"}]
[340,null,null,null,null,{"$error":"#VALUE!"},{"$error":"#VALUE!"},null,null,null,null,{"$error":"#VALUE!"},{"$error":"#VALUE!"},null,null,null,null,{"$error":"#VALUE!"},{"$error":"#VALUE!"},null,null,null,null,{"$error":"#VALUE!"},{"$error":"#VALUE!"},null,null,null,null,{"$error":"#VALUE!"},{"$error":"#VALUE!"},null,null,null,null,3.3696717023490717,3.1664556331685128,null,null,null,null,{"$error":"#VALUE!"},{"$error":"#VALUE!"}]
[341,null,null,null,null,{"$f":"INDEX($1:$370,364-ROW(),COLUMN())","v":{"$error":"#VALUE!"}},{"$error":"#VALUE!"},null,null,null,null,{"$f":"INDEX($1:$370,364-ROW(),COLUMN())","v":{"$error":"#VALUE!"}},{"$error":"#VALUE!"},null,null,null,null,{"$f":"INDEX($1:$370,364-ROW(),COLUMN())","v":{"$error":"#VALUE!"}},{"$error":"#VALUE!"},null,null,null,null,{"$f":"INDEX($1:$370,364-ROW(),COLUMN())","v":{"$error":"#VALUE!"}},{"$error":"#VALUE!"},null,null,null,null,{"$f":"INDEX($1:$370,364-ROW(),COLUMN())","v":{"$error":"#VALUE!"}},{"$error":"#VALUE!"},null,null,null,null,{"$f":"INDEX($1:$370,364-ROW(),COLUMN())","v":3.2011881172316179},3.0267828288302985,null,null,null,null,{"$f":"INDEX($1:$370,364-ROW(),COLUMN())","v":{"$error":"#VALUE!"}},{"$error":"#VALUE!"}]
[342,null,null,null,null,{"$error":"#VALUE!"},{"$error":"#VALUE!"},null,null,null,null,{"$error":"#VALUE!"},{"$error":"#VALUE!"},null,null,null,null,{"$error":"#VALUE!"},{"$error":"#VALUE!"},null,null,null,null,{"$error":"#VALUE!"},{"$error":"#VALUE!"},null,null,null,null,{"$error":"#VALUE!"},{"$error":"#VALUE!"},null,null,null,null,3.0327045321141646,2.8842734072650211,null,null,null,null,{"$error":"#VALUE!"},{"$error":"#VALUE!"}]
[343,null,null,null,null,{"$error":"#VALUE!"},{"$error":"#VALUE!"},null,null,null,null,{"$error":"#VALUE!"},{"$error":"#VALUE!"},null,null,null,null,{"$error":"#VALUE!"},{"$error":"#VALUE!"},null,null,null,null,{"$error":"#VALUE!"},{"$error":"#VALUE!"},null,null,null,null,{"$error":"#VALUE!"},{"$error":"#VALUE!"},null,null,null,null,2.8642209469967108,2.739068113741904,null,null,null,null,{"$error":"#VALUE!"},{"$error":"#VALUE!"}]
[344,null,null,null,null,{"$error":"#VALUE!"},{"$error":"#VALUE!"},null,null,null,null,{"$error":"#VALUE!"},{"$error":"#VALUE!"},null,null,null,null,{"$error":"#VALUE!"},{"$error":"#VALUE!"},null,null,null,null,{"$error":"#VALUE!"},{"$error":"#VALUE!"},null,null,null,null,{"$error":"#VALUE!"},{"$error":"#VALUE!"},null,null,null,null,2.6957373618792571,2.5913090682843443,null,null,null,null,{"$error":"#VALUE!"},{"$error":"#VALUE!"}]
[345,null,null,null,null,{"$error":"#VALUE!"},{"$error":"#VALUE!"},null,null,null,null,{"$error":"#VALUE!"},{"$error":"#VALUE!"},null,null,null,null,{"$error":"#VALUE!"},{"$error":"#VALUE!"},null,null,null,null,{"$error":"#VALUE!"},{"$error":"#VALUE!"},null,null,null,null,{"$error":"#VALUE!"},{"$error":"#VALUE!"},null,null,null,null,2.5272537767618033,2.4411396925608133,null,null,null,null,{"$error":"#VALUE!"},{"$error":"#VALUE!"}]
[346,null,null,null,null,{"$error":"#VALUE!"},{"$error":"#VALUE!"},null,null,null,null,{"$error":"#VALUE!"},{"$error":"#VALUE!"},null,null,null,null,{"$error":"#VALUE!"},{"$error":"#VALUE!"},null,null,null,null,{"$error":"#VALUE!"},{"$error":"#VALUE!"},null,null,null,null,{"$error":"#VALUE!"},{"$error":"#VALUE!"},null,null,null,null,2.3587701916443495,2.2887046362197254,null,null,null,null,{"$error":"#VALUE!"},{"$error":"#VALUE!"}]
[347,null,null,null,null,{"$error":"#VALUE!"},{"$error":"#VALUE!"},null,null,null,null,{"$error":"#VALUE!"},{"$error":"#VALUE!"},null,null,null,null,{"$error":"#VALUE!"},{"$error":"#VALUE!"},null,null,null,null,{"$error":"#VALUE!"},{"$error":"#VALUE!"},null,null,null,null,{"$error":"#VALUE!"},{"$error":"#VALUE!"},null,null,null,null,2.1902866065268962,2.1341497026998448,null,null,null,null,{"$error":"#VALUE!"},{"$error":"#VALUE!"}]
[348,null,null,null,null,{"$error":"#VALUE!"},{"$error":"#VALUE!"},null,null,null,null,{"$error":"#VALUE!"},{"$error":"#VALUE!"},null,null,null,null,{"$error":"#VALUE!"},{"$error":"#VALUE!"},null,null,null,null,{"$error":"#VALUE!"},{"$error":"#VALUE!"},null,null,null,null,{"$error":"#VALUE!"},{"$error":"#VALUE!"},null,null,null,null,2.0218030214094425,1.9776217745480054,null,null,null,null,{"$error":"#VALUE!"},{"$error":"#VALUE!"}]
[349,null,null,null,null,{"$error":"#VALUE!"},{"$error":"#VALUE!"},null,null,null,null,{"$error":"#VALUE!"},{"$error":"#VALUE!"},null,null,null,null,{"$error":"#VALUE!"},{"$error":"#VALUE!"},null,null,null,null,{"$error":"#VALUE!"},{"$error":"#VALUE!"},null,null,null,null,{"$error":"#VALUE!"},{"$error":"#VALUE!"},null,null,null,null,1.8533194362919887,1.8192687382761172,null,null,null,null,{"$error":"#VALUE!"},{"$error":"#VALUE!"}]
[350,null,null,null,null,{"$error":"#VALUE!"},{"$error":"#VALUE!"},null,null,null,null,{"$error":"#VALUE!"},{"$error":"#VALUE!"},null,null,null,null,{"$error":"#VALUE!"},{"$error":"#VALUE!"},null,null,null,null,{"$error":"#VALUE!"},{"$error":"#VALUE!"},null,null,null,null,{"$error":"#VALUE!"},{"$error":"#VALUE!"},null,null,null,null,1.6848358511745352,1.659239408789605,null,null,null,null,{"$error":"#VALUE!"},{"$error":"#VALUE!"}]
[351,null,null,null,null,{"$error":"#VALUE!"},{"$error":"#VALUE!"},null,null,null,null,{"$error":"#VALUE!"},{"$error":"#VALUE!"},null,null,null,null,{"$error":"#VALUE!"},{"$error":"#VALUE!"},null,null,null,null,{"$error":"#VALUE!"},{"$error":"#VALUE!"},null,null,null,null,{"$error":"#VALUE!"},{"$error":"#VALUE!"},null,null,null,null,1.5163522660570816,1.4976834534195957,null,null,null,null,{"$error":"#VALUE!"},{"$error":"#VALUE!"}]
[352,null,null,null,null,{"$error":"#VALUE!"},{"$error":"#VALUE!"},null,null,null,null,{"$error":"#VALUE!"},{"$error":"#VALUE!"},null,null,null,null,{"$error":"#VALUE!"},{"$error":"#VALUE!"},null,null,null,null,{"$error":"#VALUE!"},{"$error":"#VALUE!"},null,null,null,null,{"$error":"#VALUE!"},{"$error":"#VALUE!"},null,null,null,null,1.3478686809396279,1.3347513155913331,null,null,null,null,{"$error":"#VALUE!"},{"$error":"#VALUE!"}]
[353,null,null,null,null,{"$error":"#VALUE!"},{"$error":"#VALUE!"},null,null,null,null,{"$error":"#VALUE!"},{"$error":"#VALUE!"},null,null,null,null,{"$error":"#VALUE!"},{"$error":"#VALUE!"},null,null,null,null,{"$error":"#VALUE!"},{"$error":"#VALUE!"},null,null,null,null,{"$error":"#VALUE!"},{"$error":"#VALUE!"},null,null,null,null,1.1793850958221741,1.1705941381614307,null,null,null,null,{"$error":"#VALUE!"},{"$error":"#VALUE!"}]
[354,null,null,null,null,{"$error":"#VALUE!"},{"$error":"#VALUE!"},null,null,null,null,{"$error":"#VALUE!"},{"$error":"#VALUE!"},null,null,null,null,{"$error":"#VALUE!"},{"$error":"#VALUE!"},null,null,null,null,{"$error":"#VALUE!"},{"$error":"#VALUE!"},null,null,null,null,{"$error":"#VALUE!"},{"$error":"#VALUE!"},null,null,null,null,1.0109015107047206,1.0053636864567095,null,null,null,null,{"$error":"#VALUE!"},{"$error":"#VALUE!"}]
[355,null,null,null,null,{"$error":"#VALUE!"},{"$error":"#VALUE!"},null,null,null,null,{"$error":"#VALUE!"},{"$error":"#VALUE!"},null,null,null,null,{"$error":"#VALUE!"},{"$error":"#VALUE!"},null,null,null,null,{"$error":"#VALUE!"},{"$error":"#VALUE!"},null,null,null,null,{"$error":"#VALUE!"},{"$error":"#VALUE!"},null,null,null,null,0.84241792558726691,0.83921227104748197,null,null,null,null,{"$error":"#VALUE!"},{"$error":"#VALUE!"}]
[356,null,null,null,null,{"$error":"#VALUE!"},{"$error":"#VALUE!"},null,null,null,null,{"$error":"#VALUE!"},{"$error":"#VALUE!"},null,null,null,null,{"$error":"#VALUE!"},{"$error":"#VALUE!"},null,null,null,null,{"$error":"#VALUE!"},{"$error":"#VALUE!"},null,null,null,null,{"$error":"#VALUE!"},{"$error":"#VALUE!"},null,null,null,null,0.67393434046981326,0.67229267028825024,null,null,null,null,{"$error":"#VALUE!"},{"$error":"#VALUE!"}]
[357,null,null,null,null,{"$error":"#VALUE!"},{"$error":"#VALUE!"},null,null,null,null,{"$error":"#VALUE!"},{"$error":"#VALUE!"},null,null,null,null,{"$error":"#VALUE!"},{"$error":"#VALUE!"},null,null,null,null,{"$error":"#VALUE!"},{"$error":"#VALUE!"},null,null,null,null,{"$error":"#VALUE!"},{"$error":"#VALUE!"},null,null,null,null,0.50545075535235962,0.50475805265887486,null,null,null,null,{"$error":"#VALUE!"},{"$error":"#VALUE!"}]
[358,null,null,null,null,{"$error":"#VALUE!"},{"$error":"#VALUE!"},null,null,null,null,{"$error":"#VALUE!"},{"$error":"#VALUE!"},null,null,null,null,{"$error":"#VALUE!"},{"$error":"#VALUE!"},null,null,null,null,{"$error":"#VALUE!"},{"$error":"#VALUE!"},null,null,null,null,{"$error":"#VALUE!"},{"$error":"#VALUE!"},null,null,null,null,0.33696717023490597,0.3367618989393471,null,null,null,null,{"$error":"#VALUE!"},{"$error":"#VALUE!"}]
[359,null,null,null,null,{"$error":"#VALUE!"},{"$error":"#VALUE!"},null,null,null,null,{"$error":"#VALUE!"},{"$error":"#VALUE!"},null,null,null,null,{"$error":"#VALUE!"},{"$error":"#VALUE!"},null,null,null,null,{"$error":"#VALUE!"},{"$error":"#VALUE!"},null,null,null,null,{"$error":"#VALUE!"},{"$error":"#VALUE!"},null,null,null,null,0.16848358511745232,0.16845792425137038,null,null,null,null,{"$error":"#VALUE!"},{"$error":"#VALUE!"}]
[]
[null,null,null,null,null,"VMAX",{"$f":"MAX(G2:G361)","v":{"$error":"#VALUE!"}},null,null,null,null,"VMAX",{"$f":"MAX(M2:M361)","v":{"$error":"#VALUE!"}},null,null,null,null,"VMAX",{"$f":"MAX(S2:S361)","v":{"$error":"#VALUE!"}},null,null,null,null,"VMAX",{"$f":"MAX(Y2:Y361)","v":{"$error":"#VALUE!"}},null,null,null,null,"VMAX",{"$f":"MAX(AE2:AE361)","v":{"$error":"#VALUE!"}},null,null,null,null,"VMAX",{"$f":"MAX(AK2:AK361)","v":5.0699344374664452},null,null,null,null,"VMAX",{"$f":"MAX(AQ2:AQ361)","v":{"$error":"#VALUE!"}}]
[null,null,null,null,null,"VMIN",{"$f":"MIN(G2:G361)","v":{"$error":"#VALUE!"}},null,null,null,null,"VMIN",{"$f":"MIN(M2:M361)","v":{"$error":"#VALUE!"}},null,null,null,null,"VMIN",{"$f":"MIN(S2:S361)","v":{"$error":"#VALUE!"}},null,null,null,null,"VMIN",{"$f":"MIN(Y2:Y361)","v":{"$error":"#VALUE!"}},null,null,null,null,"VMIN",{"$f":"MIN(AE2:AE361)","v":{"$error":"#VALUE!"}},null,null,null,null,"VMIN",{"$f":"MIN(AK2:AK361)","v":-7.5733517691979992},null,null,null,null,"VMIN",{"$f":"MIN(AQ2:AQ361)","v":{"$error":"#VALUE!"}}]
[null,null,null,null,{"$f":"MATCH(G363,G$2:G$361,0)","v":{"$error":"#VALUE!"}},"AMAX",{"$f":"INDEX($A$2:$A$361, IF(E365>180, 360-E365, E365 ), 1 )","v":{"$error":"#VALUE!"}},null,null,null,{"$f":"MATCH(M363,M$2:M$361,0)","v":{"$error":"#VALUE!"}},"AMAX",{"$f":"INDEX($A$2:$A$361, IF(K365>180, 360-K365, K365 ), 1 )","v":{"$error":"#VALUE!"}},null,null,null,{"$f":"MATCH(S363,S$2:S$361,0)","v":{"$error":"#VALUE!"}},"AMAX",{"$f":"INDEX($A$2:$A$361, IF(Q365>180, 360-Q365, Q365 ), 1 )","v":{"$error":"#VALUE!"}},null,null,null,{"$f":"MATCH(Y363,Y$2:Y$361,0)","v":{"$error":"#VALUE!"}},"AMAX",{"$f":"INDEX($A$2:$A$361, IF(W365>180, 360-W365, W365 ), 1 )","v":{"$error":"#VALUE!"}},null,null,null,{"$f":"MATCH(AE363,AE$2:AE$361,0)","v":{"$error":"#VALUE!"}},"AMAX",{"$f":"INDEX($A$2:$A$361, IF(AC365>180, 360-AC365, AC365 ), 1 )","v":{"$error":"#VALUE!"}},null,null,null,{"$f":"MATCH(AK363,AK$2:AK$361,0)","v":40},"AMAX",{"$f":"INDEX($A$2:$A$361, IF(AI365>180, 360-AI365, AI365 ), 1 )","v":39},null,null,null,{"$f":"MATCH(AQ363,AQ$2:AQ$361,0)","v":{"$error":"#VALUE!"}},"AMAX",{"$f":"INDEX($A$2:$A$361, IF(AO365>180, 360-AO365, AO365 ), 1 )","v":{"$error":"#VALUE!"}}]
[null,null,null,null,{"$f":"MATCH(G364,G$2:G$361,-1)","v":{"$error":"#VALUE!"}},"AMIN",{"$f":"INDEX($A$2:$A$361, IF(E366>180, 360-E366, E366 ), 1 )","v":{"$error":"#VALUE!"}},null,null,null,{"$f":"MATCH(M364,M$2:M$361,-1)","v":{"$error":"#VALUE!"}},"AMIN",{"$f":"INDEX($A$2:$A$361, IF(K366>180, 360-K366, K366 ), 1 )","v":{"$error":"#VALUE!"}},null,null,null,{"$f":"MATCH(S364,S$2:S$361,-1)","v":{"$error":"#VALUE!"}},"AMIN",{"$f":"INDEX($A$2:$A$361, IF(Q366>180, 360-Q366, Q366 ), 1 )","v":{"$error":"#VALUE!"}},null,null,null,{"$f":"MATCH(Y364,Y$2:Y$361,-1)","v":{"$error":"#VALUE!"}},"AMIN",{"$f":"INDEX($A$2:$A$361, IF(W366>180, 360-W366, W366 ), 1 )","v":{"$error":"#VALUE!"}},null,null,null,{"$f":"MATCH(AE364,AE$2:AE$361,-1)","v":{"$error":"#VALUE!"}},"AMIN",{"$f":"INDEX($A$2:$A$361, IF(AC366>180, 360-AC366, AC366 ), 1 )","v":{"$error":"#VALUE!"}},null,null,null,{"$f":"MATCH(AK364,AK$2:AK$361,-1)","v":175},"AMIN",{"$f":"INDEX($A$2:$A$361, IF(AI366>180, 360-AI366, AI366 ), 1 )","v":174},null,null,null,{"$f":"MATCH(AQ364,AQ$2:AQ$361,-1)","v":{"$error":"#VALUE!"}},"AMIN",{"$f":"INDEX($A$2:$A$361, IF(AO366>180, 360-AO366, AO366 ), 1 )","v":{"$error":"#VALUE!"}}]

{"sheet":"STW","index":12,"n_rows":361,"n_cols":9,"rows_kept":361,"cut":false,"hidden":true,"merged":[]}
[null,0,{"$f":"'Polar 0-360'!F1","v":6},{"$f":"'Polar 0-360'!L1","v":8},{"$f":"'Polar 0-360'!R1","v":10},{"$f":"'Polar 0-360'!X1","v":12},{"$f":"'Polar 0-360'!AD1","v":14},{"$f":"'Polar 0-360'!AJ1","v":16},{"$f":"'Polar 0-360'!AP1","v":20}]
[{"$f":"'Polar 0-360'!A2","v":0},0,{"$f":" IF( $A2 < 'Polar 0-360'!G$365, 'Polar 0-360'!G$363 / COS!$B2,'Polar 0-360'!F2 )","v":{"$error":"#VALUE!"}},{"$f":" IF( $A2 < 'Polar 0-360'!M$365, 'Polar 0-360'!M$363 / COS!$B2,'Polar 0-360'!L2 )","v":{"$error":"#VALUE!"}},{"$f":" IF( $A2 < 'Polar 0-360'!S$365, 'Polar 0-360'!S$363 / COS!$B2,'Polar 0-360'!R2 )","v":{"$error":"#VALUE!"}},{"$f":" IF( $A2 < 'Polar 0-360'!Y$365, 'Polar 0-360'!Y$363 / COS!$B2,'Polar 0-360'!X2 )","v":{"$error":"#VALUE!"}},{"$f":" IF( $A2 < 'Polar 0-360'!AE$365, 'Polar 0-360'!AE$363 / COS!$B2,'Polar 0-360'!AD2 )","v":{"$error":"#VALUE!"}},{"$f":" IF( $A2 < 'Polar 0-360'!AK$365, 'Polar 0-360'!AK$363 / COS!$B2,'Polar 0-360'!AJ2 )","v":5.0699344374664452},{"$f":" IF( $A2 < 'Polar 0-360'!AQ$365, 'Polar 0-360'!AQ$363 / COS!$B2,'Polar 0-360'!AP2 )","v":{"$error":"#VALUE!"}}]
[{"$f":"'Polar 0-360'!A3","v":1},0,{"$f":" IF( $A3 < 'Polar 0-360'!G$365, 'Polar 0-360'!G$363 / COS!$B3,'Polar 0-360'!F3 )","v":{"$error":"#VALUE!"}},{"$f":" IF( $A3 < 'Polar 0-360'!M$365, 'Polar 0-360'!M$363 / COS!$B3,'Polar 0-360'!L3 )","v":{"$error":"#VALUE!"}},{"$f":" IF( $A3 < 'Polar 0-360'!S$365, 'Polar 0-360'!S$363 / COS!$B3,'Polar 0-360'!R3 )","v":{"$error":"#VALUE!"}},{"$f":" IF( $A3 < 'Polar 0-360'!Y$365, 'Polar 0-360'!Y$363 / COS!$B3,'Polar 0-360'!X3 )","v":{"$error":"#VALUE!"}},{"$f":" IF( $A3 < 'Polar 0-360'!AE$365, 'Polar 0-360'!AE$363 / COS!$B3,'Polar 0-360'!AD3 )","v":{"$error":"#VALUE!"}},{"$f":" IF( $A3 < 'Polar 0-360'!AK$365, 'Polar 0-360'!AK$363 / COS!$B3,'Polar 0-360'!AJ3 )","v":5.0707067306620441},{"$f":" IF( $A3 < 'Polar 0-360'!AQ$365, 'Polar 0-360'!AQ$363 / COS!$B3,'Polar 0-360'!AP3 )","v":{"$error":"#VALUE!"}}]
[{"$f":"'Polar 0-360'!A4","v":2},0,{"$f":" IF( $A4 < 'Polar 0-360'!G$365, 'Polar 0-360'!G$363 / COS!$B4,'Polar 0-360'!F4 )","v":{"$error":"#VALUE!"}},{"$f":" IF( $A4 < 'Polar 0-360'!M$365, 'Polar 0-360'!M$363 / COS!$B4,'Polar 0-360'!L4 )","v":{"$error":"#VALUE!"}},{"$f":" IF( $A4 < 'Polar 0-360'!S$365, 'Polar 0-360'!S$363 / COS!$B4,'Polar 0-360'!R4 )","v":{"$error":"#VALUE!"}},{"$f":" IF( $A4 < 'Polar 0-360'!Y$365, 'Polar 0-360'!Y$363 / COS!$B4,'Polar 0-360'!X4 )","v":{"$error":"#VALUE!"}},{"$f":" IF( $A4 < 'Polar 0-360'!AE$365, 'Polar 0-360'!AE$363 / COS!$B4,'Polar 0-360'!AD4 )","v":{"$error":"#VALUE!"}},{"$f":" IF( $A4 < 'Polar 0-360'!AK$365, 'Polar 0-360'!AK$363 / COS!$B4,'Polar 0-360'!AJ4 )","v":5.0730247870982028},{"$f":" IF( $A4 < 'Polar 0-360'!AQ$365, 'Polar 0-360'!AQ$363 / COS!$B4,'Polar 0-360'!AP4 )","v":{"$error":"#VALUE!"}}]
[{"$f":"'Polar 0-360'!A5","v":3},0,{"$f":" IF( $A5 < 'Polar 0-360'!G$365, 'Polar 0-360'!G$363 / COS!$B5,'Polar 0-360'!F5 )","v":{"$error":"#VALUE!"}},{"$f":" IF( $A5 < 'Polar 0-360'!M$365, 'Polar 0-360'!M$363 / COS!$B5,'Polar 0-360'!L5 )","v":{"$error":"#VALUE!"}},{"$f":" IF( $A5 < 'Polar 0-360'!S$365, 'Polar 0-360'!S$363 / COS!$B5,'Polar 0-360'!R5 )","v":{"$error":"#VALUE!"}},{"$f":" IF( $A5 < 'Polar 0-360'!Y$365, 'Polar 0-360'!Y$363 / COS!$B5,'Polar 0-360'!X5 )","v":{"$error":"#VALUE!"}},{"$f":" IF( $A5 < 'Polar 0-360'!AE$365, 'Polar 0-360'!AE$363 / COS!$B5,'Polar 0-360'!AD5 )","v":{"$error":"#VALUE!"}},{"$f":" IF( $A5 < 'Polar 0-360'!AK$365, 'Polar 0-360'!AK$363 / COS!$B5,'Polar 0-360'!AJ5 )","v":5.0768921417014239},{"$f":" IF( $A5 < 'Polar 0-360'!AQ$365, 'Polar 0-360'!AQ$363 / COS!$B5,'Polar 0-360'!AP5 )","v":{"$error":"#VALUE!"}}]
[{"$f":"'Polar 0-360'!A6","v":4},0,{"$f":" IF( $A6 < 'Polar 0-360'!G$365, 'Polar 0-360'!G$363 / COS!$B6,'Polar 0-360'!F6 )","v":{"$error":"#VALUE!"}},{"$f":" IF( $A6 < 'Polar 0-360'!M$365, 'Polar 0-360'!M$363 / COS!$B6,'Polar 0-360'!L6 )","v":{"$error":"#VALUE!"}},{"$f":" IF( $A6 < 'Polar 0-360'!S$365, 'Polar 0-360'!S$363 / COS!$B6,'Polar 0-360'!R6 )","v":{"$error":"#VALUE!"}},{"$f":" IF( $A6 < 'Polar 0-360'!Y$365, 'Polar 0-360'!Y$363 / COS!$B6,'Polar 0-360'!X6 )","v":{"$error":"#VALUE!"}},{"$f":" IF( $A6 < 'Polar 0-360'!AE$365, 'Polar 0-360'!AE$363 / COS!$B6,'Polar 0-360'!AD6 )","v":{"$error":"#VALUE!"}},{"$f":" IF( $A6 < 'Polar 0-360'!AK$365, 'Polar 0-360'!AK$363 / COS!$B6,'Polar 0-360'!AJ6 )","v":5.0823147006409632},{"$f":" IF( $A6 < 'Polar 0-360'!AQ$365, 'Polar 0-360'!AQ$363 / COS!$B6,'Polar 0-360'!AP6 )","v":{"$error":"#VALUE!"}}]
[{"$f":"'Polar 0-360'!A7","v":5},0,{"$f":" IF( $A7 < 'Polar 0-360'!G$365, 'Polar 0-360'!G$363 / COS!$B7,'Polar 0-360'!F7 )","v":{"$error":"#VALUE!"}},{"$f":" IF( $A7 < 'Polar 0-360'!M$365, 'Polar 0-360'!M$363 / COS!$B7,'Polar 0-360'!L7 )","v":{"$error":"#VALUE!"}},{"$f":" IF( $A7 < 'Polar 0-360'!S$365, 'Polar 0-360'!S$363 / COS!$B7,'Polar 0-360'!R7 )","v":{"$error":"#VALUE!"}},{"$f":" IF( $A7 < 'Polar 0-360'!Y$365, 'Polar 0-360'!Y$363 / COS!$B7,'Polar 0-360'!X7 )","v":{"$error":"#VALUE!"}},{"$f":" IF( $A7 < 'Polar 0-360'!AE$365, 'Polar 0-360'!AE$363 / COS!$B7,'Polar 0-360'!AD7 )","v":{"$error":"#VALUE!"}},{"$f":" IF( $A7 < 'Polar 0-360'!AK$365, 'Polar 0-360'!AK$363 / COS!$B7,'Polar 0-360'!AJ7 )","v":5.0893007633729894},{"$f":" IF( $A7 < 'Polar 0-360'!AQ$365, 'Polar 0-360'!AQ$363 / COS!$B7,'Polar 0-360'!AP7 )","v":{"$error":"#VALUE!"}}]
[{"$f":"'Polar 0-360'!A8","v":6},0,{"$f":" IF( $A8 < 'Polar 0-360'!G$365, 'Polar 0-360'!G$363 / COS!$B8,'Polar 0-360'!F8 )","v":{"$error":"#VALUE!"}},{"$f":" IF( $A8 < 'Polar 0-360'!M$365, 'Polar 0-360'!M$363 / COS!$B8,'Polar 0-360'!L8 )","v":{"$error":"#VALUE!"}},{"$f":" IF( $A8 < 'Polar 0-360'!S$365, 'Polar 0-360'!S$363 / COS!$B8,'Polar 0-360'!R8 )","v":{"$error":"#VALUE!"}},{"$f":" IF( $A8 < 'Polar 0-360'!Y$365, 'Polar 0-360'!Y$363 / COS!$B8,'Polar 0-360'!X8 )","v":{"$error":"#VALUE!"}},{"$f":" IF( $A8 < 'Polar 0-360'!AE$365, 'Polar 0-360'!AE$363 / COS!$B8,'Polar 0-360'!AD8 )","v":{"$error":"#VALUE!"}},{"$f":" IF( $A8 < 'Polar 0-360'!AK$365, 'Polar 0-360'!AK$363 / COS!$B8,'Polar 0-360'!AJ8 )","v":5.0978610537167102},{"$f":" IF( $A8 < 'Polar 0-360'!AQ$365, 'Polar 0-360'!AQ$363 / COS!$B8,'Polar 0-360'!AP8 )","v":{"$error":"#VALUE!"}}]
[{"$f":"'Polar 0-360'!A9","v":7},0,{"$f":" IF( $A9 < 'Polar 0-360'!G$365, 'Polar 0-360'!G$363 / COS!$B9,'Polar 0-360'!F9 )","v":{"$error":"#VALUE!"}},{"$f":" IF( $A9 < 'Polar 0-360'!M$365, 'Polar 0-360'!M$363 / COS!$B9,'Polar 0-360'!L9 )","v":{"$error":"#VALUE!"}},{"$f":" IF( $A9 < 'Polar 0-360'!S$365, 'Polar 0-360'!S$363 / COS!$B9,'Polar 0-360'!R9 )","v":{"$error":"#VALUE!"}},{"$f":" IF( $A9 < 'Polar 0-360'!Y$365, 'Polar 0-360'!Y$363 / COS!$B9,'Polar 0-360'!X9 )","v":{"$error":"#VALUE!"}},{"$f":" IF( $A9 < 'Polar 0-360'!AE$365, 'Polar 0-360'!AE$363 / COS!$B9,'Polar 0-360'!AD9 )","v":{"$error":"#VALUE!"}},{"$f":" IF( $A9 < 'Polar 0-360'!AK$365, 'Polar 0-360'!AK$363 / COS!$B9,'Polar 0-360'!AJ9 )","v":5.1080087601796231},{"$f":" IF( $A9 < 'Polar 0-360'!AQ$365, 'Polar 0-360'!AQ$363 / COS!$B9,'Polar 0-360'!AP9 )","v":{"$error":"#VALUE!"}}]
[{"$f":"'Polar 0-360'!A10","v":8},0,{"$f":" IF( $A10 < 'Polar 0-360'!G$365, 'Polar 0-360'!G$363 / COS!$B10,'Polar 0-360'!F10 )","v":{"$error":"#VALUE!"}},{"$f":" IF( $A10 < 'Polar 0-360'!M$365, 'Polar 0-360'!M$363 / COS!$B10,'Polar 0-360'!L10 )","v":{"$error":"#VALUE!"}},{"$f":" IF( $A10 < 'Polar 0-360'!S$365, 'Polar 0-360'!S$363 / COS!$B10,'Polar 0-360'!R10 )","v":{"$error":"#VALUE!"}},{"$f":" IF( $A10 < 'Polar 0-360'!Y$365, 'Polar 0-360'!Y$363 / COS!$B10,'Polar 0-360'!X10 )","v":{"$error":"#VALUE!"}},{"$f":" IF( $A10 < 'Polar 0-360'!AE$365, 'Polar 0-360'!AE$363 / COS!$B10,'Polar 0-360'!AD10 )","v":{"$error":"#VALUE!"}},{"$f":" IF( $A10 < 'Polar 0-360'!AK$365, 'Polar 0-360'!AK$363 / COS!$B10,'Polar 0-360'!AJ10 )","v":5.1197595858152862},{"$f":" IF( $A10 < 'Polar 0-360'!AQ$365, 'Polar 0-360'!AQ$363 / COS!$B10,'Polar 0-360'!AP10 )","v":{"$error":"#VALUE!"}}]
[{"$f":"'Polar 0-360'!A11","v":9},0,{"$f":" IF( $A11 < 'Polar 0-360'!G$365, 'Polar 0-360'!G$363 / COS!$B11,'Polar 0-360'!F11 )","v":{"$error":"#VALUE!"}},{"$f":" IF( $A11 < 'Polar 0-360'!M$365, 'Polar 0-360'!M$363 / COS!$B11,'Polar 0-360'!L11 )","v":{"$error":"#VALUE!"}},{"$f":" IF( $A11 < 'Polar 0-360'!S$365, 'Polar 0-360'!S$363 / COS!$B11,'Polar 0-360'!R11 )","v":{"$error":"#VALUE!"}},{"$f":" IF( $A11 < 'Polar 0-360'!Y$365, 'Polar 0-360'!Y$363 / COS!$B11,'Polar 0-360'!X11 )","v":{"$error":"#VALUE!"}},{"$f":" IF( $A11 < 'Polar 0-360'!AE$365, 'Polar 0-360'!AE$363 / COS!$B11,'Polar 0-360'!AD11 )","v":{"$error":"#VALUE!"}},{"$f":" IF( $A11 < 'Polar 0-360'!AK$365, 'Polar 0-360'!AK$363 / COS!$B11,'Polar 0-360'!AJ11 )","v":5.1331318079663921},{"$f":" IF( $A11 < 'Polar 0-360'!AQ$365, 'Polar 0-360'!AQ$363 / COS!$B11,'Polar 0-360'!AP11 )","v":{"$error":"#VALUE!"}}]
[{"$f":"'Polar 0-360'!A12","v":10},0,{"$f":" IF( $A12 < 'Polar 0-360'!G$365, 'Polar 0-360'!G$363 / COS!$B12,'Polar 0-360'!F12 )","v":{"$error":"#VALUE!"}},{"$f":" IF( $A12 < 'Polar 0-360'!M$365, 'Polar 0-360'!M$363 / COS!$B12,'Polar 0-360'!L12 )","v":{"$error":"#VALUE!"}},{"$f":" IF( $A12 < 'Polar 0-360'!S$365, 'Polar 0-360'!S$363 / COS!$B12,'Polar 0-360'!R12 )","v":{"$error":"#VALUE!"}},{"$f":" IF( $A12 < 'Polar 0-360'!Y$365, 'Polar 0-360'!Y$363 / COS!$B12,'Polar 0-360'!X12 )","v":{"$error":"#VALUE!"}},{"$f":" IF( $A12 < 'Polar 0-360'!AE$365, 'Polar 0-360'!AE$363 / COS!$B12,'Polar 0-360'!AD12 )","v":{"$error":"#VALUE!"}},{"$f":" IF( $A12 < 'Polar 0-360'!AK$365, 'Polar 0-360'!AK$363 / COS!$B12,'Polar 0-360'!AJ12 )","v":5.148146348319413},{"$f":" IF( $A12 < 'Polar 0-360'!AQ$365, 'Polar 0-360'!AQ$363 / COS!$B12,'Polar 0-360'!AP12 )","v":{"$error":"#VALUE!"}}]
[{"$f":"'Polar 0-360'!A13","v":11},0,{"$f":" IF( $A13 < 'Polar 0-360'!G$365, 'Polar 0-360'!G$363 / COS!$B13,'Polar 0-360'!F13 )","v":{"$error":"#VALUE!"}},{"$f":" IF( $A13 < 'Polar 0-360'!M$365, 'Polar 0-360'!M$363 / COS!$B13,'Polar 0-360'!L13 )","v":{"$error":"#VALUE!"}},{"$f":" IF( $A13 < 'Polar 0-360'!S$365, 'Polar 0-360'!S$363 / COS!$B13,'Polar 0-360'!R13 )","v":{"$error":"#VALUE!"}},{"$f":" IF( $A13 < 'Polar 0-360'!Y$365, 'Polar 0-360'!Y$363 / COS!$B13,'Polar 0-360'!X13 )","v":{"$error":"#VALUE!"}},{"$f":" IF( $A13 < 'Polar 0-360'!AE$365, 'Polar 0-360'!AE$363 / COS!$B13,'Polar 0-360'!AD13 )","v":{"$error":"#VALUE!"}},{"$f":" IF( $A13 < 'Polar 0-360'!AK$365, 'Polar 0-360'!AK$363 / COS!$B13,'Polar 0-360'!AJ13 )","v":5.1648268537754403},{"$f":" IF( $A13 < 'Polar 0-360'!AQ$365, 'Polar 0-360'!AQ$363 / COS!$B13,'Polar 0-360'!AP13 )","v":{"$error":"#VALUE!"}}]
[{"$f":"'Polar 0-360'!A14","v":12},0,{"$f":" IF( $A14 < 'Polar 0-360'!G$365, 'Polar 0-360'!G$363 / COS!$B14,'Polar 0-360'!F14 )","v":{"$error":"#VALUE!"}},{"$f":" IF( $A14 < 'Polar 0-360'!M$365, 'Polar 0-360'!M$363 / COS!$B14,'Polar 0-360'!L14 )","v":{"$error":"#VALUE!"}},{"$f":" IF( $A14 < 'Polar 0-360'!S$365, 'Polar 0-360'!S$363 / COS!$B14,'Polar 0-360'!R14 )","v":{"$error":"#VALUE!"}},{"$f":" IF( $A14 < 'Polar 0-360'!Y$365, 'Polar 0-360'!Y$363 / COS!$B14,'Polar 0-360'!X14 )","v":{"$error":"#VALUE!"}},{"$f":" IF( $A14 < 'Polar 0-360'!AE$365, 'Polar 0-360'!AE$363 / COS!$B14,'Polar 0-360'!AD14 )","v":{"$error":"#VALUE!"}},{"$f":" IF( $A14 < 'Polar 0-360'!AK$365, 'Polar 0-360'!AK$363 / COS!$B14,'Polar 0-360'!AJ14 )","v":5.1831997887261432},{"$f":" IF( $A14 < 'Polar 0-360'!AQ$365, 'Polar 0-360'!AQ$363 / COS!$B14,'Polar 0-360'!AP14 )","v":{"$error":"#VALUE!"}}]
[{"$f":"'Polar 0-360'!A15","v":13},0,{"$f":" IF( $A15 < 'Polar 0-360'!G$365, 'Polar 0-360'!G$363 / COS!$B15,'Polar 0-360'!F15 )","v":{"$error":"#VALUE!"}},{"$f":" IF( $A15 < 'Polar 0-360'!M$365, 'Polar 0-360'!M$363 / COS!$B15,'Polar 0-360'!L15 )","v":{"$error":"#VALUE!"}},{"$f":" IF( $A15 < 'Polar 0-360'!S$365, 'Polar 0-360'!S$363 / COS!$B15,'Polar 0-360'!R15 )","v":{"$error":"#VALUE!"}},{"$f":" IF( $A15 < 'Polar 0-360'!Y$365, 'Polar 0-360'!Y$363 / COS!$B15,'Polar 0-360'!X15 )","v":{"$error":"#VALUE!"}},{"$f":" IF( $A15 < 'Polar 0-360'!AE$365, 'Polar 0-360'!AE$363 / COS!$B15,'Polar 0-360'!AD15 )","v":{"$error":"#VALUE!"}},{"$f":" IF( $A15 < 'Polar 0-360'!AK$365, 'Polar 0-360'!AK$363 / COS!$B15,'Polar 0-360'!AJ15 )","v":5.2032945394149905},{"$f":" IF( $A15 < 'Polar 0-360'!AQ$365, 'Polar 0-360'!AQ$363 / COS!$B15,'Polar 0-360'!AP15 )","v":{"$error":"#VALUE!"}}]
[{"$f":"'Polar 0-360'!A16","v":14},0,{"$f":" IF( $A16 < 'Polar 0-360'!G$365, 'Polar 0-360'!G$363 / COS!$B16,'Polar 0-360'!F16 )","v":{"$error":"#VALUE!"}},{"$f":" IF( $A16 < 'Polar 0-360'!M$365, 'Polar 0-360'!M$363 / COS!$B16,'Polar 0-360'!L16 )","v":{"$error":"#VALUE!"}},{"$f":" IF( $A16 < 'Polar 0-360'!S$365, 'Polar 0-360'!S$363 / COS!$B16,'Polar 0-360'!R16 )","v":{"$error":"#VALUE!"}},{"$f":" IF( $A16 < 'Polar 0-360'!Y$365, 'Polar 0-360'!Y$363 / COS!$B16,'Polar 0-360'!X16 )","v":{"$error":"#VALUE!"}},{"$f":" IF( $A16 < 'Polar 0-360'!AE$365, 'Polar 0-360'!AE$363 / COS!$B16,'Polar 0-360'!AD16 )","v":{"$error":"#VALUE!"}},{"$f":" IF( $A16 < 'Polar 0-360'!AK$365, 'Polar 0-360'!AK$363 / COS!$B16,'Polar 0-360'!AJ16 )","v":5.2251435311633267},{"$f":" IF( $A16 < 'Polar 0-360'!AQ$365, 'Polar 0-360'!AQ$363 / COS!$B16,'Polar 0-360'!AP16 )","v":{"$error":"#VALUE!"}}]
[{"$f":"'Polar 0-360'!A17","v":15},0,{"$f":" IF( $A17 < 'Polar 0-360'!G$365, 'Polar 0-360'!G$363 / COS!$B17,'Polar 0-360'!F17 )","v":{"$error":"#VALUE!"}},{"$f":" IF( $A17 < 'Polar 0-360'!M$365, 'Polar 0-360'!M$363 / COS!$B17,'Polar 0-360'!L17 )","v":{"$error":"#VALUE!"}},{"$f":" IF( $A17 < 'Polar 0-360'!S$365, 'Polar 0-360'!S$363 / COS!$B17,'Polar 0-360'!R17 )","v":{"$error":"#VALUE!"}},{"$f":" IF( $A17 < 'Polar 0-360'!Y$365, 'Polar 0-360'!Y$363 / COS!$B17,'Polar 0-360'!X17 )","v":{"$error":"#VALUE!"}},{"$f":" IF( $A17 < 'Polar 0-360'!AE$365, 'Polar 0-360'!AE$363 / COS!$B17,'Polar 0-360'!AD17 )","v":{"$error":"#VALUE!"}},{"$f":" IF( $A17 < 'Polar 0-360'!AK$365, 'Polar 0-360'!AK$363 / COS!$B17,'Polar 0-360'!AJ17 )","v":5.2487823593498044},{"$f":" IF( $A17 < 'Polar 0-360'!AQ$365, 'Polar 0-360'!AQ$363 / COS!$B17,'Polar 0-360'!AP17 )","v":{"$error":"#VALUE!"}}]
[{"$f":"'Polar 0-360'!A18","v":16},0,{"$f":" IF( $A18 < 'Polar 0-360'!G$365, 'Polar 0-360'!G$363 / COS!$B18,'Polar 0-360'!F18 )","v":{"$error":"#VALUE!"}},{"$f":" IF( $A18 < 'Polar 0-360'!M$365, 'Polar 0-360'!M$363 / COS!$B18,'Polar 0-360'!L18 )","v":{"$error":"#VALUE!"}},{"$f":" IF( $A18 < 'Polar 0-360'!S$365, 'Polar 0-360'!S$363 / COS!$B18,'Polar 0-360'!R18 )","v":{"$error":"#VALUE!"}},{"$f":" IF( $A18 < 'Polar 0-360'!Y$365, 'Polar 0-360'!Y$363 / COS!$B18,'Polar 0-360'!X18 )","v":{"$error":"#VALUE!"}},{"$f":" IF( $A18 < 'Polar 0-360'!AE$365, 'Polar 0-360'!AE$363 / COS!$B18,'Polar 0-360'!AD18 )","v":{"$error":"#VALUE!"}},{"$f":" IF( $A18 < 'Polar 0-360'!AK$365, 'Polar 0-360'!AK$363 / COS!$B18,'Polar 0-360'!AJ18 )","v":5.2742499351516514},{"$f":" IF( $A18 < 'Polar 0-360'!AQ$365, 'Polar 0-360'!AQ$363 / COS!$B18,'Polar 0-360'!AP18 )","v":{"$error":"#VALUE!"}}]
[{"$f":"'Polar 0-360'!A19","v":17},0,{"$f":" IF( $A19 < 'Polar 0-360'!G$365, 'Polar 0-360'!G$363 / COS!$B19,'Polar 0-360'!F19 )","v":{"$error":"#VALUE!"}},{"$f":" IF( $A19 < 'Polar 0-360'!M$365, 'Polar 0-360'!M$363 / COS!$B19,'Polar 0-360'!L19 )","v":{"$error":"#VALUE!"}},{"$f":" IF( $A19 < 'Polar 0-360'!S$365, 'Polar 0-360'!S$363 / COS!$B19,'Polar 0-360'!R19 )","v":{"$error":"#VALUE!"}},{"$f":" IF( $A19 < 'Polar 0-360'!Y$365, 'Polar 0-360'!Y$363 / COS!$B19,'Polar 0-360'!X19 )","v":{"$error":"#VALUE!"}},{"$f":" IF( $A19 < 'Polar 0-360'!AE$365, 'Polar 0-360'!AE$363 / COS!$B19,'Polar 0-360'!AD19 )","v":{"$error":"#VALUE!"}},{"$f":" IF( $A19 < 'Polar 0-360'!AK$365, 'Polar 0-360'!AK$363 / COS!$B19,'Polar 0-360'!AJ19 )","v":5.3015886471889679},{"$f":" IF( $A19 < 'Polar 0-360'!AQ$365, 'Polar 0-360'!AQ$363 / COS!$B19,'Polar 0-360'!AP19 )","v":{"$error":"#VALUE!"}}]
[{"$f":"'Polar 0-360'!A20","v":18},0,{"$f":" IF( $A20 < 'Polar 0-360'!G$365, 'Polar 0-360'!G$363 / COS!$B20,'Polar 0-360'!F20 )","v":{"$error":"#VALUE!"}},{"$f":" IF( $A20 < 'Polar 0-360'!M$365, 'Polar 0-360'!M$363 / COS!$B20,'Polar 0-360'!L20 )","v":{"$error":"#VALUE!"}},{"$f":" IF( $A20 < 'Polar 0-360'!S$365, 'Polar 0-360'!S$363 / COS!$B20,'Polar 0-360'!R20 )","v":{"$error":"#VALUE!"}},{"$f":" IF( $A20 < 'Polar 0-360'!Y$365, 'Polar 0-360'!Y$363 / COS!$B20,'Polar 0-360'!X20 )","v":{"$error":"#VALUE!"}},{"$f":" IF( $A20 < 'Polar 0-360'!AE$365, 'Polar 0-360'!AE$363 / COS!$B20,'Polar 0-360'!AD20 )","v":{"$error":"#VALUE!"}},{"$f":" IF( $A20 < 'Polar 0-360'!AK$365, 'Polar 0-360'!AK$363 / COS!$B20,'Polar 0-360'!AJ20 )","v":5.3308445403606566},{"$f":" IF( $A20 < 'Polar 0-360'!AQ$365, 'Polar 0-360'!AQ$363 / COS!$B20,'Polar 0-360'!AP20 )","v":{"$error":"#VALUE!"}}]
[{"$f":"'Polar 0-360'!A21","v":19},0,{"$f":" IF( $A21 < 'Polar 0-360'!G$365, 'Polar 0-360'!G$363 / COS!$B21,'Polar 0-360'!F21 )","v":{"$error":"#VALUE!"}},{"$f":" IF( $A21 < 'Polar 0-360'!M$365, 'Polar 0-360'!M$363 / COS!$B21,'Polar 0-360'!L21 )","v":{"$error":"#VALUE!"}},{"$f":" IF( $A21 < 'Polar 0-360'!S$365, 'Polar 0-360'!S$363 / COS!$B21,'Polar 0-360'!R21 )","v":{"$error":"#VALUE!"}},{"$f":" IF( $A21 < 'Polar 0-360'!Y$365, 'Polar 0-360'!Y$363 / COS!$B21,'Polar 0-360'!X21 )","v":{"$error":"#VALUE!"}},{"$f":" IF( $A21 < 'Polar 0-360'!AE$365, 'Polar 0-360'!AE$363 / COS!$B21,'Polar 0-360'!AD21 )","v":{"$error":"#VALUE!"}},{"$f":" IF( $A21 < 'Polar 0-360'!AK$365, 'Polar 0-360'!AK$363 / COS!$B21,'Polar 0-360'!AJ21 )","v":5.3620675133250213},{"$f":" IF( $A21 < 'Polar 0-360'!AQ$365, 'Polar 0-360'!AQ$363 / COS!$B21,'Polar 0-360'!AP21 )","v":{"$error":"#VALUE!"}}]
[{"$f":"'Polar 0-360'!A22","v":20},0,{"$f":" IF( $A22 < 'Polar 0-360'!G$365, 'Polar 0-360'!G$363 / COS!$B22,'Polar 0-360'!F22 )","v":{"$error":"#VALUE!"}},{"$f":" IF( $A22 < 'Polar 0-360'!M$365, 'Polar 0-360'!M$363 / COS!$B22,'Polar 0-360'!L22 )","v":{"$error":"#VALUE!"}},{"$f":" IF( $A22 < 'Polar 0-360'!S$365, 'Polar 0-360'!S$363 / COS!$B22,'Polar 0-360'!R22 )","v":{"$error":"#VALUE!"}},{"$f":" IF( $A22 < 'Polar 0-360'!Y$365, 'Polar 0-360'!Y$363 / COS!$B22,'Polar 0-360'!X22 )","v":{"$error":"#VALUE!"}},{"$f":" IF( $A22 < 'Polar 0-360'!AE$365, 'Polar 0-360'!AE$363 / COS!$B22,'Polar 0-360'!AD22 )","v":{"$error":"#VALUE!"}},{"$f":" IF( $A22 < 'Polar 0-360'!AK$365, 'Polar 0-360'!AK$363 / COS!$B22,'Polar 0-360'!AJ22 )","v":5.3953115362619579},{"$f":" IF( $A22 < 'Polar 0-360'!AQ$365, 'Polar 0-360'!AQ$363 / COS!$B22,'Polar 0-360'!AP22 )","v":{"$error":"#VALUE!"}}]
[{"$f":"'Polar 0-360'!A23","v":21},0,{"$f":" IF( $A23 < 'Polar 0-360'!G$365, 'Polar 0-360'!G$363 / COS!$B23,'Polar 0-360'!F23 )","v":{"$error":"#VALUE!"}},{"$f":" IF( $A23 < 'Polar 0-360'!M$365, 'Polar 0-360'!M$363 / COS!$B23,'Polar 0-360'!L23 )","v":{"$error":"#VALUE!"}},{"$f":" IF( $A23 < 'Polar 0-360'!S$365, 'Polar 0-360'!S$363 / COS!$B23,'Polar 0-360'!R23 )","v":{"$error":"#VALUE!"}},{"$f":" IF( $A23 < 'Polar 0-360'!Y$365, 'Polar 0-360'!Y$363 / COS!$B23,'Polar 0-360'!X23 )","v":{"$error":"#VALUE!"}},{"$f":" IF( $A23 < 'Polar 0-360'!AE$365, 'Polar 0-360'!AE$363 / COS!$B23,'Polar 0-360'!AD23 )","v":{"$error":"#VALUE!"}},{"$f":" IF( $A23 < 'Polar 0-360'!AK$365, 'Polar 0-360'!AK$363 / COS!$B23,'Polar 0-360'!AJ23 )","v":5.4306348907601496},{"$f":" IF( $A23 < 'Polar 0-360'!AQ$365, 'Polar 0-360'!AQ$363 / COS!$B23,'Polar 0-360'!AP23 )","v":{"$error":"#VALUE!"}}]
[{"$f":"'Polar 0-360'!A24","v":22},0,{"$f":" IF( $A24 < 'Polar 0-360'!G$365, 'Polar 0-360'!G$363 / COS!$B24,'Polar 0-360'!F24 )","v":{"$error":"#VALUE!"}},{"$f":" IF( $A24 < 'Polar 0-360'!M$365, 'Polar 0-360'!M$363 / COS!$B24,'Polar 0-360'!L24 )","v":{"$error":"#VALUE!"}},{"$f":" IF( $A24 < 'Polar 0-360'!S$365, 'Polar 0-360'!S$363 / COS!$B24,'Polar 0-360'!R24 )","v":{"$error":"#VALUE!"}},{"$f":" IF( $A24 < 'Polar 0-360'!Y$365, 'Polar 0-360'!Y$363 / COS!$B24,'Polar 0-360'!X24 )","v":{"$error":"#VALUE!"}},{"$f":" IF( $A24 < 'Polar 0-360'!AE$365, 'Polar 0-360'!AE$363 / COS!$B24,'Polar 0-360'!AD24 )","v":{"$error":"#VALUE!"}},{"$f":" IF( $A24 < 'Polar 0-360'!AK$365, 'Polar 0-360'!AK$363 / COS!$B24,'Polar 0-360'!AJ24 )","v":5.4681004339050912},{"$f":" IF( $A24 < 'Polar 0-360'!AQ$365, 'Polar 0-360'!AQ$363 / COS!$B24,'Polar 0-360'!AP24 )","v":{"$error":"#VALUE!"}}]
[{"$f":"'Polar 0-360'!A25","v":23},0,{"$f":" IF( $A25 < 'Polar 0-360'!G$365, 'Polar 0-360'!G$363 / COS!$B25,'Polar 0-360'!F25 )","v":{"$error":"#VALUE!"}},{"$f":" IF( $A25 < 'Polar 0-360'!M$365, 'Polar 0-360'!M$363 / COS!$B25,'Polar 0-360'!L25 )","v":{"$error":"#VALUE!"}},{"$f":" IF( $A25 < 'Polar 0-360'!S$365, 'Polar 0-360'!S$363 / COS!$B25,'Polar 0-360'!R25 )","v":{"$error":"#VALUE!"}},{"$f":" IF( $A25 < 'Polar 0-360'!Y$365, 'Polar 0-360'!Y$363 / COS!$B25,'Polar 0-360'!X25 )","v":{"$error":"#VALUE!"}},{"$f":" IF( $A25 < 'Polar 0-360'!AE$365, 'Polar 0-360'!AE$363 / COS!$B25,'Polar 0-360'!AD25 )","v":{"$error":"#VALUE!"}},{"$f":" IF( $A25 < 'Polar 0-360'!AK$365, 'Polar 0-360'!AK$363 / COS!$B25,'Polar 0-360'!AJ25 )","v":5.5077758889061554},{"$f":" IF( $A25 < 'Polar 0-360'!AQ$365, 'Polar 0-360'!AQ$363 / COS!$B25,'Polar 0-360'!AP25 )","v":{"$error":"#VALUE!"}}]
[{"$f":"'Polar 0-360'!A26","v":24},0,{"$f":" IF( $A26 < 'Polar 0-360'!G$365, 'Polar 0-360'!G$363 / COS!$B26,'Polar 0-360'!F26 )","v":{"$error":"#VALUE!"}},{"$f":" IF( $A26 < 'Polar 0-360'!M$365, 'Polar 0-360'!M$363 / COS!$B26,'Polar 0-360'!L26 )","v":{"$error":"#VALUE!"}},{"$f":" IF( $A26 < 'Polar 0-360'!S$365, 'Polar 0-360'!S$363 / COS!$B26,'Polar 0-360'!R26 )","v":{"$error":"#VALUE!"}},{"$f":" IF( $A26 < 'Polar 0-360'!Y$365, 'Polar 0-360'!Y$363 / COS!$B26,'Polar 0-360'!X26 )","v":{"$error":"#VALUE!"}},{"$f":" IF( $A26 < 'Polar 0-360'!AE$365, 'Polar 0-360'!AE$363 / COS!$B26,'Polar 0-360'!AD26 )","v":{"$error":"#VALUE!"}},{"$f":" IF( $A26 < 'Polar 0-360'!AK$365, 'Polar 0-360'!AK$363 / COS!$B26,'Polar 0-360'!AJ26 )","v":5.5497341648979175},{"$f":" IF( $A26 < 'Polar 0-360'!AQ$365, 'Polar 0-360'!AQ$363 / COS!$B26,'Polar 0-360'!AP26 )","v":{"$error":"#VALUE!"}}]
[{"$f":"'Polar 0-360'!A27","v":25},0,{"$f":" IF( $A27 < 'Polar 0-360'!G$365, 'Polar 0-360'!G$363 / COS!$B27,'Polar 0-360'!F27 )","v":{"$error":"#VALUE!"}},{"$f":" IF( $A27 < 'Polar 0-360'!M$365, 'Polar 0-360'!M$363 / COS!$B27,'Polar 0-360'!L27 )","v":{"$error":"#VALUE!"}},{"$f":" IF( $A27 < 'Polar 0-360'!S$365, 'Polar 0-360'!S$363 / COS!$B27,'Polar 0-360'!R27 )","v":{"$error":"#VALUE!"}},{"$f":" IF( $A27 < 'Polar 0-360'!Y$365, 'Polar 0-360'!Y$363 / COS!$B27,'Polar 0-360'!X27 )","v":{"$error":"#VALUE!"}},{"$f":" IF( $A27 < 'Polar 0-360'!AE$365, 'Polar 0-360'!AE$363 / COS!$B27,'Polar 0-360'!AD27 )","v":{"$error":"#VALUE!"}},{"$f":" IF( $A27 < 'Polar 0-360'!AK$365, 'Polar 0-360'!AK$363 / COS!$B27,'Polar 0-360'!AJ27 )","v":5.5940537088879978},{"$f":" IF( $A27 < 'Polar 0-360'!AQ$365, 'Polar 0-360'!AQ$363 / COS!$B27,'Polar 0-360'!AP27 )","v":{"$error":"#VALUE!"}}]
[{"$f":"'Polar 0-360'!A28","v":26},0,{"$f":" IF( $A28 < 'Polar 0-360'!G$365, 'Polar 0-360'!G$363 / COS!$B28,'Polar 0-360'!F28 )","v":{"$error":"#VALUE!"}},{"$f":" IF( $A28 < 'Polar 0-360'!M$365, 'Polar 0-360'!M$363 / COS!$B28,'Polar 0-360'!L28 )","v":{"$error":"#VALUE!"}},{"$f":" IF( $A28 < 'Polar 0-360'!S$365, 'Polar 0-360'!S$363 / COS!$B28,'Polar 0-360'!R28 )","v":{"$error":"#VALUE!"}},{"$f":" IF( $A28 < 'Polar 0-360'!Y$365, 'Polar 0-360'!Y$363 / COS!$B28,'Polar 0-360'!X28 )","v":{"$error":"#VALUE!"}},{"$f":" IF( $A28 < 'Polar 0-360'!AE$365, 'Polar 0-360'!AE$363 / COS!$B28,'Polar 0-360'!AD28 )","v":{"$error":"#VALUE!"}},{"$f":" IF( $A28 < 'Polar 0-360'!AK$365, 'Polar 0-360'!AK$363 / COS!$B28,'Polar 0-360'!AJ28 )","v":5.6408188932071521},{"$f":" IF( $A28 < 'Polar 0-360'!AQ$365, 'Polar 0-360'!AQ$363 / COS!$B28,'Polar 0-360'!AP28 )","v":{"$error":"#VALUE!"}}]
[{"$f":"'Polar 0-360'!A29","v":27},0,{"$f":" IF( $A29 < 'Polar 0-360'!G$365, 'Polar 0-360'!G$363 / COS!$B29,'Polar 0-360'!F29 )","v":{"$error":"#VALUE!"}},{"$f":" IF( $A29 < 'Polar 0-360'!M$365, 'Polar 0-360'!M$363 / COS!$B29,'Polar 0-360'!L29 )","v":{"$error":"#VALUE!"}},{"$f":" IF( $A29 < 'Polar 0-360'!S$365, 'Polar 0-360'!S$363 / COS!$B29,'Polar 0-360'!R29 )","v":{"$error":"#VALUE!"}},{"$f":" IF( $A29 < 'Polar 0-360'!Y$365, 'Polar 0-360'!Y$363 / COS!$B29,'Polar 0-360'!X29 )","v":{"$error":"#VALUE!"}},{"$f":" IF( $A29 < 'Polar 0-360'!AE$365, 'Polar 0-360'!AE$363 / COS!$B29,'Polar 0-360'!AD29 )","v":{"$error":"#VALUE!"}},{"$f":" IF( $A29 < 'Polar 0-360'!AK$365, 'Polar 0-360'!AK$363 / COS!$B29,'Polar 0-360'!AJ29 )","v":5.690120442254595},{"$f":" IF( $A29 < 'Polar 0-360'!AQ$365, 'Polar 0-360'!AQ$363 / COS!$B29,'Polar 0-360'!AP29 )","v":{"$error":"#VALUE!"}}]
[{"$f":"'Polar 0-360'!A30","v":28},0,{"$f":" IF( $A30 < 'Polar 0-360'!G$365, 'Polar 0-360'!G$363 / COS!$B30,'Polar 0-360'!F30 )","v":{"$error":"#VALUE!"}},{"$f":" IF( $A30 < 'Polar 0-360'!M$365, 'Polar 0-360'!M$363 / COS!$B30,'Polar 0-360'!L30 )","v":{"$error":"#VALUE!"}},{"$f":" IF( $A30 < 'Polar 0-360'!S$365, 'Polar 0-360'!S$363 / COS!$B30,'Polar 0-360'!R30 )","v":{"$error":"#VALUE!"}},{"$f":" IF( $A30 < 'Polar 0-360'!Y$365, 'Polar 0-360'!Y$363 / COS!$B30,'Polar 0-360'!X30 )","v":{"$error":"#VALUE!"}},{"$f":" IF( $A30 < 'Polar 0-360'!AE$365, 'Polar 0-360'!AE$363 / COS!$B30,'Polar 0-360'!AD30 )","v":{"$error":"#VALUE!"}},{"$f":" IF( $A30 < 'Polar 0-360'!AK$365, 'Polar 0-360'!AK$363 / COS!$B30,'Polar 0-360'!AJ30 )","v":5.7420559028314768},{"$f":" IF( $A30 < 'Polar 0-360'!AQ$365, 'Polar 0-360'!AQ$363 / COS!$B30,'Polar 0-360'!AP30 )","v":{"$error":"#VALUE!"}}]
[{"$f":"'Polar 0-360'!A31","v":29},0,{"$f":" IF( $A31 < 'Polar 0-360'!G$365, 'Polar 0-360'!G$363 / COS!$B31,'Polar 0-360'!F31 )","v":{"$error":"#VALUE!"}},{"$f":" IF( $A31 < 'Polar 0-360'!M$365, 'Polar 0-360'!M$363 / COS!$B31,'Polar 0-360'!L31 )","v":{"$error":"#VALUE!"}},{"$f":" IF( $A31 < 'Polar 0-360'!S$365, 'Polar 0-360'!S$363 / COS!$B31,'Polar 0-360'!R31 )","v":{"$error":"#VALUE!"}},{"$f":" IF( $A31 < 'Polar 0-360'!Y$365, 'Polar 0-360'!Y$363 / COS!$B31,'Polar 0-360'!X31 )","v":{"$error":"#VALUE!"}},{"$f":" IF( $A31 < 'Polar 0-360'!AE$365, 'Polar 0-360'!AE$363 / COS!$B31,'Polar 0-360'!AD31 )","v":{"$error":"#VALUE!"}},{"$f":" IF( $A31 < 'Polar 0-360'!AK$365, 'Polar 0-360'!AK$363 / COS!$B31,'Polar 0-360'!AJ31 )","v":5.7967301629282932},{"$f":" IF( $A31 < 'Polar 0-360'!AQ$365, 'Polar 0-360'!AQ$363 / COS!$B31,'Polar 0-360'!AP31 )","v":{"$error":"#VALUE!"}}]
[{"$f":"'Polar 0-360'!A32","v":30},0,{"$f":" IF( $A32 < 'Polar 0-360'!G$365, 'Polar 0-360'!G$363 / COS!$B32,'Polar 0-360'!F32 )","v":{"$error":"#VALUE!"}},{"$f":" IF( $A32 < 'Polar 0-360'!M$365, 'Polar 0-360'!M$363 / COS!$B32,'Polar 0-360'!L32 )","v":{"$error":"#VALUE!"}},{"$f":" IF( $A32 < 'Polar 0-360'!S$365, 'Polar 0-360'!S$363 / COS!$B32,'Polar 0-360'!R32 )","v":{"$error":"#VALUE!"}},{"$f":" IF( $A32 < 'Polar 0-360'!Y$365, 'Polar 0-360'!Y$363 / COS!$B32,'Polar 0-360'!X32 )","v":{"$error":"#VALUE!"}},{"$f":" IF( $A32 < 'Polar 0-360'!AE$365, 'Polar 0-360'!AE$363 / COS!$B32,'Polar 0-360'!AD32 )","v":{"$error":"#VALUE!"}},{"$f":" IF( $A32 < 'Polar 0-360'!AK$365, 'Polar 0-360'!AK$363 / COS!$B32,'Polar 0-360'!AJ32 )","v":5.8542560244900113},{"$f":" IF( $A32 < 'Polar 0-360'!AQ$365, 'Polar 0-360'!AQ$363 / COS!$B32,'Polar 0-360'!AP32 )","v":{"$error":"#VALUE!"}}]
[{"$f":"'Polar 0-360'!A33","v":31},0,{"$f":" IF( $A33 < 'Polar 0-360'!G$365, 'Polar 0-360'!G$363 / COS!$B33,'Polar 0-360'!F33 )","v":{"$error":"#VALUE!"}},{"$f":" IF( $A33 < 'Polar 0-360'!M$365, 'Polar 0-360'!M$363 / COS!$B33,'Polar 0-360'!L33 )","v":{"$error":"#VALUE!"}},{"$f":" IF( $A33 < 'Polar 0-360'!S$365, 'Polar 0-360'!S$363 / COS!$B33,'Polar 0-360'!R33 )","v":{"$error":"#VALUE!"}},{"$f":" IF( $A33 < 'Polar 0-360'!Y$365, 'Polar 0-360'!Y$363 / COS!$B33,'Polar 0-360'!X33 )","v":{"$error":"#VALUE!"}},{"$f":" IF( $A33 < 'Polar 0-360'!AE$365, 'Polar 0-360'!AE$363 / COS!$B33,'Polar 0-360'!AD33 )","v":{"$error":"#VALUE!"}},{"$f":" IF( $A33 < 'Polar 0-360'!AK$365, 'Polar 0-360'!AK$363 / COS!$B33,'Polar 0-360'!AJ33 )","v":5.9147548364404745},{"$f":" IF( $A33 < 'Polar 0-360'!AQ$365, 'Polar 0-360'!AQ$363 / COS!$B33,'Polar 0-360'!AP33 )","v":{"$error":"#VALUE!"}}]
[{"$f":"'Polar 0-360'!A34","v":32},0,{"$f":" IF( $A34 < 'Polar 0-360'!G$365, 'Polar 0-360'!G$363 / COS!$B34,'Polar 0-360'!F34 )","v":{"$error":"#VALUE!"}},{"$f":" IF( $A34 < 'Polar 0-360'!M$365, 'Polar 0-360'!M$363 / COS!$B34,'Polar 0-360'!L34 )","v":{"$error":"#VALUE!"}},{"$f":" IF( $A34 < 'Polar 0-360'!S$365, 'Polar 0-360'!S$363 / COS!$B34,'Polar 0-360'!R34 )","v":{"$error":"#VALUE!"}},{"$f":" IF( $A34 < 'Polar 0-360'!Y$365, 'Polar 0-360'!Y$363 / COS!$B34,'Polar 0-360'!X34 )","v":{"$error":"#VALUE!"}},{"$f":" IF( $A34 < 'Polar 0-360'!AE$365, 'Polar 0-360'!AE$363 / COS!$B34,'Polar 0-360'!AD34 )","v":{"$error":"#VALUE!"}},{"$f":" IF( $A34 < 'Polar 0-360'!AK$365, 'Polar 0-360'!AK$363 / COS!$B34,'Polar 0-360'!AJ34 )","v":5.9783571951221912},{"$f":" IF( $A34 < 'Polar 0-360'!AQ$365, 'Polar 0-360'!AQ$363 / COS!$B34,'Polar 0-360'!AP34 )","v":{"$error":"#VALUE!"}}]
[{"$f":"'Polar 0-360'!A35","v":33},0,{"$f":" IF( $A35 < 'Polar 0-360'!G$365, 'Polar 0-360'!G$363 / COS!$B35,'Polar 0-360'!F35 )","v":{"$error":"#VALUE!"}},{"$f":" IF( $A35 < 'Polar 0-360'!M$365, 'Polar 0-360'!M$363 / COS!$B35,'Polar 0-360'!L35 )","v":{"$error":"#VALUE!"}},{"$f":" IF( $A35 < 'Polar 0-360'!S$365, 'Polar 0-360'!S$363 / COS!$B35,'Polar 0-360'!R35 )","v":{"$error":"#VALUE!"}},{"$f":" IF( $A35 < 'Polar 0-360'!Y$365, 'Polar 0-360'!Y$363 / COS!$B35,'Polar 0-360'!X35 )","v":{"$error":"#VALUE!"}},{"$f":" IF( $A35 < 'Polar 0-360'!AE$365, 'Polar 0-360'!AE$363 / COS!$B35,'Polar 0-360'!AD35 )","v":{"$error":"#VALUE!"}},{"$f":" IF( $A35 < 'Polar 0-360'!AK$365, 'Polar 0-360'!AK$363 / COS!$B35,'Polar 0-360'!AJ35 )","v":6.0452037203198579},{"$f":" IF( $A35 < 'Polar 0-360'!AQ$365, 'Polar 0-360'!AQ$363 / COS!$B35,'Polar 0-360'!AP35 )","v":{"$error":"#VALUE!"}}]
[{"$f":"'Polar 0-360'!A36","v":34},0,{"$f":" IF( $A36 < 'Polar 0-360'!G$365, 'Polar 0-360'!G$363 / COS!$B36,'Polar 0-360'!F36 )","v":{"$error":"#VALUE!"}},{"$f":" IF( $A36 < 'Polar 0-360'!M$365, 'Polar 0-360'!M$363 / COS!$B36,'Polar 0-360'!L36 )","v":{"$error":"#VALUE!"}},{"$f":" IF( $A36 < 'Polar 0-360'!S$365, 'Polar 0-360'!S$363 / COS!$B36,'Polar 0-360'!R36 )","v":{"$error":"#VALUE!"}},{"$f":" IF( $A36 < 'Polar 0-360'!Y$365, 'Polar 0-360'!Y$363 / COS!$B36,'Polar 0-360'!X36 )","v":{"$error":"#VALUE!"}},{"$f":" IF( $A36 < 'Polar 0-360'!AE$365, 'Polar 0-360'!AE$363 / COS!$B36,'Polar 0-360'!AD36 )","v":{"$error":"#VALUE!"}},{"$f":" IF( $A36 < 'Polar 0-360'!AK$365, 'Polar 0-360'!AK$363 / COS!$B36,'Polar 0-360'!AJ36 )","v":6.1154459162100778},{"$f":" IF( $A36 < 'Polar 0-360'!AQ$365, 'Polar 0-360'!AQ$363 / COS!$B36,'Polar 0-360'!AP36 )","v":{"$error":"#VALUE!"}}]
[{"$f":"'Polar 0-360'!A37","v":35},0,{"$f":" IF( $A37 < 'Polar 0-360'!G$365, 'Polar 0-360'!G$363 / COS!$B37,'Polar 0-360'!F37 )","v":{"$error":"#VALUE!"}},{"$f":" IF( $A37 < 'Polar 0-360'!M$365, 'Polar 0-360'!M$363 / COS!$B37,'Polar 0-360'!L37 )","v":{"$error":"#VALUE!"}},{"$f":" IF( $A37 < 'Polar 0-360'!S$365, 'Polar 0-360'!S$363 / COS!$B37,'Polar 0-360'!R37 )","v":{"$error":"#VALUE!"}},{"$f":" IF( $A37 < 'Polar 0-360'!Y$365, 'Polar 0-360'!Y$363 / COS!$B37,'Polar 0-360'!X37 )","v":{"$error":"#VALUE!"}},{"$f":" IF( $A37 < 'Polar 0-360'!AE$365, 'Polar 0-360'!AE$363 / COS!$B37,'Polar 0-360'!AD37 )","v":{"$error":"#VALUE!"}},{"$f":" IF( $A37 < 'Polar 0-360'!AK$365, 'Polar 0-360'!AK$363 / COS!$B37,'Polar 0-360'!AJ37 )","v":6.1892471279456434},{"$f":" IF( $A37 < 'Polar 0-360'!AQ$365, 'Polar 0-360'!AQ$363 / COS!$B37,'Polar 0-360'!AP37 )","v":{"$error":"#VALUE!"}}]
[{"$f":"'Polar 0-360'!A38","v":36},0,{"$f":" IF( $A38 < 'Polar 0-360'!G$365, 'Polar 0-360'!G$363 / COS!$B38,'Polar 0-360'!F38 )","v":{"$error":"#VALUE!"}},{"$f":" IF( $A38 < 'Polar 0-360'!M$365, 'Polar 0-360'!M$363 / COS!$B38,'Polar 0-360'!L38 )","v":{"$error":"#VALUE!"}},{"$f":" IF( $A38 < 'Polar 0-360'!S$365, 'Polar 0-360'!S$363 / COS!$B38,'Polar 0-360'!R38 )","v":{"$error":"#VALUE!"}},{"$f":" IF( $A38 < 'Polar 0-360'!Y$365, 'Polar 0-360'!Y$363 / COS!$B38,'Polar 0-360'!X38 )","v":{"$error":"#VALUE!"}},{"$f":" IF( $A38 < 'Polar 0-360'!AE$365, 'Polar 0-360'!AE$363 / COS!$B38,'Polar 0-360'!AD38 )","v":{"$error":"#VALUE!"}},{"$f":" IF( $A38 < 'Polar 0-360'!AK$365, 'Polar 0-360'!AK$363 / COS!$B38,'Polar 0-360'!AJ38 )","v":6.2667836061756823},{"$f":" IF( $A38 < 'Polar 0-360'!AQ$365, 'Polar 0-360'!AQ$363 / COS!$B38,'Polar 0-360'!AP38 )","v":{"$error":"#VALUE!"}}]
[{"$f":"'Polar 0-360'!A39","v":37},0,{"$f":" IF( $A39 < 'Polar 0-360'!G$365, 'Polar 0-360'!G$363 / COS!$B39,'Polar 0-360'!F39 )","v":{"$error":"#VALUE!"}},{"$f":" IF( $A39 < 'Polar 0-360'!M$365, 'Polar 0-360'!M$363 / COS!$B39,'Polar 0-360'!L39 )","v":{"$error":"#VALUE!"}},{"$f":" IF( $A39 < 'Polar 0-360'!S$365, 'Polar 0-360'!S$363 / COS!$B39,'Polar 0-360'!R39 )","v":{"$error":"#VALUE!"}},{"$f":" IF( $A39 < 'Polar 0-360'!Y$365, 'Polar 0-360'!Y$363 / COS!$B39,'Polar 0-360'!X39 )","v":{"$error":"#VALUE!"}},{"$f":" IF( $A39 < 'Polar 0-360'!AE$365, 'Polar 0-360'!AE$363 / COS!$B39,'Polar 0-360'!AD39 )","v":{"$error":"#VALUE!"}},{"$f":" IF( $A39 < 'Polar 0-360'!AK$365, 'Polar 0-360'!AK$363 / COS!$B39,'Polar 0-360'!AJ39 )","v":6.3482456936659615},{"$f":" IF( $A39 < 'Polar 0-360'!AQ$365, 'Polar 0-360'!AQ$363 / COS!$B39,'Polar 0-360'!AP39 )","v":{"$error":"#VALUE!"}}]
[{"$f":"'Polar 0-360'!A40","v":38},0,{"$f":" IF( $A40 < 'Polar 0-360'!G$365, 'Polar 0-360'!G$363 / COS!$B40,'Polar 0-360'!F40 )","v":{"$error":"#VALUE!"}},{"$f":" IF( $A40 < 'Polar 0-360'!M$365, 'Polar 0-360'!M$363 / COS!$B40,'Polar 0-360'!L40 )","v":{"$error":"#VALUE!"}},{"$f":" IF( $A40 < 'Polar 0-360'!S$365, 'Polar 0-360'!S$363 / COS!$B40,'Polar 0-360'!R40 )","v":{"$error":"#VALUE!"}},{"$f":" IF( $A40 < 'Polar 0-360'!Y$365, 'Polar 0-360'!Y$363 / COS!$B40,'Polar 0-360'!X40 )","v":{"$error":"#VALUE!"}},{"$f":" IF( $A40 < 'Polar 0-360'!AE$365, 'Polar 0-360'!AE$363 / COS!$B40,'Polar 0-360'!AD40 )","v":{"$error":"#VALUE!"}},{"$f":" IF( $A40 < 'Polar 0-360'!AK$365, 'Polar 0-360'!AK$363 / COS!$B40,'Polar 0-360'!AJ40 )","v":6.4338391503686667},{"$f":" IF( $A40 < 'Polar 0-360'!AQ$365, 'Polar 0-360'!AQ$363 / COS!$B40,'Polar 0-360'!AP40 )","v":{"$error":"#VALUE!"}}]
[{"$f":"'Polar 0-360'!A41","v":39},0,{"$f":" IF( $A41 < 'Polar 0-360'!G$365, 'Polar 0-360'!G$363 / COS!$B41,'Polar 0-360'!F41 )","v":{"$error":"#VALUE!"}},{"$f":" IF( $A41 < 'Polar 0-360'!M$365, 'Polar 0-360'!M$363 / COS!$B41,'Polar 0-360'!L41 )","v":{"$error":"#VALUE!"}},{"$f":" IF( $A41 < 'Polar 0-360'!S$365, 'Polar 0-360'!S$363 / COS!$B41,'Polar 0-360'!R41 )","v":{"$error":"#VALUE!"}},{"$f":" IF( $A41 < 'Polar 0-360'!Y$365, 'Polar 0-360'!Y$363 / COS!$B41,'Polar 0-360'!X41 )","v":{"$error":"#VALUE!"}},{"$f":" IF( $A41 < 'Polar 0-360'!AE$365, 'Polar 0-360'!AE$363 / COS!$B41,'Polar 0-360'!AD41 )","v":{"$error":"#VALUE!"}},{"$f":" IF( $A41 < 'Polar 0-360'!AK$365, 'Polar 0-360'!AK$363 / COS!$B41,'Polar 0-360'!AJ41 )","v":6.5237866358611427},{"$f":" IF( $A41 < 'Polar 0-360'!AQ$365, 'Polar 0-360'!AQ$363 / COS!$B41,'Polar 0-360'!AP41 )","v":{"$error":"#VALUE!"}}]
[{"$f":"'Polar 0-360'!A42","v":40},0,{"$f":" IF( $A42 < 'Polar 0-360'!G$365, 'Polar 0-360'!G$363 / COS!$B42,'Polar 0-360'!F42 )","v":{"$error":"#VALUE!"}},{"$f":" IF( $A42 < 'Polar 0-360'!M$365, 'Polar 0-360'!M$363 / COS!$B42,'Polar 0-360'!L42 )","v":{"$error":"#VALUE!"}},{"$f":" IF( $A42 < 'Polar 0-360'!S$365, 'Polar 0-360'!S$363 / COS!$B42,'Polar 0-360'!R42 )","v":{"$error":"#VALUE!"}},{"$f":" IF( $A42 < 'Polar 0-360'!Y$365, 'Polar 0-360'!Y$363 / COS!$B42,'Polar 0-360'!X42 )","v":{"$error":"#VALUE!"}},{"$f":" IF( $A42 < 'Polar 0-360'!AE$365, 'Polar 0-360'!AE$363 / COS!$B42,'Polar 0-360'!AD42 )","v":{"$error":"#VALUE!"}},{"$f":" IF( $A42 < 'Polar 0-360'!AK$365, 'Polar 0-360'!AK$363 / COS!$B42,'Polar 0-360'!AJ42 )","v":6.5550485594418078},{"$f":" IF( $A42 < 'Polar 0-360'!AQ$365, 'Polar 0-360'!AQ$363 / COS!$B42,'Polar 0-360'!AP42 )","v":{"$error":"#VALUE!"}}]
[{"$f":"'Polar 0-360'!A43","v":41},0,{"$f":" IF( $A43 < 'Polar 0-360'!G$365, 'Polar 0-360'!G$363 / COS!$B43,'Polar 0-360'!F43 )","v":{"$error":"#VALUE!"}},{"$f":" IF( $A43 < 'Polar 0-360'!M$365, 'Polar 0-360'!M$363 / COS!$B43,'Polar 0-360'!L43 )","v":{"$error":"#VALUE!"}},{"$f":" IF( $A43 < 'Polar 0-360'!S$365, 'Polar 0-360'!S$363 / COS!$B43,'Polar 0-360'!R43 )","v":{"$error":"#VALUE!"}},{"$f":" IF( $A43 < 'Polar 0-360'!Y$365, 'Polar 0-360'!Y$363 / COS!$B43,'Polar 0-360'!X43 )","v":{"$error":"#VALUE!"}},{"$f":" IF( $A43 < 'Polar 0-360'!AE$365, 'Polar 0-360'!AE$363 / COS!$B43,'Polar 0-360'!AD43 )","v":{"$error":"#VALUE!"}},{"$f":" IF( $A43 < 'Polar 0-360'!AK$365, 'Polar 0-360'!AK$363 / COS!$B43,'Polar 0-360'!AJ43 )","v":6.6136646661555556},{"$f":" IF( $A43 < 'Polar 0-360'!AQ$365, 'Polar 0-360'!AQ$363 / COS!$B43,'Polar 0-360'!AP43 )","v":{"$error":"#VALUE!"}}]
[{"$f":"'Polar 0-360'!A44","v":42},0,{"$f":" IF( $A44 < 'Polar 0-360'!G$365, 'Polar 0-360'!G$363 / COS!$B44,'Polar 0-360'!F44 )","v":{"$error":"#VALUE!"}},{"$f":" IF( $A44 < 'Polar 0-360'!M$365, 'Polar 0-360'!M$363 / COS!$B44,'Polar 0-360'!L44 )","v":{"$error":"#VALUE!"}},{"$f":" IF( $A44 < 'Polar 0-360'!S$365, 'Polar 0-360'!S$363 / COS!$B44,'Polar 0-360'!R44 )","v":{"$error":"#VALUE!"}},{"$f":" IF( $A44 < 'Polar 0-360'!Y$365, 'Polar 0-360'!Y$363 / COS!$B44,'Polar 0-360'!X44 )","v":{"$error":"#VALUE!"}},{"$f":" IF( $A44 < 'Polar 0-360'!AE$365, 'Polar 0-360'!AE$363 / COS!$B44,'Polar 0-360'!AD44 )","v":{"$error":"#VALUE!"}},{"$f":" IF( $A44 < 'Polar 0-360'!AK$365, 'Polar 0-360'!AK$363 / COS!$B44,'Polar 0-360'!AJ44 )","v":6.6825385915442066},{"$f":" IF( $A44 < 'Polar 0-360'!AQ$365, 'Polar 0-360'!AQ$363 / COS!$B44,'Polar 0-360'!AP44 )","v":{"$error":"#VALUE!"}}]
[{"$f":"'Polar 0-360'!A45","v":43},0,{"$f":" IF( $A45 < 'Polar 0-360'!G$365, 'Polar 0-360'!G$363 / COS!$B45,'Polar 0-360'!F45 )","v":{"$error":"#VALUE!"}},{"$f":" IF( $A45 < 'Polar 0-360'!M$365, 'Polar 0-360'!M$363 / COS!$B45,'Polar 0-360'!L45 )","v":{"$error":"#VALUE!"}},{"$f":" IF( $A45 < 'Polar 0-360'!S$365, 'Polar 0-360'!S$363 / COS!$B45,'Polar 0-360'!R45 )","v":{"$error":"#VALUE!"}},{"$f":" IF( $A45 < 'Polar 0-360'!Y$365, 'Polar 0-360'!Y$363 / COS!$B45,'Polar 0-360'!X45 )","v":{"$error":"#VALUE!"}},{"$f":" IF( $A45 < 'Polar 0-360'!AE$365, 'Polar 0-360'!AE$363 / COS!$B45,'Polar 0-360'!AD45 )","v":{"$error":"#VALUE!"}},{"$f":" IF( $A45 < 'Polar 0-360'!AK$365, 'Polar 0-360'!AK$363 / COS!$B45,'Polar 0-360'!AJ45 )","v":6.7460393738174318},{"$f":" IF( $A45 < 'Polar 0-360'!AQ$365, 'Polar 0-360'!AQ$363 / COS!$B45,'Polar 0-360'!AP45 )","v":{"$error":"#VALUE!"}}]
[{"$f":"'Polar 0-360'!A46","v":44},0,{"$f":" IF( $A46 < 'Polar 0-360'!G$365, 'Polar 0-360'!G$363 / COS!$B46,'Polar 0-360'!F46 )","v":{"$error":"#VALUE!"}},{"$f":" IF( $A46 < 'Polar 0-360'!M$365, 'Polar 0-360'!M$363 / COS!$B46,'Polar 0-360'!L46 )","v":{"$error":"#VALUE!"}},{"$f":" IF( $A46 < 'Polar 0-360'!S$365, 'Polar 0-360'!S$363 / COS!$B46,'Polar 0-360'!R46 )","v":{"$error":"#VALUE!"}},{"$f":" IF( $A46 < 'Polar 0-360'!Y$365, 'Polar 0-360'!Y$363 / COS!$B46,'Polar 0-360'!X46 )","v":{"$error":"#VALUE!"}},{"$f":" IF( $A46 < 'Polar 0-360'!AE$365, 'Polar 0-360'!AE$363 / COS!$B46,'Polar 0-360'!AD46 )","v":{"$error":"#VALUE!"}},{"$f":" IF( $A46 < 'Polar 0-360'!AK$365, 'Polar 0-360'!AK$363 / COS!$B46,'Polar 0-360'!AJ46 )","v":6.8016959418098484},{"$f":" IF( $A46 < 'Polar 0-360'!AQ$365, 'Polar 0-360'!AQ$363 / COS!$B46,'Polar 0-360'!AP46 )","v":{"$error":"#VALUE!"}}]
[{"$f":"'Polar 0-360'!A47","v":45},0,{"$f":" IF( $A47 < 'Polar 0-360'!G$365, 'Polar 0-360'!G$363 / COS!$B47,'Polar 0-360'!F47 )","v":{"$error":"#VALUE!"}},{"$f":" IF( $A47 < 'Polar 0-360'!M$365, 'Polar 0-360'!M$363 / COS!$B47,'Polar 0-360'!L47 )","v":{"$error":"#VALUE!"}},{"$f":" IF( $A47 < 'Polar 0-360'!S$365, 'Polar 0-360'!S$363 / COS!$B47,'Polar 0-360'!R47 )","v":{"$error":"#VALUE!"}},{"$f":" IF( $A47 < 'Polar 0-360'!Y$365, 'Polar 0-360'!Y$363 / COS!$B47,'Polar 0-360'!X47 )","v":{"$error":"#VALUE!"}},{"$f":" IF( $A47 < 'Polar 0-360'!AE$365, 'Polar 0-360'!AE$363 / COS!$B47,'Polar 0-360'!AD47 )","v":{"$error":"#VALUE!"}},{"$f":" IF( $A47 < 'Polar 0-360'!AK$365, 'Polar 0-360'!AK$363 / COS!$B47,'Polar 0-360'!AJ47 )","v":6.8495082955214546},{"$f":" IF( $A47 < 'Polar 0-360'!AQ$365, 'Polar 0-360'!AQ$363 / COS!$B47,'Polar 0-360'!AP47 )","v":{"$error":"#VALUE!"}}]
[{"$f":"'Polar 0-360'!A48","v":46},0,{"$f":" IF( $A48 < 'Polar 0-360'!G$365, 'Polar 0-360'!G$363 / COS!$B48,'Polar 0-360'!F48 )","v":{"$error":"#VALUE!"}},{"$f":" IF( $A48 < 'Polar 0-360'!M$365, 'Polar 0-360'!M$363 / COS!$B48,'Polar 0-360'!L48 )","v":{"$error":"#VALUE!"}},{"$f":" IF( $A48 < 'Polar 0-360'!S$365, 'Polar 0-360'!S$363 / COS!$B48,'Polar 0-360'!R48 )","v":{"$error":"#VALUE!"}},{"$f":" IF( $A48 < 'Polar 0-360'!Y$365, 'Polar 0-360'!Y$363 / COS!$B48,'Polar 0-360'!X48 )","v":{"$error":"#VALUE!"}},{"$f":" IF( $A48 < 'Polar 0-360'!AE$365, 'Polar 0-360'!AE$363 / COS!$B48,'Polar 0-360'!AD48 )","v":{"$error":"#VALUE!"}},{"$f":" IF( $A48 < 'Polar 0-360'!AK$365, 'Polar 0-360'!AK$363 / COS!$B48,'Polar 0-360'!AJ48 )","v":6.8973206492330599},{"$f":" IF( $A48 < 'Polar 0-360'!AQ$365, 'Polar 0-360'!AQ$363 / COS!$B48,'Polar 0-360'!AP48 )","v":{"$error":"#VALUE!"}}]
[{"$f":"'Polar 0-360'!A49","v":47},0,{"$f":" IF( $A49 < 'Polar 0-360'!G$365, 'Polar 0-360'!G$363 / COS!$B49,'Polar 0-360'!F49 )","v":{"$error":"#VALUE!"}},{"$f":" IF( $A49 < 'Polar 0-360'!M$365, 'Polar 0-360'!M$363 / COS!$B49,'Polar 0-360'!L49 )","v":{"$error":"#VALUE!"}},{"$f":" IF( $A49 < 'Polar 0-360'!S$365, 'Polar 0-360'!S$363 / COS!$B49,'Polar 0-360'!R49 )","v":{"$error":"#VALUE!"}},{"$f":" IF( $A49 < 'Polar 0-360'!Y$365, 'Polar 0-360'!Y$363 / COS!$B49,'Polar 0-360'!X49 )","v":{"$error":"#VALUE!"}},{"$f":" IF( $A49 < 'Polar 0-360'!AE$365, 'Polar 0-360'!AE$363 / COS!$B49,'Polar 0-360'!AD49 )","v":{"$error":"#VALUE!"}},{"$f":" IF( $A49 < 'Polar 0-360'!AK$365, 'Polar 0-360'!AK$363 / COS!$B49,'Polar 0-360'!AJ49 )","v":6.9451330029446652},{"$f":" IF( $A49 < 'Polar 0-360'!AQ$365, 'Polar 0-360'!AQ$363 / COS!$B49,'Polar 0-360'!AP49 )","v":{"$error":"#VALUE!"}}]
[{"$f":"'Polar 0-360'!A50","v":48},0,{"$f":" IF( $A50 < 'Polar 0-360'!G$365, 'Polar 0-360'!G$363 / COS!$B50,'Polar 0-360'!F50 )","v":{"$error":"#VALUE!"}},{"$f":" IF( $A50 < 'Polar 0-360'!M$365, 'Polar 0-360'!M$363 / COS!$B50,'Polar 0-360'!L50 )","v":{"$error":"#VALUE!"}},{"$f":" IF( $A50 < 'Polar 0-360'!S$365, 'Polar 0-360'!S$363 / COS!$B50,'Polar 0-360'!R50 )","v":{"$error":"#VALUE!"}},{"$f":" IF( $A50 < 'Polar 0-360'!Y$365, 'Polar 0-360'!Y$363 / COS!$B50,'Polar 0-360'!X50 )","v":{"$error":"#VALUE!"}},{"$f":" IF( $A50 < 'Polar 0-360'!AE$365, 'Polar 0-360'!AE$363 / COS!$B50,'Polar 0-360'!AD50 )","v":{"$error":"#VALUE!"}},{"$f":" IF( $A50 < 'Polar 0-360'!AK$365, 'Polar 0-360'!AK$363 / COS!$B50,'Polar 0-360'!AJ50 )","v":6.9929453566562714},{"$f":" IF( $A50 < 'Polar 0-360'!AQ$365, 'Polar 0-360'!AQ$363 / COS!$B50,'Polar 0-360'!AP50 )","v":{"$error":"#VALUE!"}}]
[{"$f":"'Polar 0-360'!A51","v":49},0,{"$f":" IF( $A51 < 'Polar 0-360'!G$365, 'Polar 0-360'!G$363 / COS!$B51,'Polar 0-360'!F51 )","v":{"$error":"#VALUE!"}},{"$f":" IF( $A51 < 'Polar 0-360'!M$365, 'Polar 0-360'!M$363 / COS!$B51,'Polar 0-360'!L51 )","v":{"$error":"#VALUE!"}},{"$f":" IF( $A51 < 'Polar 0-360'!S$365, 'Polar 0-360'!S$363 / COS!$B51,'Polar 0-360'!R51 )","v":{"$error":"#VALUE!"}},{"$f":" IF( $A51 < 'Polar 0-360'!Y$365, 'Polar 0-360'!Y$363 / COS!$B51,'Polar 0-360'!X51 )","v":{"$error":"#VALUE!"}},{"$f":" IF( $A51 < 'Polar 0-360'!AE$365, 'Polar 0-360'!AE$363 / COS!$B51,'Polar 0-360'!AD51 )","v":{"$error":"#VALUE!"}},{"$f":" IF( $A51 < 'Polar 0-360'!AK$365, 'Polar 0-360'!AK$363 / COS!$B51,'Polar 0-360'!AJ51 )","v":7.0407577103678776},{"$f":" IF( $A51 < 'Polar 0-360'!AQ$365, 'Polar 0-360'!AQ$363 / COS!$B51,'Polar 0-360'!AP51 )","v":{"$error":"#VALUE!"}}]
[{"$f":"'Polar 0-360'!A52","v":50},0,{"$f":" IF( $A52 < 'Polar 0-360'!G$365, 'Polar 0-360'!G$363 / COS!$B52,'Polar 0-360'!F52 )","v":{"$error":"#VALUE!"}},{"$f":" IF( $A52 < 'Polar 0-360'!M$365, 'Polar 0-360'!M$363 / COS!$B52,'Polar 0-360'!L52 )","v":{"$error":"#VALUE!"}},{"$f":" IF( $A52 < 'Polar 0-360'!S$365, 'Polar 0-360'!S$363 / COS!$B52,'Polar 0-360'!R52 )","v":{"$error":"#VALUE!"}},{"$f":" IF( $A52 < 'Polar 0-360'!Y$365, 'Polar 0-360'!Y$363 / COS!$B52,'Polar 0-360'!X52 )","v":{"$error":"#VALUE!"}},{"$f":" IF( $A52 < 'Polar 0-360'!AE$365, 'Polar 0-360'!AE$363 / COS!$B52,'Polar 0-360'!AD52 )","v":{"$error":"#VALUE!"}},{"$f":" IF( $A52 < 'Polar 0-360'!AK$365, 'Polar 0-360'!AK$363 / COS!$B52,'Polar 0-360'!AJ52 )","v":7.088570064079482},{"$f":" IF( $A52 < 'Polar 0-360'!AQ$365, 'Polar 0-360'!AQ$363 / COS!$B52,'Polar 0-360'!AP52 )","v":{"$error":"#VALUE!"}}]
[{"$f":"'Polar 0-360'!A53","v":51},0,{"$f":" IF( $A53 < 'Polar 0-360'!G$365, 'Polar 0-360'!G$363 / COS!$B53,'Polar 0-360'!F53 )","v":{"$error":"#VALUE!"}},{"$f":" IF( $A53 < 'Polar 0-360'!M$365, 'Polar 0-360'!M$363 / COS!$B53,'Polar 0-360'!L53 )","v":{"$error":"#VALUE!"}},{"$f":" IF( $A53 < 'Polar 0-360'!S$365, 'Polar 0-360'!S$363 / COS!$B53,'Polar 0-360'!R53 )","v":{"$error":"#VALUE!"}},{"$f":" IF( $A53 < 'Polar 0-360'!Y$365, 'Polar 0-360'!Y$363 / COS!$B53,'Polar 0-360'!X53 )","v":{"$error":"#VALUE!"}},{"$f":" IF( $A53 < 'Polar 0-360'!AE$365, 'Polar 0-360'!AE$363 / COS!$B53,'Polar 0-360'!AD53 )","v":{"$error":"#VALUE!"}},{"$f":" IF( $A53 < 'Polar 0-360'!AK$365, 'Polar 0-360'!AK$363 / COS!$B53,'Polar 0-360'!AJ53 )","v":7.1363824177910882},{"$f":" IF( $A53 < 'Polar 0-360'!AQ$365, 'Polar 0-360'!AQ$363 / COS!$B53,'Polar 0-360'!AP53 )","v":{"$error":"#VALUE!"}}]
[{"$f":"'Polar 0-360'!A54","v":52},0,{"$f":" IF( $A54 < 'Polar 0-360'!G$365, 'Polar 0-360'!G$363 / COS!$B54,'Polar 0-360'!F54 )","v":{"$error":"#VALUE!"}},{"$f":" IF( $A54 < 'Polar 0-360'!M$365, 'Polar 0-360'!M$363 / COS!$B54,'Polar 0-360'!L54 )","v":{"$error":"#VALUE!"}},{"$f":" IF( $A54 < 'Polar 0-360'!S$365, 'Polar 0-360'!S$363 / COS!$B54,'Polar 0-360'!R54 )","v":{"$error":"#VALUE!"}},{"$f":" IF( $A54 < 'Polar 0-360'!Y$365, 'Polar 0-360'!Y$363 / COS!$B54,'Polar 0-360'!X54 )","v":{"$error":"#VALUE!"}},{"$f":" IF( $A54 < 'Polar 0-360'!AE$365, 'Polar 0-360'!AE$363 / COS!$B54,'Polar 0-360'!AD54 )","v":{"$error":"#VALUE!"}},{"$f":" IF( $A54 < 'Polar 0-360'!AK$365, 'Polar 0-360'!AK$363 / COS!$B54,'Polar 0-360'!AJ54 )","v":7.1841947715026926},{"$f":" IF( $A54 < 'Polar 0-360'!AQ$365, 'Polar 0-360'!AQ$363 / COS!$B54,'Polar 0-360'!AP54 )","v":{"$error":"#VALUE!"}}]
[{"$f":"'Polar 0-360'!A55","v":53},0,{"$f":" IF( $A55 < 'Polar 0-360'!G$365, 'Polar 0-360'!G$363 / COS!$B55,'Polar 0-360'!F55 )","v":{"$error":"#VALUE!"}},{"$f":" IF( $A55 < 'Polar 0-360'!M$365, 'Polar 0-360'!M$363 / COS!$B55,'Polar 0-360'!L55 )","v":{"$error":"#VALUE!"}},{"$f":" IF( $A55 < 'Polar 0-360'!S$365, 'Polar 0-360'!S$363 / COS!$B55,'Polar 0-360'!R55 )","v":{"$error":"#VALUE!"}},{"$f":" IF( $A55 < 'Polar 0-360'!Y$365, 'Polar 0-360'!Y$363 / COS!$B55,'Polar 0-360'!X55 )","v":{"$error":"#VALUE!"}},{"$f":" IF( $A55 < 'Polar 0-360'!AE$365, 'Polar 0-360'!AE$363 / COS!$B55,'Polar 0-360'!AD55 )","v":{"$error":"#VALUE!"}},{"$f":" IF( $A55 < 'Polar 0-360'!AK$365, 'Polar 0-360'!AK$363 / COS!$B55,'Polar 0-360'!AJ55 )","v":7.2113348987490671},{"$f":" IF( $A55 < 'Polar 0-360'!AQ$365, 'Polar 0-360'!AQ$363 / COS!$B55,'Polar 0-360'!AP55 )","v":{"$error":"#VALUE!"}}]
[{"$f":"'Polar 0-360'!A56","v":54},0,{"$f":" IF( $A56 < 'Polar 0-360'!G$365, 'Polar 0-360'!G$363 / COS!$B56,'Polar 0-360'!F56 )","v":{"$error":"#VALUE!"}},{"$f":" IF( $A56 < 'Polar 0-360'!M$365, 'Polar 0-360'!M$363 / COS!$B56,'Polar 0-360'!L56 )","v":{"$error":"#VALUE!"}},{"$f":" IF( $A56 < 'Polar 0-360'!S$365, 'Polar 0-360'!S$363 / COS!$B56,'Polar 0-360'!R56 )","v":{"$error":"#VALUE!"}},{"$f":" IF( $A56 < 'Polar 0-360'!Y$365, 'Polar 0-360'!Y$363 / COS!$B56,'Polar 0-360'!X56 )","v":{"$error":"#VALUE!"}},{"$f":" IF( $A56 < 'Polar 0-360'!AE$365, 'Polar 0-360'!AE$363 / COS!$B56,'Polar 0-360'!AD56 )","v":{"$error":"#VALUE!"}},{"$f":" IF( $A56 < 'Polar 0-360'!AK$365, 'Polar 0-360'!AK$363 / COS!$B56,'Polar 0-360'!AJ56 )","v":7.2384750259954407},{"$f":" IF( $A56 < 'Polar 0-360'!AQ$365, 'Polar 0-360'!AQ$363 / COS!$B56,'Polar 0-360'!AP56 )","v":{"$error":"#VALUE!"}}]
[{"$f":"'Polar 0-360'!A57","v":55},0,{"$f":" IF( $A57 < 'Polar 0-360'!G$365, 'Polar 0-360'!G$363 / COS!$B57,'Polar 0-360'!F57 )","v":{"$error":"#VALUE!"}},{"$f":" IF( $A57 < 'Polar 0-360'!M$365, 'Polar 0-360'!M$363 / COS!$B57,'Polar 0-360'!L57 )","v":{"$error":"#VALUE!"}},{"$f":" IF( $A57 < 'Polar 0-360'!S$365, 'Polar 0-360'!S$363 / COS!$B57,'Polar 0-360'!R57 )","v":{"$error":"#VALUE!"}},{"$f":" IF( $A57 < 'Polar 0-360'!Y$365, 'Polar 0-360'!Y$363 / COS!$B57,'Polar 0-360'!X57 )","v":{"$error":"#VALUE!"}},{"$f":" IF( $A57 < 'Polar 0-360'!AE$365, 'Polar 0-360'!AE$363 / COS!$B57,'Polar 0-360'!AD57 )","v":{"$error":"#VALUE!"}},{"$f":" IF( $A57 < 'Polar 0-360'!AK$365, 'Polar 0-360'!AK$363 / COS!$B57,'Polar 0-360'!AJ57 )","v":7.2656151532418143},{"$f":" IF( $A57 < 'Polar 0-360'!AQ$365, 'Polar 0-360'!AQ$363 / COS!$B57,'Polar 0-360'!AP57 )","v":{"$error":"#VALUE!"}}]
[{"$f":"'Polar 0-360'!A58","v":56},0,{"$f":" IF( $A58 < 'Polar 0-360'!G$365, 'Polar 0-360'!G$363 / COS!$B58,'Polar 0-360'!F58 )","v":{"$error":"#VALUE!"}},{"$f":" IF( $A58 < 'Polar 0-360'!M$365, 'Polar 0-360'!M$363 / COS!$B58,'Polar 0-360'!L58 )","v":{"$error":"#VALUE!"}},{"$f":" IF( $A58 < 'Polar 0-360'!S$365, 'Polar 0-360'!S$363 / COS!$B58,'Polar 0-360'!R58 )","v":{"$error":"#VALUE!"}},{"$f":" IF( $A58 < 'Polar 0-360'!Y$365, 'Polar 0-360'!Y$363 / COS!$B58,'Polar 0-360'!X58 )","v":{"$error":"#VALUE!"}},{"$f":" IF( $A58 < 'Polar 0-360'!AE$365, 'Polar 0-360'!AE$363 / COS!$B58,'Polar 0-360'!AD58 )","v":{"$error":"#VALUE!"}},{"$f":" IF( $A58 < 'Polar 0-360'!AK$365, 'Polar 0-360'!AK$363 / COS!$B58,'Polar 0-360'!AJ58 )","v":7.2927552804881888},{"$f":" IF( $A58 < 'Polar 0-360'!AQ$365, 'Polar 0-360'!AQ$363 / COS!$B58,'Polar 0-360'!AP58 )","v":{"$error":"#VALUE!"}}]
[{"$f":"'Polar 0-360'!A59","v":57},0,{"$f":" IF( $A59 < 'Polar 0-360'!G$365, 'Polar 0-360'!G$363 / COS!$B59,'Polar 0-360'!F59 )","v":{"$error":"#VALUE!"}},{"$f":" IF( $A59 < 'Polar 0-360'!M$365, 'Polar 0-360'!M$363 / COS!$B59,'Polar 0-360'!L59 )","v":{"$error":"#VALUE!"}},{"$f":" IF( $A59 < 'Polar 0-360'!S$365, 'Polar 0-360'!S$363 / COS!$B59,'Polar 0-360'!R59 )","v":{"$error":"#VALUE!"}},{"$f":" IF( $A59 < 'Polar 0-360'!Y$365, 'Polar 0-360'!Y$363 / COS!$B59,'Polar 0-360'!X59 )","v":{"$error":"#VALUE!"}},{"$f":" IF( $A59 < 'Polar 0-360'!AE$365, 'Polar 0-360'!AE$363 / COS!$B59,'Polar 0-360'!AD59 )","v":{"$error":"#VALUE!"}},{"$f":" IF( $A59 < 'Polar 0-360'!AK$365, 'Polar 0-360'!AK$363 / COS!$B59,'Polar 0-360'!AJ59 )","v":7.3198954077345624},{"$f":" IF( $A59 < 'Polar 0-360'!AQ$365, 'Polar 0-360'!AQ$363 / COS!$B59,'Polar 0-360'!AP59 )","v":{"$error":"#VALUE!"}}]
[{"$f":"'Polar 0-360'!A60","v":58},0,{"$f":" IF( $A60 < 'Polar 0-360'!G$365, 'Polar 0-360'!G$363 / COS!$B60,'Polar 0-360'!F60 )","v":{"$error":"#VALUE!"}},{"$f":" IF( $A60 < 'Polar 0-360'!M$365, 'Polar 0-360'!M$363 / COS!$B60,'Polar 0-360'!L60 )","v":{"$error":"#VALUE!"}},{"$f":" IF( $A60 < 'Polar 0-360'!S$365, 'Polar 0-360'!S$363 / COS!$B60,'Polar 0-360'!R60 )","v":{"$error":"#VALUE!"}},{"$f":" IF( $A60 < 'Polar 0-360'!Y$365, 'Polar 0-360'!Y$363 / COS!$B60,'Polar 0-360'!X60 )","v":{"$error":"#VALUE!"}},{"$f":" IF( $A60 < 'Polar 0-360'!AE$365, 'Polar 0-360'!AE$363 / COS!$B60,'Polar 0-360'!AD60 )","v":{"$error":"#VALUE!"}},{"$f":" IF( $A60 < 'Polar 0-360'!AK$365, 'Polar 0-360'!AK$363 / COS!$B60,'Polar 0-360'!AJ60 )","v":7.347035534980936},{"$f":" IF( $A60 < 'Polar 0-360'!AQ$365, 'Polar 0-360'!AQ$363 / COS!$B60,'Polar 0-360'!AP60 )","v":{"$error":"#VALUE!"}}]
[{"$f":"'Polar 0-360'!A61","v":59},0,{"$f":" IF( $A61 < 'Polar 0-360'!G$365, 'Polar 0-360'!G$363 / COS!$B61,'Polar 0-360'!F61 )","v":{"$error":"#VALUE!"}},{"$f":" IF( $A61 < 'Polar 0-360'!M$365, 'Polar 0-360'!M$363 / COS!$B61,'Polar 0-360'!L61 )","v":{"$error":"#VALUE!"}},{"$f":" IF( $A61 < 'Polar 0-360'!S$365, 'Polar 0-360'!S$363 / COS!$B61,'Polar 0-360'!R61 )","v":{"$error":"#VALUE!"}},{"$f":" IF( $A61 < 'Polar 0-360'!Y$365, 'Polar 0-360'!Y$363 / COS!$B61,'Polar 0-360'!X61 )","v":{"$error":"#VALUE!"}},{"$f":" IF( $A61 < 'Polar 0-360'!AE$365, 'Polar 0-360'!AE$363 / COS!$B61,'Polar 0-360'!AD61 )","v":{"$error":"#VALUE!"}},{"$f":" IF( $A61 < 'Polar 0-360'!AK$365, 'Polar 0-360'!AK$363 / COS!$B61,'Polar 0-360'!AJ61 )","v":7.3741756622273105},{"$f":" IF( $A61 < 'Polar 0-360'!AQ$365, 'Polar 0-360'!AQ$363 / COS!$B61,'Polar 0-360'!AP61 )","v":{"$error":"#VALUE!"}}]
[{"$f":"'Polar 0-360'!A62","v":60},0,{"$f":" IF( $A62 < 'Polar 0-360'!G$365, 'Polar 0-360'!G$363 / COS!$B62,'Polar 0-360'!F62 )","v":{"$error":"#VALUE!"}},{"$f":" IF( $A62 < 'Polar 0-360'!M$365, 'Polar 0-360'!M$363 / COS!$B62,'Polar 0-360'!L62 )","v":{"$error":"#VALUE!"}},{"$f":" IF( $A62 < 'Polar 0-360'!S$365, 'Polar 0-360'!S$363 / COS!$B62,'Polar 0-360'!R62 )","v":{"$error":"#VALUE!"}},{"$f":" IF( $A62 < 'Polar 0-360'!Y$365, 'Polar 0-360'!Y$363 / COS!$B62,'Polar 0-360'!X62 )","v":{"$error":"#VALUE!"}},{"$f":" IF( $A62 < 'Polar 0-360'!AE$365, 'Polar 0-360'!AE$363 / COS!$B62,'Polar 0-360'!AD62 )","v":{"$error":"#VALUE!"}},{"$f":" IF( $A62 < 'Polar 0-360'!AK$365, 'Polar 0-360'!AK$363 / COS!$B62,'Polar 0-360'!AJ62 )","v":7.401315789473685},{"$f":" IF( $A62 < 'Polar 0-360'!AQ$365, 'Polar 0-360'!AQ$363 / COS!$B62,'Polar 0-360'!AP62 )","v":{"$error":"#VALUE!"}}]
[{"$f":"'Polar 0-360'!A63","v":61},0,{"$f":" IF( $A63 < 'Polar 0-360'!G$365, 'Polar 0-360'!G$363 / COS!$B63,'Polar 0-360'!F63 )","v":{"$error":"#VALUE!"}},{"$f":" IF( $A63 < 'Polar 0-360'!M$365, 'Polar 0-360'!M$363 / COS!$B63,'Polar 0-360'!L63 )","v":{"$error":"#VALUE!"}},{"$f":" IF( $A63 < 'Polar 0-360'!S$365, 'Polar 0-360'!S$363 / COS!$B63,'Polar 0-360'!R63 )","v":{"$error":"#VALUE!"}},{"$f":" IF( $A63 < 'Polar 0-360'!Y$365, 'Polar 0-360'!Y$363 / COS!$B63,'Polar 0-360'!X63 )","v":{"$error":"#VALUE!"}},{"$f":" IF( $A63 < 'Polar 0-360'!AE$365, 'Polar 0-360'!AE$363 / COS!$B63,'Polar 0-360'!AD63 )","v":{"$error":"#VALUE!"}},{"$f":" IF( $A63 < 'Polar 0-360'!AK$365, 'Polar 0-360'!AK$363 / COS!$B63,'Polar 0-360'!AJ63 )","v":7.4240237691001703},{"$f":" IF( $A63 < 'Polar 0-360'!AQ$365, 'Polar 0-360'!AQ$363 / COS!$B63,'Polar 0-360'!AP63 )","v":{"$error":"#VALUE!"}}]
[{"$f":"'Polar 0-360'!A64","v":62},0,{"$f":" IF( $A64 < 'Polar 0-360'!G$365, 'Polar 0-360'!G$363 / COS!$B64,'Polar 0-360'!F64 )","v":{"$error":"#VALUE!"}},{"$f":" IF( $A64 < 'Polar 0-360'!M$365, 'Polar 0-360'!M$363 / COS!$B64,'Polar 0-360'!L64 )","v":{"$error":"#VALUE!"}},{"$f":" IF( $A64 < 'Polar 0-360'!S$365, 'Polar 0-360'!S$363 / COS!$B64,'Polar 0-360'!R64 )","v":{"$error":"#VALUE!"}},{"$f":" IF( $A64 < 'Polar 0-360'!Y$365, 'Polar 0-360'!Y$363 / COS!$B64,'Polar 0-360'!X64 )","v":{"$error":"#VALUE!"}},{"$f":" IF( $A64 < 'Polar 0-360'!AE$365, 'Polar 0-360'!AE$363 / COS!$B64,'Polar 0-360'!AD64 )","v":{"$error":"#VALUE!"}},{"$f":" IF( $A64 < 'Polar 0-360'!AK$365, 'Polar 0-360'!AK$363 / COS!$B64,'Polar 0-360'!AJ64 )","v":7.4467317487266556},{"$f":" IF( $A64 < 'Polar 0-360'!AQ$365, 'Polar 0-360'!AQ$363 / COS!$B64,'Polar 0-360'!AP64 )","v":{"$error":"#VALUE!"}}]
[{"$f":"'Polar 0-360'!A65","v":63},0,{"$f":" IF( $A65 < 'Polar 0-360'!G$365, 'Polar 0-360'!G$363 / COS!$B65,'Polar 0-360'!F65 )","v":{"$error":"#VALUE!"}},{"$f":" IF( $A65 < 'Polar 0-360'!M$365, 'Polar 0-360'!M$363 / COS!$B65,'Polar 0-360'!L65 )","v":{"$error":"#VALUE!"}},{"$f":" IF( $A65 < 'Polar 0-360'!S$365, 'Polar 0-360'!S$363 / COS!$B65,'Polar 0-360'!R65 )","v":{"$error":"#VALUE!"}},{"$f":" IF( $A65 < 'Polar 0-360'!Y$365, 'Polar 0-360'!Y$363 / COS!$B65,'Polar 0-360'!X65 )","v":{"$error":"#VALUE!"}},{"$f":" IF( $A65 < 'Polar 0-360'!AE$365, 'Polar 0-360'!AE$363 / COS!$B65,'Polar 0-360'!AD65 )","v":{"$error":"#VALUE!"}},{"$f":" IF( $A65 < 'Polar 0-360'!AK$365, 'Polar 0-360'!AK$363 / COS!$B65,'Polar 0-360'!AJ65 )","v":7.4694397283531409},{"$f":" IF( $A65 < 'Polar 0-360'!AQ$365, 'Polar 0-360'!AQ$363 / COS!$B65,'Polar 0-360'!AP65 )","v":{"$error":"#VALUE!"}}]
[{"$f":"'Polar 0-360'!A66","v":64},0,{"$f":" IF( $A66 < 'Polar 0-360'!G$365, 'Polar 0-360'!G$363 / COS!$B66,'Polar 0-360'!F66 )","v":{"$error":"#VALUE!"}},{"$f":" IF( $A66 < 'Polar 0-360'!M$365, 'Polar 0-360'!M$363 / COS!$B66,'Polar 0-360'!L66 )","v":{"$error":"#VALUE!"}},{"$f":" IF( $A66 < 'Polar 0-360'!S$365, 'Polar 0-360'!S$363 / COS!$B66,'Polar 0-360'!R66 )","v":{"$error":"#VALUE!"}},{"$f":" IF( $A66 < 'Polar 0-360'!Y$365, 'Polar 0-360'!Y$363 / COS!$B66,'Polar 0-360'!X66 )","v":{"$error":"#VALUE!"}},{"$f":" IF( $A66 < 'Polar 0-360'!AE$365, 'Polar 0-360'!AE$363 / COS!$B66,'Polar 0-360'!AD66 )","v":{"$error":"#VALUE!"}},{"$f":" IF( $A66 < 'Polar 0-360'!AK$365, 'Polar 0-360'!AK$363 / COS!$B66,'Polar 0-360'!AJ66 )","v":7.4921477079796261},{"$f":" IF( $A66 < 'Polar 0-360'!AQ$365, 'Polar 0-360'!AQ$363 / COS!$B66,'Polar 0-360'!AP66 )","v":{"$error":"#VALUE!"}}]
[{"$f":"'Polar 0-360'!A67","v":65},0,{"$f":" IF( $A67 < 'Polar 0-360'!G$365, 'Polar 0-360'!G$363 / COS!$B67,'Polar 0-360'!F67 )","v":{"$error":"#VALUE!"}},{"$f":" IF( $A67 < 'Polar 0-360'!M$365, 'Polar 0-360'!M$363 / COS!$B67,'Polar 0-360'!L67 )","v":{"$error":"#VALUE!"}},{"$f":" IF( $A67 < 'Polar 0-360'!S$365, 'Polar 0-360'!S$363 / COS!$B67,'Polar 0-360'!R67 )","v":{"$error":"#VALUE!"}},{"$f":" IF( $A67 < 'Polar 0-360'!Y$365, 'Polar 0-360'!Y$363 / COS!$B67,'Polar 0-360'!X67 )","v":{"$error":"#VALUE!"}},{"$f":" IF( $A67 < 'Polar 0-360'!AE$365, 'Polar 0-360'!AE$363 / COS!$B67,'Polar 0-360'!AD67 )","v":{"$error":"#VALUE!"}},{"$f":" IF( $A67 < 'Polar 0-360'!AK$365, 'Polar 0-360'!AK$363 / COS!$B67,'Polar 0-360'!AJ67 )","v":7.5148556876061123},{"$f":" IF( $A67 < 'Polar 0-360'!AQ$365, 'Polar 0-360'!AQ$363 / COS!$B67,'Polar 0-360'!AP67 )","v":{"$error":"#VALUE!"}}]
[{"$f":"'Polar 0-360'!A68","v":66},0,{"$f":" IF( $A68 < 'Polar 0-360'!G$365, 'Polar 0-360'!G$363 / COS!$B68,'Polar 0-360'!F68 )","v":{"$error":"#VALUE!"}},{"$f":" IF( $A68 < 'Polar 0-360'!M$365, 'Polar 0-360'!M$363 / COS!$B68,'Polar 0-360'!L68 )","v":{"$error":"#VALUE!"}},{"$f":" IF( $A68 < 'Polar 0-360'!S$365, 'Polar 0-360'!S$363 / COS!$B68,'Polar 0-360'!R68 )","v":{"$error":"#VALUE!"}},{"$f":" IF( $A68 < 'Polar 0-360'!Y$365, 'Polar 0-360'!Y$363 / COS!$B68,'Polar 0-360'!X68 )","v":{"$error":"#VALUE!"}},{"$f":" IF( $A68 < 'Polar 0-360'!AE$365, 'Polar 0-360'!AE$363 / COS!$B68,'Polar 0-360'!AD68 )","v":{"$error":"#VALUE!"}},{"$f":" IF( $A68 < 'Polar 0-360'!AK$365, 'Polar 0-360'!AK$363 / COS!$B68,'Polar 0-360'!AJ68 )","v":7.5375636672325976},{"$f":" IF( $A68 < 'Polar 0-360'!AQ$365, 'Polar 0-360'!AQ$363 / COS!$B68,'Polar 0-360'!AP68 )","v":{"$error":"#VALUE!"}}]
[{"$f":"'Polar 0-360'!A69","v":67},0,{"$f":" IF( $A69 < 'Polar 0-360'!G$365, 'Polar 0-360'!G$363 / COS!$B69,'Polar 0-360'!F69 )","v":{"$error":"#VALUE!"}},{"$f":" IF( $A69 < 'Polar 0-360'!M$365, 'Polar 0-360'!M$363 / COS!$B69,'Polar 0-360'!L69 )","v":{"$error":"#VALUE!"}},{"$f":" IF( $A69 < 'Polar 0-360'!S$365, 'Polar 0-360'!S$363 / COS!$B69,'Polar 0-360'!R69 )","v":{"$error":"#VALUE!"}},{"$f":" IF( $A69 < 'Polar 0-360'!Y$365, 'Polar 0-360'!Y$363 / COS!$B69,'Polar 0-360'!X69 )","v":{"$error":"#VALUE!"}},{"$f":" IF( $A69 < 'Polar 0-360'!AE$365, 'Polar 0-360'!AE$363 / COS!$B69,'Polar 0-360'!AD69 )","v":{"$error":"#VALUE!"}},{"$f":" IF( $A69 < 'Polar 0-360'!AK$365, 'Polar 0-360'!AK$363 / COS!$B69,'Polar 0-360'!AJ69 )","v":7.5602716468590829},{"$f":" IF( $A69 < 'Polar 0-360'!AQ$365, 'Polar 0-360'!AQ$363 / COS!$B69,'Polar 0-360'!AP69 )","v":{"$error":"#VALUE!"}}]
[{"$f":"'Polar 0-360'!A70","v":68},0,{"$f":" IF( $A70 < 'Polar 0-360'!G$365, 'Polar 0-360'!G$363 / COS!$B70,'Polar 0-360'!F70 )","v":{"$error":"#VALUE!"}},{"$f":" IF( $A70 < 'Polar 0-360'!M$365, 'Polar 0-360'!M$363 / COS!$B70,'Polar 0-360'!L70 )","v":{"$error":"#VALUE!"}},{"$f":" IF( $A70 < 'Polar 0-360'!S$365, 'Polar 0-360'!S$363 / COS!$B70,'Polar 0-360'!R70 )","v":{"$error":"#VALUE!"}},{"$f":" IF( $A70 < 'Polar 0-360'!Y$365, 'Polar 0-360'!Y$363 / COS!$B70,'Polar 0-360'!X70 )","v":{"$error":"#VALUE!"}},{"$f":" IF( $A70 < 'Polar 0-360'!AE$365, 'Polar 0-360'!AE$363 / COS!$B70,'Polar 0-360'!AD70 )","v":{"$error":"#VALUE!"}},{"$f":" IF( $A70 < 'Polar 0-360'!AK$365, 'Polar 0-360'!AK$363 / COS!$B70,'Polar 0-360'!AJ70 )","v":7.5829796264855691},{"$f":" IF( $A70 < 'Polar 0-360'!AQ$365, 'Polar 0-360'!AQ$363 / COS!$B70,'Polar 0-360'!AP70 )","v":{"$error":"#VALUE!"}}]
[{"$f":"'Polar 0-360'!A71","v":69},0,{"$f":" IF( $A71 < 'Polar 0-360'!G$365, 'Polar 0-360'!G$363 / COS!$B71,'Polar 0-360'!F71 )","v":{"$error":"#VALUE!"}},{"$f":" IF( $A71 < 'Polar 0-360'!M$365, 'Polar 0-360'!M$363 / COS!$B71,'Polar 0-360'!L71 )","v":{"$error":"#VALUE!"}},{"$f":" IF( $A71 < 'Polar 0-360'!S$365, 'Polar 0-360'!S$363 / COS!$B71,'Polar 0-360'!R71 )","v":{"$error":"#VALUE!"}},{"$f":" IF( $A71 < 'Polar 0-360'!Y$365, 'Polar 0-360'!Y$363 / COS!$B71,'Polar 0-360'!X71 )","v":{"$error":"#VALUE!"}},{"$f":" IF( $A71 < 'Polar 0-360'!AE$365, 'Polar 0-360'!AE$363 / COS!$B71,'Polar 0-360'!AD71 )","v":{"$error":"#VALUE!"}},{"$f":" IF( $A71 < 'Polar 0-360'!AK$365, 'Polar 0-360'!AK$363 / COS!$B71,'Polar 0-360'!AJ71 )","v":7.6056876061120544},{"$f":" IF( $A71 < 'Polar 0-360'!AQ$365, 'Polar 0-360'!AQ$363 / COS!$B71,'Polar 0-360'!AP71 )","v":{"$error":"#VALUE!"}}]
[{"$f":"'Polar 0-360'!A72","v":70},0,{"$f":" IF( $A72 < 'Polar 0-360'!G$365, 'Polar 0-360'!G$363 / COS!$B72,'Polar 0-360'!F72 )","v":{"$error":"#VALUE!"}},{"$f":" IF( $A72 < 'Polar 0-360'!M$365, 'Polar 0-360'!M$363 / COS!$B72,'Polar 0-360'!L72 )","v":{"$error":"#VALUE!"}},{"$f":" IF( $A72 < 'Polar 0-360'!S$365, 'Polar 0-360'!S$363 / COS!$B72,'Polar 0-360'!R72 )","v":{"$error":"#VALUE!"}},{"$f":" IF( $A72 < 'Polar 0-360'!Y$365, 'Polar 0-360'!Y$363 / COS!$B72,'Polar 0-360'!X72 )","v":{"$error":"#VALUE!"}},{"$f":" IF( $A72 < 'Polar 0-360'!AE$365, 'Polar 0-360'!AE$363 / COS!$B72,'Polar 0-360'!AD72 )","v":{"$error":"#VALUE!"}},{"$f":" IF( $A72 < 'Polar 0-360'!AK$365, 'Polar 0-360'!AK$363 / COS!$B72,'Polar 0-360'!AJ72 )","v":7.6283955857385397},{"$f":" IF( $A72 < 'Polar 0-360'!AQ$365, 'Polar 0-360'!AQ$363 / COS!$B72,'Polar 0-360'!AP72 )","v":{"$error":"#VALUE!"}}]
[{"$f":"'Polar 0-360'!A73","v":71},0,{"$f":" IF( $A73 < 'Polar 0-360'!G$365, 'Polar 0-360'!G$363 / COS!$B73,'Polar 0-360'!F73 )","v":{"$error":"#VALUE!"}},{"$f":" IF( $A73 < 'Polar 0-360'!M$365, 'Polar 0-360'!M$363 / COS!$B73,'Polar 0-360'!L73 )","v":{"$error":"#VALUE!"}},{"$f":" IF( $A73 < 'Polar 0-360'!S$365, 'Polar 0-360'!S$363 / COS!$B73,'Polar 0-360'!R73 )","v":{"$error":"#VALUE!"}},{"$f":" IF( $A73 < 'Polar 0-360'!Y$365, 'Polar 0-360'!Y$363 / COS!$B73,'Polar 0-360'!X73 )","v":{"$error":"#VALUE!"}},{"$f":" IF( $A73 < 'Polar 0-360'!AE$365, 'Polar 0-360'!AE$363 / COS!$B73,'Polar 0-360'!AD73 )","v":{"$error":"#VALUE!"}},{"$f":" IF( $A73 < 'Polar 0-360'!AK$365, 'Polar 0-360'!AK$363 / COS!$B73,'Polar 0-360'!AJ73 )","v":7.651103565365025},{"$f":" IF( $A73 < 'Polar 0-360'!AQ$365, 'Polar 0-360'!AQ$363 / COS!$B73,'Polar 0-360'!AP73 )","v":{"$error":"#VALUE!"}}]
[{"$f":"'Polar 0-360'!A74","v":72},0,{"$f":" IF( $A74 < 'Polar 0-360'!G$365, 'Polar 0-360'!G$363 / COS!$B74,'Polar 0-360'!F74 )","v":{"$error":"#VALUE!"}},{"$f":" IF( $A74 < 'Polar 0-360'!M$365, 'Polar 0-360'!M$363 / COS!$B74,'Polar 0-360'!L74 )","v":{"$error":"#VALUE!"}},{"$f":" IF( $A74 < 'Polar 0-360'!S$365, 'Polar 0-360'!S$363 / COS!$B74,'Polar 0-360'!R74 )","v":{"$error":"#VALUE!"}},{"$f":" IF( $A74 < 'Polar 0-360'!Y$365, 'Polar 0-360'!Y$363 / COS!$B74,'Polar 0-360'!X74 )","v":{"$error":"#VALUE!"}},{"$f":" IF( $A74 < 'Polar 0-360'!AE$365, 'Polar 0-360'!AE$363 / COS!$B74,'Polar 0-360'!AD74 )","v":{"$error":"#VALUE!"}},{"$f":" IF( $A74 < 'Polar 0-360'!AK$365, 'Polar 0-360'!AK$363 / COS!$B74,'Polar 0-360'!AJ74 )","v":7.6738115449915103},{"$f":" IF( $A74 < 'Polar 0-360'!AQ$365, 'Polar 0-360'!AQ$363 / COS!$B74,'Polar 0-360'!AP74 )","v":{"$error":"#VALUE!"}}]
[{"$f":"'Polar 0-360'!A75","v":73},0,{"$f":" IF( $A75 < 'Polar 0-360'!G$365, 'Polar 0-360'!G$363 / COS!$B75,'Polar 0-360'!F75 )","v":{"$error":"#VALUE!"}},{"$f":" IF( $A75 < 'Polar 0-360'!M$365, 'Polar 0-360'!M$363 / COS!$B75,'Polar 0-360'!L75 )","v":{"$error":"#VALUE!"}},{"$f":" IF( $A75 < 'Polar 0-360'!S$365, 'Polar 0-360'!S$363 / COS!$B75,'Polar 0-360'!R75 )","v":{"$error":"#VALUE!"}},{"$f":" IF( $A75 < 'Polar 0-360'!Y$365, 'Polar 0-360'!Y$363 / COS!$B75,'Polar 0-360'!X75 )","v":{"$error":"#VALUE!"}},{"$f":" IF( $A75 < 'Polar 0-360'!AE$365, 'Polar 0-360'!AE$363 / COS!$B75,'Polar 0-360'!AD75 )","v":{"$error":"#VALUE!"}},{"$f":" IF( $A75 < 'Polar 0-360'!AK$365, 'Polar 0-360'!AK$363 / COS!$B75,'Polar 0-360'!AJ75 )","v":7.6965195246179965},{"$f":" IF( $A75 < 'Polar 0-360'!AQ$365, 'Polar 0-360'!AQ$363 / COS!$B75,'Polar 0-360'!AP75 )","v":{"$error":"#VALUE!"}}]
[{"$f":"'Polar 0-360'!A76","v":74},0,{"$f":" IF( $A76 < 'Polar 0-360'!G$365, 'Polar 0-360'!G$363 / COS!$B76,'Polar 0-360'!F76 )","v":{"$error":"#VALUE!"}},{"$f":" IF( $A76 < 'Polar 0-360'!M$365, 'Polar 0-360'!M$363 / COS!$B76,'Polar 0-360'!L76 )","v":{"$error":"#VALUE!"}},{"$f":" IF( $A76 < 'Polar 0-360'!S$365, 'Polar 0-360'!S$363 / COS!$B76,'Polar 0-360'!R76 )","v":{"$error":"#VALUE!"}},{"$f":" IF( $A76 < 'Polar 0-360'!Y$365, 'Polar 0-360'!Y$363 / COS!$B76,'Polar 0-360'!X76 )","v":{"$error":"#VALUE!"}},{"$f":" IF( $A76 < 'Polar 0-360'!AE$365, 'Polar 0-360'!AE$363 / COS!$B76,'Polar 0-360'!AD76 )","v":{"$error":"#VALUE!"}},{"$f":" IF( $A76 < 'Polar 0-360'!AK$365, 'Polar 0-360'!AK$363 / COS!$B76,'Polar 0-360'!AJ76 )","v":7.7192275042444818},{"$f":" IF( $A76 < 'Polar 0-360'!AQ$365, 'Polar 0-360'!AQ$363 / COS!$B76,'Polar 0-360'!AP76 )","v":{"$error":"#VALUE!"}}]
[{"$f":"'Polar 0-360'!A77","v":75},0,{"$f":" IF( $A77 < 'Polar 0-360'!G$365, 'Polar 0-360'!G$363 / COS!$B77,'Polar 0-360'!F77 )","v":{"$error":"#VALUE!"}},{"$f":" IF( $A77 < 'Polar 0-360'!M$365, 'Polar 0-360'!M$363 / COS!$B77,'Polar 0-360'!L77 )","v":{"$error":"#VALUE!"}},{"$f":" IF( $A77 < 'Polar 0-360'!S$365, 'Polar 0-360'!S$363 / COS!$B77,'Polar 0-360'!R77 )","v":{"$error":"#VALUE!"}},{"$f":" IF( $A77 < 'Polar 0-360'!Y$365, 'Polar 0-360'!Y$363 / COS!$B77,'Polar 0-360'!X77 )","v":{"$error":"#VALUE!"}},{"$f":" IF( $A77 < 'Polar 0-360'!AE$365, 'Polar 0-360'!AE$363 / COS!$B77,'Polar 0-360'!AD77 )","v":{"$error":"#VALUE!"}},{"$f":" IF( $A77 < 'Polar 0-360'!AK$365, 'Polar 0-360'!AK$363 / COS!$B77,'Polar 0-360'!AJ77 )","v":7.741935483870968},{"$f":" IF( $A77 < 'Polar 0-360'!AQ$365, 'Polar 0-360'!AQ$363 / COS!$B77,'Polar 0-360'!AP77 )","v":{"$error":"#VALUE!"}}]
[{"$f":"'Polar 0-360'!A78","v":76},0,{"$f":" IF( $A78 < 'Polar 0-360'!G$365, 'Polar 0-360'!G$363 / COS!$B78,'Polar 0-360'!F78 )","v":{"$error":"#VALUE!"}},{"$f":" IF( $A78 < 'Polar 0-360'!M$365, 'Polar 0-360'!M$363 / COS!$B78,'Polar 0-360'!L78 )","v":{"$error":"#VALUE!"}},{"$f":" IF( $A78 < 'Polar 0-360'!S$365, 'Polar 0-360'!S$363 / COS!$B78,'Polar 0-360'!R78 )","v":{"$error":"#VALUE!"}},{"$f":" IF( $A78 < 'Polar 0-360'!Y$365, 'Polar 0-360'!Y$363 / COS!$B78,'Polar 0-360'!X78 )","v":{"$error":"#VALUE!"}},{"$f":" IF( $A78 < 'Polar 0-360'!AE$365, 'Polar 0-360'!AE$363 / COS!$B78,'Polar 0-360'!AD78 )","v":{"$error":"#VALUE!"}},{"$f":" IF( $A78 < 'Polar 0-360'!AK$365, 'Polar 0-360'!AK$363 / COS!$B78,'Polar 0-360'!AJ78 )","v":7.7460752571624374},{"$f":" IF( $A78 < 'Polar 0-360'!AQ$365, 'Polar 0-360'!AQ$363 / COS!$B78,'Polar 0-360'!AP78 )","v":{"$error":"#VALUE!"}}]
[{"$f":"'Polar 0-360'!A79","v":77},0,{"$f":" IF( $A79 < 'Polar 0-360'!G$365, 'Polar 0-360'!G$363 / COS!$B79,'Polar 0-360'!F79 )","v":{"$error":"#VALUE!"}},{"$f":" IF( $A79 < 'Polar 0-360'!M$365, 'Polar 0-360'!M$363 / COS!$B79,'Polar 0-360'!L79 )","v":{"$error":"#VALUE!"}},{"$f":" IF( $A79 < 'Polar 0-360'!S$365, 'Polar 0-360'!S$363 / COS!$B79,'Polar 0-360'!R79 )","v":{"$error":"#VALUE!"}},{"$f":" IF( $A79 < 'Polar 0-360'!Y$365, 'Polar 0-360'!Y$363 / COS!$B79,'Polar 0-360'!X79 )","v":{"$error":"#VALUE!"}},{"$f":" IF( $A79 < 'Polar 0-360'!AE$365, 'Polar 0-360'!AE$363 / COS!$B79,'Polar 0-360'!AD79 )","v":{"$error":"#VALUE!"}},{"$f":" IF( $A79 < 'Polar 0-360'!AK$365, 'Polar 0-360'!AK$363 / COS!$B79,'Polar 0-360'!AJ79 )","v":7.7502150304539068},{"$f":" IF( $A79 < 'Polar 0-360'!AQ$365, 'Polar 0-360'!AQ$363 / COS!$B79,'Polar 0-360'!AP79 )","v":{"$error":"#VALUE!"}}]
[{"$f":"'Polar 0-360'!A80","v":78},0,{"$f":" IF( $A80 < 'Polar 0-360'!G$365, 'Polar 0-360'!G$363 / COS!$B80,'Polar 0-360'!F80 )","v":{"$error":"#VALUE!"}},{"$f":" IF( $A80 < 'Polar 0-360'!M$365, 'Polar 0-360'!M$363 / COS!$B80,'Polar 0-360'!L80 )","v":{"$error":"#VALUE!"}},{"$f":" IF( $A80 < 'Polar 0-360'!S$365, 'Polar 0-360'!S$363 / COS!$B80,'Polar 0-360'!R80 )","v":{"$error":"#VALUE!"}},{"$f":" IF( $A80 < 'Polar 0-360'!Y$365, 'Polar 0-360'!Y$363 / COS!$B80,'Polar 0-360'!X80 )","v":{"$error":"#VALUE!"}},{"$f":" IF( $A80 < 'Polar 0-360'!AE$365, 'Polar 0-360'!AE$363 / COS!$B80,'Polar 0-360'!AD80 )","v":{"$error":"#VALUE!"}},{"$f":" IF( $A80 < 'Polar 0-360'!AK$365, 'Polar 0-360'!AK$363 / COS!$B80,'Polar 0-360'!AJ80 )","v":7.7543548037453762},{"$f":" IF( $A80 < 'Polar 0-360'!AQ$365, 'Polar 0-360'!AQ$363 / COS!$B80,'Polar 0-360'!AP80 )","v":{"$error":"#VALUE!"}}]
[{"$f":"'Polar 0-360'!A81","v":79},0,{"$f":" IF( $A81 < 'Polar 0-360'!G$365, 'Polar 0-360'!G$363 / COS!$B81,'Polar 0-360'!F81 )","v":{"$error":"#VALUE!"}},{"$f":" IF( $A81 < 'Polar 0-360'!M$365, 'Polar 0-360'!M$363 / COS!$B81,'Polar 0-360'!L81 )","v":{"$error":"#VALUE!"}},{"$f":" IF( $A81 < 'Polar 0-360'!S$365, 'Polar 0-360'!S$363 / COS!$B81,'Polar 0-360'!R81 )","v":{"$error":"#VALUE!"}},{"$f":" IF( $A81 < 'Polar 0-360'!Y$365, 'Polar 0-360'!Y$363 / COS!$B81,'Polar 0-360'!X81 )","v":{"$error":"#VALUE!"}},{"$f":" IF( $A81 < 'Polar 0-360'!AE$365, 'Polar 0-360'!AE$363 / COS!$B81,'Polar 0-360'!AD81 )","v":{"$error":"#VALUE!"}},{"$f":" IF( $A81 < 'Polar 0-360'!AK$365, 'Polar 0-360'!AK$363 / COS!$B81,'Polar 0-360'!AJ81 )","v":7.7584945770368456},{"$f":" IF( $A81 < 'Polar 0-360'!AQ$365, 'Polar 0-360'!AQ$363 / COS!$B81,'Polar 0-360'!AP81 )","v":{"$error":"#VALUE!"}}]
[{"$f":"'Polar 0-360'!A82","v":80},0,{"$f":" IF( $A82 < 'Polar 0-360'!G$365, 'Polar 0-360'!G$363 / COS!$B82,'Polar 0-360'!F82 )","v":{"$error":"#VALUE!"}},{"$f":" IF( $A82 < 'Polar 0-360'!M$365, 'Polar 0-360'!M$363 / COS!$B82,'Polar 0-360'!L82 )","v":{"$error":"#VALUE!"}},{"$f":" IF( $A82 < 'Polar 0-360'!S$365, 'Polar 0-360'!S$363 / COS!$B82,'Polar 0-360'!R82 )","v":{"$error":"#VALUE!"}},{"$f":" IF( $A82 < 'Polar 0-360'!Y$365, 'Polar 0-360'!Y$363 / COS!$B82,'Polar 0-360'!X82 )","v":{"$error":"#VALUE!"}},{"$f":" IF( $A82 < 'Polar 0-360'!AE$365, 'Polar 0-360'!AE$363 / COS!$B82,'Polar 0-360'!AD82 )","v":{"$error":"#VALUE!"}},{"$f":" IF( $A82 < 'Polar 0-360'!AK$365, 'Polar 0-360'!AK$363 / COS!$B82,'Polar 0-360'!AJ82 )","v":7.7626343503283142},{"$f":" IF( $A82 < 'Polar 0-360'!AQ$365, 'Polar 0-360'!AQ$363 / COS!$B82,'Polar 0-360'!AP82 )","v":{"$error":"#VALUE!"}}]
[{"$f":"'Polar 0-360'!A83","v":81},0,{"$f":" IF( $A83 < 'Polar 0-360'!G$365, 'Polar 0-360'!G$363 / COS!$B83,'Polar 0-360'!F83 )","v":{"$error":"#VALUE!"}},{"$f":" IF( $A83 < 'Polar 0-360'!M$365, 'Polar 0-360'!M$363 / COS!$B83,'Polar 0-360'!L83 )","v":{"$error":"#VALUE!"}},{"$f":" IF( $A83 < 'Polar 0-360'!S$365, 'Polar 0-360'!S$363 / COS!$B83,'Polar 0-360'!R83 )","v":{"$error":"#VALUE!"}},{"$f":" IF( $A83 < 'Polar 0-360'!Y$365, 'Polar 0-360'!Y$363 / COS!$B83,'Polar 0-360'!X83 )","v":{"$error":"#VALUE!"}},{"$f":" IF( $A83 < 'Polar 0-360'!AE$365, 'Polar 0-360'!AE$363 / COS!$B83,'Polar 0-360'!AD83 )","v":{"$error":"#VALUE!"}},{"$f":" IF( $A83 < 'Polar 0-360'!AK$365, 'Polar 0-360'!AK$363 / COS!$B83,'Polar 0-360'!AJ83 )","v":7.7667741236197836},{"$f":" IF( $A83 < 'Polar 0-360'!AQ$365, 'Polar 0-360'!AQ$363 / COS!$B83,'Polar 0-360'!AP83 )","v":{"$error":"#VALUE!"}}]
[{"$f":"'Polar 0-360'!A84","v":82},0,{"$f":" IF( $A84 < 'Polar 0-360'!G$365, 'Polar 0-360'!G$363 / COS!$B84,'Polar 0-360'!F84 )","v":{"$error":"#VALUE!"}},{"$f":" IF( $A84 < 'Polar 0-360'!M$365, 'Polar 0-360'!M$363 / COS!$B84,'Polar 0-360'!L84 )","v":{"$error":"#VALUE!"}},{"$f":" IF( $A84 < 'Polar 0-360'!S$365, 'Polar 0-360'!S$363 / COS!$B84,'Polar 0-360'!R84 )","v":{"$error":"#VALUE!"}},{"$f":" IF( $A84 < 'Polar 0-360'!Y$365, 'Polar 0-360'!Y$363 / COS!$B84,'Polar 0-360'!X84 )","v":{"$error":"#VALUE!"}},{"$f":" IF( $A84 < 'Polar 0-360'!AE$365, 'Polar 0-360'!AE$363 / COS!$B84,'Polar 0-360'!AD84 )","v":{"$error":"#VALUE!"}},{"$f":" IF( $A84 < 'Polar 0-360'!AK$365, 'Polar 0-360'!AK$363 / COS!$B84,'Polar 0-360'!AJ84 )","v":7.770913896911253},{"$f":" IF( $A84 < 'Polar 0-360'!AQ$365, 'Polar 0-360'!AQ$363 / COS!$B84,'Polar 0-360'!AP84 )","v":{"$error":"#VALUE!"}}]
[{"$f":"'Polar 0-360'!A85","v":83},0,{"$f":" IF( $A85 < 'Polar 0-360'!G$365, 'Polar 0-360'!G$363 / COS!$B85,'Polar 0-360'!F85 )","v":{"$error":"#VALUE!"}},{"$f":" IF( $A85 < 'Polar 0-360'!M$365, 'Polar 0-360'!M$363 / COS!$B85,'Polar 0-360'!L85 )","v":{"$error":"#VALUE!"}},{"$f":" IF( $A85 < 'Polar 0-360'!S$365, 'Polar 0-360'!S$363 / COS!$B85,'Polar 0-360'!R85 )","v":{"$error":"#VALUE!"}},{"$f":" IF( $A85 < 'Polar 0-360'!Y$365, 'Polar 0-360'!Y$363 / COS!$B85,'Polar 0-360'!X85 )","v":{"$error":"#VALUE!"}},{"$f":" IF( $A85 < 'Polar 0-360'!AE$365, 'Polar 0-360'!AE$363 / COS!$B85,'Polar 0-360'!AD85 )","v":{"$error":"#VALUE!"}},{"$f":" IF( $A85 < 'Polar 0-360'!AK$365, 'Polar 0-360'!AK$363 / COS!$B85,'Polar 0-360'!AJ85 )","v":7.7750536702027224},{"$f":" IF( $A85 < 'Polar 0-360'!AQ$365, 'Polar 0-360'!AQ$363 / COS!$B85,'Polar 0-360'!AP85 )","v":{"$error":"#VALUE!"}}]
[{"$f":"'Polar 0-360'!A86","v":84},0,{"$f":" IF( $A86 < 'Polar 0-360'!G$365, 'Polar 0-360'!G$363 / COS!$B86,'Polar 0-360'!F86 )","v":{"$error":"#VALUE!"}},{"$f":" IF( $A86 < 'Polar 0-360'!M$365, 'Polar 0-360'!M$363 / COS!$B86,'Polar 0-360'!L86 )","v":{"$error":"#VALUE!"}},{"$f":" IF( $A86 < 'Polar 0-360'!S$365, 'Polar 0-360'!S$363 / COS!$B86,'Polar 0-360'!R86 )","v":{"$error":"#VALUE!"}},{"$f":" IF( $A86 < 'Polar 0-360'!Y$365, 'Polar 0-360'!Y$363 / COS!$B86,'Polar 0-360'!X86 )","v":{"$error":"#VALUE!"}},{"$f":" IF( $A86 < 'Polar 0-360'!AE$365, 'Polar 0-360'!AE$363 / COS!$B86,'Polar 0-360'!AD86 )","v":{"$error":"#VALUE!"}},{"$f":" IF( $A86 < 'Polar 0-360'!AK$365, 'Polar 0-360'!AK$363 / COS!$B86,'Polar 0-360'!AJ86 )","v":7.7791934434941918},{"$f":" IF( $A86 < 'Polar 0-360'!AQ$365, 'Polar 0-360'!AQ$363 / COS!$B86,'Polar 0-360'!AP86 )","v":{"$error":"#VALUE!"}}]
[{"$f":"'Polar 0-360'!A87","v":85},0,{"$f":" IF( $A87 < 'Polar 0-360'!G$365, 'Polar 0-360'!G$363 / COS!$B87,'Polar 0-360'!F87 )","v":{"$error":"#VALUE!"}},{"$f":" IF( $A87 < 'Polar 0-360'!M$365, 'Polar 0-360'!M$363 / COS!$B87,'Polar 0-360'!L87 )","v":{"$error":"#VALUE!"}},{"$f":" IF( $A87 < 'Polar 0-360'!S$365, 'Polar 0-360'!S$363 / COS!$B87,'Polar 0-360'!R87 )","v":{"$error":"#VALUE!"}},{"$f":" IF( $A87 < 'Polar 0-360'!Y$365, 'Polar 0-360'!Y$363 / COS!$B87,'Polar 0-360'!X87 )","v":{"$error":"#VALUE!"}},{"$f":" IF( $A87 < 'Polar 0-360'!AE$365, 'Polar 0-360'!AE$363 / COS!$B87,'Polar 0-360'!AD87 )","v":{"$error":"#VALUE!"}},{"$f":" IF( $A87 < 'Polar 0-360'!AK$365, 'Polar 0-360'!AK$363 / COS!$B87,'Polar 0-360'!AJ87 )","v":7.7833332167856613},{"$f":" IF( $A87 < 'Polar 0-360'!AQ$365, 'Polar 0-360'!AQ$363 / COS!$B87,'Polar 0-360'!AP87 )","v":{"$error":"#VALUE!"}}]
[{"$f":"'Polar 0-360'!A88","v":86},0,{"$f":" IF( $A88 < 'Polar 0-360'!G$365, 'Polar 0-360'!G$363 / COS!$B88,'Polar 0-360'!F88 )","v":{"$error":"#VALUE!"}},{"$f":" IF( $A88 < 'Polar 0-360'!M$365, 'Polar 0-360'!M$363 / COS!$B88,'Polar 0-360'!L88 )","v":{"$error":"#VALUE!"}},{"$f":" IF( $A88 < 'Polar 0-360'!S$365, 'Polar 0-360'!S$363 / COS!$B88,'Polar 0-360'!R88 )","v":{"$error":"#VALUE!"}},{"$f":" IF( $A88 < 'Polar 0-360'!Y$365, 'Polar 0-360'!Y$363 / COS!$B88,'Polar 0-360'!X88 )","v":{"$error":"#VALUE!"}},{"$f":" IF( $A88 < 'Polar 0-360'!AE$365, 'Polar 0-360'!AE$363 / COS!$B88,'Polar 0-360'!AD88 )","v":{"$error":"#VALUE!"}},{"$f":" IF( $A88 < 'Polar 0-360'!AK$365, 'Polar 0-360'!AK$363 / COS!$B88,'Polar 0-360'!AJ88 )","v":7.7874729900771307},{"$f":" IF( $A88 < 'Polar 0-360'!AQ$365, 'Polar 0-360'!AQ$363 / COS!$B88,'Polar 0-360'!AP88 )","v":{"$error":"#VALUE!"}}]
[{"$f":"'Polar 0-360'!A89","v":87},0,{"$f":" IF( $A89 < 'Polar 0-360'!G$365, 'Polar 0-360'!G$363 / COS!$B89,'Polar 0-360'!F89 )","v":{"$error":"#VALUE!"}},{"$f":" IF( $A89 < 'Polar 0-360'!M$365, 'Polar 0-360'!M$363 / COS!$B89,'Polar 0-360'!L89 )","v":{"$error":"#VALUE!"}},{"$f":" IF( $A89 < 'Polar 0-360'!S$365, 'Polar 0-360'!S$363 / COS!$B89,'Polar 0-360'!R89 )","v":{"$error":"#VALUE!"}},{"$f":" IF( $A89 < 'Polar 0-360'!Y$365, 'Polar 0-360'!Y$363 / COS!$B89,'Polar 0-360'!X89 )","v":{"$error":"#VALUE!"}},{"$f":" IF( $A89 < 'Polar 0-360'!AE$365, 'Polar 0-360'!AE$363 / COS!$B89,'Polar 0-360'!AD89 )","v":{"$error":"#VALUE!"}},{"$f":" IF( $A89 < 'Polar 0-360'!AK$365, 'Polar 0-360'!AK$363 / COS!$B89,'Polar 0-360'!AJ89 )","v":7.7916127633686001},{"$f":" IF( $A89 < 'Polar 0-360'!AQ$365, 'Polar 0-360'!AQ$363 / COS!$B89,'Polar 0-360'!AP89 )","v":{"$error":"#VALUE!"}}]
[{"$f":"'Polar 0-360'!A90","v":88},0,{"$f":" IF( $A90 < 'Polar 0-360'!G$365, 'Polar 0-360'!G$363 / COS!$B90,'Polar 0-360'!F90 )","v":{"$error":"#VALUE!"}},{"$f":" IF( $A90 < 'Polar 0-360'!M$365, 'Polar 0-360'!M$363 / COS!$B90,'Polar 0-360'!L90 )","v":{"$error":"#VALUE!"}},{"$f":" IF( $A90 < 'Polar 0-360'!S$365, 'Polar 0-360'!S$363 / COS!$B90,'Polar 0-360'!R90 )","v":{"$error":"#VALUE!"}},{"$f":" IF( $A90 < 'Polar 0-360'!Y$365, 'Polar 0-360'!Y$363 / COS!$B90,'Polar 0-360'!X90 )","v":{"$error":"#VALUE!"}},{"$f":" IF( $A90 < 'Polar 0-360'!AE$365, 'Polar 0-360'!AE$363 / COS!$B90,'Polar 0-360'!AD90 )","v":{"$error":"#VALUE!"}},{"$f":" IF( $A90 < 'Polar 0-360'!AK$365, 'Polar 0-360'!AK$363 / COS!$B90,'Polar 0-360'!AJ90 )","v":7.7957525366600695},{"$f":" IF( $A90 < 'Polar 0-360'!AQ$365, 'Polar 0-360'!AQ$363 / COS!$B90,'Polar 0-360'!AP90 )","v":{"$error":"#VALUE!"}}]
[{"$f":"'Polar 0-360'!A91","v":89},0,{"$f":" IF( $A91 < 'Polar 0-360'!G$365, 'Polar 0-360'!G$363 / COS!$B91,'Polar 0-360'!F91 )","v":{"$error":"#VALUE!"}},{"$f":" IF( $A91 < 'Polar 0-360'!M$365, 'Polar 0-360'!M$363 / COS!$B91,'Polar 0-360'!L91 )","v":{"$error":"#VALUE!"}},{"$f":" IF( $A91 < 'Polar 0-360'!S$365, 'Polar 0-360'!S$363 / COS!$B91,'Polar 0-360'!R91 )","v":{"$error":"#VALUE!"}},{"$f":" IF( $A91 < 'Polar 0-360'!Y$365, 'Polar 0-360'!Y$363 / COS!$B91,'Polar 0-360'!X91 )","v":{"$error":"#VALUE!"}},{"$f":" IF( $A91 < 'Polar 0-360'!AE$365, 'Polar 0-360'!AE$363 / COS!$B91,'Polar 0-360'!AD91 )","v":{"$error":"#VALUE!"}},{"$f":" IF( $A91 < 'Polar 0-360'!AK$365, 'Polar 0-360'!AK$363 / COS!$B91,'Polar 0-360'!AJ91 )","v":7.7998923099515389},{"$f":" IF( $A91 < 'Polar 0-360'!AQ$365, 'Polar 0-360'!AQ$363 / COS!$B91,'Polar 0-360'!AP91 )","v":{"$error":"#VALUE!"}}]
[{"$f":"'Polar 0-360'!A92","v":90},0,{"$f":" IF( $A92 < 'Polar 0-360'!G$365, 'Polar 0-360'!G$363 / COS!$B92,'Polar 0-360'!F92 )","v":{"$error":"#VALUE!"}},{"$f":" IF( $A92 < 'Polar 0-360'!M$365, 'Polar 0-360'!M$363 / COS!$B92,'Polar 0-360'!L92 )","v":{"$error":"#VALUE!"}},{"$f":" IF( $A92 < 'Polar 0-360'!S$365, 'Polar 0-360'!S$363 / COS!$B92,'Polar 0-360'!R92 )","v":{"$error":"#VALUE!"}},{"$f":" IF( $A92 < 'Polar 0-360'!Y$365, 'Polar 0-360'!Y$363 / COS!$B92,'Polar 0-360'!X92 )","v":{"$error":"#VALUE!"}},{"$f":" IF( $A92 < 'Polar 0-360'!AE$365, 'Polar 0-360'!AE$363 / COS!$B92,'Polar 0-360'!AD92 )","v":{"$error":"#VALUE!"}},{"$f":" IF( $A92 < 'Polar 0-360'!AK$365, 'Polar 0-360'!AK$363 / COS!$B92,'Polar 0-360'!AJ92 )","v":7.8040320832430083},{"$f":" IF( $A92 < 'Polar 0-360'!AQ$365, 'Polar 0-360'!AQ$363 / COS!$B92,'Polar 0-360'!AP92 )","v":{"$error":"#VALUE!"}}]
[{"$f":"'Polar 0-360'!A93","v":91},0,{"$f":" IF( $A93 < 'Polar 0-360'!G$365, 'Polar 0-360'!G$363 / COS!$B93,'Polar 0-360'!F93 )","v":{"$error":"#VALUE!"}},{"$f":" IF( $A93 < 'Polar 0-360'!M$365, 'Polar 0-360'!M$363 / COS!$B93,'Polar 0-360'!L93 )","v":{"$error":"#VALUE!"}},{"$f":" IF( $A93 < 'Polar 0-360'!S$365, 'Polar 0-360'!S$363 / COS!$B93,'Polar 0-360'!R93 )","v":{"$error":"#VALUE!"}},{"$f":" IF( $A93 < 'Polar 0-360'!Y$365, 'Polar 0-360'!Y$363 / COS!$B93,'Polar 0-360'!X93 )","v":{"$error":"#VALUE!"}},{"$f":" IF( $A93 < 'Polar 0-360'!AE$365, 'Polar 0-360'!AE$363 / COS!$B93,'Polar 0-360'!AD93 )","v":{"$error":"#VALUE!"}},{"$f":" IF( $A93 < 'Polar 0-360'!AK$365, 'Polar 0-360'!AK$363 / COS!$B93,'Polar 0-360'!AJ93 )","v":7.820978183220193},{"$f":" IF( $A93 < 'Polar 0-360'!AQ$365, 'Polar 0-360'!AQ$363 / COS!$B93,'Polar 0-360'!AP93 )","v":{"$error":"#VALUE!"}}]
[{"$f":"'Polar 0-360'!A94","v":92},0,{"$f":" IF( $A94 < 'Polar 0-360'!G$365, 'Polar 0-360'!G$363 / COS!$B94,'Polar 0-360'!F94 )","v":{"$error":"#VALUE!"}},{"$f":" IF( $A94 < 'Polar 0-360'!M$365, 'Polar 0-360'!M$363 / COS!$B94,'Polar 0-360'!L94 )","v":{"$error":"#VALUE!"}},{"$f":" IF( $A94 < 'Polar 0-360'!S$365, 'Polar 0-360'!S$363 / COS!$B94,'Polar 0-360'!R94 )","v":{"$error":"#VALUE!"}},{"$f":" IF( $A94 < 'Polar 0-360'!Y$365, 'Polar 0-360'!Y$363 / COS!$B94,'Polar 0-360'!X94 )","v":{"$error":"#VALUE!"}},{"$f":" IF( $A94 < 'Polar 0-360'!AE$365, 'Polar 0-360'!AE$363 / COS!$B94,'Polar 0-360'!AD94 )","v":{"$error":"#VALUE!"}},{"$f":" IF( $A94 < 'Polar 0-360'!AK$365, 'Polar 0-360'!AK$363 / COS!$B94,'Polar 0-360'!AJ94 )","v":7.8379242831973777},{"$f":" IF( $A94 < 'Polar 0-360'!AQ$365, 'Polar 0-360'!AQ$363 / COS!$B94,'Polar 0-360'!AP94 )","v":{"$error":"#VALUE!"}}]
[{"$f":"'Polar 0-360'!A95","v":93},0,{"$f":" IF( $A95 < 'Polar 0-360'!G$365, 'Polar 0-360'!G$363 / COS!$B95,'Polar 0-360'!F95 )","v":{"$error":"#VALUE!"}},{"$f":" IF( $A95 < 'Polar 0-360'!M$365, 'Polar 0-360'!M$363 / COS!$B95,'Polar 0-360'!L95 )","v":{"$error":"#VALUE!"}},{"$f":" IF( $A95 < 'Polar 0-360'!S$365, 'Polar 0-360'!S$363 / COS!$B95,'Polar 0-360'!R95 )","v":{"$error":"#VALUE!"}},{"$f":" IF( $A95 < 'Polar 0-360'!Y$365, 'Polar 0-360'!Y$363 / COS!$B95,'Polar 0-360'!X95 )","v":{"$error":"#VALUE!"}},{"$f":" IF( $A95 < 'Polar 0-360'!AE$365, 'Polar 0-360'!AE$363 / COS!$B95,'Polar 0-360'!AD95 )","v":{"$error":"#VALUE!"}},{"$f":" IF( $A95 < 'Polar 0-360'!AK$365, 'Polar 0-360'!AK$363 / COS!$B95,'Polar 0-360'!AJ95 )","v":7.8548703831745623},{"$f":" IF( $A95 < 'Polar 0-360'!AQ$365, 'Polar 0-360'!AQ$363 / COS!$B95,'Polar 0-360'!AP95 )","v":{"$error":"#VALUE!"}}]
[{"$f":"'Polar 0-360'!A96","v":94},0,{"$f":" IF( $A96 < 'Polar 0-360'!G$365, 'Polar 0-360'!G$363 / COS!$B96,'Polar 0-360'!F96 )","v":{"$error":"#VALUE!"}},{"$f":" IF( $A96 < 'Polar 0-360'!M$365, 'Polar 0-360'!M$363 / COS!$B96,'Polar 0-360'!L96 )","v":{"$error":"#VALUE!"}},{"$f":" IF( $A96 < 'Polar 0-360'!S$365, 'Polar 0-360'!S$363 / COS!$B96,'Polar 0-360'!R96 )","v":{"$error":"#VALUE!"}},{"$f":" IF( $A96 < 'Polar 0-360'!Y$365, 'Polar 0-360'!Y$363 / COS!$B96,'Polar 0-360'!X96 )","v":{"$error":"#VALUE!"}},{"$f":" IF( $A96 < 'Polar 0-360'!AE$365, 'Polar 0-360'!AE$363 / COS!$B96,'Polar 0-360'!AD96 )","v":{"$error":"#VALUE!"}},{"$f":" IF( $A96 < 'Polar 0-360'!AK$365, 'Polar 0-360'!AK$363 / COS!$B96,'Polar 0-360'!AJ96 )","v":7.871816483151747},{"$f":" IF( $A96 < 'Polar 0-360'!AQ$365, 'Polar 0-360'!AQ$363 / COS!$B96,'Polar 0-360'!AP96 )","v":{"$error":"#VALUE!"}}]
[{"$f":"'Polar 0-360'!A97","v":95},0,{"$f":" IF( $A97 < 'Polar 0-360'!G$365, 'Polar 0-360'!G$363 / COS!$B97,'Polar 0-360'!F97 )","v":{"$error":"#VALUE!"}},{"$f":" IF( $A97 < 'Polar 0-360'!M$365, 'Polar 0-360'!M$363 / COS!$B97,'Polar 0-360'!L97 )","v":{"$error":"#VALUE!"}},{"$f":" IF( $A97 < 'Polar 0-360'!S$365, 'Polar 0-360'!S$363 / COS!$B97,'Polar 0-360'!R97 )","v":{"$error":"#VALUE!"}},{"$f":" IF( $A97 < 'Polar 0-360'!Y$365, 'Polar 0-360'!Y$363 / COS!$B97,'Polar 0-360'!X97 )","v":{"$error":"#VALUE!"}},{"$f":" IF( $A97 < 'Polar 0-360'!AE$365, 'Polar 0-360'!AE$363 / COS!$B97,'Polar 0-360'!AD97 )","v":{"$error":"#VALUE!"}},{"$f":" IF( $A97 < 'Polar 0-360'!AK$365, 'Polar 0-360'!AK$363 / COS!$B97,'Polar 0-360'!AJ97 )","v":7.8887625831289307},{"$f":" IF( $A97 < 'Polar 0-360'!AQ$365, 'Polar 0-360'!AQ$363 / COS!$B97,'Polar 0-360'!AP97 )","v":{"$error":"#VALUE!"}}]
[{"$f":"'Polar 0-360'!A98","v":96},0,{"$f":" IF( $A98 < 'Polar 0-360'!G$365, 'Polar 0-360'!G$363 / COS!$B98,'Polar 0-360'!F98 )","v":{"$error":"#VALUE!"}},{"$f":" IF( $A98 < 'Polar 0-360'!M$365, 'Polar 0-360'!M$363 / COS!$B98,'Polar 0-360'!L98 )","v":{"$error":"#VALUE!"}},{"$f":" IF( $A98 < 'Polar 0-360'!S$365, 'Polar 0-360'!S$363 / COS!$B98,'Polar 0-360'!R98 )","v":{"$error":"#VALUE!"}},{"$f":" IF( $A98 < 'Polar 0-360'!Y$365, 'Polar 0-360'!Y$363 / COS!$B98,'Polar 0-360'!X98 )","v":{"$error":"#VALUE!"}},{"$f":" IF( $A98 < 'Polar 0-360'!AE$365, 'Polar 0-360'!AE$363 / COS!$B98,'Polar 0-360'!AD98 )","v":{"$error":"#VALUE!"}},{"$f":" IF( $A98 < 'Polar 0-360'!AK$365, 'Polar 0-360'!AK$363 / COS!$B98,'Polar 0-360'!AJ98 )","v":7.9057086831061154},{"$f":" IF( $A98 < 'Polar 0-360'!AQ$365, 'Polar 0-360'!AQ$363 / COS!$B98,'Polar 0-360'!AP98 )","v":{"$error":"#VALUE!"}}]
[{"$f":"'Polar 0-360'!A99","v":97},0,{"$f":" IF( $A99 < 'Polar 0-360'!G$365, 'Polar 0-360'!G$363 / COS!$B99,'Polar 0-360'!F99 )","v":{"$error":"#VALUE!"}},{"$f":" IF( $A99 < 'Polar 0-360'!M$365, 'Polar 0-360'!M$363 / COS!$B99,'Polar 0-360'!L99 )","v":{"$error":"#VALUE!"}},{"$f":" IF( $A99 < 'Polar 0-360'!S$365, 'Polar 0-360'!S$363 / COS!$B99,'Polar 0-360'!R99 )","v":{"$error":"#VALUE!"}},{"$f":" IF( $A99 < 'Polar 0-360'!Y$365, 'Polar 0-360'!Y$363 / COS!$B99,'Polar 0-360'!X99 )","v":{"$error":"#VALUE!"}},{"$f":" IF( $A99 < 'Polar 0-360'!AE$365, 'Polar 0-360'!AE$363 / COS!$B99,'Polar 0-360'!AD99 )","v":{"$error":"#VALUE!"}},{"$f":" IF( $A99 < 'Polar 0-360'!AK$365, 'Polar 0-360'!AK$363 / COS!$B99,'Polar 0-360'!AJ99 )","v":7.9226547830833001},{"$f":" IF( $A99 < 'Polar 0-360'!AQ$365, 'Polar 0-360'!AQ$363 / COS!$B99,'Polar 0-360'!AP99 )","v":{"$error":"#VALUE!"}}]
[{"$f":"'Polar 0-360'!A100","v":98},0,{"$f":" IF( $A100 < 'Polar 0-360'!G$365, 'Polar 0-360'!G$363 / COS!$B100,'Polar 0-360'!F100 )","v":{"$error":"#VALUE!"}},{"$f":" IF( $A100 < 'Polar 0-360'!M$365, 'Polar 0-360'!M$363 / COS!$B100,'Polar 0-360'!L100 )","v":{"$error":"#VALUE!"}},{"$f":" IF( $A100 < 'Polar 0-360'!S$365, 'Polar 0-360'!S$363 / COS!$B100,'Polar 0-360'!R100 )","v":{"$error":"#VALUE!"}},{"$f":" IF( $A100 < 'Polar 0-360'!Y$365, 'Polar 0-360'!Y$363 / COS!$B100,'Polar 0-360'!X100 )","v":{"$error":"#VALUE!"}},{"$f":" IF( $A100 < 'Polar 0-360'!AE$365, 'Polar 0-360'!AE$363 / COS!$B100,'Polar 0-360'!AD100 )","v":{"$error":"#VALUE!"}},{"$f":" IF( $A100 < 'Polar 0-360'!AK$365, 'Polar 0-360'!AK$363 / COS!$B100,'Polar 0-360'!AJ100 )","v":7.9396008830604847},{"$f":" IF( $A100 < 'Polar 0-360'!AQ$365, 'Polar 0-360'!AQ$363 / COS!$B100,'Polar 0-360'!AP100 )","v":{"$error":"#VALUE!"}}]
[{"$f":"'Polar 0-360'!A101","v":99},0,{"$f":" IF( $A101 < 'Polar 0-360'!G$365, 'Polar 0-360'!G$363 / COS!$B101,'Polar 0-360'!F101 )","v":{"$error":"#VALUE!"}},{"$f":" IF( $A101 < 'Polar 0-360'!M$365, 'Polar 0-360'!M$363 / COS!$B101,'Polar 0-360'!L101 )","v":{"$error":"#VALUE!"}},{"$f":" IF( $A101 < 'Polar 0-360'!S$365, 'Polar 0-360'!S$363 / COS!$B101,'Polar 0-360'!R101 )","v":{"$error":"#VALUE!"}},{"$f":" IF( $A101 < 'Polar 0-360'!Y$365, 'Polar 0-360'!Y$363 / COS!$B101,'Polar 0-360'!X101 )","v":{"$error":"#VALUE!"}},{"$f":" IF( $A101 < 'Polar 0-360'!AE$365, 'Polar 0-360'!AE$363 / COS!$B101,'Polar 0-360'!AD101 )","v":{"$error":"#VALUE!"}},{"$f":" IF( $A101 < 'Polar 0-360'!AK$365, 'Polar 0-360'!AK$363 / COS!$B101,'Polar 0-360'!AJ101 )","v":7.9565469830376694},{"$f":" IF( $A101 < 'Polar 0-360'!AQ$365, 'Polar 0-360'!AQ$363 / COS!$B101,'Polar 0-360'!AP101 )","v":{"$error":"#VALUE!"}}]
[{"$f":"'Polar 0-360'!A102","v":100},0,{"$f":" IF( $A102 < 'Polar 0-360'!G$365, 'Polar 0-360'!G$363 / COS!$B102,'Polar 0-360'!F102 )","v":{"$error":"#VALUE!"}},{"$f":" IF( $A102 < 'Polar 0-360'!M$365, 'Polar 0-360'!M$363 / COS!$B102,'Polar 0-360'!L102 )","v":{"$error":"#VALUE!"}},{"$f":" IF( $A102 < 'Polar 0-360'!S$365, 'Polar 0-360'!S$363 / COS!$B102,'Polar 0-360'!R102 )","v":{"$error":"#VALUE!"}},{"$f":" IF( $A102 < 'Polar 0-360'!Y$365, 'Polar 0-360'!Y$363 / COS!$B102,'Polar 0-360'!X102 )","v":{"$error":"#VALUE!"}},{"$f":" IF( $A102 < 'Polar 0-360'!AE$365, 'Polar 0-360'!AE$363 / COS!$B102,'Polar 0-360'!AD102 )","v":{"$error":"#VALUE!"}},{"$f":" IF( $A102 < 'Polar 0-360'!AK$365, 'Polar 0-360'!AK$363 / COS!$B102,'Polar 0-360'!AJ102 )","v":7.973493083014854},{"$f":" IF( $A102 < 'Polar 0-360'!AQ$365, 'Polar 0-360'!AQ$363 / COS!$B102,'Polar 0-360'!AP102 )","v":{"$error":"#VALUE!"}}]
[{"$f":"'Polar 0-360'!A103","v":101},0,{"$f":" IF( $A103 < 'Polar 0-360'!G$365, 'Polar 0-360'!G$363 / COS!$B103,'Polar 0-360'!F103 )","v":{"$error":"#VALUE!"}},{"$f":" IF( $A103 < 'Polar 0-360'!M$365, 'Polar 0-360'!M$363 / COS!$B103,'Polar 0-360'!L103 )","v":{"$error":"#VALUE!"}},{"$f":" IF( $A103 < 'Polar 0-360'!S$365, 'Polar 0-360'!S$363 / COS!$B103,'Polar 0-360'!R103 )","v":{"$error":"#VALUE!"}},{"$f":" IF( $A103 < 'Polar 0-360'!Y$365, 'Polar 0-360'!Y$363 / COS!$B103,'Polar 0-360'!X103 )","v":{"$error":"#VALUE!"}},{"$f":" IF( $A103 < 'Polar 0-360'!AE$365, 'Polar 0-360'!AE$363 / COS!$B103,'Polar 0-360'!AD103 )","v":{"$error":"#VALUE!"}},{"$f":" IF( $A103 < 'Polar 0-360'!AK$365, 'Polar 0-360'!AK$363 / COS!$B103,'Polar 0-360'!AJ103 )","v":7.9904391829920387},{"$f":" IF( $A103 < 'Polar 0-360'!AQ$365, 'Polar 0-360'!AQ$363 / COS!$B103,'Polar 0-360'!AP103 )","v":{"$error":"#VALUE!"}}]
[{"$f":"'Polar 0-360'!A104","v":102},0,{"$f":" IF( $A104 < 'Polar 0-360'!G$365, 'Polar 0-360'!G$363 / COS!$B104,'Polar 0-360'!F104 )","v":{"$error":"#VALUE!"}},{"$f":" IF( $A104 < 'Polar 0-360'!M$365, 'Polar 0-360'!M$363 / COS!$B104,'Polar 0-360'!L104 )","v":{"$error":"#VALUE!"}},{"$f":" IF( $A104 < 'Polar 0-360'!S$365, 'Polar 0-360'!S$363 / COS!$B104,'Polar 0-360'!R104 )","v":{"$error":"#VALUE!"}},{"$f":" IF( $A104 < 'Polar 0-360'!Y$365, 'Polar 0-360'!Y$363 / COS!$B104,'Polar 0-360'!X104 )","v":{"$error":"#VALUE!"}},{"$f":" IF( $A104 < 'Polar 0-360'!AE$365, 'Polar 0-360'!AE$363 / COS!$B104,'Polar 0-360'!AD104 )","v":{"$error":"#VALUE!"}},{"$f":" IF( $A104 < 'Polar 0-360'!AK$365, 'Polar 0-360'!AK$363 / COS!$B104,'Polar 0-360'!AJ104 )","v":8.0073852829692225},{"$f":" IF( $A104 < 'Polar 0-360'!AQ$365, 'Polar 0-360'!AQ$363 / COS!$B104,'Polar 0-360'!AP104 )","v":{"$error":"#VALUE!"}}]
[{"$f":"'Polar 0-360'!A105","v":103},0,{"$f":" IF( $A105 < 'Polar 0-360'!G$365, 'Polar 0-360'!G$363 / COS!$B105,'Polar 0-360'!F105 )","v":{"$error":"#VALUE!"}},{"$f":" IF( $A105 < 'Polar 0-360'!M$365, 'Polar 0-360'!M$363 / COS!$B105,'Polar 0-360'!L105 )","v":{"$error":"#VALUE!"}},{"$f":" IF( $A105 < 'Polar 0-360'!S$365, 'Polar 0-360'!S$363 / COS!$B105,'Polar 0-360'!R105 )","v":{"$error":"#VALUE!"}},{"$f":" IF( $A105 < 'Polar 0-360'!Y$365, 'Polar 0-360'!Y$363 / COS!$B105,'Polar 0-360'!X105 )","v":{"$error":"#VALUE!"}},{"$f":" IF( $A105 < 'Polar 0-360'!AE$365, 'Polar 0-360'!AE$363 / COS!$B105,'Polar 0-360'!AD105 )","v":{"$error":"#VALUE!"}},{"$f":" IF( $A105 < 'Polar 0-360'!AK$365, 'Polar 0-360'!AK$363 / COS!$B105,'Polar 0-360'!AJ105 )","v":8.0243313829464071},{"$f":" IF( $A105 < 'Polar 0-360'!AQ$365, 'Polar 0-360'!AQ$363 / COS!$B105,'Polar 0-360'!AP105 )","v":{"$error":"#VALUE!"}}]
[{"$f":"'Polar 0-360'!A106","v":104},0,{"$f":" IF( $A106 < 'Polar 0-360'!G$365, 'Polar 0-360'!G$363 / COS!$B106,'Polar 0-360'!F106 )","v":{"$error":"#VALUE!"}},{"$f":" IF( $A106 < 'Polar 0-360'!M$365, 'Polar 0-360'!M$363 / COS!$B106,'Polar 0-360'!L106 )","v":{"$error":"#VALUE!"}},{"$f":" IF( $A106 < 'Polar 0-360'!S$365, 'Polar 0-360'!S$363 / COS!$B106,'Polar 0-360'!R106 )","v":{"$error":"#VALUE!"}},{"$f":" IF( $A106 < 'Polar 0-360'!Y$365, 'Polar 0-360'!Y$363 / COS!$B106,'Polar 0-360'!X106 )","v":{"$error":"#VALUE!"}},{"$f":" IF( $A106 < 'Polar 0-360'!AE$365, 'Polar 0-360'!AE$363 / COS!$B106,'Polar 0-360'!AD106 )","v":{"$error":"#VALUE!"}},{"$f":" IF( $A106 < 'Polar 0-360'!AK$365, 'Polar 0-360'!AK$363 / COS!$B106,'Polar 0-360'!AJ106 )","v":8.0412774829235918},{"$f":" IF( $A106 < 'Polar 0-360'!AQ$365, 'Polar 0-360'!AQ$363 / COS!$B106,'Polar 0-360'!AP106 )","v":{"$error":"#VALUE!"}}]
[{"$f":"'Polar 0-360'!A107","v":105},0,{"$f":" IF( $A107 < 'Polar 0-360'!G$365, 'Polar 0-360'!G$363 / COS!$B107,'Polar 0-360'!F107 )","v":{"$error":"#VALUE!"}},{"$f":" IF( $A107 < 'Polar 0-360'!M$365, 'Polar 0-360'!M$363 / COS!$B107,'Polar 0-360'!L107 )","v":{"$error":"#VALUE!"}},{"$f":" IF( $A107 < 'Polar 0-360'!S$365, 'Polar 0-360'!S$363 / COS!$B107,'Polar 0-360'!R107 )","v":{"$error":"#VALUE!"}},{"$f":" IF( $A107 < 'Polar 0-360'!Y$365, 'Polar 0-360'!Y$363 / COS!$B107,'Polar 0-360'!X107 )","v":{"$error":"#VALUE!"}},{"$f":" IF( $A107 < 'Polar 0-360'!AE$365, 'Polar 0-360'!AE$363 / COS!$B107,'Polar 0-360'!AD107 )","v":{"$error":"#VALUE!"}},{"$f":" IF( $A107 < 'Polar 0-360'!AK$365, 'Polar 0-360'!AK$363 / COS!$B107,'Polar 0-360'!AJ107 )","v":8.0582235829007764},{"$f":" IF( $A107 < 'Polar 0-360'!AQ$365, 'Polar 0-360'!AQ$363 / COS!$B107,'Polar 0-360'!AP107 )","v":{"$error":"#VALUE!"}}]
[{"$f":"'Polar 0-360'!A108","v":106},0,{"$f":" IF( $A108 < 'Polar 0-360'!G$365, 'Polar 0-360'!G$363 / COS!$B108,'Polar 0-360'!F108 )","v":{"$error":"#VALUE!"}},{"$f":" IF( $A108 < 'Polar 0-360'!M$365, 'Polar 0-360'!M$363 / COS!$B108,'Polar 0-360'!L108 )","v":{"$error":"#VALUE!"}},{"$f":" IF( $A108 < 'Polar 0-360'!S$365, 'Polar 0-360'!S$363 / COS!$B108,'Polar 0-360'!R108 )","v":{"$error":"#VALUE!"}},{"$f":" IF( $A108 < 'Polar 0-360'!Y$365, 'Polar 0-360'!Y$363 / COS!$B108,'Polar 0-360'!X108 )","v":{"$error":"#VALUE!"}},{"$f":" IF( $A108 < 'Polar 0-360'!AE$365, 'Polar 0-360'!AE$363 / COS!$B108,'Polar 0-360'!AD108 )","v":{"$error":"#VALUE!"}},{"$f":" IF( $A108 < 'Polar 0-360'!AK$365, 'Polar 0-360'!AK$363 / COS!$B108,'Polar 0-360'!AJ108 )","v":8.0751696828779611},{"$f":" IF( $A108 < 'Polar 0-360'!AQ$365, 'Polar 0-360'!AQ$363 / COS!$B108,'Polar 0-360'!AP108 )","v":{"$error":"#VALUE!"}}]
[{"$f":"'Polar 0-360'!A109","v":107},0,{"$f":" IF( $A109 < 'Polar 0-360'!G$365, 'Polar 0-360'!G$363 / COS!$B109,'Polar 0-360'!F109 )","v":{"$error":"#VALUE!"}},{"$f":" IF( $A109 < 'Polar 0-360'!M$365, 'Polar 0-360'!M$363 / COS!$B109,'Polar 0-360'!L109 )","v":{"$error":"#VALUE!"}},{"$f":" IF( $A109 < 'Polar 0-360'!S$365, 'Polar 0-360'!S$363 / COS!$B109,'Polar 0-360'!R109 )","v":{"$error":"#VALUE!"}},{"$f":" IF( $A109 < 'Polar 0-360'!Y$365, 'Polar 0-360'!Y$363 / COS!$B109,'Polar 0-360'!X109 )","v":{"$error":"#VALUE!"}},{"$f":" IF( $A109 < 'Polar 0-360'!AE$365, 'Polar 0-360'!AE$363 / COS!$B109,'Polar 0-360'!AD109 )","v":{"$error":"#VALUE!"}},{"$f":" IF( $A109 < 'Polar 0-360'!AK$365, 'Polar 0-360'!AK$363 / COS!$B109,'Polar 0-360'!AJ109 )","v":8.0921157828551458},{"$f":" IF( $A109 < 'Polar 0-360'!AQ$365, 'Polar 0-360'!AQ$363 / COS!$B109,'Polar 0-360'!AP109 )","v":{"$error":"#VALUE!"}}]
[{"$f":"'Polar 0-360'!A110","v":108},0,{"$f":" IF( $A110 < 'Polar 0-360'!G$365, 'Polar 0-360'!G$363 / COS!$B110,'Polar 0-360'!F110 )","v":{"$error":"#VALUE!"}},{"$f":" IF( $A110 < 'Polar 0-360'!M$365, 'Polar 0-360'!M$363 / COS!$B110,'Polar 0-360'!L110 )","v":{"$error":"#VALUE!"}},{"$f":" IF( $A110 < 'Polar 0-360'!S$365, 'Polar 0-360'!S$363 / COS!$B110,'Polar 0-360'!R110 )","v":{"$error":"#VALUE!"}},{"$f":" IF( $A110 < 'Polar 0-360'!Y$365, 'Polar 0-360'!Y$363 / COS!$B110,'Polar 0-360'!X110 )","v":{"$error":"#VALUE!"}},{"$f":" IF( $A110 < 'Polar 0-360'!AE$365, 'Polar 0-360'!AE$363 / COS!$B110,'Polar 0-360'!AD110 )","v":{"$error":"#VALUE!"}},{"$f":" IF( $A110 < 'Polar 0-360'!AK$365, 'Polar 0-360'!AK$363 / COS!$B110,'Polar 0-360'!AJ110 )","v":8.1090618828323304},{"$f":" IF( $A110 < 'Polar 0-360'!AQ$365, 'Polar 0-360'!AQ$363 / COS!$B110,'Polar 0-360'!AP110 )","v":{"$error":"#VALUE!"}}]
[{"$f":"'Polar 0-360'!A111","v":109},0,{"$f":" IF( $A111 < 'Polar 0-360'!G$365, 'Polar 0-360'!G$363 / COS!$B111,'Polar 0-360'!F111 )","v":{"$error":"#VALUE!"}},{"$f":" IF( $A111 < 'Polar 0-360'!M$365, 'Polar 0-360'!M$363 / COS!$B111,'Polar 0-360'!L111 )","v":{"$error":"#VALUE!"}},{"$f":" IF( $A111 < 'Polar 0-360'!S$365, 'Polar 0-360'!S$363 / COS!$B111,'Polar 0-360'!R111 )","v":{"$error":"#VALUE!"}},{"$f":" IF( $A111 < 'Polar 0-360'!Y$365, 'Polar 0-360'!Y$363 / COS!$B111,'Polar 0-360'!X111 )","v":{"$error":"#VALUE!"}},{"$f":" IF( $A111 < 'Polar 0-360'!AE$365, 'Polar 0-360'!AE$363 / COS!$B111,'Polar 0-360'!AD111 )","v":{"$error":"#VALUE!"}},{"$f":" IF( $A111 < 'Polar 0-360'!AK$365, 'Polar 0-360'!AK$363 / COS!$B111,'Polar 0-360'!AJ111 )","v":8.1260079828095151},{"$f":" IF( $A111 < 'Polar 0-360'!AQ$365, 'Polar 0-360'!AQ$363 / COS!$B111,'Polar 0-360'!AP111 )","v":{"$error":"#VALUE!"}}]
[{"$f":"'Polar 0-360'!A112","v":110},0,{"$f":" IF( $A112 < 'Polar 0-360'!G$365, 'Polar 0-360'!G$363 / COS!$B112,'Polar 0-360'!F112 )","v":{"$error":"#VALUE!"}},{"$f":" IF( $A112 < 'Polar 0-360'!M$365, 'Polar 0-360'!M$363 / COS!$B112,'Polar 0-360'!L112 )","v":{"$error":"#VALUE!"}},{"$f":" IF( $A112 < 'Polar 0-360'!S$365, 'Polar 0-360'!S$363 / COS!$B112,'Polar 0-360'!R112 )","v":{"$error":"#VALUE!"}},{"$f":" IF( $A112 < 'Polar 0-360'!Y$365, 'Polar 0-360'!Y$363 / COS!$B112,'Polar 0-360'!X112 )","v":{"$error":"#VALUE!"}},{"$f":" IF( $A112 < 'Polar 0-360'!AE$365, 'Polar 0-360'!AE$363 / COS!$B112,'Polar 0-360'!AD112 )","v":{"$error":"#VALUE!"}},{"$f":" IF( $A112 < 'Polar 0-360'!AK$365, 'Polar 0-360'!AK$363 / COS!$B112,'Polar 0-360'!AJ112 )","v":8.1429540827866997},{"$f":" IF( $A112 < 'Polar 0-360'!AQ$365, 'Polar 0-360'!AQ$363 / COS!$B112,'Polar 0-360'!AP112 )","v":{"$error":"#VALUE!"}}]
[{"$f":"'Polar 0-360'!A113","v":111},0,{"$f":" IF( $A113 < 'Polar 0-360'!G$365, 'Polar 0-360'!G$363 / COS!$B113,'Polar 0-360'!F113 )","v":{"$error":"#VALUE!"}},{"$f":" IF( $A113 < 'Polar 0-360'!M$365, 'Polar 0-360'!M$363 / COS!$B113,'Polar 0-360'!L113 )","v":{"$error":"#VALUE!"}},{"$f":" IF( $A113 < 'Polar 0-360'!S$365, 'Polar 0-360'!S$363 / COS!$B113,'Polar 0-360'!R113 )","v":{"$error":"#VALUE!"}},{"$f":" IF( $A113 < 'Polar 0-360'!Y$365, 'Polar 0-360'!Y$363 / COS!$B113,'Polar 0-360'!X113 )","v":{"$error":"#VALUE!"}},{"$f":" IF( $A113 < 'Polar 0-360'!AE$365, 'Polar 0-360'!AE$363 / COS!$B113,'Polar 0-360'!AD113 )","v":{"$error":"#VALUE!"}},{"$f":" IF( $A113 < 'Polar 0-360'!AK$365, 'Polar 0-360'!AK$363 / COS!$B113,'Polar 0-360'!AJ113 )","v":8.1489567211338354},{"$f":" IF( $A113 < 'Polar 0-360'!AQ$365, 'Polar 0-360'!AQ$363 / COS!$B113,'Polar 0-360'!AP113 )","v":{"$error":"#VALUE!"}}]
[{"$f":"'Polar 0-360'!A114","v":112},0,{"$f":" IF( $A114 < 'Polar 0-360'!G$365, 'Polar 0-360'!G$363 / COS!$B114,'Polar 0-360'!F114 )","v":{"$error":"#VALUE!"}},{"$f":" IF( $A114 < 'Polar 0-360'!M$365, 'Polar 0-360'!M$363 / COS!$B114,'Polar 0-360'!L114 )","v":{"$error":"#VALUE!"}},{"$f":" IF( $A114 < 'Polar 0-360'!S$365, 'Polar 0-360'!S$363 / COS!$B114,'Polar 0-360'!R114 )","v":{"$error":"#VALUE!"}},{"$f":" IF( $A114 < 'Polar 0-360'!Y$365, 'Polar 0-360'!Y$363 / COS!$B114,'Polar 0-360'!X114 )","v":{"$error":"#VALUE!"}},{"$f":" IF( $A114 < 'Polar 0-360'!AE$365, 'Polar 0-360'!AE$363 / COS!$B114,'Polar 0-360'!AD114 )","v":{"$error":"#VALUE!"}},{"$f":" IF( $A114 < 'Polar 0-360'!AK$365, 'Polar 0-360'!AK$363 / COS!$B114,'Polar 0-360'!AJ114 )","v":8.1549593594809728},{"$f":" IF( $A114 < 'Polar 0-360'!AQ$365, 'Polar 0-360'!AQ$363 / COS!$B114,'Polar 0-360'!AP114 )","v":{"$error":"#VALUE!"}}]
[{"$f":"'Polar 0-360'!A115","v":113},0,{"$f":" IF( $A115 < 'Polar 0-360'!G$365, 'Polar 0-360'!G$363 / COS!$B115,'Polar 0-360'!F115 )","v":{"$error":"#VALUE!"}},{"$f":" IF( $A115 < 'Polar 0-360'!M$365, 'Polar 0-360'!M$363 / COS!$B115,'Polar 0-360'!L115 )","v":{"$error":"#VALUE!"}},{"$f":" IF( $A115 < 'Polar 0-360'!S$365, 'Polar 0-360'!S$363 / COS!$B115,'Polar 0-360'!R115 )","v":{"$error":"#VALUE!"}},{"$f":" IF( $A115 < 'Polar 0-360'!Y$365, 'Polar 0-360'!Y$363 / COS!$B115,'Polar 0-360'!X115 )","v":{"$error":"#VALUE!"}},{"$f":" IF( $A115 < 'Polar 0-360'!AE$365, 'Polar 0-360'!AE$363 / COS!$B115,'Polar 0-360'!AD115 )","v":{"$error":"#VALUE!"}},{"$f":" IF( $A115 < 'Polar 0-360'!AK$365, 'Polar 0-360'!AK$363 / COS!$B115,'Polar 0-360'!AJ115 )","v":8.1609619978281085},{"$f":" IF( $A115 < 'Polar 0-360'!AQ$365, 'Polar 0-360'!AQ$363 / COS!$B115,'Polar 0-360'!AP115 )","v":{"$error":"#VALUE!"}}]
[{"$f":"'Polar 0-360'!A116","v":114},0,{"$f":" IF( $A116 < 'Polar 0-360'!G$365, 'Polar 0-360'!G$363 / COS!$B116,'Polar 0-360'!F116 )","v":{"$error":"#VALUE!"}},{"$f":" IF( $A116 < 'Polar 0-360'!M$365, 'Polar 0-360'!M$363 / COS!$B116,'Polar 0-360'!L116 )","v":{"$error":"#VALUE!"}},{"$f":" IF( $A116 < 'Polar 0-360'!S$365, 'Polar 0-360'!S$363 / COS!$B116,'Polar 0-360'!R116 )","v":{"$error":"#VALUE!"}},{"$f":" IF( $A116 < 'Polar 0-360'!Y$365, 'Polar 0-360'!Y$363 / COS!$B116,'Polar 0-360'!X116 )","v":{"$error":"#VALUE!"}},{"$f":" IF( $A116 < 'Polar 0-360'!AE$365, 'Polar 0-360'!AE$363 / COS!$B116,'Polar 0-360'!AD116 )","v":{"$error":"#VALUE!"}},{"$f":" IF( $A116 < 'Polar 0-360'!AK$365, 'Polar 0-360'!AK$363 / COS!$B116,'Polar 0-360'!AJ116 )","v":8.1669646361752442},{"$f":" IF( $A116 < 'Polar 0-360'!AQ$365, 'Polar 0-360'!AQ$363 / COS!$B116,'Polar 0-360'!AP116 )","v":{"$error":"#VALUE!"}}]
[{"$f":"'Polar 0-360'!A117","v":115},0,{"$f":" IF( $A117 < 'Polar 0-360'!G$365, 'Polar 0-360'!G$363 / COS!$B117,'Polar 0-360'!F117 )","v":{"$error":"#VALUE!"}},{"$f":" IF( $A117 < 'Polar 0-360'!M$365, 'Polar 0-360'!M$363 / COS!$B117,'Polar 0-360'!L117 )","v":{"$error":"#VALUE!"}},{"$f":" IF( $A117 < 'Polar 0-360'!S$365, 'Polar 0-360'!S$363 / COS!$B117,'Polar 0-360'!R117 )","v":{"$error":"#VALUE!"}},{"$f":" IF( $A117 < 'Polar 0-360'!Y$365, 'Polar 0-360'!Y$363 / COS!$B117,'Polar 0-360'!X117 )","v":{"$error":"#VALUE!"}},{"$f":" IF( $A117 < 'Polar 0-360'!AE$365, 'Polar 0-360'!AE$363 / COS!$B117,'Polar 0-360'!AD117 )","v":{"$error":"#VALUE!"}},{"$f":" IF( $A117 < 'Polar 0-360'!AK$365, 'Polar 0-360'!AK$363 / COS!$B117,'Polar 0-360'!AJ117 )","v":8.1729672745223798},{"$f":" IF( $A117 < 'Polar 0-360'!AQ$365, 'Polar 0-360'!AQ$363 / COS!$B117,'Polar 0-360'!AP117 )","v":{"$error":"#VALUE!"}}]
[{"$f":"'Polar 0-360'!A118","v":116},0,{"$f":" IF( $A118 < 'Polar 0-360'!G$365, 'Polar 0-360'!G$363 / COS!$B118,'Polar 0-360'!F118 )","v":{"$error":"#VALUE!"}},{"$f":" IF( $A118 < 'Polar 0-360'!M$365, 'Polar 0-360'!M$363 / COS!$B118,'Polar 0-360'!L118 )","v":{"$error":"#VALUE!"}},{"$f":" IF( $A118 < 'Polar 0-360'!S$365, 'Polar 0-360'!S$363 / COS!$B118,'Polar 0-360'!R118 )","v":{"$error":"#VALUE!"}},{"$f":" IF( $A118 < 'Polar 0-360'!Y$365, 'Polar 0-360'!Y$363 / COS!$B118,'Polar 0-360'!X118 )","v":{"$error":"#VALUE!"}},{"$f":" IF( $A118 < 'Polar 0-360'!AE$365, 'Polar 0-360'!AE$363 / COS!$B118,'Polar 0-360'!AD118 )","v":{"$error":"#VALUE!"}},{"$f":" IF( $A118 < 'Polar 0-360'!AK$365, 'Polar 0-360'!AK$363 / COS!$B118,'Polar 0-360'!AJ118 )","v":8.1789699128695155},{"$f":" IF( $A118 < 'Polar 0-360'!AQ$365, 'Polar 0-360'!AQ$363 / COS!$B118,'Polar 0-360'!AP118 )","v":{"$error":"#VALUE!"}}]
[{"$f":"'Polar 0-360'!A119","v":117},0,{"$f":" IF( $A119 < 'Polar 0-360'!G$365, 'Polar 0-360'!G$363 / COS!$B119,'Polar 0-360'!F119 )","v":{"$error":"#VALUE!"}},{"$f":" IF( $A119 < 'Polar 0-360'!M$365, 'Polar 0-360'!M$363 / COS!$B119,'Polar 0-360'!L119 )","v":{"$error":"#VALUE!"}},{"$f":" IF( $A119 < 'Polar 0-360'!S$365, 'Polar 0-360'!S$363 / COS!$B119,'Polar 0-360'!R119 )","v":{"$error":"#VALUE!"}},{"$f":" IF( $A119 < 'Polar 0-360'!Y$365, 'Polar 0-360'!Y$363 / COS!$B119,'Polar 0-360'!X119 )","v":{"$error":"#VALUE!"}},{"$f":" IF( $A119 < 'Polar 0-360'!AE$365, 'Polar 0-360'!AE$363 / COS!$B119,'Polar 0-360'!AD119 )","v":{"$error":"#VALUE!"}},{"$f":" IF( $A119 < 'Polar 0-360'!AK$365, 'Polar 0-360'!AK$363 / COS!$B119,'Polar 0-360'!AJ119 )","v":8.1849725512166529},{"$f":" IF( $A119 < 'Polar 0-360'!AQ$365, 'Polar 0-360'!AQ$363 / COS!$B119,'Polar 0-360'!AP119 )","v":{"$error":"#VALUE!"}}]
[{"$f":"'Polar 0-360'!A120","v":118},0,{"$f":" IF( $A120 < 'Polar 0-360'!G$365, 'Polar 0-360'!G$363 / COS!$B120,'Polar 0-360'!F120 )","v":{"$error":"#VALUE!"}},{"$f":" IF( $A120 < 'Polar 0-360'!M$365, 'Polar 0-360'!M$363 / COS!$B120,'Polar 0-360'!L120 )","v":{"$error":"#VALUE!"}},{"$f":" IF( $A120 < 'Polar 0-360'!S$365, 'Polar 0-360'!S$363 / COS!$B120,'Polar 0-360'!R120 )","v":{"$error":"#VALUE!"}},{"$f":" IF( $A120 < 'Polar 0-360'!Y$365, 'Polar 0-360'!Y$363 / COS!$B120,'Polar 0-360'!X120 )","v":{"$error":"#VALUE!"}},{"$f":" IF( $A120 < 'Polar 0-360'!AE$365, 'Polar 0-360'!AE$363 / COS!$B120,'Polar 0-360'!AD120 )","v":{"$error":"#VALUE!"}},{"$f":" IF( $A120 < 'Polar 0-360'!AK$365, 'Polar 0-360'!AK$363 / COS!$B120,'Polar 0-360'!AJ120 )","v":8.1909751895637886},{"$f":" IF( $A120 < 'Polar 0-360'!AQ$365, 'Polar 0-360'!AQ$363 / COS!$B120,'Polar 0-360'!AP120 )","v":{"$error":"#VALUE!"}}]
[{"$f":"'Polar 0-360'!A121","v":119},0,{"$f":" IF( $A121 < 'Polar 0-360'!G$365, 'Polar 0-360'!G$363 / COS!$B121,'Polar 0-360'!F121 )","v":{"$error":"#VALUE!"}},{"$f":" IF( $A121 < 'Polar 0-360'!M$365, 'Polar 0-360'!M$363 / COS!$B121,'Polar 0-360'!L121 )","v":{"$error":"#VALUE!"}},{"$f":" IF( $A121 < 'Polar 0-360'!S$365, 'Polar 0-360'!S$363 / COS!$B121,'Polar 0-360'!R121 )","v":{"$error":"#VALUE!"}},{"$f":" IF( $A121 < 'Polar 0-360'!Y$365, 'Polar 0-360'!Y$363 / COS!$B121,'Polar 0-360'!X121 )","v":{"$error":"#VALUE!"}},{"$f":" IF( $A121 < 'Polar 0-360'!AE$365, 'Polar 0-360'!AE$363 / COS!$B121,'Polar 0-360'!AD121 )","v":{"$error":"#VALUE!"}},{"$f":" IF( $A121 < 'Polar 0-360'!AK$365, 'Polar 0-360'!AK$363 / COS!$B121,'Polar 0-360'!AJ121 )","v":8.1969778279109242},{"$f":" IF( $A121 < 'Polar 0-360'!AQ$365, 'Polar 0-360'!AQ$363 / COS!$B121,'Polar 0-360'!AP121 )","v":{"$error":"#VALUE!"}}]
[{"$f":"'Polar 0-360'!A122","v":120},0,{"$f":" IF( $A122 < 'Polar 0-360'!G$365, 'Polar 0-360'!G$363 / COS!$B122,'Polar 0-360'!F122 )","v":{"$error":"#VALUE!"}},{"$f":" IF( $A122 < 'Polar 0-360'!M$365, 'Polar 0-360'!M$363 / COS!$B122,'Polar 0-360'!L122 )","v":{"$error":"#VALUE!"}},{"$f":" IF( $A122 < 'Polar 0-360'!S$365, 'Polar 0-360'!S$363 / COS!$B122,'Polar 0-360'!R122 )","v":{"$error":"#VALUE!"}},{"$f":" IF( $A122 < 'Polar 0-360'!Y$365, 'Polar 0-360'!Y$363 / COS!$B122,'Polar 0-360'!X122 )","v":{"$error":"#VALUE!"}},{"$f":" IF( $A122 < 'Polar 0-360'!AE$365, 'Polar 0-360'!AE$363 / COS!$B122,'Polar 0-360'!AD122 )","v":{"$error":"#VALUE!"}},{"$f":" IF( $A122 < 'Polar 0-360'!AK$365, 'Polar 0-360'!AK$363 / COS!$B122,'Polar 0-360'!AJ122 )","v":8.2029804662580599},{"$f":" IF( $A122 < 'Polar 0-360'!AQ$365, 'Polar 0-360'!AQ$363 / COS!$B122,'Polar 0-360'!AP122 )","v":{"$error":"#VALUE!"}}]
[{"$f":"'Polar 0-360'!A123","v":121},0,{"$f":" IF( $A123 < 'Polar 0-360'!G$365, 'Polar 0-360'!G$363 / COS!$B123,'Polar 0-360'!F123 )","v":{"$error":"#VALUE!"}},{"$f":" IF( $A123 < 'Polar 0-360'!M$365, 'Polar 0-360'!M$363 / COS!$B123,'Polar 0-360'!L123 )","v":{"$error":"#VALUE!"}},{"$f":" IF( $A123 < 'Polar 0-360'!S$365, 'Polar 0-360'!S$363 / COS!$B123,'Polar 0-360'!R123 )","v":{"$error":"#VALUE!"}},{"$f":" IF( $A123 < 'Polar 0-360'!Y$365, 'Polar 0-360'!Y$363 / COS!$B123,'Polar 0-360'!X123 )","v":{"$error":"#VALUE!"}},{"$f":" IF( $A123 < 'Polar 0-360'!AE$365, 'Polar 0-360'!AE$363 / COS!$B123,'Polar 0-360'!AD123 )","v":{"$error":"#VALUE!"}},{"$f":" IF( $A123 < 'Polar 0-360'!AK$365, 'Polar 0-360'!AK$363 / COS!$B123,'Polar 0-360'!AJ123 )","v":8.2089831046051955},{"$f":" IF( $A123 < 'Polar 0-360'!AQ$365, 'Polar 0-360'!AQ$363 / COS!$B123,'Polar 0-360'!AP123 )","v":{"$error":"#VALUE!"}}]
[{"$f":"'Polar 0-360'!A124","v":122},0,{"$f":" IF( $A124 < 'Polar 0-360'!G$365, 'Polar 0-360'!G$363 / COS!$B124,'Polar 0-360'!F124 )","v":{"$error":"#VALUE!"}},{"$f":" IF( $A124 < 'Polar 0-360'!M$365, 'Polar 0-360'!M$363 / COS!$B124,'Polar 0-360'!L124 )","v":{"$error":"#VALUE!"}},{"$f":" IF( $A124 < 'Polar 0-360'!S$365, 'Polar 0-360'!S$363 / COS!$B124,'Polar 0-360'!R124 )","v":{"$error":"#VALUE!"}},{"$f":" IF( $A124 < 'Polar 0-360'!Y$365, 'Polar 0-360'!Y$363 / COS!$B124,'Polar 0-360'!X124 )","v":{"$error":"#VALUE!"}},{"$f":" IF( $A124 < 'Polar 0-360'!AE$365, 'Polar 0-360'!AE$363 / COS!$B124,'Polar 0-360'!AD124 )","v":{"$error":"#VALUE!"}},{"$f":" IF( $A124 < 'Polar 0-360'!AK$365, 'Polar 0-360'!AK$363 / COS!$B124,'Polar 0-360'!AJ124 )","v":8.214985742952333},{"$f":" IF( $A124 < 'Polar 0-360'!AQ$365, 'Polar 0-360'!AQ$363 / COS!$B124,'Polar 0-360'!AP124 )","v":{"$error":"#VALUE!"}}]
[{"$f":"'Polar 0-360'!A125","v":123},0,{"$f":" IF( $A125 < 'Polar 0-360'!G$365, 'Polar 0-360'!G$363 / COS!$B125,'Polar 0-360'!F125 )","v":{"$error":"#VALUE!"}},{"$f":" IF( $A125 < 'Polar 0-360'!M$365, 'Polar 0-360'!M$363 / COS!$B125,'Polar 0-360'!L125 )","v":{"$error":"#VALUE!"}},{"$f":" IF( $A125 < 'Polar 0-360'!S$365, 'Polar 0-360'!S$363 / COS!$B125,'Polar 0-360'!R125 )","v":{"$error":"#VALUE!"}},{"$f":" IF( $A125 < 'Polar 0-360'!Y$365, 'Polar 0-360'!Y$363 / COS!$B125,'Polar 0-360'!X125 )","v":{"$error":"#VALUE!"}},{"$f":" IF( $A125 < 'Polar 0-360'!AE$365, 'Polar 0-360'!AE$363 / COS!$B125,'Polar 0-360'!AD125 )","v":{"$error":"#VALUE!"}},{"$f":" IF( $A125 < 'Polar 0-360'!AK$365, 'Polar 0-360'!AK$363 / COS!$B125,'Polar 0-360'!AJ125 )","v":8.2209883812994686},{"$f":" IF( $A125 < 'Polar 0-360'!AQ$365, 'Polar 0-360'!AQ$363 / COS!$B125,'Polar 0-360'!AP125 )","v":{"$error":"#VALUE!"}}]
[{"$f":"'Polar 0-360'!A126","v":124},0,{"$f":" IF( $A126 < 'Polar 0-360'!G$365, 'Polar 0-360'!G$363 / COS!$B126,'Polar 0-360'!F126 )","v":{"$error":"#VALUE!"}},{"$f":" IF( $A126 < 'Polar 0-360'!M$365, 'Polar 0-360'!M$363 / COS!$B126,'Polar 0-360'!L126 )","v":{"$error":"#VALUE!"}},{"$f":" IF( $A126 < 'Polar 0-360'!S$365, 'Polar 0-360'!S$363 / COS!$B126,'Polar 0-360'!R126 )","v":{"$error":"#VALUE!"}},{"$f":" IF( $A126 < 'Polar 0-360'!Y$365, 'Polar 0-360'!Y$363 / COS!$B126,'Polar 0-360'!X126 )","v":{"$error":"#VALUE!"}},{"$f":" IF( $A126 < 'Polar 0-360'!AE$365, 'Polar 0-360'!AE$363 / COS!$B126,'Polar 0-360'!AD126 )","v":{"$error":"#VALUE!"}},{"$f":" IF( $A126 < 'Polar 0-360'!AK$365, 'Polar 0-360'!AK$363 / COS!$B126,'Polar 0-360'!AJ126 )","v":8.2269910196466043},{"$f":" IF( $A126 < 'Polar 0-360'!AQ$365, 'Polar 0-360'!AQ$363 / COS!$B126,'Polar 0-360'!AP126 )","v":{"$error":"#VALUE!"}}]
[{"$f":"'Polar 0-360'!A127","v":125},0,{"$f":" IF( $A127 < 'Polar 0-360'!G$365, 'Polar 0-360'!G$363 / COS!$B127,'Polar 0-360'!F127 )","v":{"$error":"#VALUE!"}},{"$f":" IF( $A127 < 'Polar 0-360'!M$365, 'Polar 0-360'!M$363 / COS!$B127,'Polar 0-360'!L127 )","v":{"$error":"#VALUE!"}},{"$f":" IF( $A127 < 'Polar 0-360'!S$365, 'Polar 0-360'!S$363 / COS!$B127,'Polar 0-360'!R127 )","v":{"$error":"#VALUE!"}},{"$f":" IF( $A127 < 'Polar 0-360'!Y$365, 'Polar 0-360'!Y$363 / COS!$B127,'Polar 0-360'!X127 )","v":{"$error":"#VALUE!"}},{"$f":" IF( $A127 < 'Polar 0-360'!AE$365, 'Polar 0-360'!AE$363 / COS!$B127,'Polar 0-360'!AD127 )","v":{"$error":"#VALUE!"}},{"$f":" IF( $A127 < 'Polar 0-360'!AK$365, 'Polar 0-360'!AK$363 / COS!$B127,'Polar 0-360'!AJ127 )","v":8.2329936579937399},{"$f":" IF( $A127 < 'Polar 0-360'!AQ$365, 'Polar 0-360'!AQ$363 / COS!$B127,'Polar 0-360'!AP127 )","v":{"$error":"#VALUE!"}}]
[{"$f":"'Polar 0-360'!A128","v":126},0,{"$f":" IF( $A128 < 'Polar 0-360'!G$365, 'Polar 0-360'!G$363 / COS!$B128,'Polar 0-360'!F128 )","v":{"$error":"#VALUE!"}},{"$f":" IF( $A128 < 'Polar 0-360'!M$365, 'Polar 0-360'!M$363 / COS!$B128,'Polar 0-360'!L128 )","v":{"$error":"#VALUE!"}},{"$f":" IF( $A128 < 'Polar 0-360'!S$365, 'Polar 0-360'!S$363 / COS!$B128,'Polar 0-360'!R128 )","v":{"$error":"#VALUE!"}},{"$f":" IF( $A128 < 'Polar 0-360'!Y$365, 'Polar 0-360'!Y$363 / COS!$B128,'Polar 0-360'!X128 )","v":{"$error":"#VALUE!"}},{"$f":" IF( $A128 < 'Polar 0-360'!AE$365, 'Polar 0-360'!AE$363 / COS!$B128,'Polar 0-360'!AD128 )","v":{"$error":"#VALUE!"}},{"$f":" IF( $A128 < 'Polar 0-360'!AK$365, 'Polar 0-360'!AK$363 / COS!$B128,'Polar 0-360'!AJ128 )","v":8.2389962963408756},{"$f":" IF( $A128 < 'Polar 0-360'!AQ$365, 'Polar 0-360'!AQ$363 / COS!$B128,'Polar 0-360'!AP128 )","v":{"$error":"#VALUE!"}}]
[{"$f":"'Polar 0-360'!A129","v":127},0,{"$f":" IF( $A129 < 'Polar 0-360'!G$365, 'Polar 0-360'!G$363 / COS!$B129,'Polar 0-360'!F129 )","v":{"$error":"#VALUE!"}},{"$f":" IF( $A129 < 'Polar 0-360'!M$365, 'Polar 0-360'!M$363 / COS!$B129,'Polar 0-360'!L129 )","v":{"$error":"#VALUE!"}},{"$f":" IF( $A129 < 'Polar 0-360'!S$365, 'Polar 0-360'!S$363 / COS!$B129,'Polar 0-360'!R129 )","v":{"$error":"#VALUE!"}},{"$f":" IF( $A129 < 'Polar 0-360'!Y$365, 'Polar 0-360'!Y$363 / COS!$B129,'Polar 0-360'!X129 )","v":{"$error":"#VALUE!"}},{"$f":" IF( $A129 < 'Polar 0-360'!AE$365, 'Polar 0-360'!AE$363 / COS!$B129,'Polar 0-360'!AD129 )","v":{"$error":"#VALUE!"}},{"$f":" IF( $A129 < 'Polar 0-360'!AK$365, 'Polar 0-360'!AK$363 / COS!$B129,'Polar 0-360'!AJ129 )","v":8.244998934688013},{"$f":" IF( $A129 < 'Polar 0-360'!AQ$365, 'Polar 0-360'!AQ$363 / COS!$B129,'Polar 0-360'!AP129 )","v":{"$error":"#VALUE!"}}]
[{"$f":"'Polar 0-360'!A130","v":128},0,{"$f":" IF( $A130 < 'Polar 0-360'!G$365, 'Polar 0-360'!G$363 / COS!$B130,'Polar 0-360'!F130 )","v":{"$error":"#VALUE!"}},{"$f":" IF( $A130 < 'Polar 0-360'!M$365, 'Polar 0-360'!M$363 / COS!$B130,'Polar 0-360'!L130 )","v":{"$error":"#VALUE!"}},{"$f":" IF( $A130 < 'Polar 0-360'!S$365, 'Polar 0-360'!S$363 / COS!$B130,'Polar 0-360'!R130 )","v":{"$error":"#VALUE!"}},{"$f":" IF( $A130 < 'Polar 0-360'!Y$365, 'Polar 0-360'!Y$363 / COS!$B130,'Polar 0-360'!X130 )","v":{"$error":"#VALUE!"}},{"$f":" IF( $A130 < 'Polar 0-360'!AE$365, 'Polar 0-360'!AE$363 / COS!$B130,'Polar 0-360'!AD130 )","v":{"$error":"#VALUE!"}},{"$f":" IF( $A130 < 'Polar 0-360'!AK$365, 'Polar 0-360'!AK$363 / COS!$B130,'Polar 0-360'!AJ130 )","v":8.2510015730351487},{"$f":" IF( $A130 < 'Polar 0-360'!AQ$365, 'Polar 0-360'!AQ$363 / COS!$B130,'Polar 0-360'!AP130 )","v":{"$error":"#VALUE!"}}]
[{"$f":"'Polar 0-360'!A131","v":129},0,{"$f":" IF( $A131 < 'Polar 0-360'!G$365, 'Polar 0-360'!G$363 / COS!$B131,'Polar 0-360'!F131 )","v":{"$error":"#VALUE!"}},{"$f":" IF( $A131 < 'Polar 0-360'!M$365, 'Polar 0-360'!M$363 / COS!$B131,'Polar 0-360'!L131 )","v":{"$error":"#VALUE!"}},{"$f":" IF( $A131 < 'Polar 0-360'!S$365, 'Polar 0-360'!S$363 / COS!$B131,'Polar 0-360'!R131 )","v":{"$error":"#VALUE!"}},{"$f":" IF( $A131 < 'Polar 0-360'!Y$365, 'Polar 0-360'!Y$363 / COS!$B131,'Polar 0-360'!X131 )","v":{"$error":"#VALUE!"}},{"$f":" IF( $A131 < 'Polar 0-360'!AE$365, 'Polar 0-360'!AE$363 / COS!$B131,'Polar 0-360'!AD131 )","v":{"$error":"#VALUE!"}},{"$f":" IF( $A131 < 'Polar 0-360'!AK$365, 'Polar 0-360'!AK$363 / COS!$B131,'Polar 0-360'!AJ131 )","v":8.2570042113822844},{"$f":" IF( $A131 < 'Polar 0-360'!AQ$365, 'Polar 0-360'!AQ$363 / COS!$B131,'Polar 0-360'!AP131 )","v":{"$error":"#VALUE!"}}]
[{"$f":"'Polar 0-360'!A132","v":130},0,{"$f":" IF( $A132 < 'Polar 0-360'!G$365, 'Polar 0-360'!G$363 / COS!$B132,'Polar 0-360'!F132 )","v":{"$error":"#VALUE!"}},{"$f":" IF( $A132 < 'Polar 0-360'!M$365, 'Polar 0-360'!M$363 / COS!$B132,'Polar 0-360'!L132 )","v":{"$error":"#VALUE!"}},{"$f":" IF( $A132 < 'Polar 0-360'!S$365, 'Polar 0-360'!S$363 / COS!$B132,'Polar 0-360'!R132 )","v":{"$error":"#VALUE!"}},{"$f":" IF( $A132 < 'Polar 0-360'!Y$365, 'Polar 0-360'!Y$363 / COS!$B132,'Polar 0-360'!X132 )","v":{"$error":"#VALUE!"}},{"$f":" IF( $A132 < 'Polar 0-360'!AE$365, 'Polar 0-360'!AE$363 / COS!$B132,'Polar 0-360'!AD132 )","v":{"$error":"#VALUE!"}},{"$f":" IF( $A132 < 'Polar 0-360'!AK$365, 'Polar 0-360'!AK$363 / COS!$B132,'Polar 0-360'!AJ132 )","v":8.26300684972942},{"$f":" IF( $A132 < 'Polar 0-360'!AQ$365, 'Polar 0-360'!AQ$363 / COS!$B132,'Polar 0-360'!AP132 )","v":{"$error":"#VALUE!"}}]
[{"$f":"'Polar 0-360'!A133","v":131},0,{"$f":" IF( $A133 < 'Polar 0-360'!G$365, 'Polar 0-360'!G$363 / COS!$B133,'Polar 0-360'!F133 )","v":{"$error":"#VALUE!"}},{"$f":" IF( $A133 < 'Polar 0-360'!M$365, 'Polar 0-360'!M$363 / COS!$B133,'Polar 0-360'!L133 )","v":{"$error":"#VALUE!"}},{"$f":" IF( $A133 < 'Polar 0-360'!S$365, 'Polar 0-360'!S$363 / COS!$B133,'Polar 0-360'!R133 )","v":{"$error":"#VALUE!"}},{"$f":" IF( $A133 < 'Polar 0-360'!Y$365, 'Polar 0-360'!Y$363 / COS!$B133,'Polar 0-360'!X133 )","v":{"$error":"#VALUE!"}},{"$f":" IF( $A133 < 'Polar 0-360'!AE$365, 'Polar 0-360'!AE$363 / COS!$B133,'Polar 0-360'!AD133 )","v":{"$error":"#VALUE!"}},{"$f":" IF( $A133 < 'Polar 0-360'!AK$365, 'Polar 0-360'!AK$363 / COS!$B133,'Polar 0-360'!AJ133 )","v":8.2690094880765557},{"$f":" IF( $A133 < 'Polar 0-360'!AQ$365, 'Polar 0-360'!AQ$363 / COS!$B133,'Polar 0-360'!AP133 )","v":{"$error":"#VALUE!"}}]
[{"$f":"'Polar 0-360'!A134","v":132},0,{"$f":" IF( $A134 < 'Polar 0-360'!G$365, 'Polar 0-360'!G$363 / COS!$B134,'Polar 0-360'!F134 )","v":{"$error":"#VALUE!"}},{"$f":" IF( $A134 < 'Polar 0-360'!M$365, 'Polar 0-360'!M$363 / COS!$B134,'Polar 0-360'!L134 )","v":{"$error":"#VALUE!"}},{"$f":" IF( $A134 < 'Polar 0-360'!S$365, 'Polar 0-360'!S$363 / COS!$B134,'Polar 0-360'!R134 )","v":{"$error":"#VALUE!"}},{"$f":" IF( $A134 < 'Polar 0-360'!Y$365, 'Polar 0-360'!Y$363 / COS!$B134,'Polar 0-360'!X134 )","v":{"$error":"#VALUE!"}},{"$f":" IF( $A134 < 'Polar 0-360'!AE$365, 'Polar 0-360'!AE$363 / COS!$B134,'Polar 0-360'!AD134 )","v":{"$error":"#VALUE!"}},{"$f":" IF( $A134 < 'Polar 0-360'!AK$365, 'Polar 0-360'!AK$363 / COS!$B134,'Polar 0-360'!AJ134 )","v":8.2750121264236931},{"$f":" IF( $A134 < 'Polar 0-360'!AQ$365, 'Polar 0-360'!AQ$363 / COS!$B134,'Polar 0-360'!AP134 )","v":{"$error":"#VALUE!"}}]
[{"$f":"'Polar 0-360'!A135","v":133},0,{"$f":" IF( $A135 < 'Polar 0-360'!G$365, 'Polar 0-360'!G$363 / COS!$B135,'Polar 0-360'!F135 )","v":{"$error":"#VALUE!"}},{"$f":" IF( $A135 < 'Polar 0-360'!M$365, 'Polar 0-360'!M$363 / COS!$B135,'Polar 0-360'!L135 )","v":{"$error":"#VALUE!"}},{"$f":" IF( $A135 < 'Polar 0-360'!S$365, 'Polar 0-360'!S$363 / COS!$B135,'Polar 0-360'!R135 )","v":{"$error":"#VALUE!"}},{"$f":" IF( $A135 < 'Polar 0-360'!Y$365, 'Polar 0-360'!Y$363 / COS!$B135,'Polar 0-360'!X135 )","v":{"$error":"#VALUE!"}},{"$f":" IF( $A135 < 'Polar 0-360'!AE$365, 'Polar 0-360'!AE$363 / COS!$B135,'Polar 0-360'!AD135 )","v":{"$error":"#VALUE!"}},{"$f":" IF( $A135 < 'Polar 0-360'!AK$365, 'Polar 0-360'!AK$363 / COS!$B135,'Polar 0-360'!AJ135 )","v":8.2810147647708288},{"$f":" IF( $A135 < 'Polar 0-360'!AQ$365, 'Polar 0-360'!AQ$363 / COS!$B135,'Polar 0-360'!AP135 )","v":{"$error":"#VALUE!"}}]
[{"$f":"'Polar 0-360'!A136","v":134},0,{"$f":" IF( $A136 < 'Polar 0-360'!G$365, 'Polar 0-360'!G$363 / COS!$B136,'Polar 0-360'!F136 )","v":{"$error":"#VALUE!"}},{"$f":" IF( $A136 < 'Polar 0-360'!M$365, 'Polar 0-360'!M$363 / COS!$B136,'Polar 0-360'!L136 )","v":{"$error":"#VALUE!"}},{"$f":" IF( $A136 < 'Polar 0-360'!S$365, 'Polar 0-360'!S$363 / COS!$B136,'Polar 0-360'!R136 )","v":{"$error":"#VALUE!"}},{"$f":" IF( $A136 < 'Polar 0-360'!Y$365, 'Polar 0-360'!Y$363 / COS!$B136,'Polar 0-360'!X136 )","v":{"$error":"#VALUE!"}},{"$f":" IF( $A136 < 'Polar 0-360'!AE$365, 'Polar 0-360'!AE$363 / COS!$B136,'Polar 0-360'!AD136 )","v":{"$error":"#VALUE!"}},{"$f":" IF( $A136 < 'Polar 0-360'!AK$365, 'Polar 0-360'!AK$363 / COS!$B136,'Polar 0-360'!AJ136 )","v":8.2870174031179644},{"$f":" IF( $A136 < 'Polar 0-360'!AQ$365, 'Polar 0-360'!AQ$363 / COS!$B136,'Polar 0-360'!AP136 )","v":{"$error":"#VALUE!"}}]
[{"$f":"'Polar 0-360'!A137","v":135},0,{"$f":" IF( $A137 < 'Polar 0-360'!G$365, 'Polar 0-360'!G$363 / COS!$B137,'Polar 0-360'!F137 )","v":{"$error":"#VALUE!"}},{"$f":" IF( $A137 < 'Polar 0-360'!M$365, 'Polar 0-360'!M$363 / COS!$B137,'Polar 0-360'!L137 )","v":{"$error":"#VALUE!"}},{"$f":" IF( $A137 < 'Polar 0-360'!S$365, 'Polar 0-360'!S$363 / COS!$B137,'Polar 0-360'!R137 )","v":{"$error":"#VALUE!"}},{"$f":" IF( $A137 < 'Polar 0-360'!Y$365, 'Polar 0-360'!Y$363 / COS!$B137,'Polar 0-360'!X137 )","v":{"$error":"#VALUE!"}},{"$f":" IF( $A137 < 'Polar 0-360'!AE$365, 'Polar 0-360'!AE$363 / COS!$B137,'Polar 0-360'!AD137 )","v":{"$error":"#VALUE!"}},{"$f":" IF( $A137 < 'Polar 0-360'!AK$365, 'Polar 0-360'!AK$363 / COS!$B137,'Polar 0-360'!AJ137 )","v":8.2930200414651001},{"$f":" IF( $A137 < 'Polar 0-360'!AQ$365, 'Polar 0-360'!AQ$363 / COS!$B137,'Polar 0-360'!AP137 )","v":{"$error":"#VALUE!"}}]
[{"$f":"'Polar 0-360'!A138","v":136},0,{"$f":" IF( $A138 < 'Polar 0-360'!G$365, 'Polar 0-360'!G$363 / COS!$B138,'Polar 0-360'!F138 )","v":{"$error":"#VALUE!"}},{"$f":" IF( $A138 < 'Polar 0-360'!M$365, 'Polar 0-360'!M$363 / COS!$B138,'Polar 0-360'!L138 )","v":{"$error":"#VALUE!"}},{"$f":" IF( $A138 < 'Polar 0-360'!S$365, 'Polar 0-360'!S$363 / COS!$B138,'Polar 0-360'!R138 )","v":{"$error":"#VALUE!"}},{"$f":" IF( $A138 < 'Polar 0-360'!Y$365, 'Polar 0-360'!Y$363 / COS!$B138,'Polar 0-360'!X138 )","v":{"$error":"#VALUE!"}},{"$f":" IF( $A138 < 'Polar 0-360'!AE$365, 'Polar 0-360'!AE$363 / COS!$B138,'Polar 0-360'!AD138 )","v":{"$error":"#VALUE!"}},{"$f":" IF( $A138 < 'Polar 0-360'!AK$365, 'Polar 0-360'!AK$363 / COS!$B138,'Polar 0-360'!AJ138 )","v":8.269719558559542},{"$f":" IF( $A138 < 'Polar 0-360'!AQ$365, 'Polar 0-360'!AQ$363 / COS!$B138,'Polar 0-360'!AP138 )","v":{"$error":"#VALUE!"}}]
[{"$f":"'Polar 0-360'!A139","v":137},0,{"$f":" IF( $A139 < 'Polar 0-360'!G$365, 'Polar 0-360'!G$363 / COS!$B139,'Polar 0-360'!F139 )","v":{"$error":"#VALUE!"}},{"$f":" IF( $A139 < 'Polar 0-360'!M$365, 'Polar 0-360'!M$363 / COS!$B139,'Polar 0-360'!L139 )","v":{"$error":"#VALUE!"}},{"$f":" IF( $A139 < 'Polar 0-360'!S$365, 'Polar 0-360'!S$363 / COS!$B139,'Polar 0-360'!R139 )","v":{"$error":"#VALUE!"}},{"$f":" IF( $A139 < 'Polar 0-360'!Y$365, 'Polar 0-360'!Y$363 / COS!$B139,'Polar 0-360'!X139 )","v":{"$error":"#VALUE!"}},{"$f":" IF( $A139 < 'Polar 0-360'!AE$365, 'Polar 0-360'!AE$363 / COS!$B139,'Polar 0-360'!AD139 )","v":{"$error":"#VALUE!"}},{"$f":" IF( $A139 < 'Polar 0-360'!AK$365, 'Polar 0-360'!AK$363 / COS!$B139,'Polar 0-360'!AJ139 )","v":8.2464190756539839},{"$f":" IF( $A139 < 'Polar 0-360'!AQ$365, 'Polar 0-360'!AQ$363 / COS!$B139,'Polar 0-360'!AP139 )","v":{"$error":"#VALUE!"}}]
[{"$f":"'Polar 0-360'!A140","v":138},0,{"$f":" IF( $A140 < 'Polar 0-360'!G$365, 'Polar 0-360'!G$363 / COS!$B140,'Polar 0-360'!F140 )","v":{"$error":"#VALUE!"}},{"$f":" IF( $A140 < 'Polar 0-360'!M$365, 'Polar 0-360'!M$363 / COS!$B140,'Polar 0-360'!L140 )","v":{"$error":"#VALUE!"}},{"$f":" IF( $A140 < 'Polar 0-360'!S$365, 'Polar 0-360'!S$363 / COS!$B140,'Polar 0-360'!R140 )","v":{"$error":"#VALUE!"}},{"$f":" IF( $A140 < 'Polar 0-360'!Y$365, 'Polar 0-360'!Y$363 / COS!$B140,'Polar 0-360'!X140 )","v":{"$error":"#VALUE!"}},{"$f":" IF( $A140 < 'Polar 0-360'!AE$365, 'Polar 0-360'!AE$363 / COS!$B140,'Polar 0-360'!AD140 )","v":{"$error":"#VALUE!"}},{"$f":" IF( $A140 < 'Polar 0-360'!AK$365, 'Polar 0-360'!AK$363 / COS!$B140,'Polar 0-360'!AJ140 )","v":8.2231185927484258},{"$f":" IF( $A140 < 'Polar 0-360'!AQ$365, 'Polar 0-360'!AQ$363 / COS!$B140,'Polar 0-360'!AP140 )","v":{"$error":"#VALUE!"}}]
[{"$f":"'Polar 0-360'!A141","v":139},0,{"$f":" IF( $A141 < 'Polar 0-360'!G$365, 'Polar 0-360'!G$363 / COS!$B141,'Polar 0-360'!F141 )","v":{"$error":"#VALUE!"}},{"$f":" IF( $A141 < 'Polar 0-360'!M$365, 'Polar 0-360'!M$363 / COS!$B141,'Polar 0-360'!L141 )","v":{"$error":"#VALUE!"}},{"$f":" IF( $A141 < 'Polar 0-360'!S$365, 'Polar 0-360'!S$363 / COS!$B141,'Polar 0-360'!R141 )","v":{"$error":"#VALUE!"}},{"$f":" IF( $A141 < 'Polar 0-360'!Y$365, 'Polar 0-360'!Y$363 / COS!$B141,'Polar 0-360'!X141 )","v":{"$error":"#VALUE!"}},{"$f":" IF( $A141 < 'Polar 0-360'!AE$365, 'Polar 0-360'!AE$363 / COS!$B141,'Polar 0-360'!AD141 )","v":{"$error":"#VALUE!"}},{"$f":" IF( $A141 < 'Polar 0-360'!AK$365, 'Polar 0-360'!AK$363 / COS!$B141,'Polar 0-360'!AJ141 )","v":8.1998181098428677},{"$f":" IF( $A141 < 'Polar 0-360'!AQ$365, 'Polar 0-360'!AQ$363 / COS!$B141,'Polar 0-360'!AP141 )","v":{"$error":"#VALUE!"}}]
[{"$f":"'Polar 0-360'!A142","v":140},0,{"$f":" IF( $A142 < 'Polar 0-360'!G$365, 'Polar 0-360'!G$363 / COS!$B142,'Polar 0-360'!F142 )","v":{"$error":"#VALUE!"}},{"$f":" IF( $A142 < 'Polar 0-360'!M$365, 'Polar 0-360'!M$363 / COS!$B142,'Polar 0-360'!L142 )","v":{"$error":"#VALUE!"}},{"$f":" IF( $A142 < 'Polar 0-360'!S$365, 'Polar 0-360'!S$363 / COS!$B142,'Polar 0-360'!R142 )","v":{"$error":"#VALUE!"}},{"$f":" IF( $A142 < 'Polar 0-360'!Y$365, 'Polar 0-360'!Y$363 / COS!$B142,'Polar 0-360'!X142 )","v":{"$error":"#VALUE!"}},{"$f":" IF( $A142 < 'Polar 0-360'!AE$365, 'Polar 0-360'!AE$363 / COS!$B142,'Polar 0-360'!AD142 )","v":{"$error":"#VALUE!"}},{"$f":" IF( $A142 < 'Polar 0-360'!AK$365, 'Polar 0-360'!AK$363 / COS!$B142,'Polar 0-360'!AJ142 )","v":8.1765176269373097},{"$f":" IF( $A142 < 'Polar 0-360'!AQ$365, 'Polar 0-360'!AQ$363 / COS!$B142,'Polar 0-360'!AP142 )","v":{"$error":"#VALUE!"}}]
[{"$f":"'Polar 0-360'!A143","v":141},0,{"$f":" IF( $A143 < 'Polar 0-360'!G$365, 'Polar 0-360'!G$363 / COS!$B143,'Polar 0-360'!F143 )","v":{"$error":"#VALUE!"}},{"$f":" IF( $A143 < 'Polar 0-360'!M$365, 'Polar 0-360'!M$363 / COS!$B143,'Polar 0-360'!L143 )","v":{"$error":"#VALUE!"}},{"$f":" IF( $A143 < 'Polar 0-360'!S$365, 'Polar 0-360'!S$363 / COS!$B143,'Polar 0-360'!R143 )","v":{"$error":"#VALUE!"}},{"$f":" IF( $A143 < 'Polar 0-360'!Y$365, 'Polar 0-360'!Y$363 / COS!$B143,'Polar 0-360'!X143 )","v":{"$error":"#VALUE!"}},{"$f":" IF( $A143 < 'Polar 0-360'!AE$365, 'Polar 0-360'!AE$363 / COS!$B143,'Polar 0-360'!AD143 )","v":{"$error":"#VALUE!"}},{"$f":" IF( $A143 < 'Polar 0-360'!AK$365, 'Polar 0-360'!AK$363 / COS!$B143,'Polar 0-360'!AJ143 )","v":8.1532171440317516},{"$f":" IF( $A143 < 'Polar 0-360'!AQ$365, 'Polar 0-360'!AQ$363 / COS!$B143,'Polar 0-360'!AP143 )","v":{"$error":"#VALUE!"}}]
[{"$f":"'Polar 0-360'!A144","v":142},0,{"$f":" IF( $A144 < 'Polar 0-360'!G$365, 'Polar 0-360'!G$363 / COS!$B144,'Polar 0-360'!F144 )","v":{"$error":"#VALUE!"}},{"$f":" IF( $A144 < 'Polar 0-360'!M$365, 'Polar 0-360'!M$363 / COS!$B144,'Polar 0-360'!L144 )","v":{"$error":"#VALUE!"}},{"$f":" IF( $A144 < 'Polar 0-360'!S$365, 'Polar 0-360'!S$363 / COS!$B144,'Polar 0-360'!R144 )","v":{"$error":"#VALUE!"}},{"$f":" IF( $A144 < 'Polar 0-360'!Y$365, 'Polar 0-360'!Y$363 / COS!$B144,'Polar 0-360'!X144 )","v":{"$error":"#VALUE!"}},{"$f":" IF( $A144 < 'Polar 0-360'!AE$365, 'Polar 0-360'!AE$363 / COS!$B144,'Polar 0-360'!AD144 )","v":{"$error":"#VALUE!"}},{"$f":" IF( $A144 < 'Polar 0-360'!AK$365, 'Polar 0-360'!AK$363 / COS!$B144,'Polar 0-360'!AJ144 )","v":8.1299166611261935},{"$f":" IF( $A144 < 'Polar 0-360'!AQ$365, 'Polar 0-360'!AQ$363 / COS!$B144,'Polar 0-360'!AP144 )","v":{"$error":"#VALUE!"}}]
[{"$f":"'Polar 0-360'!A145","v":143},0,{"$f":" IF( $A145 < 'Polar 0-360'!G$365, 'Polar 0-360'!G$363 / COS!$B145,'Polar 0-360'!F145 )","v":{"$error":"#VALUE!"}},{"$f":" IF( $A145 < 'Polar 0-360'!M$365, 'Polar 0-360'!M$363 / COS!$B145,'Polar 0-360'!L145 )","v":{"$error":"#VALUE!"}},{"$f":" IF( $A145 < 'Polar 0-360'!S$365, 'Polar 0-360'!S$363 / COS!$B145,'Polar 0-360'!R145 )","v":{"$error":"#VALUE!"}},{"$f":" IF( $A145 < 'Polar 0-360'!Y$365, 'Polar 0-360'!Y$363 / COS!$B145,'Polar 0-360'!X145 )","v":{"$error":"#VALUE!"}},{"$f":" IF( $A145 < 'Polar 0-360'!AE$365, 'Polar 0-360'!AE$363 / COS!$B145,'Polar 0-360'!AD145 )","v":{"$error":"#VALUE!"}},{"$f":" IF( $A145 < 'Polar 0-360'!AK$365, 'Polar 0-360'!AK$363 / COS!$B145,'Polar 0-360'!AJ145 )","v":8.1066161782206354},{"$f":" IF( $A145 < 'Polar 0-360'!AQ$365, 'Polar 0-360'!AQ$363 / COS!$B145,'Polar 0-360'!AP145 )","v":{"$error":"#VALUE!"}}]
[{"$f":"'Polar 0-360'!A146","v":144},0,{"$f":" IF( $A146 < 'Polar 0-360'!G$365, 'Polar 0-360'!G$363 / COS!$B146,'Polar 0-360'!F146 )","v":{"$error":"#VALUE!"}},{"$f":" IF( $A146 < 'Polar 0-360'!M$365, 'Polar 0-360'!M$363 / COS!$B146,'Polar 0-360'!L146 )","v":{"$error":"#VALUE!"}},{"$f":" IF( $A146 < 'Polar 0-360'!S$365, 'Polar 0-360'!S$363 / COS!$B146,'Polar 0-360'!R146 )","v":{"$error":"#VALUE!"}},{"$f":" IF( $A146 < 'Polar 0-360'!Y$365, 'Polar 0-360'!Y$363 / COS!$B146,'Polar 0-360'!X146 )","v":{"$error":"#VALUE!"}},{"$f":" IF( $A146 < 'Polar 0-360'!AE$365, 'Polar 0-360'!AE$363 / COS!$B146,'Polar 0-360'!AD146 )","v":{"$error":"#VALUE!"}},{"$f":" IF( $A146 < 'Polar 0-360'!AK$365, 'Polar 0-360'!AK$363 / COS!$B146,'Polar 0-360'!AJ146 )","v":8.0833156953150773},{"$f":" IF( $A146 < 'Polar 0-360'!AQ$365, 'Polar 0-360'!AQ$363 / COS!$B146,'Polar 0-360'!AP146 )","v":{"$error":"#VALUE!"}}]
[{"$f":"'Polar 0-360'!A147","v":145},0,{"$f":" IF( $A147 < 'Polar 0-360'!G$365, 'Polar 0-360'!G$363 / COS!$B147,'Polar 0-360'!F147 )","v":{"$error":"#VALUE!"}},{"$f":" IF( $A147 < 'Polar 0-360'!M$365, 'Polar 0-360'!M$363 / COS!$B147,'Polar 0-360'!L147 )","v":{"$error":"#VALUE!"}},{"$f":" IF( $A147 < 'Polar 0-360'!S$365, 'Polar 0-360'!S$363 / COS!$B147,'Polar 0-360'!R147 )","v":{"$error":"#VALUE!"}},{"$f":" IF( $A147 < 'Polar 0-360'!Y$365, 'Polar 0-360'!Y$363 / COS!$B147,'Polar 0-360'!X147 )","v":{"$error":"#VALUE!"}},{"$f":" IF( $A147 < 'Polar 0-360'!AE$365, 'Polar 0-360'!AE$363 / COS!$B147,'Polar 0-360'!AD147 )","v":{"$error":"#VALUE!"}},{"$f":" IF( $A147 < 'Polar 0-360'!AK$365, 'Polar 0-360'!AK$363 / COS!$B147,'Polar 0-360'!AJ147 )","v":8.0600152124095192},{"$f":" IF( $A147 < 'Polar 0-360'!AQ$365, 'Polar 0-360'!AQ$363 / COS!$B147,'Polar 0-360'!AP147 )","v":{"$error":"#VALUE!"}}]
[{"$f":"'Polar 0-360'!A148","v":146},0,{"$f":" IF( $A148 < 'Polar 0-360'!G$365, 'Polar 0-360'!G$363 / COS!$B148,'Polar 0-360'!F148 )","v":{"$error":"#VALUE!"}},{"$f":" IF( $A148 < 'Polar 0-360'!M$365, 'Polar 0-360'!M$363 / COS!$B148,'Polar 0-360'!L148 )","v":{"$error":"#VALUE!"}},{"$f":" IF( $A148 < 'Polar 0-360'!S$365, 'Polar 0-360'!S$363 / COS!$B148,'Polar 0-360'!R148 )","v":{"$error":"#VALUE!"}},{"$f":" IF( $A148 < 'Polar 0-360'!Y$365, 'Polar 0-360'!Y$363 / COS!$B148,'Polar 0-360'!X148 )","v":{"$error":"#VALUE!"}},{"$f":" IF( $A148 < 'Polar 0-360'!AE$365, 'Polar 0-360'!AE$363 / COS!$B148,'Polar 0-360'!AD148 )","v":{"$error":"#VALUE!"}},{"$f":" IF( $A148 < 'Polar 0-360'!AK$365, 'Polar 0-360'!AK$363 / COS!$B148,'Polar 0-360'!AJ148 )","v":8.0367147295039612},{"$f":" IF( $A148 < 'Polar 0-360'!AQ$365, 'Polar 0-360'!AQ$363 / COS!$B148,'Polar 0-360'!AP148 )","v":{"$error":"#VALUE!"}}]
[{"$f":"'Polar 0-360'!A149","v":147},0,{"$f":" IF( $A149 < 'Polar 0-360'!G$365, 'Polar 0-360'!G$363 / COS!$B149,'Polar 0-360'!F149 )","v":{"$error":"#VALUE!"}},{"$f":" IF( $A149 < 'Polar 0-360'!M$365, 'Polar 0-360'!M$363 / COS!$B149,'Polar 0-360'!L149 )","v":{"$error":"#VALUE!"}},{"$f":" IF( $A149 < 'Polar 0-360'!S$365, 'Polar 0-360'!S$363 / COS!$B149,'Polar 0-360'!R149 )","v":{"$error":"#VALUE!"}},{"$f":" IF( $A149 < 'Polar 0-360'!Y$365, 'Polar 0-360'!Y$363 / COS!$B149,'Polar 0-360'!X149 )","v":{"$error":"#VALUE!"}},{"$f":" IF( $A149 < 'Polar 0-360'!AE$365, 'Polar 0-360'!AE$363 / COS!$B149,'Polar 0-360'!AD149 )","v":{"$error":"#VALUE!"}},{"$f":" IF( $A149 < 'Polar 0-360'!AK$365, 'Polar 0-360'!AK$363 / COS!$B149,'Polar 0-360'!AJ149 )","v":8.0134142465984031},{"$f":" IF( $A149 < 'Polar 0-360'!AQ$365, 'Polar 0-360'!AQ$363 / COS!$B149,'Polar 0-360'!AP149 )","v":{"$error":"#VALUE!"}}]
[{"$f":"'Polar 0-360'!A150","v":148},0,{"$f":" IF( $A150 < 'Polar 0-360'!G$365, 'Polar 0-360'!G$363 / COS!$B150,'Polar 0-360'!F150 )","v":{"$error":"#VALUE!"}},{"$f":" IF( $A150 < 'Polar 0-360'!M$365, 'Polar 0-360'!M$363 / COS!$B150,'Polar 0-360'!L150 )","v":{"$error":"#VALUE!"}},{"$f":" IF( $A150 < 'Polar 0-360'!S$365, 'Polar 0-360'!S$363 / COS!$B150,'Polar 0-360'!R150 )","v":{"$error":"#VALUE!"}},{"$f":" IF( $A150 < 'Polar 0-360'!Y$365, 'Polar 0-360'!Y$363 / COS!$B150,'Polar 0-360'!X150 )","v":{"$error":"#VALUE!"}},{"$f":" IF( $A150 < 'Polar 0-360'!AE$365, 'Polar 0-360'!AE$363 / COS!$B150,'Polar 0-360'!AD150 )","v":{"$error":"#VALUE!"}},{"$f":" IF( $A150 < 'Polar 0-360'!AK$365, 'Polar 0-360'!AK$363 / COS!$B150,'Polar 0-360'!AJ150 )","v":7.990113763692845},{"$f":" IF( $A150 < 'Polar 0-360'!AQ$365, 'Polar 0-360'!AQ$363 / COS!$B150,'Polar 0-360'!AP150 )","v":{"$error":"#VALUE!"}}]
[{"$f":"'Polar 0-360'!A151","v":149},0,{"$f":" IF( $A151 < 'Polar 0-360'!G$365, 'Polar 0-360'!G$363 / COS!$B151,'Polar 0-360'!F151 )","v":{"$error":"#VALUE!"}},{"$f":" IF( $A151 < 'Polar 0-360'!M$365, 'Polar 0-360'!M$363 / COS!$B151,'Polar 0-360'!L151 )","v":{"$error":"#VALUE!"}},{"$f":" IF( $A151 < 'Polar 0-360'!S$365, 'Polar 0-360'!S$363 / COS!$B151,'Polar 0-360'!R151 )","v":{"$error":"#VALUE!"}},{"$f":" IF( $A151 < 'Polar 0-360'!Y$365, 'Polar 0-360'!Y$363 / COS!$B151,'Polar 0-360'!X151 )","v":{"$error":"#VALUE!"}},{"$f":" IF( $A151 < 'Polar 0-360'!AE$365, 'Polar 0-360'!AE$363 / COS!$B151,'Polar 0-360'!AD151 )","v":{"$error":"#VALUE!"}},{"$f":" IF( $A151 < 'Polar 0-360'!AK$365, 'Polar 0-360'!AK$363 / COS!$B151,'Polar 0-360'!AJ151 )","v":7.9668132807872869},{"$f":" IF( $A151 < 'Polar 0-360'!AQ$365, 'Polar 0-360'!AQ$363 / COS!$B151,'Polar 0-360'!AP151 )","v":{"$error":"#VALUE!"}}]
[{"$f":"'Polar 0-360'!A152","v":150},0,{"$f":" IF( $A152 < 'Polar 0-360'!G$365, 'Polar 0-360'!G$363 / COS!$B152,'Polar 0-360'!F152 )","v":{"$error":"#VALUE!"}},{"$f":" IF( $A152 < 'Polar 0-360'!M$365, 'Polar 0-360'!M$363 / COS!$B152,'Polar 0-360'!L152 )","v":{"$error":"#VALUE!"}},{"$f":" IF( $A152 < 'Polar 0-360'!S$365, 'Polar 0-360'!S$363 / COS!$B152,'Polar 0-360'!R152 )","v":{"$error":"#VALUE!"}},{"$f":" IF( $A152 < 'Polar 0-360'!Y$365, 'Polar 0-360'!Y$363 / COS!$B152,'Polar 0-360'!X152 )","v":{"$error":"#VALUE!"}},{"$f":" IF( $A152 < 'Polar 0-360'!AE$365, 'Polar 0-360'!AE$363 / COS!$B152,'Polar 0-360'!AD152 )","v":{"$error":"#VALUE!"}},{"$f":" IF( $A152 < 'Polar 0-360'!AK$365, 'Polar 0-360'!AK$363 / COS!$B152,'Polar 0-360'!AJ152 )","v":7.9435127978817306},{"$f":" IF( $A152 < 'Polar 0-360'!AQ$365, 'Polar 0-360'!AQ$363 / COS!$B152,'Polar 0-360'!AP152 )","v":{"$error":"#VALUE!"}}]
[{"$f":"'Polar 0-360'!A153","v":151},0,{"$f":" IF( $A153 < 'Polar 0-360'!G$365, 'Polar 0-360'!G$363 / COS!$B153,'Polar 0-360'!F153 )","v":{"$error":"#VALUE!"}},{"$f":" IF( $A153 < 'Polar 0-360'!M$365, 'Polar 0-360'!M$363 / COS!$B153,'Polar 0-360'!L153 )","v":{"$error":"#VALUE!"}},{"$f":" IF( $A153 < 'Polar 0-360'!S$365, 'Polar 0-360'!S$363 / COS!$B153,'Polar 0-360'!R153 )","v":{"$error":"#VALUE!"}},{"$f":" IF( $A153 < 'Polar 0-360'!Y$365, 'Polar 0-360'!Y$363 / COS!$B153,'Polar 0-360'!X153 )","v":{"$error":"#VALUE!"}},{"$f":" IF( $A153 < 'Polar 0-360'!AE$365, 'Polar 0-360'!AE$363 / COS!$B153,'Polar 0-360'!AD153 )","v":{"$error":"#VALUE!"}},{"$f":" IF( $A153 < 'Polar 0-360'!AK$365, 'Polar 0-360'!AK$363 / COS!$B153,'Polar 0-360'!AJ153 )","v":7.9298275941356415},{"$f":" IF( $A153 < 'Polar 0-360'!AQ$365, 'Polar 0-360'!AQ$363 / COS!$B153,'Polar 0-360'!AP153 )","v":{"$error":"#VALUE!"}}]
[{"$f":"'Polar 0-360'!A154","v":152},0,{"$f":" IF( $A154 < 'Polar 0-360'!G$365, 'Polar 0-360'!G$363 / COS!$B154,'Polar 0-360'!F154 )","v":{"$error":"#VALUE!"}},{"$f":" IF( $A154 < 'Polar 0-360'!M$365, 'Polar 0-360'!M$363 / COS!$B154,'Polar 0-360'!L154 )","v":{"$error":"#VALUE!"}},{"$f":" IF( $A154 < 'Polar 0-360'!S$365, 'Polar 0-360'!S$363 / COS!$B154,'Polar 0-360'!R154 )","v":{"$error":"#VALUE!"}},{"$f":" IF( $A154 < 'Polar 0-360'!Y$365, 'Polar 0-360'!Y$363 / COS!$B154,'Polar 0-360'!X154 )","v":{"$error":"#VALUE!"}},{"$f":" IF( $A154 < 'Polar 0-360'!AE$365, 'Polar 0-360'!AE$363 / COS!$B154,'Polar 0-360'!AD154 )","v":{"$error":"#VALUE!"}},{"$f":" IF( $A154 < 'Polar 0-360'!AK$365, 'Polar 0-360'!AK$363 / COS!$B154,'Polar 0-360'!AJ154 )","v":7.9161423903895525},{"$f":" IF( $A154 < 'Polar 0-360'!AQ$365, 'Polar 0-360'!AQ$363 / COS!$B154,'Polar 0-360'!AP154 )","v":{"$error":"#VALUE!"}}]
[{"$f":"'Polar 0-360'!A155","v":153},0,{"$f":" IF( $A155 < 'Polar 0-360'!G$365, 'Polar 0-360'!G$363 / COS!$B155,'Polar 0-360'!F155 )","v":{"$error":"#VALUE!"}},{"$f":" IF( $A155 < 'Polar 0-360'!M$365, 'Polar 0-360'!M$363 / COS!$B155,'Polar 0-360'!L155 )","v":{"$error":"#VALUE!"}},{"$f":" IF( $A155 < 'Polar 0-360'!S$365, 'Polar 0-360'!S$363 / COS!$B155,'Polar 0-360'!R155 )","v":{"$error":"#VALUE!"}},{"$f":" IF( $A155 < 'Polar 0-360'!Y$365, 'Polar 0-360'!Y$363 / COS!$B155,'Polar 0-360'!X155 )","v":{"$error":"#VALUE!"}},{"$f":" IF( $A155 < 'Polar 0-360'!AE$365, 'Polar 0-360'!AE$363 / COS!$B155,'Polar 0-360'!AD155 )","v":{"$error":"#VALUE!"}},{"$f":" IF( $A155 < 'Polar 0-360'!AK$365, 'Polar 0-360'!AK$363 / COS!$B155,'Polar 0-360'!AJ155 )","v":7.9024571866434634},{"$f":" IF( $A155 < 'Polar 0-360'!AQ$365, 'Polar 0-360'!AQ$363 / COS!$B155,'Polar 0-360'!AP155 )","v":{"$error":"#VALUE!"}}]
[{"$f":"'Polar 0-360'!A156","v":154},0,{"$f":" IF( $A156 < 'Polar 0-360'!G$365, 'Polar 0-360'!G$363 / COS!$B156,'Polar 0-360'!F156 )","v":{"$error":"#VALUE!"}},{"$f":" IF( $A156 < 'Polar 0-360'!M$365, 'Polar 0-360'!M$363 / COS!$B156,'Polar 0-360'!L156 )","v":{"$error":"#VALUE!"}},{"$f":" IF( $A156 < 'Polar 0-360'!S$365, 'Polar 0-360'!S$363 / COS!$B156,'Polar 0-360'!R156 )","v":{"$error":"#VALUE!"}},{"$f":" IF( $A156 < 'Polar 0-360'!Y$365, 'Polar 0-360'!Y$363 / COS!$B156,'Polar 0-360'!X156 )","v":{"$error":"#VALUE!"}},{"$f":" IF( $A156 < 'Polar 0-360'!AE$365, 'Polar 0-360'!AE$363 / COS!$B156,'Polar 0-360'!AD156 )","v":{"$error":"#VALUE!"}},{"$f":" IF( $A156 < 'Polar 0-360'!AK$365, 'Polar 0-360'!AK$363 / COS!$B156,'Polar 0-360'!AJ156 )","v":7.8887719828973744},{"$f":" IF( $A156 < 'Polar 0-360'!AQ$365, 'Polar 0-360'!AQ$363 / COS!$B156,'Polar 0-360'!AP156 )","v":{"$error":"#VALUE!"}}]
[{"$f":"'Polar 0-360'!A157","v":155},0,{"$f":" IF( $A157 < 'Polar 0-360'!G$365, 'Polar 0-360'!G$363 / COS!$B157,'Polar 0-360'!F157 )","v":{"$error":"#VALUE!"}},{"$f":" IF( $A157 < 'Polar 0-360'!M$365, 'Polar 0-360'!M$363 / COS!$B157,'Polar 0-360'!L157 )","v":{"$error":"#VALUE!"}},{"$f":" IF( $A157 < 'Polar 0-360'!S$365, 'Polar 0-360'!S$363 / COS!$B157,'Polar 0-360'!R157 )","v":{"$error":"#VALUE!"}},{"$f":" IF( $A157 < 'Polar 0-360'!Y$365, 'Polar 0-360'!Y$363 / COS!$B157,'Polar 0-360'!X157 )","v":{"$error":"#VALUE!"}},{"$f":" IF( $A157 < 'Polar 0-360'!AE$365, 'Polar 0-360'!AE$363 / COS!$B157,'Polar 0-360'!AD157 )","v":{"$error":"#VALUE!"}},{"$f":" IF( $A157 < 'Polar 0-360'!AK$365, 'Polar 0-360'!AK$363 / COS!$B157,'Polar 0-360'!AJ157 )","v":7.8750867791512853},{"$f":" IF( $A157 < 'Polar 0-360'!AQ$365, 'Polar 0-360'!AQ$363 / COS!$B157,'Polar 0-360'!AP157 )","v":{"$error":"#VALUE!"}}]
[{"$f":"'Polar 0-360'!A158","v":156},0,{"$f":" IF( $A158 < 'Polar 0-360'!G$365, 'Polar 0-360'!G$363 / COS!$B158,'Polar 0-360'!F158 )","v":{"$error":"#VALUE!"}},{"$f":" IF( $A158 < 'Polar 0-360'!M$365, 'Polar 0-360'!M$363 / COS!$B158,'Polar 0-360'!L158 )","v":{"$error":"#VALUE!"}},{"$f":" IF( $A158 < 'Polar 0-360'!S$365, 'Polar 0-360'!S$363 / COS!$B158,'Polar 0-360'!R158 )","v":{"$error":"#VALUE!"}},{"$f":" IF( $A158 < 'Polar 0-360'!Y$365, 'Polar 0-360'!Y$363 / COS!$B158,'Polar 0-360'!X158 )","v":{"$error":"#VALUE!"}},{"$f":" IF( $A158 < 'Polar 0-360'!AE$365, 'Polar 0-360'!AE$363 / COS!$B158,'Polar 0-360'!AD158 )","v":{"$error":"#VALUE!"}},{"$f":" IF( $A158 < 'Polar 0-360'!AK$365, 'Polar 0-360'!AK$363 / COS!$B158,'Polar 0-360'!AJ158 )","v":7.8614015754051962},{"$f":" IF( $A158 < 'Polar 0-360'!AQ$365, 'Polar 0-360'!AQ$363 / COS!$B158,'Polar 0-360'!AP158 )","v":{"$error":"#VALUE!"}}]
[{"$f":"'Polar 0-360'!A159","v":157},0,{"$f":" IF( $A159 < 'Polar 0-360'!G$365, 'Polar 0-360'!G$363 / COS!$B159,'Polar 0-360'!F159 )","v":{"$error":"#VALUE!"}},{"$f":" IF( $A159 < 'Polar 0-360'!M$365, 'Polar 0-360'!M$363 / COS!$B159,'Polar 0-360'!L159 )","v":{"$error":"#VALUE!"}},{"$f":" IF( $A159 < 'Polar 0-360'!S$365, 'Polar 0-360'!S$363 / COS!$B159,'Polar 0-360'!R159 )","v":{"$error":"#VALUE!"}},{"$f":" IF( $A159 < 'Polar 0-360'!Y$365, 'Polar 0-360'!Y$363 / COS!$B159,'Polar 0-360'!X159 )","v":{"$error":"#VALUE!"}},{"$f":" IF( $A159 < 'Polar 0-360'!AE$365, 'Polar 0-360'!AE$363 / COS!$B159,'Polar 0-360'!AD159 )","v":{"$error":"#VALUE!"}},{"$f":" IF( $A159 < 'Polar 0-360'!AK$365, 'Polar 0-360'!AK$363 / COS!$B159,'Polar 0-360'!AJ159 )","v":7.8477163716591072},{"$f":" IF( $A159 < 'Polar 0-360'!AQ$365, 'Polar 0-360'!AQ$363 / COS!$B159,'Polar 0-360'!AP159 )","v":{"$error":"#VALUE!"}}]
[{"$f":"'Polar 0-360'!A160","v":158},0,{"$f":" IF( $A160 < 'Polar 0-360'!G$365, 'Polar 0-360'!G$363 / COS!$B160,'Polar 0-360'!F160 )","v":{"$error":"#VALUE!"}},{"$f":" IF( $A160 < 'Polar 0-360'!M$365, 'Polar 0-360'!M$363 / COS!$B160,'Polar 0-360'!L160 )","v":{"$error":"#VALUE!"}},{"$f":" IF( $A160 < 'Polar 0-360'!S$365, 'Polar 0-360'!S$363 / COS!$B160,'Polar 0-360'!R160 )","v":{"$error":"#VALUE!"}},{"$f":" IF( $A160 < 'Polar 0-360'!Y$365, 'Polar 0-360'!Y$363 / COS!$B160,'Polar 0-360'!X160 )","v":{"$error":"#VALUE!"}},{"$f":" IF( $A160 < 'Polar 0-360'!AE$365, 'Polar 0-360'!AE$363 / COS!$B160,'Polar 0-360'!AD160 )","v":{"$error":"#VALUE!"}},{"$f":" IF( $A160 < 'Polar 0-360'!AK$365, 'Polar 0-360'!AK$363 / COS!$B160,'Polar 0-360'!AJ160 )","v":7.8340311679130181},{"$f":" IF( $A160 < 'Polar 0-360'!AQ$365, 'Polar 0-360'!AQ$363 / COS!$B160,'Polar 0-360'!AP160 )","v":{"$error":"#VALUE!"}}]
[{"$f":"'Polar 0-360'!A161","v":159},0,{"$f":" IF( $A161 < 'Polar 0-360'!G$365, 'Polar 0-360'!G$363 / COS!$B161,'Polar 0-360'!F161 )","v":{"$error":"#VALUE!"}},{"$f":" IF( $A161 < 'Polar 0-360'!M$365, 'Polar 0-360'!M$363 / COS!$B161,'Polar 0-360'!L161 )","v":{"$error":"#VALUE!"}},{"$f":" IF( $A161 < 'Polar 0-360'!S$365, 'Polar 0-360'!S$363 / COS!$B161,'Polar 0-360'!R161 )","v":{"$error":"#VALUE!"}},{"$f":" IF( $A161 < 'Polar 0-360'!Y$365, 'Polar 0-360'!Y$363 / COS!$B161,'Polar 0-360'!X161 )","v":{"$error":"#VALUE!"}},{"$f":" IF( $A161 < 'Polar 0-360'!AE$365, 'Polar 0-360'!AE$363 / COS!$B161,'Polar 0-360'!AD161 )","v":{"$error":"#VALUE!"}},{"$f":" IF( $A161 < 'Polar 0-360'!AK$365, 'Polar 0-360'!AK$363 / COS!$B161,'Polar 0-360'!AJ161 )","v":7.8203459641669291},{"$f":" IF( $A161 < 'Polar 0-360'!AQ$365, 'Polar 0-360'!AQ$363 / COS!$B161,'Polar 0-360'!AP161 )","v":{"$error":"#VALUE!"}}]
[{"$f":"'Polar 0-360'!A162","v":160},0,{"$f":" IF( $A162 < 'Polar 0-360'!G$365, 'Polar 0-360'!G$363 / COS!$B162,'Polar 0-360'!F162 )","v":{"$error":"#VALUE!"}},{"$f":" IF( $A162 < 'Polar 0-360'!M$365, 'Polar 0-360'!M$363 / COS!$B162,'Polar 0-360'!L162 )","v":{"$error":"#VALUE!"}},{"$f":" IF( $A162 < 'Polar 0-360'!S$365, 'Polar 0-360'!S$363 / COS!$B162,'Polar 0-360'!R162 )","v":{"$error":"#VALUE!"}},{"$f":" IF( $A162 < 'Polar 0-360'!Y$365, 'Polar 0-360'!Y$363 / COS!$B162,'Polar 0-360'!X162 )","v":{"$error":"#VALUE!"}},{"$f":" IF( $A162 < 'Polar 0-360'!AE$365, 'Polar 0-360'!AE$363 / COS!$B162,'Polar 0-360'!AD162 )","v":{"$error":"#VALUE!"}},{"$f":" IF( $A162 < 'Polar 0-360'!AK$365, 'Polar 0-360'!AK$363 / COS!$B162,'Polar 0-360'!AJ162 )","v":7.80666076042084},{"$f":" IF( $A162 < 'Polar 0-360'!AQ$365, 'Polar 0-360'!AQ$363 / COS!$B162,'Polar 0-360'!AP162 )","v":{"$error":"#VALUE!"}}]
[{"$f":"'Polar 0-360'!A163","v":161},0,{"$f":" IF( $A163 < 'Polar 0-360'!G$365, 'Polar 0-360'!G$363 / COS!$B163,'Polar 0-360'!F163 )","v":{"$error":"#VALUE!"}},{"$f":" IF( $A163 < 'Polar 0-360'!M$365, 'Polar 0-360'!M$363 / COS!$B163,'Polar 0-360'!L163 )","v":{"$error":"#VALUE!"}},{"$f":" IF( $A163 < 'Polar 0-360'!S$365, 'Polar 0-360'!S$363 / COS!$B163,'Polar 0-360'!R163 )","v":{"$error":"#VALUE!"}},{"$f":" IF( $A163 < 'Polar 0-360'!Y$365, 'Polar 0-360'!Y$363 / COS!$B163,'Polar 0-360'!X163 )","v":{"$error":"#VALUE!"}},{"$f":" IF( $A163 < 'Polar 0-360'!AE$365, 'Polar 0-360'!AE$363 / COS!$B163,'Polar 0-360'!AD163 )","v":{"$error":"#VALUE!"}},{"$f":" IF( $A163 < 'Polar 0-360'!AK$365, 'Polar 0-360'!AK$363 / COS!$B163,'Polar 0-360'!AJ163 )","v":7.7929755566747509},{"$f":" IF( $A163 < 'Polar 0-360'!AQ$365, 'Polar 0-360'!AQ$363 / COS!$B163,'Polar 0-360'!AP163 )","v":{"$error":"#VALUE!"}}]
[{"$f":"'Polar 0-360'!A164","v":162},0,{"$f":" IF( $A164 < 'Polar 0-360'!G$365, 'Polar 0-360'!G$363 / COS!$B164,'Polar 0-360'!F164 )","v":{"$error":"#VALUE!"}},{"$f":" IF( $A164 < 'Polar 0-360'!M$365, 'Polar 0-360'!M$363 / COS!$B164,'Polar 0-360'!L164 )","v":{"$error":"#VALUE!"}},{"$f":" IF( $A164 < 'Polar 0-360'!S$365, 'Polar 0-360'!S$363 / COS!$B164,'Polar 0-360'!R164 )","v":{"$error":"#VALUE!"}},{"$f":" IF( $A164 < 'Polar 0-360'!Y$365, 'Polar 0-360'!Y$363 / COS!$B164,'Polar 0-360'!X164 )","v":{"$error":"#VALUE!"}},{"$f":" IF( $A164 < 'Polar 0-360'!AE$365, 'Polar 0-360'!AE$363 / COS!$B164,'Polar 0-360'!AD164 )","v":{"$error":"#VALUE!"}},{"$f":" IF( $A164 < 'Polar 0-360'!AK$365, 'Polar 0-360'!AK$363 / COS!$B164,'Polar 0-360'!AJ164 )","v":7.7792903529286619},{"$f":" IF( $A164 < 'Polar 0-360'!AQ$365, 'Polar 0-360'!AQ$363 / COS!$B164,'Polar 0-360'!AP164 )","v":{"$error":"#VALUE!"}}]
[{"$f":"'Polar 0-360'!A165","v":163},0,{"$f":" IF( $A165 < 'Polar 0-360'!G$365, 'Polar 0-360'!G$363 / COS!$B165,'Polar 0-360'!F165 )","v":{"$error":"#VALUE!"}},{"$f":" IF( $A165 < 'Polar 0-360'!M$365, 'Polar 0-360'!M$363 / COS!$B165,'Polar 0-360'!L165 )","v":{"$error":"#VALUE!"}},{"$f":" IF( $A165 < 'Polar 0-360'!S$365, 'Polar 0-360'!S$363 / COS!$B165,'Polar 0-360'!R165 )","v":{"$error":"#VALUE!"}},{"$f":" IF( $A165 < 'Polar 0-360'!Y$365, 'Polar 0-360'!Y$363 / COS!$B165,'Polar 0-360'!X165 )","v":{"$error":"#VALUE!"}},{"$f":" IF( $A165 < 'Polar 0-360'!AE$365, 'Polar 0-360'!AE$363 / COS!$B165,'Polar 0-360'!AD165 )","v":{"$error":"#VALUE!"}},{"$f":" IF( $A165 < 'Polar 0-360'!AK$365, 'Polar 0-360'!AK$363 / COS!$B165,'Polar 0-360'!AJ165 )","v":7.7656051491825728},{"$f":" IF( $A165 < 'Polar 0-360'!AQ$365, 'Polar 0-360'!AQ$363 / COS!$B165,'Polar 0-360'!AP165 )","v":{"$error":"#VALUE!"}}]
[{"$f":"'Polar 0-360'!A166","v":164},0,{"$f":" IF( $A166 < 'Polar 0-360'!G$365, 'Polar 0-360'!G$363 / COS!$B166,'Polar 0-360'!F166 )","v":{"$error":"#VALUE!"}},{"$f":" IF( $A166 < 'Polar 0-360'!M$365, 'Polar 0-360'!M$363 / COS!$B166,'Polar 0-360'!L166 )","v":{"$error":"#VALUE!"}},{"$f":" IF( $A166 < 'Polar 0-360'!S$365, 'Polar 0-360'!S$363 / COS!$B166,'Polar 0-360'!R166 )","v":{"$error":"#VALUE!"}},{"$f":" IF( $A166 < 'Polar 0-360'!Y$365, 'Polar 0-360'!Y$363 / COS!$B166,'Polar 0-360'!X166 )","v":{"$error":"#VALUE!"}},{"$f":" IF( $A166 < 'Polar 0-360'!AE$365, 'Polar 0-360'!AE$363 / COS!$B166,'Polar 0-360'!AD166 )","v":{"$error":"#VALUE!"}},{"$f":" IF( $A166 < 'Polar 0-360'!AK$365, 'Polar 0-360'!AK$363 / COS!$B166,'Polar 0-360'!AJ166 )","v":7.7519199454364838},{"$f":" IF( $A166 < 'Polar 0-360'!AQ$365, 'Polar 0-360'!AQ$363 / COS!$B166,'Polar 0-360'!AP166 )","v":{"$error":"#VALUE!"}}]
[{"$f":"'Polar 0-360'!A167","v":165},0,{"$f":" IF( $A167 < 'Polar 0-360'!G$365, 'Polar 0-360'!G$363 / COS!$B167,'Polar 0-360'!F167 )","v":{"$error":"#VALUE!"}},{"$f":" IF( $A167 < 'Polar 0-360'!M$365, 'Polar 0-360'!M$363 / COS!$B167,'Polar 0-360'!L167 )","v":{"$error":"#VALUE!"}},{"$f":" IF( $A167 < 'Polar 0-360'!S$365, 'Polar 0-360'!S$363 / COS!$B167,'Polar 0-360'!R167 )","v":{"$error":"#VALUE!"}},{"$f":" IF( $A167 < 'Polar 0-360'!Y$365, 'Polar 0-360'!Y$363 / COS!$B167,'Polar 0-360'!X167 )","v":{"$error":"#VALUE!"}},{"$f":" IF( $A167 < 'Polar 0-360'!AE$365, 'Polar 0-360'!AE$363 / COS!$B167,'Polar 0-360'!AD167 )","v":{"$error":"#VALUE!"}},{"$f":" IF( $A167 < 'Polar 0-360'!AK$365, 'Polar 0-360'!AK$363 / COS!$B167,'Polar 0-360'!AJ167 )","v":7.7382347416903947},{"$f":" IF( $A167 < 'Polar 0-360'!AQ$365, 'Polar 0-360'!AQ$363 / COS!$B167,'Polar 0-360'!AP167 )","v":{"$error":"#VALUE!"}}]
[{"$f":"'Polar 0-360'!A168","v":166},0,{"$f":" IF( $A168 < 'Polar 0-360'!G$365, 'Polar 0-360'!G$363 / COS!$B168,'Polar 0-360'!F168 )","v":{"$error":"#VALUE!"}},{"$f":" IF( $A168 < 'Polar 0-360'!M$365, 'Polar 0-360'!M$363 / COS!$B168,'Polar 0-360'!L168 )","v":{"$error":"#VALUE!"}},{"$f":" IF( $A168 < 'Polar 0-360'!S$365, 'Polar 0-360'!S$363 / COS!$B168,'Polar 0-360'!R168 )","v":{"$error":"#VALUE!"}},{"$f":" IF( $A168 < 'Polar 0-360'!Y$365, 'Polar 0-360'!Y$363 / COS!$B168,'Polar 0-360'!X168 )","v":{"$error":"#VALUE!"}},{"$f":" IF( $A168 < 'Polar 0-360'!AE$365, 'Polar 0-360'!AE$363 / COS!$B168,'Polar 0-360'!AD168 )","v":{"$error":"#VALUE!"}},{"$f":" IF( $A168 < 'Polar 0-360'!AK$365, 'Polar 0-360'!AK$363 / COS!$B168,'Polar 0-360'!AJ168 )","v":7.7245495379443057},{"$f":" IF( $A168 < 'Polar 0-360'!AQ$365, 'Polar 0-360'!AQ$363 / COS!$B168,'Polar 0-360'!AP168 )","v":{"$error":"#VALUE!"}}]
[{"$f":"'Polar 0-360'!A169","v":167},0,{"$f":" IF( $A169 < 'Polar 0-360'!G$365, 'Polar 0-360'!G$363 / COS!$B169,'Polar 0-360'!F169 )","v":{"$error":"#VALUE!"}},{"$f":" IF( $A169 < 'Polar 0-360'!M$365, 'Polar 0-360'!M$363 / COS!$B169,'Polar 0-360'!L169 )","v":{"$error":"#VALUE!"}},{"$f":" IF( $A169 < 'Polar 0-360'!S$365, 'Polar 0-360'!S$363 / COS!$B169,'Polar 0-360'!R169 )","v":{"$error":"#VALUE!"}},{"$f":" IF( $A169 < 'Polar 0-360'!Y$365, 'Polar 0-360'!Y$363 / COS!$B169,'Polar 0-360'!X169 )","v":{"$error":"#VALUE!"}},{"$f":" IF( $A169 < 'Polar 0-360'!AE$365, 'Polar 0-360'!AE$363 / COS!$B169,'Polar 0-360'!AD169 )","v":{"$error":"#VALUE!"}},{"$f":" IF( $A169 < 'Polar 0-360'!AK$365, 'Polar 0-360'!AK$363 / COS!$B169,'Polar 0-360'!AJ169 )","v":7.7108643341982166},{"$f":" IF( $A169 < 'Polar 0-360'!AQ$365, 'Polar 0-360'!AQ$363 / COS!$B169,'Polar 0-360'!AP169 )","v":{"$error":"#VALUE!"}}]
[{"$f":"'Polar 0-360'!A170","v":168},0,{"$f":" IF( $A170 < 'Polar 0-360'!G$365, 'Polar 0-360'!G$363 / COS!$B170,'Polar 0-360'!F170 )","v":{"$error":"#VALUE!"}},{"$f":" IF( $A170 < 'Polar 0-360'!M$365, 'Polar 0-360'!M$363 / COS!$B170,'Polar 0-360'!L170 )","v":{"$error":"#VALUE!"}},{"$f":" IF( $A170 < 'Polar 0-360'!S$365, 'Polar 0-360'!S$363 / COS!$B170,'Polar 0-360'!R170 )","v":{"$error":"#VALUE!"}},{"$f":" IF( $A170 < 'Polar 0-360'!Y$365, 'Polar 0-360'!Y$363 / COS!$B170,'Polar 0-360'!X170 )","v":{"$error":"#VALUE!"}},{"$f":" IF( $A170 < 'Polar 0-360'!AE$365, 'Polar 0-360'!AE$363 / COS!$B170,'Polar 0-360'!AD170 )","v":{"$error":"#VALUE!"}},{"$f":" IF( $A170 < 'Polar 0-360'!AK$365, 'Polar 0-360'!AK$363 / COS!$B170,'Polar 0-360'!AJ170 )","v":7.6971791304521275},{"$f":" IF( $A170 < 'Polar 0-360'!AQ$365, 'Polar 0-360'!AQ$363 / COS!$B170,'Polar 0-360'!AP170 )","v":{"$error":"#VALUE!"}}]
[{"$f":"'Polar 0-360'!A171","v":169},0,{"$f":" IF( $A171 < 'Polar 0-360'!G$365, 'Polar 0-360'!G$363 / COS!$B171,'Polar 0-360'!F171 )","v":{"$error":"#VALUE!"}},{"$f":" IF( $A171 < 'Polar 0-360'!M$365, 'Polar 0-360'!M$363 / COS!$B171,'Polar 0-360'!L171 )","v":{"$error":"#VALUE!"}},{"$f":" IF( $A171 < 'Polar 0-360'!S$365, 'Polar 0-360'!S$363 / COS!$B171,'Polar 0-360'!R171 )","v":{"$error":"#VALUE!"}},{"$f":" IF( $A171 < 'Polar 0-360'!Y$365, 'Polar 0-360'!Y$363 / COS!$B171,'Polar 0-360'!X171 )","v":{"$error":"#VALUE!"}},{"$f":" IF( $A171 < 'Polar 0-360'!AE$365, 'Polar 0-360'!AE$363 / COS!$B171,'Polar 0-360'!AD171 )","v":{"$error":"#VALUE!"}},{"$f":" IF( $A171 < 'Polar 0-360'!AK$365, 'Polar 0-360'!AK$363 / COS!$B171,'Polar 0-360'!AJ171 )","v":7.6834939267060385},{"$f":" IF( $A171 < 'Polar 0-360'!AQ$365, 'Polar 0-360'!AQ$363 / COS!$B171,'Polar 0-360'!AP171 )","v":{"$error":"#VALUE!"}}]
[{"$f":"'Polar 0-360'!A172","v":170},0,{"$f":" IF( $A172 < 'Polar 0-360'!G$365, 'Polar 0-360'!G$363 / COS!$B172,'Polar 0-360'!F172 )","v":{"$error":"#VALUE!"}},{"$f":" IF( $A172 < 'Polar 0-360'!M$365, 'Polar 0-360'!M$363 / COS!$B172,'Polar 0-360'!L172 )","v":{"$error":"#VALUE!"}},{"$f":" IF( $A172 < 'Polar 0-360'!S$365, 'Polar 0-360'!S$363 / COS!$B172,'Polar 0-360'!R172 )","v":{"$error":"#VALUE!"}},{"$f":" IF( $A172 < 'Polar 0-360'!Y$365, 'Polar 0-360'!Y$363 / COS!$B172,'Polar 0-360'!X172 )","v":{"$error":"#VALUE!"}},{"$f":" IF( $A172 < 'Polar 0-360'!AE$365, 'Polar 0-360'!AE$363 / COS!$B172,'Polar 0-360'!AD172 )","v":{"$error":"#VALUE!"}},{"$f":" IF( $A172 < 'Polar 0-360'!AK$365, 'Polar 0-360'!AK$363 / COS!$B172,'Polar 0-360'!AJ172 )","v":7.6698087229599494},{"$f":" IF( $A172 < 'Polar 0-360'!AQ$365, 'Polar 0-360'!AQ$363 / COS!$B172,'Polar 0-360'!AP172 )","v":{"$error":"#VALUE!"}}]
[{"$f":"'Polar 0-360'!A173","v":171},0,{"$f":" IF( $A173 < 'Polar 0-360'!G$365, 'Polar 0-360'!G$363 / COS!$B173,'Polar 0-360'!F173 )","v":{"$error":"#VALUE!"}},{"$f":" IF( $A173 < 'Polar 0-360'!M$365, 'Polar 0-360'!M$363 / COS!$B173,'Polar 0-360'!L173 )","v":{"$error":"#VALUE!"}},{"$f":" IF( $A173 < 'Polar 0-360'!S$365, 'Polar 0-360'!S$363 / COS!$B173,'Polar 0-360'!R173 )","v":{"$error":"#VALUE!"}},{"$f":" IF( $A173 < 'Polar 0-360'!Y$365, 'Polar 0-360'!Y$363 / COS!$B173,'Polar 0-360'!X173 )","v":{"$error":"#VALUE!"}},{"$f":" IF( $A173 < 'Polar 0-360'!AE$365, 'Polar 0-360'!AE$363 / COS!$B173,'Polar 0-360'!AD173 )","v":{"$error":"#VALUE!"}},{"$f":" IF( $A173 < 'Polar 0-360'!AK$365, 'Polar 0-360'!AK$363 / COS!$B173,'Polar 0-360'!AJ173 )","v":7.6561235192138604},{"$f":" IF( $A173 < 'Polar 0-360'!AQ$365, 'Polar 0-360'!AQ$363 / COS!$B173,'Polar 0-360'!AP173 )","v":{"$error":"#VALUE!"}}]
[{"$f":"'Polar 0-360'!A174","v":172},0,{"$f":" IF( $A174 < 'Polar 0-360'!G$365, 'Polar 0-360'!G$363 / COS!$B174,'Polar 0-360'!F174 )","v":{"$error":"#VALUE!"}},{"$f":" IF( $A174 < 'Polar 0-360'!M$365, 'Polar 0-360'!M$363 / COS!$B174,'Polar 0-360'!L174 )","v":{"$error":"#VALUE!"}},{"$f":" IF( $A174 < 'Polar 0-360'!S$365, 'Polar 0-360'!S$363 / COS!$B174,'Polar 0-360'!R174 )","v":{"$error":"#VALUE!"}},{"$f":" IF( $A174 < 'Polar 0-360'!Y$365, 'Polar 0-360'!Y$363 / COS!$B174,'Polar 0-360'!X174 )","v":{"$error":"#VALUE!"}},{"$f":" IF( $A174 < 'Polar 0-360'!AE$365, 'Polar 0-360'!AE$363 / COS!$B174,'Polar 0-360'!AD174 )","v":{"$error":"#VALUE!"}},{"$f":" IF( $A174 < 'Polar 0-360'!AK$365, 'Polar 0-360'!AK$363 / COS!$B174,'Polar 0-360'!AJ174 )","v":7.6424383154677713},{"$f":" IF( $A174 < 'Polar 0-360'!AQ$365, 'Polar 0-360'!AQ$363 / COS!$B174,'Polar 0-360'!AP174 )","v":{"$error":"#VALUE!"}}]
[{"$f":"'Polar 0-360'!A175","v":173},0,{"$f":" IF( $A175 < 'Polar 0-360'!G$365, 'Polar 0-360'!G$363 / COS!$B175,'Polar 0-360'!F175 )","v":{"$error":"#VALUE!"}},{"$f":" IF( $A175 < 'Polar 0-360'!M$365, 'Polar 0-360'!M$363 / COS!$B175,'Polar 0-360'!L175 )","v":{"$error":"#VALUE!"}},{"$f":" IF( $A175 < 'Polar 0-360'!S$365, 'Polar 0-360'!S$363 / COS!$B175,'Polar 0-360'!R175 )","v":{"$error":"#VALUE!"}},{"$f":" IF( $A175 < 'Polar 0-360'!Y$365, 'Polar 0-360'!Y$363 / COS!$B175,'Polar 0-360'!X175 )","v":{"$error":"#VALUE!"}},{"$f":" IF( $A175 < 'Polar 0-360'!AE$365, 'Polar 0-360'!AE$363 / COS!$B175,'Polar 0-360'!AD175 )","v":{"$error":"#VALUE!"}},{"$f":" IF( $A175 < 'Polar 0-360'!AK$365, 'Polar 0-360'!AK$363 / COS!$B175,'Polar 0-360'!AJ175 )","v":7.6287531117216831},{"$f":" IF( $A175 < 'Polar 0-360'!AQ$365, 'Polar 0-360'!AQ$363 / COS!$B175,'Polar 0-360'!AP175 )","v":{"$error":"#VALUE!"}}]
[{"$f":"'Polar 0-360'!A176","v":174},0,{"$f":" IF( $A176 < 'Polar 0-360'!G$365, 'Polar 0-360'!G$363 / COS!$B176,'Polar 0-360'!F176 )","v":{"$error":"#VALUE!"}},{"$f":" IF( $A176 < 'Polar 0-360'!M$365, 'Polar 0-360'!M$363 / COS!$B176,'Polar 0-360'!L176 )","v":{"$error":"#VALUE!"}},{"$f":" IF( $A176 < 'Polar 0-360'!S$365, 'Polar 0-360'!S$363 / COS!$B176,'Polar 0-360'!R176 )","v":{"$error":"#VALUE!"}},{"$f":" IF( $A176 < 'Polar 0-360'!Y$365, 'Polar 0-360'!Y$363 / COS!$B176,'Polar 0-360'!X176 )","v":{"$error":"#VALUE!"}},{"$f":" IF( $A176 < 'Polar 0-360'!AE$365, 'Polar 0-360'!AE$363 / COS!$B176,'Polar 0-360'!AD176 )","v":{"$error":"#VALUE!"}},{"$f":" IF( $A176 < 'Polar 0-360'!AK$365, 'Polar 0-360'!AK$363 / COS!$B176,'Polar 0-360'!AJ176 )","v":7.6150679079755941},{"$f":" IF( $A176 < 'Polar 0-360'!AQ$365, 'Polar 0-360'!AQ$363 / COS!$B176,'Polar 0-360'!AP176 )","v":{"$error":"#VALUE!"}}]
[{"$f":"'Polar 0-360'!A177","v":175},0,{"$f":" IF( $A177 < 'Polar 0-360'!G$365, 'Polar 0-360'!G$363 / COS!$B177,'Polar 0-360'!F177 )","v":{"$error":"#VALUE!"}},{"$f":" IF( $A177 < 'Polar 0-360'!M$365, 'Polar 0-360'!M$363 / COS!$B177,'Polar 0-360'!L177 )","v":{"$error":"#VALUE!"}},{"$f":" IF( $A177 < 'Polar 0-360'!S$365, 'Polar 0-360'!S$363 / COS!$B177,'Polar 0-360'!R177 )","v":{"$error":"#VALUE!"}},{"$f":" IF( $A177 < 'Polar 0-360'!Y$365, 'Polar 0-360'!Y$363 / COS!$B177,'Polar 0-360'!X177 )","v":{"$error":"#VALUE!"}},{"$f":" IF( $A177 < 'Polar 0-360'!AE$365, 'Polar 0-360'!AE$363 / COS!$B177,'Polar 0-360'!AD177 )","v":{"$error":"#VALUE!"}},{"$f":" IF( $A177 < 'Polar 0-360'!AK$365, 'Polar 0-360'!AK$363 / COS!$B177,'Polar 0-360'!AJ177 )","v":7.601382704229505},{"$f":" IF( $A177 < 'Polar 0-360'!AQ$365, 'Polar 0-360'!AQ$363 / COS!$B177,'Polar 0-360'!AP177 )","v":{"$error":"#VALUE!"}}]
[{"$f":"'Polar 0-360'!A178","v":176},0,{"$f":" IF( $A178 < 'Polar 0-360'!G$365, 'Polar 0-360'!G$363 / COS!$B178,'Polar 0-360'!F178 )","v":{"$error":"#VALUE!"}},{"$f":" IF( $A178 < 'Polar 0-360'!M$365, 'Polar 0-360'!M$363 / COS!$B178,'Polar 0-360'!L178 )","v":{"$error":"#VALUE!"}},{"$f":" IF( $A178 < 'Polar 0-360'!S$365, 'Polar 0-360'!S$363 / COS!$B178,'Polar 0-360'!R178 )","v":{"$error":"#VALUE!"}},{"$f":" IF( $A178 < 'Polar 0-360'!Y$365, 'Polar 0-360'!Y$363 / COS!$B178,'Polar 0-360'!X178 )","v":{"$error":"#VALUE!"}},{"$f":" IF( $A178 < 'Polar 0-360'!AE$365, 'Polar 0-360'!AE$363 / COS!$B178,'Polar 0-360'!AD178 )","v":{"$error":"#VALUE!"}},{"$f":" IF( $A178 < 'Polar 0-360'!AK$365, 'Polar 0-360'!AK$363 / COS!$B178,'Polar 0-360'!AJ178 )","v":7.587697500483416},{"$f":" IF( $A178 < 'Polar 0-360'!AQ$365, 'Polar 0-360'!AQ$363 / COS!$B178,'Polar 0-360'!AP178 )","v":{"$error":"#VALUE!"}}]
[{"$f":"'Polar 0-360'!A179","v":177},0,{"$f":" IF( $A179 < 'Polar 0-360'!G$365, 'Polar 0-360'!G$363 / COS!$B179,'Polar 0-360'!F179 )","v":{"$error":"#VALUE!"}},{"$f":" IF( $A179 < 'Polar 0-360'!M$365, 'Polar 0-360'!M$363 / COS!$B179,'Polar 0-360'!L179 )","v":{"$error":"#VALUE!"}},{"$f":" IF( $A179 < 'Polar 0-360'!S$365, 'Polar 0-360'!S$363 / COS!$B179,'Polar 0-360'!R179 )","v":{"$error":"#VALUE!"}},{"$f":" IF( $A179 < 'Polar 0-360'!Y$365, 'Polar 0-360'!Y$363 / COS!$B179,'Polar 0-360'!X179 )","v":{"$error":"#VALUE!"}},{"$f":" IF( $A179 < 'Polar 0-360'!AE$365, 'Polar 0-360'!AE$363 / COS!$B179,'Polar 0-360'!AD179 )","v":{"$error":"#VALUE!"}},{"$f":" IF( $A179 < 'Polar 0-360'!AK$365, 'Polar 0-360'!AK$363 / COS!$B179,'Polar 0-360'!AJ179 )","v":7.5740122967373269},{"$f":" IF( $A179 < 'Polar 0-360'!AQ$365, 'Polar 0-360'!AQ$363 / COS!$B179,'Polar 0-360'!AP179 )","v":{"$error":"#VALUE!"}}]
[{"$f":"'Polar 0-360'!A180","v":178},0,{"$f":" IF( $A180 < 'Polar 0-360'!G$365, 'Polar 0-360'!G$363 / COS!$B180,'Polar 0-360'!F180 )","v":{"$error":"#VALUE!"}},{"$f":" IF( $A180 < 'Polar 0-360'!M$365, 'Polar 0-360'!M$363 / COS!$B180,'Polar 0-360'!L180 )","v":{"$error":"#VALUE!"}},{"$f":" IF( $A180 < 'Polar 0-360'!S$365, 'Polar 0-360'!S$363 / COS!$B180,'Polar 0-360'!R180 )","v":{"$error":"#VALUE!"}},{"$f":" IF( $A180 < 'Polar 0-360'!Y$365, 'Polar 0-360'!Y$363 / COS!$B180,'Polar 0-360'!X180 )","v":{"$error":"#VALUE!"}},{"$f":" IF( $A180 < 'Polar 0-360'!AE$365, 'Polar 0-360'!AE$363 / COS!$B180,'Polar 0-360'!AD180 )","v":{"$error":"#VALUE!"}},{"$f":" IF( $A180 < 'Polar 0-360'!AK$365, 'Polar 0-360'!AK$363 / COS!$B180,'Polar 0-360'!AJ180 )","v":7.5603270929912378},{"$f":" IF( $A180 < 'Polar 0-360'!AQ$365, 'Polar 0-360'!AQ$363 / COS!$B180,'Polar 0-360'!AP180 )","v":{"$error":"#VALUE!"}}]
[{"$f":"'Polar 0-360'!A181","v":179},0,{"$f":" IF( $A181 < 'Polar 0-360'!G$365, 'Polar 0-360'!G$363 / COS!$B181,'Polar 0-360'!F181 )","v":{"$error":"#VALUE!"}},{"$f":" IF( $A181 < 'Polar 0-360'!M$365, 'Polar 0-360'!M$363 / COS!$B181,'Polar 0-360'!L181 )","v":{"$error":"#VALUE!"}},{"$f":" IF( $A181 < 'Polar 0-360'!S$365, 'Polar 0-360'!S$363 / COS!$B181,'Polar 0-360'!R181 )","v":{"$error":"#VALUE!"}},{"$f":" IF( $A181 < 'Polar 0-360'!Y$365, 'Polar 0-360'!Y$363 / COS!$B181,'Polar 0-360'!X181 )","v":{"$error":"#VALUE!"}},{"$f":" IF( $A181 < 'Polar 0-360'!AE$365, 'Polar 0-360'!AE$363 / COS!$B181,'Polar 0-360'!AD181 )","v":{"$error":"#VALUE!"}},{"$f":" IF( $A181 < 'Polar 0-360'!AK$365, 'Polar 0-360'!AK$363 / COS!$B181,'Polar 0-360'!AJ181 )","v":7.5466418892451488},{"$f":" IF( $A181 < 'Polar 0-360'!AQ$365, 'Polar 0-360'!AQ$363 / COS!$B181,'Polar 0-360'!AP181 )","v":{"$error":"#VALUE!"}}]
[{"$f":"'Polar 0-360'!A182","v":180},0,{"$f":" IF( $A182 < 'Polar 0-360'!G$365, 'Polar 0-360'!G$363 / COS!$B182,'Polar 0-360'!F182 )","v":{"$error":"#VALUE!"}},{"$f":" IF( $A182 < 'Polar 0-360'!M$365, 'Polar 0-360'!M$363 / COS!$B182,'Polar 0-360'!L182 )","v":{"$error":"#VALUE!"}},{"$f":" IF( $A182 < 'Polar 0-360'!S$365, 'Polar 0-360'!S$363 / COS!$B182,'Polar 0-360'!R182 )","v":{"$error":"#VALUE!"}},{"$f":" IF( $A182 < 'Polar 0-360'!Y$365, 'Polar 0-360'!Y$363 / COS!$B182,'Polar 0-360'!X182 )","v":{"$error":"#VALUE!"}},{"$f":" IF( $A182 < 'Polar 0-360'!AE$365, 'Polar 0-360'!AE$363 / COS!$B182,'Polar 0-360'!AD182 )","v":{"$error":"#VALUE!"}},{"$f":" IF( $A182 < 'Polar 0-360'!AK$365, 'Polar 0-360'!AK$363 / COS!$B182,'Polar 0-360'!AJ182 )","v":7.5329566854990588},{"$f":" IF( $A182 < 'Polar 0-360'!AQ$365, 'Polar 0-360'!AQ$363 / COS!$B182,'Polar 0-360'!AP182 )","v":{"$error":"#VALUE!"}}]
[{"$f":"'Polar 0-360'!A183","v":181},0,{"$f":" IF( $A183 < 'Polar 0-360'!G$365, 'Polar 0-360'!G$363 / COS!$B183,'Polar 0-360'!F183 )","v":{"$error":"#VALUE!"}},{"$f":" IF( $A183 < 'Polar 0-360'!M$365, 'Polar 0-360'!M$363 / COS!$B183,'Polar 0-360'!L183 )","v":{"$error":"#VALUE!"}},{"$f":" IF( $A183 < 'Polar 0-360'!S$365, 'Polar 0-360'!S$363 / COS!$B183,'Polar 0-360'!R183 )","v":{"$error":"#VALUE!"}},{"$f":" IF( $A183 < 'Polar 0-360'!Y$365, 'Polar 0-360'!Y$363 / COS!$B183,'Polar 0-360'!X183 )","v":{"$error":"#VALUE!"}},{"$f":" IF( $A183 < 'Polar 0-360'!AE$365, 'Polar 0-360'!AE$363 / COS!$B183,'Polar 0-360'!AD183 )","v":{"$error":"#VALUE!"}},{"$f":" IF( $A183 < 'Polar 0-360'!AK$365, 'Polar 0-360'!AK$363 / COS!$B183,'Polar 0-360'!AJ183 )","v":7.5466418892451488},{"$f":" IF( $A183 < 'Polar 0-360'!AQ$365, 'Polar 0-360'!AQ$363 / COS!$B183,'Polar 0-360'!AP183 )","v":{"$error":"#VALUE!"}}]
[{"$f":"'Polar 0-360'!A184","v":182},0,{"$f":" IF( $A184 < 'Polar 0-360'!G$365, 'Polar 0-360'!G$363 / COS!$B184,'Polar 0-360'!F184 )","v":{"$error":"#VALUE!"}},{"$f":" IF( $A184 < 'Polar 0-360'!M$365, 'Polar 0-360'!M$363 / COS!$B184,'Polar 0-360'!L184 )","v":{"$error":"#VALUE!"}},{"$f":" IF( $A184 < 'Polar 0-360'!S$365, 'Polar 0-360'!S$363 / COS!$B184,'Polar 0-360'!R184 )","v":{"$error":"#VALUE!"}},{"$f":" IF( $A184 < 'Polar 0-360'!Y$365, 'Polar 0-360'!Y$363 / COS!$B184,'Polar 0-360'!X184 )","v":{"$error":"#VALUE!"}},{"$f":" IF( $A184 < 'Polar 0-360'!AE$365, 'Polar 0-360'!AE$363 / COS!$B184,'Polar 0-360'!AD184 )","v":{"$error":"#VALUE!"}},{"$f":" IF( $A184 < 'Polar 0-360'!AK$365, 'Polar 0-360'!AK$363 / COS!$B184,'Polar 0-360'!AJ184 )","v":7.5603270929912378},{"$f":" IF( $A184 < 'Polar 0-360'!AQ$365, 'Polar 0-360'!AQ$363 / COS!$B184,'Polar 0-360'!AP184 )","v":{"$error":"#VALUE!"}}]
[{"$f":"'Polar 0-360'!A185","v":183},0,{"$f":" IF( $A185 < 'Polar 0-360'!G$365, 'Polar 0-360'!G$363 / COS!$B185,'Polar 0-360'!F185 )","v":{"$error":"#VALUE!"}},{"$f":" IF( $A185 < 'Polar 0-360'!M$365, 'Polar 0-360'!M$363 / COS!$B185,'Polar 0-360'!L185 )","v":{"$error":"#VALUE!"}},{"$f":" IF( $A185 < 'Polar 0-360'!S$365, 'Polar 0-360'!S$363 / COS!$B185,'Polar 0-360'!R185 )","v":{"$error":"#VALUE!"}},{"$f":" IF( $A185 < 'Polar 0-360'!Y$365, 'Polar 0-360'!Y$363 / COS!$B185,'Polar 0-360'!X185 )","v":{"$error":"#VALUE!"}},{"$f":" IF( $A185 < 'Polar 0-360'!AE$365, 'Polar 0-360'!AE$363 / COS!$B185,'Polar 0-360'!AD185 )","v":{"$error":"#VALUE!"}},{"$f":" IF( $A185 < 'Polar 0-360'!AK$365, 'Polar 0-360'!AK$363 / COS!$B185,'Polar 0-360'!AJ185 )","v":7.5740122967373269},{"$f":" IF( $A185 < 'Polar 0-360'!AQ$365, 'Polar 0-360'!AQ$363 / COS!$B185,'Polar 0-360'!AP185 )","v":{"$error":"#VALUE!"}}]
[{"$f":"'Polar 0-360'!A186","v":184},0,{"$f":" IF( $A186 < 'Polar 0-360'!G$365, 'Polar 0-360'!G$363 / COS!$B186,'Polar 0-360'!F186 )","v":{"$error":"#VALUE!"}},{"$f":" IF( $A186 < 'Polar 0-360'!M$365, 'Polar 0-360'!M$363 / COS!$B186,'Polar 0-360'!L186 )","v":{"$error":"#VALUE!"}},{"$f":" IF( $A186 < 'Polar 0-360'!S$365, 'Polar 0-360'!S$363 / COS!$B186,'Polar 0-360'!R186 )","v":{"$error":"#VALUE!"}},{"$f":" IF( $A186 < 'Polar 0-360'!Y$365, 'Polar 0-360'!Y$363 / COS!$B186,'Polar 0-360'!X186 )","v":{"$error":"#VALUE!"}},{"$f":" IF( $A186 < 'Polar 0-360'!AE$365, 'Polar 0-360'!AE$363 / COS!$B186,'Polar 0-360'!AD186 )","v":{"$error":"#VALUE!"}},{"$f":" IF( $A186 < 'Polar 0-360'!AK$365, 'Polar 0-360'!AK$363 / COS!$B186,'Polar 0-360'!AJ186 )","v":7.587697500483416},{"$f":" IF( $A186 < 'Polar 0-360'!AQ$365, 'Polar 0-360'!AQ$363 / COS!$B186,'Polar 0-360'!AP186 )","v":{"$error":"#VALUE!"}}]
[{"$f":"'Polar 0-360'!A187","v":185},0,{"$f":" IF( $A187 < 'Polar 0-360'!G$365, 'Polar 0-360'!G$363 / COS!$B187,'Polar 0-360'!F187 )","v":{"$error":"#VALUE!"}},{"$f":" IF( $A187 < 'Polar 0-360'!M$365, 'Polar 0-360'!M$363 / COS!$B187,'Polar 0-360'!L187 )","v":{"$error":"#VALUE!"}},{"$f":" IF( $A187 < 'Polar 0-360'!S$365, 'Polar 0-360'!S$363 / COS!$B187,'Polar 0-360'!R187 )","v":{"$error":"#VALUE!"}},{"$f":" IF( $A187 < 'Polar 0-360'!Y$365, 'Polar 0-360'!Y$363 / COS!$B187,'Polar 0-360'!X187 )","v":{"$error":"#VALUE!"}},{"$f":" IF( $A187 < 'Polar 0-360'!AE$365, 'Polar 0-360'!AE$363 / COS!$B187,'Polar 0-360'!AD187 )","v":{"$error":"#VALUE!"}},{"$f":" IF( $A187 < 'Polar 0-360'!AK$365, 'Polar 0-360'!AK$363 / COS!$B187,'Polar 0-360'!AJ187 )","v":7.601382704229505},{"$f":" IF( $A187 < 'Polar 0-360'!AQ$365, 'Polar 0-360'!AQ$363 / COS!$B187,'Polar 0-360'!AP187 )","v":{"$error":"#VALUE!"}}]
[{"$f":"'Polar 0-360'!A188","v":186},0,{"$f":" IF( $A188 < 'Polar 0-360'!G$365, 'Polar 0-360'!G$363 / COS!$B188,'Polar 0-360'!F188 )","v":{"$error":"#VALUE!"}},{"$f":" IF( $A188 < 'Polar 0-360'!M$365, 'Polar 0-360'!M$363 / COS!$B188,'Polar 0-360'!L188 )","v":{"$error":"#VALUE!"}},{"$f":" IF( $A188 < 'Polar 0-360'!S$365, 'Polar 0-360'!S$363 / COS!$B188,'Polar 0-360'!R188 )","v":{"$error":"#VALUE!"}},{"$f":" IF( $A188 < 'Polar 0-360'!Y$365, 'Polar 0-360'!Y$363 / COS!$B188,'Polar 0-360'!X188 )","v":{"$error":"#VALUE!"}},{"$f":" IF( $A188 < 'Polar 0-360'!AE$365, 'Polar 0-360'!AE$363 / COS!$B188,'Polar 0-360'!AD188 )","v":{"$error":"#VALUE!"}},{"$f":" IF( $A188 < 'Polar 0-360'!AK$365, 'Polar 0-360'!AK$363 / COS!$B188,'Polar 0-360'!AJ188 )","v":7.6150679079755941},{"$f":" IF( $A188 < 'Polar 0-360'!AQ$365, 'Polar 0-360'!AQ$363 / COS!$B188,'Polar 0-360'!AP188 )","v":{"$error":"#VALUE!"}}]
[{"$f":"'Polar 0-360'!A189","v":187},0,{"$f":" IF( $A189 < 'Polar 0-360'!G$365, 'Polar 0-360'!G$363 / COS!$B189,'Polar 0-360'!F189 )","v":{"$error":"#VALUE!"}},{"$f":" IF( $A189 < 'Polar 0-360'!M$365, 'Polar 0-360'!M$363 / COS!$B189,'Polar 0-360'!L189 )","v":{"$error":"#VALUE!"}},{"$f":" IF( $A189 < 'Polar 0-360'!S$365, 'Polar 0-360'!S$363 / COS!$B189,'Polar 0-360'!R189 )","v":{"$error":"#VALUE!"}},{"$f":" IF( $A189 < 'Polar 0-360'!Y$365, 'Polar 0-360'!Y$363 / COS!$B189,'Polar 0-360'!X189 )","v":{"$error":"#VALUE!"}},{"$f":" IF( $A189 < 'Polar 0-360'!AE$365, 'Polar 0-360'!AE$363 / COS!$B189,'Polar 0-360'!AD189 )","v":{"$error":"#VALUE!"}},{"$f":" IF( $A189 < 'Polar 0-360'!AK$365, 'Polar 0-360'!AK$363 / COS!$B189,'Polar 0-360'!AJ189 )","v":7.6287531117216831},{"$f":" IF( $A189 < 'Polar 0-360'!AQ$365, 'Polar 0-360'!AQ$363 / COS!$B189,'Polar 0-360'!AP189 )","v":{"$error":"#VALUE!"}}]
[{"$f":"'Polar 0-360'!A190","v":188},0,{"$f":" IF( $A190 < 'Polar 0-360'!G$365, 'Polar 0-360'!G$363 / COS!$B190,'Polar 0-360'!F190 )","v":{"$error":"#VALUE!"}},{"$f":" IF( $A190 < 'Polar 0-360'!M$365, 'Polar 0-360'!M$363 / COS!$B190,'Polar 0-360'!L190 )","v":{"$error":"#VALUE!"}},{"$f":" IF( $A190 < 'Polar 0-360'!S$365, 'Polar 0-360'!S$363 / COS!$B190,'Polar 0-360'!R190 )","v":{"$error":"#VALUE!"}},{"$f":" IF( $A190 < 'Polar 0-360'!Y$365, 'Polar 0-360'!Y$363 / COS!$B190,'Polar 0-360'!X190 )","v":{"$error":"#VALUE!"}},{"$f":" IF( $A190 < 'Polar 0-360'!AE$365, 'Polar 0-360'!AE$363 / COS!$B190,'Polar 0-360'!AD190 )","v":{"$error":"#VALUE!"}},{"$f":" IF( $A190 < 'Polar 0-360'!AK$365, 'Polar 0-360'!AK$363 / COS!$B190,'Polar 0-360'!AJ190 )","v":7.6424383154677713},{"$f":" IF( $A190 < 'Polar 0-360'!AQ$365, 'Polar 0-360'!AQ$363 / COS!$B190,'Polar 0-360'!AP190 )","v":{"$error":"#VALUE!"}}]
[{"$f":"'Polar 0-360'!A191","v":189},0,{"$f":" IF( $A191 < 'Polar 0-360'!G$365, 'Polar 0-360'!G$363 / COS!$B191,'Polar 0-360'!F191 )","v":{"$error":"#VALUE!"}},{"$f":" IF( $A191 < 'Polar 0-360'!M$365, 'Polar 0-360'!M$363 / COS!$B191,'Polar 0-360'!L191 )","v":{"$error":"#VALUE!"}},{"$f":" IF( $A191 < 'Polar 0-360'!S$365, 'Polar 0-360'!S$363 / COS!$B191,'Polar 0-360'!R191 )","v":{"$error":"#VALUE!"}},{"$f":" IF( $A191 < 'Polar 0-360'!Y$365, 'Polar 0-360'!Y$363 / COS!$B191,'Polar 0-360'!X191 )","v":{"$error":"#VALUE!"}},{"$f":" IF( $A191 < 'Polar 0-360'!AE$365, 'Polar 0-360'!AE$363 / COS!$B191,'Polar 0-360'!AD191 )","v":{"$error":"#VALUE!"}},{"$f":" IF( $A191 < 'Polar 0-360'!AK$365, 'Polar 0-360'!AK$363 / COS!$B191,'Polar 0-360'!AJ191 )","v":7.6561235192138604},{"$f":" IF( $A191 < 'Polar 0-360'!AQ$365, 'Polar 0-360'!AQ$363 / COS!$B191,'Polar 0-360'!AP191 )","v":{"$error":"#VALUE!"}}]
[{"$f":"'Polar 0-360'!A192","v":190},0,{"$f":" IF( $A192 < 'Polar 0-360'!G$365, 'Polar 0-360'!G$363 / COS!$B192,'Polar 0-360'!F192 )","v":{"$error":"#VALUE!"}},{"$f":" IF( $A192 < 'Polar 0-360'!M$365, 'Polar 0-360'!M$363 / COS!$B192,'Polar 0-360'!L192 )","v":{"$error":"#VALUE!"}},{"$f":" IF( $A192 < 'Polar 0-360'!S$365, 'Polar 0-360'!S$363 / COS!$B192,'Polar 0-360'!R192 )","v":{"$error":"#VALUE!"}},{"$f":" IF( $A192 < 'Polar 0-360'!Y$365, 'Polar 0-360'!Y$363 / COS!$B192,'Polar 0-360'!X192 )","v":{"$error":"#VALUE!"}},{"$f":" IF( $A192 < 'Polar 0-360'!AE$365, 'Polar 0-360'!AE$363 / COS!$B192,'Polar 0-360'!AD192 )","v":{"$error":"#VALUE!"}},{"$f":" IF( $A192 < 'Polar 0-360'!AK$365, 'Polar 0-360'!AK$363 / COS!$B192,'Polar 0-360'!AJ192 )","v":7.6698087229599494},{"$f":" IF( $A192 < 'Polar 0-360'!AQ$365, 'Polar 0-360'!AQ$363 / COS!$B192,'Polar 0-360'!AP192 )","v":{"$error":"#VALUE!"}}]
[{"$f":"'Polar 0-360'!A193","v":191},0,{"$f":" IF( $A193 < 'Polar 0-360'!G$365, 'Polar 0-360'!G$363 / COS!$B193,'Polar 0-360'!F193 )","v":{"$error":"#VALUE!"}},{"$f":" IF( $A193 < 'Polar 0-360'!M$365, 'Polar 0-360'!M$363 / COS!$B193,'Polar 0-360'!L193 )","v":{"$error":"#VALUE!"}},{"$f":" IF( $A193 < 'Polar 0-360'!S$365, 'Polar 0-360'!S$363 / COS!$B193,'Polar 0-360'!R193 )","v":{"$error":"#VALUE!"}},{"$f":" IF( $A193 < 'Polar 0-360'!Y$365, 'Polar 0-360'!Y$363 / COS!$B193,'Polar 0-360'!X193 )","v":{"$error":"#VALUE!"}},{"$f":" IF( $A193 < 'Polar 0-360'!AE$365, 'Polar 0-360'!AE$363 / COS!$B193,'Polar 0-360'!AD193 )","v":{"$error":"#VALUE!"}},{"$f":" IF( $A193 < 'Polar 0-360'!AK$365, 'Polar 0-360'!AK$363 / COS!$B193,'Polar 0-360'!AJ193 )","v":7.6834939267060385},{"$f":" IF( $A193 < 'Polar 0-360'!AQ$365, 'Polar 0-360'!AQ$363 / COS!$B193,'Polar 0-360'!AP193 )","v":{"$error":"#VALUE!"}}]
[{"$f":"'Polar 0-360'!A194","v":192},0,{"$f":" IF( $A194 < 'Polar 0-360'!G$365, 'Polar 0-360'!G$363 / COS!$B194,'Polar 0-360'!F194 )","v":{"$error":"#VALUE!"}},{"$f":" IF( $A194 < 'Polar 0-360'!M$365, 'Polar 0-360'!M$363 / COS!$B194,'Polar 0-360'!L194 )","v":{"$error":"#VALUE!"}},{"$f":" IF( $A194 < 'Polar 0-360'!S$365, 'Polar 0-360'!S$363 / COS!$B194,'Polar 0-360'!R194 )","v":{"$error":"#VALUE!"}},{"$f":" IF( $A194 < 'Polar 0-360'!Y$365, 'Polar 0-360'!Y$363 / COS!$B194,'Polar 0-360'!X194 )","v":{"$error":"#VALUE!"}},{"$f":" IF( $A194 < 'Polar 0-360'!AE$365, 'Polar 0-360'!AE$363 / COS!$B194,'Polar 0-360'!AD194 )","v":{"$error":"#VALUE!"}},{"$f":" IF( $A194 < 'Polar 0-360'!AK$365, 'Polar 0-360'!AK$363 / COS!$B194,'Polar 0-360'!AJ194 )","v":7.6971791304521275},{"$f":" IF( $A194 < 'Polar 0-360'!AQ$365, 'Polar 0-360'!AQ$363 / COS!$B194,'Polar 0-360'!AP194 )","v":{"$error":"#VALUE!"}}]
[{"$f":"'Polar 0-360'!A195","v":193},0,{"$f":" IF( $A195 < 'Polar 0-360'!G$365, 'Polar 0-360'!G$363 / COS!$B195,'Polar 0-360'!F195 )","v":{"$error":"#VALUE!"}},{"$f":" IF( $A195 < 'Polar 0-360'!M$365, 'Polar 0-360'!M$363 / COS!$B195,'Polar 0-360'!L195 )","v":{"$error":"#VALUE!"}},{"$f":" IF( $A195 < 'Polar 0-360'!S$365, 'Polar 0-360'!S$363 / COS!$B195,'Polar 0-360'!R195 )","v":{"$error":"#VALUE!"}},{"$f":" IF( $A195 < 'Polar 0-360'!Y$365, 'Polar 0-360'!Y$363 / COS!$B195,'Polar 0-360'!X195 )","v":{"$error":"#VALUE!"}},{"$f":" IF( $A195 < 'Polar 0-360'!AE$365, 'Polar 0-360'!AE$363 / COS!$B195,'Polar 0-360'!AD195 )","v":{"$error":"#VALUE!"}},{"$f":" IF( $A195 < 'Polar 0-360'!AK$365, 'Polar 0-360'!AK$363 / COS!$B195,'Polar 0-360'!AJ195 )","v":7.7108643341982166},{"$f":" IF( $A195 < 'Polar 0-360'!AQ$365, 'Polar 0-360'!AQ$363 / COS!$B195,'Polar 0-360'!AP195 )","v":{"$error":"#VALUE!"}}]
[{"$f":"'Polar 0-360'!A196","v":194},0,{"$f":" IF( $A196 < 'Polar 0-360'!G$365, 'Polar 0-360'!G$363 / COS!$B196,'Polar 0-360'!F196 )","v":{"$error":"#VALUE!"}},{"$f":" IF( $A196 < 'Polar 0-360'!M$365, 'Polar 0-360'!M$363 / COS!$B196,'Polar 0-360'!L196 )","v":{"$error":"#VALUE!"}},{"$f":" IF( $A196 < 'Polar 0-360'!S$365, 'Polar 0-360'!S$363 / COS!$B196,'Polar 0-360'!R196 )","v":{"$error":"#VALUE!"}},{"$f":" IF( $A196 < 'Polar 0-360'!Y$365, 'Polar 0-360'!Y$363 / COS!$B196,'Polar 0-360'!X196 )","v":{"$error":"#VALUE!"}},{"$f":" IF( $A196 < 'Polar 0-360'!AE$365, 'Polar 0-360'!AE$363 / COS!$B196,'Polar 0-360'!AD196 )","v":{"$error":"#VALUE!"}},{"$f":" IF( $A196 < 'Polar 0-360'!AK$365, 'Polar 0-360'!AK$363 / COS!$B196,'Polar 0-360'!AJ196 )","v":7.7245495379443057},{"$f":" IF( $A196 < 'Polar 0-360'!AQ$365, 'Polar 0-360'!AQ$363 / COS!$B196,'Polar 0-360'!AP196 )","v":{"$error":"#VALUE!"}}]
[{"$f":"'Polar 0-360'!A197","v":195},0,{"$f":" IF( $A197 < 'Polar 0-360'!G$365, 'Polar 0-360'!G$363 / COS!$B197,'Polar 0-360'!F197 )","v":{"$error":"#VALUE!"}},{"$f":" IF( $A197 < 'Polar 0-360'!M$365, 'Polar 0-360'!M$363 / COS!$B197,'Polar 0-360'!L197 )","v":{"$error":"#VALUE!"}},{"$f":" IF( $A197 < 'Polar 0-360'!S$365, 'Polar 0-360'!S$363 / COS!$B197,'Polar 0-360'!R197 )","v":{"$error":"#VALUE!"}},{"$f":" IF( $A197 < 'Polar 0-360'!Y$365, 'Polar 0-360'!Y$363 / COS!$B197,'Polar 0-360'!X197 )","v":{"$error":"#VALUE!"}},{"$f":" IF( $A197 < 'Polar 0-360'!AE$365, 'Polar 0-360'!AE$363 / COS!$B197,'Polar 0-360'!AD197 )","v":{"$error":"#VALUE!"}},{"$f":" IF( $A197 < 'Polar 0-360'!AK$365, 'Polar 0-360'!AK$363 / COS!$B197,'Polar 0-360'!AJ197 )","v":7.7382347416903947},{"$f":" IF( $A197 < 'Polar 0-360'!AQ$365, 'Polar 0-360'!AQ$363 / COS!$B197,'Polar 0-360'!AP197 )","v":{"$error":"#VALUE!"}}]
[{"$f":"'Polar 0-360'!A198","v":196},0,{"$f":" IF( $A198 < 'Polar 0-360'!G$365, 'Polar 0-360'!G$363 / COS!$B198,'Polar 0-360'!F198 )","v":{"$error":"#VALUE!"}},{"$f":" IF( $A198 < 'Polar 0-360'!M$365, 'Polar 0-360'!M$363 / COS!$B198,'Polar 0-360'!L198 )","v":{"$error":"#VALUE!"}},{"$f":" IF( $A198 < 'Polar 0-360'!S$365, 'Polar 0-360'!S$363 / COS!$B198,'Polar 0-360'!R198 )","v":{"$error":"#VALUE!"}},{"$f":" IF( $A198 < 'Polar 0-360'!Y$365, 'Polar 0-360'!Y$363 / COS!$B198,'Polar 0-360'!X198 )","v":{"$error":"#VALUE!"}},{"$f":" IF( $A198 < 'Polar 0-360'!AE$365, 'Polar 0-360'!AE$363 / COS!$B198,'Polar 0-360'!AD198 )","v":{"$error":"#VALUE!"}},{"$f":" IF( $A198 < 'Polar 0-360'!AK$365, 'Polar 0-360'!AK$363 / COS!$B198,'Polar 0-360'!AJ198 )","v":7.7519199454364838},{"$f":" IF( $A198 < 'Polar 0-360'!AQ$365, 'Polar 0-360'!AQ$363 / COS!$B198,'Polar 0-360'!AP198 )","v":{"$error":"#VALUE!"}}]
[{"$f":"'Polar 0-360'!A199","v":197},0,{"$f":" IF( $A199 < 'Polar 0-360'!G$365, 'Polar 0-360'!G$363 / COS!$B199,'Polar 0-360'!F199 )","v":{"$error":"#VALUE!"}},{"$f":" IF( $A199 < 'Polar 0-360'!M$365, 'Polar 0-360'!M$363 / COS!$B199,'Polar 0-360'!L199 )","v":{"$error":"#VALUE!"}},{"$f":" IF( $A199 < 'Polar 0-360'!S$365, 'Polar 0-360'!S$363 / COS!$B199,'Polar 0-360'!R199 )","v":{"$error":"#VALUE!"}},{"$f":" IF( $A199 < 'Polar 0-360'!Y$365, 'Polar 0-360'!Y$363 / COS!$B199,'Polar 0-360'!X199 )","v":{"$error":"#VALUE!"}},{"$f":" IF( $A199 < 'Polar 0-360'!AE$365, 'Polar 0-360'!AE$363 / COS!$B199,'Polar 0-360'!AD199 )","v":{"$error":"#VALUE!"}},{"$f":" IF( $A199 < 'Polar 0-360'!AK$365, 'Polar 0-360'!AK$363 / COS!$B199,'Polar 0-360'!AJ199 )","v":7.7656051491825728},{"$f":" IF( $A199 < 'Polar 0-360'!AQ$365, 'Polar 0-360'!AQ$363 / COS!$B199,'Polar 0-360'!AP199 )","v":{"$error":"#VALUE!"}}]
[{"$f":"'Polar 0-360'!A200","v":198},0,{"$f":" IF( $A200 < 'Polar 0-360'!G$365, 'Polar 0-360'!G$363 / COS!$B200,'Polar 0-360'!F200 )","v":{"$error":"#VALUE!"}},{"$f":" IF( $A200 < 'Polar 0-360'!M$365, 'Polar 0-360'!M$363 / COS!$B200,'Polar 0-360'!L200 )","v":{"$error":"#VALUE!"}},{"$f":" IF( $A200 < 'Polar 0-360'!S$365, 'Polar 0-360'!S$363 / COS!$B200,'Polar 0-360'!R200 )","v":{"$error":"#VALUE!"}},{"$f":" IF( $A200 < 'Polar 0-360'!Y$365, 'Polar 0-360'!Y$363 / COS!$B200,'Polar 0-360'!X200 )","v":{"$error":"#VALUE!"}},{"$f":" IF( $A200 < 'Polar 0-360'!AE$365, 'Polar 0-360'!AE$363 / COS!$B200,'Polar 0-360'!AD200 )","v":{"$error":"#VALUE!"}},{"$f":" IF( $A200 < 'Polar 0-360'!AK$365, 'Polar 0-360'!AK$363 / COS!$B200,'Polar 0-360'!AJ200 )","v":7.7792903529286619},{"$f":" IF( $A200 < 'Polar 0-360'!AQ$365, 'Polar 0-360'!AQ$363 / COS!$B200,'Polar 0-360'!AP200 )","v":{"$error":"#VALUE!"}}]
[{"$f":"'Polar 0-360'!A201","v":199},0,{"$f":" IF( $A201 < 'Polar 0-360'!G$365, 'Polar 0-360'!G$363 / COS!$B201,'Polar 0-360'!F201 )","v":{"$error":"#VALUE!"}},{"$f":" IF( $A201 < 'Polar 0-360'!M$365, 'Polar 0-360'!M$363 / COS!$B201,'Polar 0-360'!L201 )","v":{"$error":"#VALUE!"}},{"$f":" IF( $A201 < 'Polar 0-360'!S$365, 'Polar 0-360'!S$363 / COS!$B201,'Polar 0-360'!R201 )","v":{"$error":"#VALUE!"}},{"$f":" IF( $A201 < 'Polar 0-360'!Y$365, 'Polar 0-360'!Y$363 / COS!$B201,'Polar 0-360'!X201 )","v":{"$error":"#VALUE!"}},{"$f":" IF( $A201 < 'Polar 0-360'!AE$365, 'Polar 0-360'!AE$363 / COS!$B201,'Polar 0-360'!AD201 )","v":{"$error":"#VALUE!"}},{"$f":" IF( $A201 < 'Polar 0-360'!AK$365, 'Polar 0-360'!AK$363 / COS!$B201,'Polar 0-360'!AJ201 )","v":7.7929755566747509},{"$f":" IF( $A201 < 'Polar 0-360'!AQ$365, 'Polar 0-360'!AQ$363 / COS!$B201,'Polar 0-360'!AP201 )","v":{"$error":"#VALUE!"}}]
[{"$f":"'Polar 0-360'!A202","v":200},0,{"$f":" IF( $A202 < 'Polar 0-360'!G$365, 'Polar 0-360'!G$363 / COS!$B202,'Polar 0-360'!F202 )","v":{"$error":"#VALUE!"}},{"$f":" IF( $A202 < 'Polar 0-360'!M$365, 'Polar 0-360'!M$363 / COS!$B202,'Polar 0-360'!L202 )","v":{"$error":"#VALUE!"}},{"$f":" IF( $A202 < 'Polar 0-360'!S$365, 'Polar 0-360'!S$363 / COS!$B202,'Polar 0-360'!R202 )","v":{"$error":"#VALUE!"}},{"$f":" IF( $A202 < 'Polar 0-360'!Y$365, 'Polar 0-360'!Y$363 / COS!$B202,'Polar 0-360'!X202 )","v":{"$error":"#VALUE!"}},{"$f":" IF( $A202 < 'Polar 0-360'!AE$365, 'Polar 0-360'!AE$363 / COS!$B202,'Polar 0-360'!AD202 )","v":{"$error":"#VALUE!"}},{"$f":" IF( $A202 < 'Polar 0-360'!AK$365, 'Polar 0-360'!AK$363 / COS!$B202,'Polar 0-360'!AJ202 )","v":7.80666076042084},{"$f":" IF( $A202 < 'Polar 0-360'!AQ$365, 'Polar 0-360'!AQ$363 / COS!$B202,'Polar 0-360'!AP202 )","v":{"$error":"#VALUE!"}}]
[{"$f":"'Polar 0-360'!A203","v":201},0,{"$f":" IF( $A203 < 'Polar 0-360'!G$365, 'Polar 0-360'!G$363 / COS!$B203,'Polar 0-360'!F203 )","v":{"$error":"#VALUE!"}},{"$f":" IF( $A203 < 'Polar 0-360'!M$365, 'Polar 0-360'!M$363 / COS!$B203,'Polar 0-360'!L203 )","v":{"$error":"#VALUE!"}},{"$f":" IF( $A203 < 'Polar 0-360'!S$365, 'Polar 0-360'!S$363 / COS!$B203,'Polar 0-360'!R203 )","v":{"$error":"#VALUE!"}},{"$f":" IF( $A203 < 'Polar 0-360'!Y$365, 'Polar 0-360'!Y$363 / COS!$B203,'Polar 0-360'!X203 )","v":{"$error":"#VALUE!"}},{"$f":" IF( $A203 < 'Polar 0-360'!AE$365, 'Polar 0-360'!AE$363 / COS!$B203,'Polar 0-360'!AD203 )","v":{"$error":"#VALUE!"}},{"$f":" IF( $A203 < 'Polar 0-360'!AK$365, 'Polar 0-360'!AK$363 / COS!$B203,'Polar 0-360'!AJ203 )","v":7.8203459641669291},{"$f":" IF( $A203 < 'Polar 0-360'!AQ$365, 'Polar 0-360'!AQ$363 / COS!$B203,'Polar 0-360'!AP203 )","v":{"$error":"#VALUE!"}}]
[{"$f":"'Polar 0-360'!A204","v":202},0,{"$f":" IF( $A204 < 'Polar 0-360'!G$365, 'Polar 0-360'!G$363 / COS!$B204,'Polar 0-360'!F204 )","v":{"$error":"#VALUE!"}},{"$f":" IF( $A204 < 'Polar 0-360'!M$365, 'Polar 0-360'!M$363 / COS!$B204,'Polar 0-360'!L204 )","v":{"$error":"#VALUE!"}},{"$f":" IF( $A204 < 'Polar 0-360'!S$365, 'Polar 0-360'!S$363 / COS!$B204,'Polar 0-360'!R204 )","v":{"$error":"#VALUE!"}},{"$f":" IF( $A204 < 'Polar 0-360'!Y$365, 'Polar 0-360'!Y$363 / COS!$B204,'Polar 0-360'!X204 )","v":{"$error":"#VALUE!"}},{"$f":" IF( $A204 < 'Polar 0-360'!AE$365, 'Polar 0-360'!AE$363 / COS!$B204,'Polar 0-360'!AD204 )","v":{"$error":"#VALUE!"}},{"$f":" IF( $A204 < 'Polar 0-360'!AK$365, 'Polar 0-360'!AK$363 / COS!$B204,'Polar 0-360'!AJ204 )","v":7.8340311679130181},{"$f":" IF( $A204 < 'Polar 0-360'!AQ$365, 'Polar 0-360'!AQ$363 / COS!$B204,'Polar 0-360'!AP204 )","v":{"$error":"#VALUE!"}}]
[{"$f":"'Polar 0-360'!A205","v":203},0,{"$f":" IF( $A205 < 'Polar 0-360'!G$365, 'Polar 0-360'!G$363 / COS!$B205,'Polar 0-360'!F205 )","v":{"$error":"#VALUE!"}},{"$f":" IF( $A205 < 'Polar 0-360'!M$365, 'Polar 0-360'!M$363 / COS!$B205,'Polar 0-360'!L205 )","v":{"$error":"#VALUE!"}},{"$f":" IF( $A205 < 'Polar 0-360'!S$365, 'Polar 0-360'!S$363 / COS!$B205,'Polar 0-360'!R205 )","v":{"$error":"#VALUE!"}},{"$f":" IF( $A205 < 'Polar 0-360'!Y$365, 'Polar 0-360'!Y$363 / COS!$B205,'Polar 0-360'!X205 )","v":{"$error":"#VALUE!"}},{"$f":" IF( $A205 < 'Polar 0-360'!AE$365, 'Polar 0-360'!AE$363 / COS!$B205,'Polar 0-360'!AD205 )","v":{"$error":"#VALUE!"}},{"$f":" IF( $A205 < 'Polar 0-360'!AK$365, 'Polar 0-360'!AK$363 / COS!$B205,'Polar 0-360'!AJ205 )","v":7.8477163716591072},{"$f":" IF( $A205 < 'Polar 0-360'!AQ$365, 'Polar 0-360'!AQ$363 / COS!$B205,'Polar 0-360'!AP205 )","v":{"$error":"#VALUE!"}}]
[{"$f":"'Polar 0-360'!A206","v":204},0,{"$f":" IF( $A206 < 'Polar 0-360'!G$365, 'Polar 0-360'!G$363 / COS!$B206,'Polar 0-360'!F206 )","v":{"$error":"#VALUE!"}},{"$f":" IF( $A206 < 'Polar 0-360'!M$365, 'Polar 0-360'!M$363 / COS!$B206,'Polar 0-360'!L206 )","v":{"$error":"#VALUE!"}},{"$f":" IF( $A206 < 'Polar 0-360'!S$365, 'Polar 0-360'!S$363 / COS!$B206,'Polar 0-360'!R206 )","v":{"$error":"#VALUE!"}},{"$f":" IF( $A206 < 'Polar 0-360'!Y$365, 'Polar 0-360'!Y$363 / COS!$B206,'Polar 0-360'!X206 )","v":{"$error":"#VALUE!"}},{"$f":" IF( $A206 < 'Polar 0-360'!AE$365, 'Polar 0-360'!AE$363 / COS!$B206,'Polar 0-360'!AD206 )","v":{"$error":"#VALUE!"}},{"$f":" IF( $A206 < 'Polar 0-360'!AK$365, 'Polar 0-360'!AK$363 / COS!$B206,'Polar 0-360'!AJ206 )","v":7.8614015754051962},{"$f":" IF( $A206 < 'Polar 0-360'!AQ$365, 'Polar 0-360'!AQ$363 / COS!$B206,'Polar 0-360'!AP206 )","v":{"$error":"#VALUE!"}}]
[{"$f":"'Polar 0-360'!A207","v":205},0,{"$f":" IF( $A207 < 'Polar 0-360'!G$365, 'Polar 0-360'!G$363 / COS!$B207,'Polar 0-360'!F207 )","v":{"$error":"#VALUE!"}},{"$f":" IF( $A207 < 'Polar 0-360'!M$365, 'Polar 0-360'!M$363 / COS!$B207,'Polar 0-360'!L207 )","v":{"$error":"#VALUE!"}},{"$f":" IF( $A207 < 'Polar 0-360'!S$365, 'Polar 0-360'!S$363 / COS!$B207,'Polar 0-360'!R207 )","v":{"$error":"#VALUE!"}},{"$f":" IF( $A207 < 'Polar 0-360'!Y$365, 'Polar 0-360'!Y$363 / COS!$B207,'Polar 0-360'!X207 )","v":{"$error":"#VALUE!"}},{"$f":" IF( $A207 < 'Polar 0-360'!AE$365, 'Polar 0-360'!AE$363 / COS!$B207,'Polar 0-360'!AD207 )","v":{"$error":"#VALUE!"}},{"$f":" IF( $A207 < 'Polar 0-360'!AK$365, 'Polar 0-360'!AK$363 / COS!$B207,'Polar 0-360'!AJ207 )","v":7.8750867791512853},{"$f":" IF( $A207 < 'Polar 0-360'!AQ$365, 'Polar 0-360'!AQ$363 / COS!$B207,'Polar 0-360'!AP207 )","v":{"$error":"#VALUE!"}}]
[{"$f":"'Polar 0-360'!A208","v":206},0,{"$f":" IF( $A208 < 'Polar 0-360'!G$365, 'Polar 0-360'!G$363 / COS!$B208,'Polar 0-360'!F208 )","v":{"$error":"#VALUE!"}},{"$f":" IF( $A208 < 'Polar 0-360'!M$365, 'Polar 0-360'!M$363 / COS!$B208,'Polar 0-360'!L208 )","v":{"$error":"#VALUE!"}},{"$f":" IF( $A208 < 'Polar 0-360'!S$365, 'Polar 0-360'!S$363 / COS!$B208,'Polar 0-360'!R208 )","v":{"$error":"#VALUE!"}},{"$f":" IF( $A208 < 'Polar 0-360'!Y$365, 'Polar 0-360'!Y$363 / COS!$B208,'Polar 0-360'!X208 )","v":{"$error":"#VALUE!"}},{"$f":" IF( $A208 < 'Polar 0-360'!AE$365, 'Polar 0-360'!AE$363 / COS!$B208,'Polar 0-360'!AD208 )","v":{"$error":"#VALUE!"}},{"$f":" IF( $A208 < 'Polar 0-360'!AK$365, 'Polar 0-360'!AK$363 / COS!$B208,'Polar 0-360'!AJ208 )","v":7.8887719828973744},{"$f":" IF( $A208 < 'Polar 0-360'!AQ$365, 'Polar 0-360'!AQ$363 / COS!$B208,'Polar 0-360'!AP208 )","v":{"$error":"#VALUE!"}}]
[{"$f":"'Polar 0-360'!A209","v":207},0,{"$f":" IF( $A209 < 'Polar 0-360'!G$365, 'Polar 0-360'!G$363 / COS!$B209,'Polar 0-360'!F209 )","v":{"$error":"#VALUE!"}},{"$f":" IF( $A209 < 'Polar 0-360'!M$365, 'Polar 0-360'!M$363 / COS!$B209,'Polar 0-360'!L209 )","v":{"$error":"#VALUE!"}},{"$f":" IF( $A209 < 'Polar 0-360'!S$365, 'Polar 0-360'!S$363 / COS!$B209,'Polar 0-360'!R209 )","v":{"$error":"#VALUE!"}},{"$f":" IF( $A209 < 'Polar 0-360'!Y$365, 'Polar 0-360'!Y$363 / COS!$B209,'Polar 0-360'!X209 )","v":{"$error":"#VALUE!"}},{"$f":" IF( $A209 < 'Polar 0-360'!AE$365, 'Polar 0-360'!AE$363 / COS!$B209,'Polar 0-360'!AD209 )","v":{"$error":"#VALUE!"}},{"$f":" IF( $A209 < 'Polar 0-360'!AK$365, 'Polar 0-360'!AK$363 / COS!$B209,'Polar 0-360'!AJ209 )","v":7.9024571866434634},{"$f":" IF( $A209 < 'Polar 0-360'!AQ$365, 'Polar 0-360'!AQ$363 / COS!$B209,'Polar 0-360'!AP209 )","v":{"$error":"#VALUE!"}}]
[{"$f":"'Polar 0-360'!A210","v":208},0,{"$f":" IF( $A210 < 'Polar 0-360'!G$365, 'Polar 0-360'!G$363 / COS!$B210,'Polar 0-360'!F210 )","v":{"$error":"#VALUE!"}},{"$f":" IF( $A210 < 'Polar 0-360'!M$365, 'Polar 0-360'!M$363 / COS!$B210,'Polar 0-360'!L210 )","v":{"$error":"#VALUE!"}},{"$f":" IF( $A210 < 'Polar 0-360'!S$365, 'Polar 0-360'!S$363 / COS!$B210,'Polar 0-360'!R210 )","v":{"$error":"#VALUE!"}},{"$f":" IF( $A210 < 'Polar 0-360'!Y$365, 'Polar 0-360'!Y$363 / COS!$B210,'Polar 0-360'!X210 )","v":{"$error":"#VALUE!"}},{"$f":" IF( $A210 < 'Polar 0-360'!AE$365, 'Polar 0-360'!AE$363 / COS!$B210,'Polar 0-360'!AD210 )","v":{"$error":"#VALUE!"}},{"$f":" IF( $A210 < 'Polar 0-360'!AK$365, 'Polar 0-360'!AK$363 / COS!$B210,'Polar 0-360'!AJ210 )","v":7.9161423903895525},{"$f":" IF( $A210 < 'Polar 0-360'!AQ$365, 'Polar 0-360'!AQ$363 / COS!$B210,'Polar 0-360'!AP210 )","v":{"$error":"#VALUE!"}}]
[{"$f":"'Polar 0-360'!A211","v":209},0,{"$f":" IF( $A211 < 'Polar 0-360'!G$365, 'Polar 0-360'!G$363 / COS!$B211,'Polar 0-360'!F211 )","v":{"$error":"#VALUE!"}},{"$f":" IF( $A211 < 'Polar 0-360'!M$365, 'Polar 0-360'!M$363 / COS!$B211,'Polar 0-360'!L211 )","v":{"$error":"#VALUE!"}},{"$f":" IF( $A211 < 'Polar 0-360'!S$365, 'Polar 0-360'!S$363 / COS!$B211,'Polar 0-360'!R211 )","v":{"$error":"#VALUE!"}},{"$f":" IF( $A211 < 'Polar 0-360'!Y$365, 'Polar 0-360'!Y$363 / COS!$B211,'Polar 0-360'!X211 )","v":{"$error":"#VALUE!"}},{"$f":" IF( $A211 < 'Polar 0-360'!AE$365, 'Polar 0-360'!AE$363 / COS!$B211,'Polar 0-360'!AD211 )","v":{"$error":"#VALUE!"}},{"$f":" IF( $A211 < 'Polar 0-360'!AK$365, 'Polar 0-360'!AK$363 / COS!$B211,'Polar 0-360'!AJ211 )","v":7.9298275941356415},{"$f":" IF( $A211 < 'Polar 0-360'!AQ$365, 'Polar 0-360'!AQ$363 / COS!$B211,'Polar 0-360'!AP211 )","v":{"$error":"#VALUE!"}}]
[{"$f":"'Polar 0-360'!A212","v":210},0,{"$f":" IF( $A212 < 'Polar 0-360'!G$365, 'Polar 0-360'!G$363 / COS!$B212,'Polar 0-360'!F212 )","v":{"$error":"#VALUE!"}},{"$f":" IF( $A212 < 'Polar 0-360'!M$365, 'Polar 0-360'!M$363 / COS!$B212,'Polar 0-360'!L212 )","v":{"$error":"#VALUE!"}},{"$f":" IF( $A212 < 'Polar 0-360'!S$365, 'Polar 0-360'!S$363 / COS!$B212,'Polar 0-360'!R212 )","v":{"$error":"#VALUE!"}},{"$f":" IF( $A212 < 'Polar 0-360'!Y$365, 'Polar 0-360'!Y$363 / COS!$B212,'Polar 0-360'!X212 )","v":{"$error":"#VALUE!"}},{"$f":" IF( $A212 < 'Polar 0-360'!AE$365, 'Polar 0-360'!AE$363 / COS!$B212,'Polar 0-360'!AD212 )","v":{"$error":"#VALUE!"}},{"$f":" IF( $A212 < 'Polar 0-360'!AK$365, 'Polar 0-360'!AK$363 / COS!$B212,'Polar 0-360'!AJ212 )","v":7.9435127978817306},{"$f":" IF( $A212 < 'Polar 0-360'!AQ$365, 'Polar 0-360'!AQ$363 / COS!$B212,'Polar 0-360'!AP212 )","v":{"$error":"#VALUE!"}}]
[{"$f":"'Polar 0-360'!A213","v":211},0,{"$f":" IF( $A213 < 'Polar 0-360'!G$365, 'Polar 0-360'!G$363 / COS!$B213,'Polar 0-360'!F213 )","v":{"$error":"#VALUE!"}},{"$f":" IF( $A213 < 'Polar 0-360'!M$365, 'Polar 0-360'!M$363 / COS!$B213,'Polar 0-360'!L213 )","v":{"$error":"#VALUE!"}},{"$f":" IF( $A213 < 'Polar 0-360'!S$365, 'Polar 0-360'!S$363 / COS!$B213,'Polar 0-360'!R213 )","v":{"$error":"#VALUE!"}},{"$f":" IF( $A213 < 'Polar 0-360'!Y$365, 'Polar 0-360'!Y$363 / COS!$B213,'Polar 0-360'!X213 )","v":{"$error":"#VALUE!"}},{"$f":" IF( $A213 < 'Polar 0-360'!AE$365, 'Polar 0-360'!AE$363 / COS!$B213,'Polar 0-360'!AD213 )","v":{"$error":"#VALUE!"}},{"$f":" IF( $A213 < 'Polar 0-360'!AK$365, 'Polar 0-360'!AK$363 / COS!$B213,'Polar 0-360'!AJ213 )","v":7.9668132807872869},{"$f":" IF( $A213 < 'Polar 0-360'!AQ$365, 'Polar 0-360'!AQ$363 / COS!$B213,'Polar 0-360'!AP213 )","v":{"$error":"#VALUE!"}}]
[{"$f":"'Polar 0-360'!A214","v":212},0,{"$f":" IF( $A214 < 'Polar 0-360'!G$365, 'Polar 0-360'!G$363 / COS!$B214,'Polar 0-360'!F214 )","v":{"$error":"#VALUE!"}},{"$f":" IF( $A214 < 'Polar 0-360'!M$365, 'Polar 0-360'!M$363 / COS!$B214,'Polar 0-360'!L214 )","v":{"$error":"#VALUE!"}},{"$f":" IF( $A214 < 'Polar 0-360'!S$365, 'Polar 0-360'!S$363 / COS!$B214,'Polar 0-360'!R214 )","v":{"$error":"#VALUE!"}},{"$f":" IF( $A214 < 'Polar 0-360'!Y$365, 'Polar 0-360'!Y$363 / COS!$B214,'Polar 0-360'!X214 )","v":{"$error":"#VALUE!"}},{"$f":" IF( $A214 < 'Polar 0-360'!AE$365, 'Polar 0-360'!AE$363 / COS!$B214,'Polar 0-360'!AD214 )","v":{"$error":"#VALUE!"}},{"$f":" IF( $A214 < 'Polar 0-360'!AK$365, 'Polar 0-360'!AK$363 / COS!$B214,'Polar 0-360'!AJ214 )","v":7.990113763692845},{"$f":" IF( $A214 < 'Polar 0-360'!AQ$365, 'Polar 0-360'!AQ$363 / COS!$B214,'Polar 0-360'!AP214 )","v":{"$error":"#VALUE!"}}]
[{"$f":"'Polar 0-360'!A215","v":213},0,{"$f":" IF( $A215 < 'Polar 0-360'!G$365, 'Polar 0-360'!G$363 / COS!$B215,'Polar 0-360'!F215 )","v":{"$error":"#VALUE!"}},{"$f":" IF( $A215 < 'Polar 0-360'!M$365, 'Polar 0-360'!M$363 / COS!$B215,'Polar 0-360'!L215 )","v":{"$error":"#VALUE!"}},{"$f":" IF( $A215 < 'Polar 0-360'!S$365, 'Polar 0-360'!S$363 / COS!$B215,'Polar 0-360'!R215 )","v":{"$error":"#VALUE!"}},{"$f":" IF( $A215 < 'Polar 0-360'!Y$365, 'Polar 0-360'!Y$363 / COS!$B215,'Polar 0-360'!X215 )","v":{"$error":"#VALUE!"}},{"$f":" IF( $A215 < 'Polar 0-360'!AE$365, 'Polar 0-360'!AE$363 / COS!$B215,'Polar 0-360'!AD215 )","v":{"$error":"#VALUE!"}},{"$f":" IF( $A215 < 'Polar 0-360'!AK$365, 'Polar 0-360'!AK$363 / COS!$B215,'Polar 0-360'!AJ215 )","v":8.0134142465984031},{"$f":" IF( $A215 < 'Polar 0-360'!AQ$365, 'Polar 0-360'!AQ$363 / COS!$B215,'Polar 0-360'!AP215 )","v":{"$error":"#VALUE!"}}]
[{"$f":"'Polar 0-360'!A216","v":214},0,{"$f":" IF( $A216 < 'Polar 0-360'!G$365, 'Polar 0-360'!G$363 / COS!$B216,'Polar 0-360'!F216 )","v":{"$error":"#VALUE!"}},{"$f":" IF( $A216 < 'Polar 0-360'!M$365, 'Polar 0-360'!M$363 / COS!$B216,'Polar 0-360'!L216 )","v":{"$error":"#VALUE!"}},{"$f":" IF( $A216 < 'Polar 0-360'!S$365, 'Polar 0-360'!S$363 / COS!$B216,'Polar 0-360'!R216 )","v":{"$error":"#VALUE!"}},{"$f":" IF( $A216 < 'Polar 0-360'!Y$365, 'Polar 0-360'!Y$363 / COS!$B216,'Polar 0-360'!X216 )","v":{"$error":"#VALUE!"}},{"$f":" IF( $A216 < 'Polar 0-360'!AE$365, 'Polar 0-360'!AE$363 / COS!$B216,'Polar 0-360'!AD216 )","v":{"$error":"#VALUE!"}},{"$f":" IF( $A216 < 'Polar 0-360'!AK$365, 'Polar 0-360'!AK$363 / COS!$B216,'Polar 0-360'!AJ216 )","v":8.0367147295039612},{"$f":" IF( $A216 < 'Polar 0-360'!AQ$365, 'Polar 0-360'!AQ$363 / COS!$B216,'Polar 0-360'!AP216 )","v":{"$error":"#VALUE!"}}]
[{"$f":"'Polar 0-360'!A217","v":215},0,{"$f":" IF( $A217 < 'Polar 0-360'!G$365, 'Polar 0-360'!G$363 / COS!$B217,'Polar 0-360'!F217 )","v":{"$error":"#VALUE!"}},{"$f":" IF( $A217 < 'Polar 0-360'!M$365, 'Polar 0-360'!M$363 / COS!$B217,'Polar 0-360'!L217 )","v":{"$error":"#VALUE!"}},{"$f":" IF( $A217 < 'Polar 0-360'!S$365, 'Polar 0-360'!S$363 / COS!$B217,'Polar 0-360'!R217 )","v":{"$error":"#VALUE!"}},{"$f":" IF( $A217 < 'Polar 0-360'!Y$365, 'Polar 0-360'!Y$363 / COS!$B217,'Polar 0-360'!X217 )","v":{"$error":"#VALUE!"}},{"$f":" IF( $A217 < 'Polar 0-360'!AE$365, 'Polar 0-360'!AE$363 / COS!$B217,'Polar 0-360'!AD217 )","v":{"$error":"#VALUE!"}},{"$f":" IF( $A217 < 'Polar 0-360'!AK$365, 'Polar 0-360'!AK$363 / COS!$B217,'Polar 0-360'!AJ217 )","v":8.0600152124095192},{"$f":" IF( $A217 < 'Polar 0-360'!AQ$365, 'Polar 0-360'!AQ$363 / COS!$B217,'Polar 0-360'!AP217 )","v":{"$error":"#VALUE!"}}]
[{"$f":"'Polar 0-360'!A218","v":216},0,{"$f":" IF( $A218 < 'Polar 0-360'!G$365, 'Polar 0-360'!G$363 / COS!$B218,'Polar 0-360'!F218 )","v":{"$error":"#VALUE!"}},{"$f":" IF( $A218 < 'Polar 0-360'!M$365, 'Polar 0-360'!M$363 / COS!$B218,'Polar 0-360'!L218 )","v":{"$error":"#VALUE!"}},{"$f":" IF( $A218 < 'Polar 0-360'!S$365, 'Polar 0-360'!S$363 / COS!$B218,'Polar 0-360'!R218 )","v":{"$error":"#VALUE!"}},{"$f":" IF( $A218 < 'Polar 0-360'!Y$365, 'Polar 0-360'!Y$363 / COS!$B218,'Polar 0-360'!X218 )","v":{"$error":"#VALUE!"}},{"$f":" IF( $A218 < 'Polar 0-360'!AE$365, 'Polar 0-360'!AE$363 / COS!$B218,'Polar 0-360'!AD218 )","v":{"$error":"#VALUE!"}},{"$f":" IF( $A218 < 'Polar 0-360'!AK$365, 'Polar 0-360'!AK$363 / COS!$B218,'Polar 0-360'!AJ218 )","v":8.0833156953150773},{"$f":" IF( $A218 < 'Polar 0-360'!AQ$365, 'Polar 0-360'!AQ$363 / COS!$B218,'Polar 0-360'!AP218 )","v":{"$error":"#VALUE!"}}]
[{"$f":"'Polar 0-360'!A219","v":217},0,{"$f":" IF( $A219 < 'Polar 0-360'!G$365, 'Polar 0-360'!G$363 / COS!$B219,'Polar 0-360'!F219 )","v":{"$error":"#VALUE!"}},{"$f":" IF( $A219 < 'Polar 0-360'!M$365, 'Polar 0-360'!M$363 / COS!$B219,'Polar 0-360'!L219 )","v":{"$error":"#VALUE!"}},{"$f":" IF( $A219 < 'Polar 0-360'!S$365, 'Polar 0-360'!S$363 / COS!$B219,'Polar 0-360'!R219 )","v":{"$error":"#VALUE!"}},{"$f":" IF( $A219 < 'Polar 0-360'!Y$365, 'Polar 0-360'!Y$363 / COS!$B219,'Polar 0-360'!X219 )","v":{"$error":"#VALUE!"}},{"$f":" IF( $A219 < 'Polar 0-360'!AE$365, 'Polar 0-360'!AE$363 / COS!$B219,'Polar 0-360'!AD219 )","v":{"$error":"#VALUE!"}},{"$f":" IF( $A219 < 'Polar 0-360'!AK$365, 'Polar 0-360'!AK$363 / COS!$B219,'Polar 0-360'!AJ219 )","v":8.1066161782206354},{"$f":" IF( $A219 < 'Polar 0-360'!AQ$365, 'Polar 0-360'!AQ$363 / COS!$B219,'Polar 0-360'!AP219 )","v":{"$error":"#VALUE!"}}]
[{"$f":"'Polar 0-360'!A220","v":218},0,{"$f":" IF( $A220 < 'Polar 0-360'!G$365, 'Polar 0-360'!G$363 / COS!$B220,'Polar 0-360'!F220 )","v":{"$error":"#VALUE!"}},{"$f":" IF( $A220 < 'Polar 0-360'!M$365, 'Polar 0-360'!M$363 / COS!$B220,'Polar 0-360'!L220 )","v":{"$error":"#VALUE!"}},{"$f":" IF( $A220 < 'Polar 0-360'!S$365, 'Polar 0-360'!S$363 / COS!$B220,'Polar 0-360'!R220 )","v":{"$error":"#VALUE!"}},{"$f":" IF( $A220 < 'Polar 0-360'!Y$365, 'Polar 0-360'!Y$363 / COS!$B220,'Polar 0-360'!X220 )","v":{"$error":"#VALUE!"}},{"$f":" IF( $A220 < 'Polar 0-360'!AE$365, 'Polar 0-360'!AE$363 / COS!$B220,'Polar 0-360'!AD220 )","v":{"$error":"#VALUE!"}},{"$f":" IF( $A220 < 'Polar 0-360'!AK$365, 'Polar 0-360'!AK$363 / COS!$B220,'Polar 0-360'!AJ220 )","v":8.1299166611261935},{"$f":" IF( $A220 < 'Polar 0-360'!AQ$365, 'Polar 0-360'!AQ$363 / COS!$B220,'Polar 0-360'!AP220 )","v":{"$error":"#VALUE!"}}]
[{"$f":"'Polar 0-360'!A221","v":219},0,{"$f":" IF( $A221 < 'Polar 0-360'!G$365, 'Polar 0-360'!G$363 / COS!$B221,'Polar 0-360'!F221 )","v":{"$error":"#VALUE!"}},{"$f":" IF( $A221 < 'Polar 0-360'!M$365, 'Polar 0-360'!M$363 / COS!$B221,'Polar 0-360'!L221 )","v":{"$error":"#VALUE!"}},{"$f":" IF( $A221 < 'Polar 0-360'!S$365, 'Polar 0-360'!S$363 / COS!$B221,'Polar 0-360'!R221 )","v":{"$error":"#VALUE!"}},{"$f":" IF( $A221 < 'Polar 0-360'!Y$365, 'Polar 0-360'!Y$363 / COS!$B221,'Polar 0-360'!X221 )","v":{"$error":"#VALUE!"}},{"$f":" IF( $A221 < 'Polar 0-360'!AE$365, 'Polar 0-360'!AE$363 / COS!$B221,'Polar 0-360'!AD221 )","v":{"$error":"#VALUE!"}},{"$f":" IF( $A221 < 'Polar 0-360'!AK$365, 'Polar 0-360'!AK$363 / COS!$B221,'Polar 0-360'!AJ221 )","v":8.1532171440317516},{"$f":" IF( $A221 < 'Polar 0-360'!AQ$365, 'Polar 0-360'!AQ$363 / COS!$B221,'Polar 0-360'!AP221 )","v":{"$error":"#VALUE!"}}]
[{"$f":"'Polar 0-360'!A222","v":220},0,{"$f":" IF( $A222 < 'Polar 0-360'!G$365, 'Polar 0-360'!G$363 / COS!$B222,'Polar 0-360'!F222 )","v":{"$error":"#VALUE!"}},{"$f":" IF( $A222 < 'Polar 0-360'!M$365, 'Polar 0-360'!M$363 / COS!$B222,'Polar 0-360'!L222 )","v":{"$error":"#VALUE!"}},{"$f":" IF( $A222 < 'Polar 0-360'!S$365, 'Polar 0-360'!S$363 / COS!$B222,'Polar 0-360'!R222 )","v":{"$error":"#VALUE!"}},{"$f":" IF( $A222 < 'Polar 0-360'!Y$365, 'Polar 0-360'!Y$363 / COS!$B222,'Polar 0-360'!X222 )","v":{"$error":"#VALUE!"}},{"$f":" IF( $A222 < 'Polar 0-360'!AE$365, 'Polar 0-360'!AE$363 / COS!$B222,'Polar 0-360'!AD222 )","v":{"$error":"#VALUE!"}},{"$f":" IF( $A222 < 'Polar 0-360'!AK$365, 'Polar 0-360'!AK$363 / COS!$B222,'Polar 0-360'!AJ222 )","v":8.1765176269373097},{"$f":" IF( $A222 < 'Polar 0-360'!AQ$365, 'Polar 0-360'!AQ$363 / COS!$B222,'Polar 0-360'!AP222 )","v":{"$error":"#VALUE!"}}]
[{"$f":"'Polar 0-360'!A223","v":221},0,{"$f":" IF( $A223 < 'Polar 0-360'!G$365, 'Polar 0-360'!G$363 / COS!$B223,'Polar 0-360'!F223 )","v":{"$error":"#VALUE!"}},{"$f":" IF( $A223 < 'Polar 0-360'!M$365, 'Polar 0-360'!M$363 / COS!$B223,'Polar 0-360'!L223 )","v":{"$error":"#VALUE!"}},{"$f":" IF( $A223 < 'Polar 0-360'!S$365, 'Polar 0-360'!S$363 / COS!$B223,'Polar 0-360'!R223 )","v":{"$error":"#VALUE!"}},{"$f":" IF( $A223 < 'Polar 0-360'!Y$365, 'Polar 0-360'!Y$363 / COS!$B223,'Polar 0-360'!X223 )","v":{"$error":"#VALUE!"}},{"$f":" IF( $A223 < 'Polar 0-360'!AE$365, 'Polar 0-360'!AE$363 / COS!$B223,'Polar 0-360'!AD223 )","v":{"$error":"#VALUE!"}},{"$f":" IF( $A223 < 'Polar 0-360'!AK$365, 'Polar 0-360'!AK$363 / COS!$B223,'Polar 0-360'!AJ223 )","v":8.1998181098428677},{"$f":" IF( $A223 < 'Polar 0-360'!AQ$365, 'Polar 0-360'!AQ$363 / COS!$B223,'Polar 0-360'!AP223 )","v":{"$error":"#VALUE!"}}]
[{"$f":"'Polar 0-360'!A224","v":222},0,{"$f":" IF( $A224 < 'Polar 0-360'!G$365, 'Polar 0-360'!G$363 / COS!$B224,'Polar 0-360'!F224 )","v":{"$error":"#VALUE!"}},{"$f":" IF( $A224 < 'Polar 0-360'!M$365, 'Polar 0-360'!M$363 / COS!$B224,'Polar 0-360'!L224 )","v":{"$error":"#VALUE!"}},{"$f":" IF( $A224 < 'Polar 0-360'!S$365, 'Polar 0-360'!S$363 / COS!$B224,'Polar 0-360'!R224 )","v":{"$error":"#VALUE!"}},{"$f":" IF( $A224 < 'Polar 0-360'!Y$365, 'Polar 0-360'!Y$363 / COS!$B224,'Polar 0-360'!X224 )","v":{"$error":"#VALUE!"}},{"$f":" IF( $A224 < 'Polar 0-360'!AE$365, 'Polar 0-360'!AE$363 / COS!$B224,'Polar 0-360'!AD224 )","v":{"$error":"#VALUE!"}},{"$f":" IF( $A224 < 'Polar 0-360'!AK$365, 'Polar 0-360'!AK$363 / COS!$B224,'Polar 0-360'!AJ224 )","v":8.2231185927484258},{"$f":" IF( $A224 < 'Polar 0-360'!AQ$365, 'Polar 0-360'!AQ$363 / COS!$B224,'Polar 0-360'!AP224 )","v":{"$error":"#VALUE!"}}]
[{"$f":"'Polar 0-360'!A225","v":223},0,{"$f":" IF( $A225 < 'Polar 0-360'!G$365, 'Polar 0-360'!G$363 / COS!$B225,'Polar 0-360'!F225 )","v":{"$error":"#VALUE!"}},{"$f":" IF( $A225 < 'Polar 0-360'!M$365, 'Polar 0-360'!M$363 / COS!$B225,'Polar 0-360'!L225 )","v":{"$error":"#VALUE!"}},{"$f":" IF( $A225 < 'Polar 0-360'!S$365, 'Polar 0-360'!S$363 / COS!$B225,'Polar 0-360'!R225 )","v":{"$error":"#VALUE!"}},{"$f":" IF( $A225 < 'Polar 0-360'!Y$365, 'Polar 0-360'!Y$363 / COS!$B225,'Polar 0-360'!X225 )","v":{"$error":"#VALUE!"}},{"$f":" IF( $A225 < 'Polar 0-360'!AE$365, 'Polar 0-360'!AE$363 / COS!$B225,'Polar 0-360'!AD225 )","v":{"$error":"#VALUE!"}},{"$f":" IF( $A225 < 'Polar 0-360'!AK$365, 'Polar 0-360'!AK$363 / COS!$B225,'Polar 0-360'!AJ225 )","v":8.2464190756539839},{"$f":" IF( $A225 < 'Polar 0-360'!AQ$365, 'Polar 0-360'!AQ$363 / COS!$B225,'Polar 0-360'!AP225 )","v":{"$error":"#VALUE!"}}]
[{"$f":"'Polar 0-360'!A226","v":224},0,{"$f":" IF( $A226 < 'Polar 0-360'!G$365, 'Polar 0-360'!G$363 / COS!$B226,'Polar 0-360'!F226 )","v":{"$error":"#VALUE!"}},{"$f":" IF( $A226 < 'Polar 0-360'!M$365, 'Polar 0-360'!M$363 / COS!$B226,'Polar 0-360'!L226 )","v":{"$error":"#VALUE!"}},{"$f":" IF( $A226 < 'Polar 0-360'!S$365, 'Polar 0-360'!S$363 / COS!$B226,'Polar 0-360'!R226 )","v":{"$error":"#VALUE!"}},{"$f":" IF( $A226 < 'Polar 0-360'!Y$365, 'Polar 0-360'!Y$363 / COS!$B226,'Polar 0-360'!X226 )","v":{"$error":"#VALUE!"}},{"$f":" IF( $A226 < 'Polar 0-360'!AE$365, 'Polar 0-360'!AE$363 / COS!$B226,'Polar 0-360'!AD226 )","v":{"$error":"#VALUE!"}},{"$f":" IF( $A226 < 'Polar 0-360'!AK$365, 'Polar 0-360'!AK$363 / COS!$B226,'Polar 0-360'!AJ226 )","v":8.269719558559542},{"$f":" IF( $A226 < 'Polar 0-360'!AQ$365, 'Polar 0-360'!AQ$363 / COS!$B226,'Polar 0-360'!AP226 )","v":{"$error":"#VALUE!"}}]
[{"$f":"'Polar 0-360'!A227","v":225},0,{"$f":" IF( $A227 < 'Polar 0-360'!G$365, 'Polar 0-360'!G$363 / COS!$B227,'Polar 0-360'!F227 )","v":{"$error":"#VALUE!"}},{"$f":" IF( $A227 < 'Polar 0-360'!M$365, 'Polar 0-360'!M$363 / COS!$B227,'Polar 0-360'!L227 )","v":{"$error":"#VALUE!"}},{"$f":" IF( $A227 < 'Polar 0-360'!S$365, 'Polar 0-360'!S$363 / COS!$B227,'Polar 0-360'!R227 )","v":{"$error":"#VALUE!"}},{"$f":" IF( $A227 < 'Polar 0-360'!Y$365, 'Polar 0-360'!Y$363 / COS!$B227,'Polar 0-360'!X227 )","v":{"$error":"#VALUE!"}},{"$f":" IF( $A227 < 'Polar 0-360'!AE$365, 'Polar 0-360'!AE$363 / COS!$B227,'Polar 0-360'!AD227 )","v":{"$error":"#VALUE!"}},{"$f":" IF( $A227 < 'Polar 0-360'!AK$365, 'Polar 0-360'!AK$363 / COS!$B227,'Polar 0-360'!AJ227 )","v":8.2930200414651001},{"$f":" IF( $A227 < 'Polar 0-360'!AQ$365, 'Polar 0-360'!AQ$363 / COS!$B227,'Polar 0-360'!AP227 )","v":{"$error":"#VALUE!"}}]
[{"$f":"'Polar 0-360'!A228","v":226},0,{"$f":" IF( $A228 < 'Polar 0-360'!G$365, 'Polar 0-360'!G$363 / COS!$B228,'Polar 0-360'!F228 )","v":{"$error":"#VALUE!"}},{"$f":" IF( $A228 < 'Polar 0-360'!M$365, 'Polar 0-360'!M$363 / COS!$B228,'Polar 0-360'!L228 )","v":{"$error":"#VALUE!"}},{"$f":" IF( $A228 < 'Polar 0-360'!S$365, 'Polar 0-360'!S$363 / COS!$B228,'Polar 0-360'!R228 )","v":{"$error":"#VALUE!"}},{"$f":" IF( $A228 < 'Polar 0-360'!Y$365, 'Polar 0-360'!Y$363 / COS!$B228,'Polar 0-360'!X228 )","v":{"$error":"#VALUE!"}},{"$f":" IF( $A228 < 'Polar 0-360'!AE$365, 'Polar 0-360'!AE$363 / COS!$B228,'Polar 0-360'!AD228 )","v":{"$error":"#VALUE!"}},{"$f":" IF( $A228 < 'Polar 0-360'!AK$365, 'Polar 0-360'!AK$363 / COS!$B228,'Polar 0-360'!AJ228 )","v":8.2870174031179644},{"$f":" IF( $A228 < 'Polar 0-360'!AQ$365, 'Polar 0-360'!AQ$363 / COS!$B228,'Polar 0-360'!AP228 )","v":{"$error":"#VALUE!"}}]
[{"$f":"'Polar 0-360'!A229","v":227},0,{"$f":" IF( $A229 < 'Polar 0-360'!G$365, 'Polar 0-360'!G$363 / COS!$B229,'Polar 0-360'!F229 )","v":{"$error":"#VALUE!"}},{"$f":" IF( $A229 < 'Polar 0-360'!M$365, 'Polar 0-360'!M$363 / COS!$B229,'Polar 0-360'!L229 )","v":{"$error":"#VALUE!"}},{"$f":" IF( $A229 < 'Polar 0-360'!S$365, 'Polar 0-360'!S$363 / COS!$B229,'Polar 0-360'!R229 )","v":{"$error":"#VALUE!"}},{"$f":" IF( $A229 < 'Polar 0-360'!Y$365, 'Polar 0-360'!Y$363 / COS!$B229,'Polar 0-360'!X229 )","v":{"$error":"#VALUE!"}},{"$f":" IF( $A229 < 'Polar 0-360'!AE$365, 'Polar 0-360'!AE$363 / COS!$B229,'Polar 0-360'!AD229 )","v":{"$error":"#VALUE!"}},{"$f":" IF( $A229 < 'Polar 0-360'!AK$365, 'Polar 0-360'!AK$363 / COS!$B229,'Polar 0-360'!AJ229 )","v":8.2810147647708288},{"$f":" IF( $A229 < 'Polar 0-360'!AQ$365, 'Polar 0-360'!AQ$363 / COS!$B229,'Polar 0-360'!AP229 )","v":{"$error":"#VALUE!"}}]
[{"$f":"'Polar 0-360'!A230","v":228},0,{"$f":" IF( $A230 < 'Polar 0-360'!G$365, 'Polar 0-360'!G$363 / COS!$B230,'Polar 0-360'!F230 )","v":{"$error":"#VALUE!"}},{"$f":" IF( $A230 < 'Polar 0-360'!M$365, 'Polar 0-360'!M$363 / COS!$B230,'Polar 0-360'!L230 )","v":{"$error":"#VALUE!"}},{"$f":" IF( $A230 < 'Polar 0-360'!S$365, 'Polar 0-360'!S$363 / COS!$B230,'Polar 0-360'!R230 )","v":{"$error":"#VALUE!"}},{"$f":" IF( $A230 < 'Polar 0-360'!Y$365, 'Polar 0-360'!Y$363 / COS!$B230,'Polar 0-360'!X230 )","v":{"$error":"#VALUE!"}},{"$f":" IF( $A230 < 'Polar 0-360'!AE$365, 'Polar 0-360'!AE$363 / COS!$B230,'Polar 0-360'!AD230 )","v":{"$error":"#VALUE!"}},{"$f":" IF( $A230 < 'Polar 0-360'!AK$365, 'Polar 0-360'!AK$363 / COS!$B230,'Polar 0-360'!AJ230 )","v":8.2750121264236931},{"$f":" IF( $A230 < 'Polar 0-360'!AQ$365, 'Polar 0-360'!AQ$363 / COS!$B230,'Polar 0-360'!AP230 )","v":{"$error":"#VALUE!"}}]
[{"$f":"'Polar 0-360'!A231","v":229},0,{"$f":" IF( $A231 < 'Polar 0-360'!G$365, 'Polar 0-360'!G$363 / COS!$B231,'Polar 0-360'!F231 )","v":{"$error":"#VALUE!"}},{"$f":" IF( $A231 < 'Polar 0-360'!M$365, 'Polar 0-360'!M$363 / COS!$B231,'Polar 0-360'!L231 )","v":{"$error":"#VALUE!"}},{"$f":" IF( $A231 < 'Polar 0-360'!S$365, 'Polar 0-360'!S$363 / COS!$B231,'Polar 0-360'!R231 )","v":{"$error":"#VALUE!"}},{"$f":" IF( $A231 < 'Polar 0-360'!Y$365, 'Polar 0-360'!Y$363 / COS!$B231,'Polar 0-360'!X231 )","v":{"$error":"#VALUE!"}},{"$f":" IF( $A231 < 'Polar 0-360'!AE$365, 'Polar 0-360'!AE$363 / COS!$B231,'Polar 0-360'!AD231 )","v":{"$error":"#VALUE!"}},{"$f":" IF( $A231 < 'Polar 0-360'!AK$365, 'Polar 0-360'!AK$363 / COS!$B231,'Polar 0-360'!AJ231 )","v":8.2690094880765557},{"$f":" IF( $A231 < 'Polar 0-360'!AQ$365, 'Polar 0-360'!AQ$363 / COS!$B231,'Polar 0-360'!AP231 )","v":{"$error":"#VALUE!"}}]
[{"$f":"'Polar 0-360'!A232","v":230},0,{"$f":" IF( $A232 < 'Polar 0-360'!G$365, 'Polar 0-360'!G$363 / COS!$B232,'Polar 0-360'!F232 )","v":{"$error":"#VALUE!"}},{"$f":" IF( $A232 < 'Polar 0-360'!M$365, 'Polar 0-360'!M$363 / COS!$B232,'Polar 0-360'!L232 )","v":{"$error":"#VALUE!"}},{"$f":" IF( $A232 < 'Polar 0-360'!S$365, 'Polar 0-360'!S$363 / COS!$B232,'Polar 0-360'!R232 )","v":{"$error":"#VALUE!"}},{"$f":" IF( $A232 < 'Polar 0-360'!Y$365, 'Polar 0-360'!Y$363 / COS!$B232,'Polar 0-360'!X232 )","v":{"$error":"#VALUE!"}},{"$f":" IF( $A232 < 'Polar 0-360'!AE$365, 'Polar 0-360'!AE$363 / COS!$B232,'Polar 0-360'!AD232 )","v":{"$error":"#VALUE!"}},{"$f":" IF( $A232 < 'Polar 0-360'!AK$365, 'Polar 0-360'!AK$363 / COS!$B232,'Polar 0-360'!AJ232 )","v":8.26300684972942},{"$f":" IF( $A232 < 'Polar 0-360'!AQ$365, 'Polar 0-360'!AQ$363 / COS!$B232,'Polar 0-360'!AP232 )","v":{"$error":"#VALUE!"}}]
[{"$f":"'Polar 0-360'!A233","v":231},0,{"$f":" IF( $A233 < 'Polar 0-360'!G$365, 'Polar 0-360'!G$363 / COS!$B233,'Polar 0-360'!F233 )","v":{"$error":"#VALUE!"}},{"$f":" IF( $A233 < 'Polar 0-360'!M$365, 'Polar 0-360'!M$363 / COS!$B233,'Polar 0-360'!L233 )","v":{"$error":"#VALUE!"}},{"$f":" IF( $A233 < 'Polar 0-360'!S$365, 'Polar 0-360'!S$363 / COS!$B233,'Polar 0-360'!R233 )","v":{"$error":"#VALUE!"}},{"$f":" IF( $A233 < 'Polar 0-360'!Y$365, 'Polar 0-360'!Y$363 / COS!$B233,'Polar 0-360'!X233 )","v":{"$error":"#VALUE!"}},{"$f":" IF( $A233 < 'Polar 0-360'!AE$365, 'Polar 0-360'!AE$363 / COS!$B233,'Polar 0-360'!AD233 )","v":{"$error":"#VALUE!"}},{"$f":" IF( $A233 < 'Polar 0-360'!AK$365, 'Polar 0-360'!AK$363 / COS!$B233,'Polar 0-360'!AJ233 )","v":8.2570042113822844},{"$f":" IF( $A233 < 'Polar 0-360'!AQ$365, 'Polar 0-360'!AQ$363 / COS!$B233,'Polar 0-360'!AP233 )","v":{"$error":"#VALUE!"}}]
[{"$f":"'Polar 0-360'!A234","v":232},0,{"$f":" IF( $A234 < 'Polar 0-360'!G$365, 'Polar 0-360'!G$363 / COS!$B234,'Polar 0-360'!F234 )","v":{"$error":"#VALUE!"}},{"$f":" IF( $A234 < 'Polar 0-360'!M$365, 'Polar 0-360'!M$363 / COS!$B234,'Polar 0-360'!L234 )","v":{"$error":"#VALUE!"}},{"$f":" IF( $A234 < 'Polar 0-360'!S$365, 'Polar 0-360'!S$363 / COS!$B234,'Polar 0-360'!R234 )","v":{"$error":"#VALUE!"}},{"$f":" IF( $A234 < 'Polar 0-360'!Y$365, 'Polar 0-360'!Y$363 / COS!$B234,'Polar 0-360'!X234 )","v":{"$error":"#VALUE!"}},{"$f":" IF( $A234 < 'Polar 0-360'!AE$365, 'Polar 0-360'!AE$363 / COS!$B234,'Polar 0-360'!AD234 )","v":{"$error":"#VALUE!"}},{"$f":" IF( $A234 < 'Polar 0-360'!AK$365, 'Polar 0-360'!AK$363 / COS!$B234,'Polar 0-360'!AJ234 )","v":8.2510015730351487},{"$f":" IF( $A234 < 'Polar 0-360'!AQ$365, 'Polar 0-360'!AQ$363 / COS!$B234,'Polar 0-360'!AP234 )","v":{"$error":"#VALUE!"}}]
[{"$f":"'Polar 0-360'!A235","v":233},0,{"$f":" IF( $A235 < 'Polar 0-360'!G$365, 'Polar 0-360'!G$363 / COS!$B235,'Polar 0-360'!F235 )","v":{"$error":"#VALUE!"}},{"$f":" IF( $A235 < 'Polar 0-360'!M$365, 'Polar 0-360'!M$363 / COS!$B235,'Polar 0-360'!L235 )","v":{"$error":"#VALUE!"}},{"$f":" IF( $A235 < 'Polar 0-360'!S$365, 'Polar 0-360'!S$363 / COS!$B235,'Polar 0-360'!R235 )","v":{"$error":"#VALUE!"}},{"$f":" IF( $A235 < 'Polar 0-360'!Y$365, 'Polar 0-360'!Y$363 / COS!$B235,'Polar 0-360'!X235 )","v":{"$error":"#VALUE!"}},{"$f":" IF( $A235 < 'Polar 0-360'!AE$365, 'Polar 0-360'!AE$363 / COS!$B235,'Polar 0-360'!AD235 )","v":{"$error":"#VALUE!"}},{"$f":" IF( $A235 < 'Polar 0-360'!AK$365, 'Polar 0-360'!AK$363 / COS!$B235,'Polar 0-360'!AJ235 )","v":8.244998934688013},{"$f":" IF( $A235 < 'Polar 0-360'!AQ$365, 'Polar 0-360'!AQ$363 / COS!$B235,'Polar 0-360'!AP235 )","v":{"$error":"#VALUE!"}}]
[{"$f":"'Polar 0-360'!A236","v":234},0,{"$f":" IF( $A236 < 'Polar 0-360'!G$365, 'Polar 0-360'!G$363 / COS!$B236,'Polar 0-360'!F236 )","v":{"$error":"#VALUE!"}},{"$f":" IF( $A236 < 'Polar 0-360'!M$365, 'Polar 0-360'!M$363 / COS!$B236,'Polar 0-360'!L236 )","v":{"$error":"#VALUE!"}},{"$f":" IF( $A236 < 'Polar 0-360'!S$365, 'Polar 0-360'!S$363 / COS!$B236,'Polar 0-360'!R236 )","v":{"$error":"#VALUE!"}},{"$f":" IF( $A236 < 'Polar 0-360'!Y$365, 'Polar 0-360'!Y$363 / COS!$B236,'Polar 0-360'!X236 )","v":{"$error":"#VALUE!"}},{"$f":" IF( $A236 < 'Polar 0-360'!AE$365, 'Polar 0-360'!AE$363 / COS!$B236,'Polar 0-360'!AD236 )","v":{"$error":"#VALUE!"}},{"$f":" IF( $A236 < 'Polar 0-360'!AK$365, 'Polar 0-360'!AK$363 / COS!$B236,'Polar 0-360'!AJ236 )","v":8.2389962963408756},{"$f":" IF( $A236 < 'Polar 0-360'!AQ$365, 'Polar 0-360'!AQ$363 / COS!$B236,'Polar 0-360'!AP236 )","v":{"$error":"#VALUE!"}}]
[{"$f":"'Polar 0-360'!A237","v":235},0,{"$f":" IF( $A237 < 'Polar 0-360'!G$365, 'Polar 0-360'!G$363 / COS!$B237,'Polar 0-360'!F237 )","v":{"$error":"#VALUE!"}},{"$f":" IF( $A237 < 'Polar 0-360'!M$365, 'Polar 0-360'!M$363 / COS!$B237,'Polar 0-360'!L237 )","v":{"$error":"#VALUE!"}},{"$f":" IF( $A237 < 'Polar 0-360'!S$365, 'Polar 0-360'!S$363 / COS!$B237,'Polar 0-360'!R237 )","v":{"$error":"#VALUE!"}},{"$f":" IF( $A237 < 'Polar 0-360'!Y$365, 'Polar 0-360'!Y$363 / COS!$B237,'Polar 0-360'!X237 )","v":{"$error":"#VALUE!"}},{"$f":" IF( $A237 < 'Polar 0-360'!AE$365, 'Polar 0-360'!AE$363 / COS!$B237,'Polar 0-360'!AD237 )","v":{"$error":"#VALUE!"}},{"$f":" IF( $A237 < 'Polar 0-360'!AK$365, 'Polar 0-360'!AK$363 / COS!$B237,'Polar 0-360'!AJ237 )","v":8.2329936579937399},{"$f":" IF( $A237 < 'Polar 0-360'!AQ$365, 'Polar 0-360'!AQ$363 / COS!$B237,'Polar 0-360'!AP237 )","v":{"$error":"#VALUE!"}}]
[{"$f":"'Polar 0-360'!A238","v":236},0,{"$f":" IF( $A238 < 'Polar 0-360'!G$365, 'Polar 0-360'!G$363 / COS!$B238,'Polar 0-360'!F238 )","v":{"$error":"#VALUE!"}},{"$f":" IF( $A238 < 'Polar 0-360'!M$365, 'Polar 0-360'!M$363 / COS!$B238,'Polar 0-360'!L238 )","v":{"$error":"#VALUE!"}},{"$f":" IF( $A238 < 'Polar 0-360'!S$365, 'Polar 0-360'!S$363 / COS!$B238,'Polar 0-360'!R238 )","v":{"$error":"#VALUE!"}},{"$f":" IF( $A238 < 'Polar 0-360'!Y$365, 'Polar 0-360'!Y$363 / COS!$B238,'Polar 0-360'!X238 )","v":{"$error":"#VALUE!"}},{"$f":" IF( $A238 < 'Polar 0-360'!AE$365, 'Polar 0-360'!AE$363 / COS!$B238,'Polar 0-360'!AD238 )","v":{"$error":"#VALUE!"}},{"$f":" IF( $A238 < 'Polar 0-360'!AK$365, 'Polar 0-360'!AK$363 / COS!$B238,'Polar 0-360'!AJ238 )","v":8.2269910196466043},{"$f":" IF( $A238 < 'Polar 0-360'!AQ$365, 'Polar 0-360'!AQ$363 / COS!$B238,'Polar 0-360'!AP238 )","v":{"$error":"#VALUE!"}}]
[{"$f":"'Polar 0-360'!A239","v":237},0,{"$f":" IF( $A239 < 'Polar 0-360'!G$365, 'Polar 0-360'!G$363 / COS!$B239,'Polar 0-360'!F239 )","v":{"$error":"#VALUE!"}},{"$f":" IF( $A239 < 'Polar 0-360'!M$365, 'Polar 0-360'!M$363 / COS!$B239,'Polar 0-360'!L239 )","v":{"$error":"#VALUE!"}},{"$f":" IF( $A239 < 'Polar 0-360'!S$365, 'Polar 0-360'!S$363 / COS!$B239,'Polar 0-360'!R239 )","v":{"$error":"#VALUE!"}},{"$f":" IF( $A239 < 'Polar 0-360'!Y$365, 'Polar 0-360'!Y$363 / COS!$B239,'Polar 0-360'!X239 )","v":{"$error":"#VALUE!"}},{"$f":" IF( $A239 < 'Polar 0-360'!AE$365, 'Polar 0-360'!AE$363 / COS!$B239,'Polar 0-360'!AD239 )","v":{"$error":"#VALUE!"}},{"$f":" IF( $A239 < 'Polar 0-360'!AK$365, 'Polar 0-360'!AK$363 / COS!$B239,'Polar 0-360'!AJ239 )","v":8.2209883812994686},{"$f":" IF( $A239 < 'Polar 0-360'!AQ$365, 'Polar 0-360'!AQ$363 / COS!$B239,'Polar 0-360'!AP239 )","v":{"$error":"#VALUE!"}}]
[{"$f":"'Polar 0-360'!A240","v":238},0,{"$f":" IF( $A240 < 'Polar 0-360'!G$365, 'Polar 0-360'!G$363 / COS!$B240,'Polar 0-360'!F240 )","v":{"$error":"#VALUE!"}},{"$f":" IF( $A240 < 'Polar 0-360'!M$365, 'Polar 0-360'!M$363 / COS!$B240,'Polar 0-360'!L240 )","v":{"$error":"#VALUE!"}},{"$f":" IF( $A240 < 'Polar 0-360'!S$365, 'Polar 0-360'!S$363 / COS!$B240,'Polar 0-360'!R240 )","v":{"$error":"#VALUE!"}},{"$f":" IF( $A240 < 'Polar 0-360'!Y$365, 'Polar 0-360'!Y$363 / COS!$B240,'Polar 0-360'!X240 )","v":{"$error":"#VALUE!"}},{"$f":" IF( $A240 < 'Polar 0-360'!AE$365, 'Polar 0-360'!AE$363 / COS!$B240,'Polar 0-360'!AD240 )","v":{"$error":"#VALUE!"}},{"$f":" IF( $A240 < 'Polar 0-360'!AK$365, 'Polar 0-360'!AK$363 / COS!$B240,'Polar 0-360'!AJ240 )","v":8.214985742952333},{"$f":" IF( $A240 < 'Polar 0-360'!AQ$365, 'Polar 0-360'!AQ$363 / COS!$B240,'Polar 0-360'!AP240 )","v":{"$error":"#VALUE!"}}]
[{"$f":"'Polar 0-360'!A241","v":239},0,{"$f":" IF( $A241 < 'Polar 0-360'!G$365, 'Polar 0-360'!G$363 / COS!$B241,'Polar 0-360'!F241 )","v":{"$error":"#VALUE!"}},{"$f":" IF( $A241 < 'Polar 0-360'!M$365, 'Polar 0-360'!M$363 / COS!$B241,'Polar 0-360'!L241 )","v":{"$error":"#VALUE!"}},{"$f":" IF( $A241 < 'Polar 0-360'!S$365, 'Polar 0-360'!S$363 / COS!$B241,'Polar 0-360'!R241 )","v":{"$error":"#VALUE!"}},{"$f":" IF( $A241 < 'Polar 0-360'!Y$365, 'Polar 0-360'!Y$363 / COS!$B241,'Polar 0-360'!X241 )","v":{"$error":"#VALUE!"}},{"$f":" IF( $A241 < 'Polar 0-360'!AE$365, 'Polar 0-360'!AE$363 / COS!$B241,'Polar 0-360'!AD241 )","v":{"$error":"#VALUE!"}},{"$f":" IF( $A241 < 'Polar 0-360'!AK$365, 'Polar 0-360'!AK$363 / COS!$B241,'Polar 0-360'!AJ241 )","v":8.2089831046051955},{"$f":" IF( $A241 < 'Polar 0-360'!AQ$365, 'Polar 0-360'!AQ$363 / COS!$B241,'Polar 0-360'!AP241 )","v":{"$error":"#VALUE!"}}]
[{"$f":"'Polar 0-360'!A242","v":240},0,{"$f":" IF( $A242 < 'Polar 0-360'!G$365, 'Polar 0-360'!G$363 / COS!$B242,'Polar 0-360'!F242 )","v":{"$error":"#VALUE!"}},{"$f":" IF( $A242 < 'Polar 0-360'!M$365, 'Polar 0-360'!M$363 / COS!$B242,'Polar 0-360'!L242 )","v":{"$error":"#VALUE!"}},{"$f":" IF( $A242 < 'Polar 0-360'!S$365, 'Polar 0-360'!S$363 / COS!$B242,'Polar 0-360'!R242 )","v":{"$error":"#VALUE!"}},{"$f":" IF( $A242 < 'Polar 0-360'!Y$365, 'Polar 0-360'!Y$363 / COS!$B242,'Polar 0-360'!X242 )","v":{"$error":"#VALUE!"}},{"$f":" IF( $A242 < 'Polar 0-360'!AE$365, 'Polar 0-360'!AE$363 / COS!$B242,'Polar 0-360'!AD242 )","v":{"$error":"#VALUE!"}},{"$f":" IF( $A242 < 'Polar 0-360'!AK$365, 'Polar 0-360'!AK$363 / COS!$B242,'Polar 0-360'!AJ242 )","v":8.2029804662580599},{"$f":" IF( $A242 < 'Polar 0-360'!AQ$365, 'Polar 0-360'!AQ$363 / COS!$B242,'Polar 0-360'!AP242 )","v":{"$error":"#VALUE!"}}]
[{"$f":"'Polar 0-360'!A243","v":241},0,{"$f":" IF( $A243 < 'Polar 0-360'!G$365, 'Polar 0-360'!G$363 / COS!$B243,'Polar 0-360'!F243 )","v":{"$error":"#VALUE!"}},{"$f":" IF( $A243 < 'Polar 0-360'!M$365, 'Polar 0-360'!M$363 / COS!$B243,'Polar 0-360'!L243 )","v":{"$error":"#VALUE!"}},{"$f":" IF( $A243 < 'Polar 0-360'!S$365, 'Polar 0-360'!S$363 / COS!$B243,'Polar 0-360'!R243 )","v":{"$error":"#VALUE!"}},{"$f":" IF( $A243 < 'Polar 0-360'!Y$365, 'Polar 0-360'!Y$363 / COS!$B243,'Polar 0-360'!X243 )","v":{"$error":"#VALUE!"}},{"$f":" IF( $A243 < 'Polar 0-360'!AE$365, 'Polar 0-360'!AE$363 / COS!$B243,'Polar 0-360'!AD243 )","v":{"$error":"#VALUE!"}},{"$f":" IF( $A243 < 'Polar 0-360'!AK$365, 'Polar 0-360'!AK$363 / COS!$B243,'Polar 0-360'!AJ243 )","v":8.1969778279109242},{"$f":" IF( $A243 < 'Polar 0-360'!AQ$365, 'Polar 0-360'!AQ$363 / COS!$B243,'Polar 0-360'!AP243 )","v":{"$error":"#VALUE!"}}]
[{"$f":"'Polar 0-360'!A244","v":242},0,{"$f":" IF( $A244 < 'Polar 0-360'!G$365, 'Polar 0-360'!G$363 / COS!$B244,'Polar 0-360'!F244 )","v":{"$error":"#VALUE!"}},{"$f":" IF( $A244 < 'Polar 0-360'!M$365, 'Polar 0-360'!M$363 / COS!$B244,'Polar 0-360'!L244 )","v":{"$error":"#VALUE!"}},{"$f":" IF( $A244 < 'Polar 0-360'!S$365, 'Polar 0-360'!S$363 / COS!$B244,'Polar 0-360'!R244 )","v":{"$error":"#VALUE!"}},{"$f":" IF( $A244 < 'Polar 0-360'!Y$365, 'Polar 0-360'!Y$363 / COS!$B244,'Polar 0-360'!X244 )","v":{"$error":"#VALUE!"}},{"$f":" IF( $A244 < 'Polar 0-360'!AE$365, 'Polar 0-360'!AE$363 / COS!$B244,'Polar 0-360'!AD244 )","v":{"$error":"#VALUE!"}},{"$f":" IF( $A244 < 'Polar 0-360'!AK$365, 'Polar 0-360'!AK$363 / COS!$B244,'Polar 0-360'!AJ244 )","v":8.1909751895637886},{"$f":" IF( $A244 < 'Polar 0-360'!AQ$365, 'Polar 0-360'!AQ$363 / COS!$B244,'Polar 0-360'!AP244 )","v":{"$error":"#VALUE!"}}]
[{"$f":"'Polar 0-360'!A245","v":243},0,{"$f":" IF( $A245 < 'Polar 0-360'!G$365, 'Polar 0-360'!G$363 / COS!$B245,'Polar 0-360'!F245 )","v":{"$error":"#VALUE!"}},{"$f":" IF( $A245 < 'Polar 0-360'!M$365, 'Polar 0-360'!M$363 / COS!$B245,'Polar 0-360'!L245 )","v":{"$error":"#VALUE!"}},{"$f":" IF( $A245 < 'Polar 0-360'!S$365, 'Polar 0-360'!S$363 / COS!$B245,'Polar 0-360'!R245 )","v":{"$error":"#VALUE!"}},{"$f":" IF( $A245 < 'Polar 0-360'!Y$365, 'Polar 0-360'!Y$363 / COS!$B245,'Polar 0-360'!X245 )","v":{"$error":"#VALUE!"}},{"$f":" IF( $A245 < 'Polar 0-360'!AE$365, 'Polar 0-360'!AE$363 / COS!$B245,'Polar 0-360'!AD245 )","v":{"$error":"#VALUE!"}},{"$f":" IF( $A245 < 'Polar 0-360'!AK$365, 'Polar 0-360'!AK$363 / COS!$B245,'Polar 0-360'!AJ245 )","v":8.1849725512166529},{"$f":" IF( $A245 < 'Polar 0-360'!AQ$365, 'Polar 0-360'!AQ$363 / COS!$B245,'Polar 0-360'!AP245 )","v":{"$error":"#VALUE!"}}]
[{"$f":"'Polar 0-360'!A246","v":244},0,{"$f":" IF( $A246 < 'Polar 0-360'!G$365, 'Polar 0-360'!G$363 / COS!$B246,'Polar 0-360'!F246 )","v":{"$error":"#VALUE!"}},{"$f":" IF( $A246 < 'Polar 0-360'!M$365, 'Polar 0-360'!M$363 / COS!$B246,'Polar 0-360'!L246 )","v":{"$error":"#VALUE!"}},{"$f":" IF( $A246 < 'Polar 0-360'!S$365, 'Polar 0-360'!S$363 / COS!$B246,'Polar 0-360'!R246 )","v":{"$error":"#VALUE!"}},{"$f":" IF( $A246 < 'Polar 0-360'!Y$365, 'Polar 0-360'!Y$363 / COS!$B246,'Polar 0-360'!X246 )","v":{"$error":"#VALUE!"}},{"$f":" IF( $A246 < 'Polar 0-360'!AE$365, 'Polar 0-360'!AE$363 / COS!$B246,'Polar 0-360'!AD246 )","v":{"$error":"#VALUE!"}},{"$f":" IF( $A246 < 'Polar 0-360'!AK$365, 'Polar 0-360'!AK$363 / COS!$B246,'Polar 0-360'!AJ246 )","v":8.1789699128695155},{"$f":" IF( $A246 < 'Polar 0-360'!AQ$365, 'Polar 0-360'!AQ$363 / COS!$B246,'Polar 0-360'!AP246 )","v":{"$error":"#VALUE!"}}]
[{"$f":"'Polar 0-360'!A247","v":245},0,{"$f":" IF( $A247 < 'Polar 0-360'!G$365, 'Polar 0-360'!G$363 / COS!$B247,'Polar 0-360'!F247 )","v":{"$error":"#VALUE!"}},{"$f":" IF( $A247 < 'Polar 0-360'!M$365, 'Polar 0-360'!M$363 / COS!$B247,'Polar 0-360'!L247 )","v":{"$error":"#VALUE!"}},{"$f":" IF( $A247 < 'Polar 0-360'!S$365, 'Polar 0-360'!S$363 / COS!$B247,'Polar 0-360'!R247 )","v":{"$error":"#VALUE!"}},{"$f":" IF( $A247 < 'Polar 0-360'!Y$365, 'Polar 0-360'!Y$363 / COS!$B247,'Polar 0-360'!X247 )","v":{"$error":"#VALUE!"}},{"$f":" IF( $A247 < 'Polar 0-360'!AE$365, 'Polar 0-360'!AE$363 / COS!$B247,'Polar 0-360'!AD247 )","v":{"$error":"#VALUE!"}},{"$f":" IF( $A247 < 'Polar 0-360'!AK$365, 'Polar 0-360'!AK$363 / COS!$B247,'Polar 0-360'!AJ247 )","v":8.1729672745223798},{"$f":" IF( $A247 < 'Polar 0-360'!AQ$365, 'Polar 0-360'!AQ$363 / COS!$B247,'Polar 0-360'!AP247 )","v":{"$error":"#VALUE!"}}]
[{"$f":"'Polar 0-360'!A248","v":246},0,{"$f":" IF( $A248 < 'Polar 0-360'!G$365, 'Polar 0-360'!G$363 / COS!$B248,'Polar 0-360'!F248 )","v":{"$error":"#VALUE!"}},{"$f":" IF( $A248 < 'Polar 0-360'!M$365, 'Polar 0-360'!M$363 / COS!$B248,'Polar 0-360'!L248 )","v":{"$error":"#VALUE!"}},{"$f":" IF( $A248 < 'Polar 0-360'!S$365, 'Polar 0-360'!S$363 / COS!$B248,'Polar 0-360'!R248 )","v":{"$error":"#VALUE!"}},{"$f":" IF( $A248 < 'Polar 0-360'!Y$365, 'Polar 0-360'!Y$363 / COS!$B248,'Polar 0-360'!X248 )","v":{"$error":"#VALUE!"}},{"$f":" IF( $A248 < 'Polar 0-360'!AE$365, 'Polar 0-360'!AE$363 / COS!$B248,'Polar 0-360'!AD248 )","v":{"$error":"#VALUE!"}},{"$f":" IF( $A248 < 'Polar 0-360'!AK$365, 'Polar 0-360'!AK$363 / COS!$B248,'Polar 0-360'!AJ248 )","v":8.1669646361752442},{"$f":" IF( $A248 < 'Polar 0-360'!AQ$365, 'Polar 0-360'!AQ$363 / COS!$B248,'Polar 0-360'!AP248 )","v":{"$error":"#VALUE!"}}]
[{"$f":"'Polar 0-360'!A249","v":247},0,{"$f":" IF( $A249 < 'Polar 0-360'!G$365, 'Polar 0-360'!G$363 / COS!$B249,'Polar 0-360'!F249 )","v":{"$error":"#VALUE!"}},{"$f":" IF( $A249 < 'Polar 0-360'!M$365, 'Polar 0-360'!M$363 / COS!$B249,'Polar 0-360'!L249 )","v":{"$error":"#VALUE!"}},{"$f":" IF( $A249 < 'Polar 0-360'!S$365, 'Polar 0-360'!S$363 / COS!$B249,'Polar 0-360'!R249 )","v":{"$error":"#VALUE!"}},{"$f":" IF( $A249 < 'Polar 0-360'!Y$365, 'Polar 0-360'!Y$363 / COS!$B249,'Polar 0-360'!X249 )","v":{"$error":"#VALUE!"}},{"$f":" IF( $A249 < 'Polar 0-360'!AE$365, 'Polar 0-360'!AE$363 / COS!$B249,'Polar 0-360'!AD249 )","v":{"$error":"#VALUE!"}},{"$f":" IF( $A249 < 'Polar 0-360'!AK$365, 'Polar 0-360'!AK$363 / COS!$B249,'Polar 0-360'!AJ249 )","v":8.1609619978281085},{"$f":" IF( $A249 < 'Polar 0-360'!AQ$365, 'Polar 0-360'!AQ$363 / COS!$B249,'Polar 0-360'!AP249 )","v":{"$error":"#VALUE!"}}]
[{"$f":"'Polar 0-360'!A250","v":248},0,{"$f":" IF( $A250 < 'Polar 0-360'!G$365, 'Polar 0-360'!G$363 / COS!$B250,'Polar 0-360'!F250 )","v":{"$error":"#VALUE!"}},{"$f":" IF( $A250 < 'Polar 0-360'!M$365, 'Polar 0-360'!M$363 / COS!$B250,'Polar 0-360'!L250 )","v":{"$error":"#VALUE!"}},{"$f":" IF( $A250 < 'Polar 0-360'!S$365, 'Polar 0-360'!S$363 / COS!$B250,'Polar 0-360'!R250 )","v":{"$error":"#VALUE!"}},{"$f":" IF( $A250 < 'Polar 0-360'!Y$365, 'Polar 0-360'!Y$363 / COS!$B250,'Polar 0-360'!X250 )","v":{"$error":"#VALUE!"}},{"$f":" IF( $A250 < 'Polar 0-360'!AE$365, 'Polar 0-360'!AE$363 / COS!$B250,'Polar 0-360'!AD250 )","v":{"$error":"#VALUE!"}},{"$f":" IF( $A250 < 'Polar 0-360'!AK$365, 'Polar 0-360'!AK$363 / COS!$B250,'Polar 0-360'!AJ250 )","v":8.1549593594809728},{"$f":" IF( $A250 < 'Polar 0-360'!AQ$365, 'Polar 0-360'!AQ$363 / COS!$B250,'Polar 0-360'!AP250 )","v":{"$error":"#VALUE!"}}]
[{"$f":"'Polar 0-360'!A251","v":249},0,{"$f":" IF( $A251 < 'Polar 0-360'!G$365, 'Polar 0-360'!G$363 / COS!$B251,'Polar 0-360'!F251 )","v":{"$error":"#VALUE!"}},{"$f":" IF( $A251 < 'Polar 0-360'!M$365, 'Polar 0-360'!M$363 / COS!$B251,'Polar 0-360'!L251 )","v":{"$error":"#VALUE!"}},{"$f":" IF( $A251 < 'Polar 0-360'!S$365, 'Polar 0-360'!S$363 / COS!$B251,'Polar 0-360'!R251 )","v":{"$error":"#VALUE!"}},{"$f":" IF( $A251 < 'Polar 0-360'!Y$365, 'Polar 0-360'!Y$363 / COS!$B251,'Polar 0-360'!X251 )","v":{"$error":"#VALUE!"}},{"$f":" IF( $A251 < 'Polar 0-360'!AE$365, 'Polar 0-360'!AE$363 / COS!$B251,'Polar 0-360'!AD251 )","v":{"$error":"#VALUE!"}},{"$f":" IF( $A251 < 'Polar 0-360'!AK$365, 'Polar 0-360'!AK$363 / COS!$B251,'Polar 0-360'!AJ251 )","v":8.1489567211338354},{"$f":" IF( $A251 < 'Polar 0-360'!AQ$365, 'Polar 0-360'!AQ$363 / COS!$B251,'Polar 0-360'!AP251 )","v":{"$error":"#VALUE!"}}]
[{"$f":"'Polar 0-360'!A252","v":250},0,{"$f":" IF( $A252 < 'Polar 0-360'!G$365, 'Polar 0-360'!G$363 / COS!$B252,'Polar 0-360'!F252 )","v":{"$error":"#VALUE!"}},{"$f":" IF( $A252 < 'Polar 0-360'!M$365, 'Polar 0-360'!M$363 / COS!$B252,'Polar 0-360'!L252 )","v":{"$error":"#VALUE!"}},{"$f":" IF( $A252 < 'Polar 0-360'!S$365, 'Polar 0-360'!S$363 / COS!$B252,'Polar 0-360'!R252 )","v":{"$error":"#VALUE!"}},{"$f":" IF( $A252 < 'Polar 0-360'!Y$365, 'Polar 0-360'!Y$363 / COS!$B252,'Polar 0-360'!X252 )","v":{"$error":"#VALUE!"}},{"$f":" IF( $A252 < 'Polar 0-360'!AE$365, 'Polar 0-360'!AE$363 / COS!$B252,'Polar 0-360'!AD252 )","v":{"$error":"#VALUE!"}},{"$f":" IF( $A252 < 'Polar 0-360'!AK$365, 'Polar 0-360'!AK$363 / COS!$B252,'Polar 0-360'!AJ252 )","v":8.1429540827866997},{"$f":" IF( $A252 < 'Polar 0-360'!AQ$365, 'Polar 0-360'!AQ$363 / COS!$B252,'Polar 0-360'!AP252 )","v":{"$error":"#VALUE!"}}]
[{"$f":"'Polar 0-360'!A253","v":251},0,{"$f":" IF( $A253 < 'Polar 0-360'!G$365, 'Polar 0-360'!G$363 / COS!$B253,'Polar 0-360'!F253 )","v":{"$error":"#VALUE!"}},{"$f":" IF( $A253 < 'Polar 0-360'!M$365, 'Polar 0-360'!M$363 / COS!$B253,'Polar 0-360'!L253 )","v":{"$error":"#VALUE!"}},{"$f":" IF( $A253 < 'Polar 0-360'!S$365, 'Polar 0-360'!S$363 / COS!$B253,'Polar 0-360'!R253 )","v":{"$error":"#VALUE!"}},{"$f":" IF( $A253 < 'Polar 0-360'!Y$365, 'Polar 0-360'!Y$363 / COS!$B253,'Polar 0-360'!X253 )","v":{"$error":"#VALUE!"}},{"$f":" IF( $A253 < 'Polar 0-360'!AE$365, 'Polar 0-360'!AE$363 / COS!$B253,'Polar 0-360'!AD253 )","v":{"$error":"#VALUE!"}},{"$f":" IF( $A253 < 'Polar 0-360'!AK$365, 'Polar 0-360'!AK$363 / COS!$B253,'Polar 0-360'!AJ253 )","v":8.1260079828095151},{"$f":" IF( $A253 < 'Polar 0-360'!AQ$365, 'Polar 0-360'!AQ$363 / COS!$B253,'Polar 0-360'!AP253 )","v":{"$error":"#VALUE!"}}]
[{"$f":"'Polar 0-360'!A254","v":252},0,{"$f":" IF( $A254 < 'Polar 0-360'!G$365, 'Polar 0-360'!G$363 / COS!$B254,'Polar 0-360'!F254 )","v":{"$error":"#VALUE!"}},{"$f":" IF( $A254 < 'Polar 0-360'!M$365, 'Polar 0-360'!M$363 / COS!$B254,'Polar 0-360'!L254 )","v":{"$error":"#VALUE!"}},{"$f":" IF( $A254 < 'Polar 0-360'!S$365, 'Polar 0-360'!S$363 / COS!$B254,'Polar 0-360'!R254 )","v":{"$error":"#VALUE!"}},{"$f":" IF( $A254 < 'Polar 0-360'!Y$365, 'Polar 0-360'!Y$363 / COS!$B254,'Polar 0-360'!X254 )","v":{"$error":"#VALUE!"}},{"$f":" IF( $A254 < 'Polar 0-360'!AE$365, 'Polar 0-360'!AE$363 / COS!$B254,'Polar 0-360'!AD254 )","v":{"$error":"#VALUE!"}},{"$f":" IF( $A254 < 'Polar 0-360'!AK$365, 'Polar 0-360'!AK$363 / COS!$B254,'Polar 0-360'!AJ254 )","v":8.1090618828323304},{"$f":" IF( $A254 < 'Polar 0-360'!AQ$365, 'Polar 0-360'!AQ$363 / COS!$B254,'Polar 0-360'!AP254 )","v":{"$error":"#VALUE!"}}]
[{"$f":"'Polar 0-360'!A255","v":253},0,{"$f":" IF( $A255 < 'Polar 0-360'!G$365, 'Polar 0-360'!G$363 / COS!$B255,'Polar 0-360'!F255 )","v":{"$error":"#VALUE!"}},{"$f":" IF( $A255 < 'Polar 0-360'!M$365, 'Polar 0-360'!M$363 / COS!$B255,'Polar 0-360'!L255 )","v":{"$error":"#VALUE!"}},{"$f":" IF( $A255 < 'Polar 0-360'!S$365, 'Polar 0-360'!S$363 / COS!$B255,'Polar 0-360'!R255 )","v":{"$error":"#VALUE!"}},{"$f":" IF( $A255 < 'Polar 0-360'!Y$365, 'Polar 0-360'!Y$363 / COS!$B255,'Polar 0-360'!X255 )","v":{"$error":"#VALUE!"}},{"$f":" IF( $A255 < 'Polar 0-360'!AE$365, 'Polar 0-360'!AE$363 / COS!$B255,'Polar 0-360'!AD255 )","v":{"$error":"#VALUE!"}},{"$f":" IF( $A255 < 'Polar 0-360'!AK$365, 'Polar 0-360'!AK$363 / COS!$B255,'Polar 0-360'!AJ255 )","v":8.0921157828551458},{"$f":" IF( $A255 < 'Polar 0-360'!AQ$365, 'Polar 0-360'!AQ$363 / COS!$B255,'Polar 0-360'!AP255 )","v":{"$error":"#VALUE!"}}]
[{"$f":"'Polar 0-360'!A256","v":254},0,{"$f":" IF( $A256 < 'Polar 0-360'!G$365, 'Polar 0-360'!G$363 / COS!$B256,'Polar 0-360'!F256 )","v":{"$error":"#VALUE!"}},{"$f":" IF( $A256 < 'Polar 0-360'!M$365, 'Polar 0-360'!M$363 / COS!$B256,'Polar 0-360'!L256 )","v":{"$error":"#VALUE!"}},{"$f":" IF( $A256 < 'Polar 0-360'!S$365, 'Polar 0-360'!S$363 / COS!$B256,'Polar 0-360'!R256 )","v":{"$error":"#VALUE!"}},{"$f":" IF( $A256 < 'Polar 0-360'!Y$365, 'Polar 0-360'!Y$363 / COS!$B256,'Polar 0-360'!X256 )","v":{"$error":"#VALUE!"}},{"$f":" IF( $A256 < 'Polar 0-360'!AE$365, 'Polar 0-360'!AE$363 / COS!$B256,'Polar 0-360'!AD256 )","v":{"$error":"#VALUE!"}},{"$f":" IF( $A256 < 'Polar 0-360'!AK$365, 'Polar 0-360'!AK$363 / COS!$B256,'Polar 0-360'!AJ256 )","v":8.0751696828779611},{"$f":" IF( $A256 < 'Polar 0-360'!AQ$365, 'Polar 0-360'!AQ$363 / COS!$B256,'Polar 0-360'!AP256 )","v":{"$error":"#VALUE!"}}]
[{"$f":"'Polar 0-360'!A257","v":255},0,{"$f":" IF( $A257 < 'Polar 0-360'!G$365, 'Polar 0-360'!G$363 / COS!$B257,'Polar 0-360'!F257 )","v":{"$error":"#VALUE!"}},{"$f":" IF( $A257 < 'Polar 0-360'!M$365, 'Polar 0-360'!M$363 / COS!$B257,'Polar 0-360'!L257 )","v":{"$error":"#VALUE!"}},{"$f":" IF( $A257 < 'Polar 0-360'!S$365, 'Polar 0-360'!S$363 / COS!$B257,'Polar 0-360'!R257 )","v":{"$error":"#VALUE!"}},{"$f":" IF( $A257 < 'Polar 0-360'!Y$365, 'Polar 0-360'!Y$363 / COS!$B257,'Polar 0-360'!X257 )","v":{"$error":"#VALUE!"}},{"$f":" IF( $A257 < 'Polar 0-360'!AE$365, 'Polar 0-360'!AE$363 / COS!$B257,'Polar 0-360'!AD257 )","v":{"$error":"#VALUE!"}},{"$f":" IF( $A257 < 'Polar 0-360'!AK$365, 'Polar 0-360'!AK$363 / COS!$B257,'Polar 0-360'!AJ257 )","v":8.0582235829007764},{"$f":" IF( $A257 < 'Polar 0-360'!AQ$365, 'Polar 0-360'!AQ$363 / COS!$B257,'Polar 0-360'!AP257 )","v":{"$error":"#VALUE!"}}]
[{"$f":"'Polar 0-360'!A258","v":256},0,{"$f":" IF( $A258 < 'Polar 0-360'!G$365, 'Polar 0-360'!G$363 / COS!$B258,'Polar 0-360'!F258 )","v":{"$error":"#VALUE!"}},{"$f":" IF( $A258 < 'Polar 0-360'!M$365, 'Polar 0-360'!M$363 / COS!$B258,'Polar 0-360'!L258 )","v":{"$error":"#VALUE!"}},{"$f":" IF( $A258 < 'Polar 0-360'!S$365, 'Polar 0-360'!S$363 / COS!$B258,'Polar 0-360'!R258 )","v":{"$error":"#VALUE!"}},{"$f":" IF( $A258 < 'Polar 0-360'!Y$365, 'Polar 0-360'!Y$363 / COS!$B258,'Polar 0-360'!X258 )","v":{"$error":"#VALUE!"}},{"$f":" IF( $A258 < 'Polar 0-360'!AE$365, 'Polar 0-360'!AE$363 / COS!$B258,'Polar 0-360'!AD258 )","v":{"$error":"#VALUE!"}},{"$f":" IF( $A258 < 'Polar 0-360'!AK$365, 'Polar 0-360'!AK$363 / COS!$B258,'Polar 0-360'!AJ258 )","v":8.0412774829235918},{"$f":" IF( $A258 < 'Polar 0-360'!AQ$365, 'Polar 0-360'!AQ$363 / COS!$B258,'Polar 0-360'!AP258 )","v":{"$error":"#VALUE!"}}]
[{"$f":"'Polar 0-360'!A259","v":257},0,{"$f":" IF( $A259 < 'Polar 0-360'!G$365, 'Polar 0-360'!G$363 / COS!$B259,'Polar 0-360'!F259 )","v":{"$error":"#VALUE!"}},{"$f":" IF( $A259 < 'Polar 0-360'!M$365, 'Polar 0-360'!M$363 / COS!$B259,'Polar 0-360'!L259 )","v":{"$error":"#VALUE!"}},{"$f":" IF( $A259 < 'Polar 0-360'!S$365, 'Polar 0-360'!S$363 / COS!$B259,'Polar 0-360'!R259 )","v":{"$error":"#VALUE!"}},{"$f":" IF( $A259 < 'Polar 0-360'!Y$365, 'Polar 0-360'!Y$363 / COS!$B259,'Polar 0-360'!X259 )","v":{"$error":"#VALUE!"}},{"$f":" IF( $A259 < 'Polar 0-360'!AE$365, 'Polar 0-360'!AE$363 / COS!$B259,'Polar 0-360'!AD259 )","v":{"$error":"#VALUE!"}},{"$f":" IF( $A259 < 'Polar 0-360'!AK$365, 'Polar 0-360'!AK$363 / COS!$B259,'Polar 0-360'!AJ259 )","v":8.0243313829464071},{"$f":" IF( $A259 < 'Polar 0-360'!AQ$365, 'Polar 0-360'!AQ$363 / COS!$B259,'Polar 0-360'!AP259 )","v":{"$error":"#VALUE!"}}]
[{"$f":"'Polar 0-360'!A260","v":258},0,{"$f":" IF( $A260 < 'Polar 0-360'!G$365, 'Polar 0-360'!G$363 / COS!$B260,'Polar 0-360'!F260 )","v":{"$error":"#VALUE!"}},{"$f":" IF( $A260 < 'Polar 0-360'!M$365, 'Polar 0-360'!M$363 / COS!$B260,'Polar 0-360'!L260 )","v":{"$error":"#VALUE!"}},{"$f":" IF( $A260 < 'Polar 0-360'!S$365, 'Polar 0-360'!S$363 / COS!$B260,'Polar 0-360'!R260 )","v":{"$error":"#VALUE!"}},{"$f":" IF( $A260 < 'Polar 0-360'!Y$365, 'Polar 0-360'!Y$363 / COS!$B260,'Polar 0-360'!X260 )","v":{"$error":"#VALUE!"}},{"$f":" IF( $A260 < 'Polar 0-360'!AE$365, 'Polar 0-360'!AE$363 / COS!$B260,'Polar 0-360'!AD260 )","v":{"$error":"#VALUE!"}},{"$f":" IF( $A260 < 'Polar 0-360'!AK$365, 'Polar 0-360'!AK$363 / COS!$B260,'Polar 0-360'!AJ260 )","v":8.0073852829692225},{"$f":" IF( $A260 < 'Polar 0-360'!AQ$365, 'Polar 0-360'!AQ$363 / COS!$B260,'Polar 0-360'!AP260 )","v":{"$error":"#VALUE!"}}]
[{"$f":"'Polar 0-360'!A261","v":259},0,{"$f":" IF( $A261 < 'Polar 0-360'!G$365, 'Polar 0-360'!G$363 / COS!$B261,'Polar 0-360'!F261 )","v":{"$error":"#VALUE!"}},{"$f":" IF( $A261 < 'Polar 0-360'!M$365, 'Polar 0-360'!M$363 / COS!$B261,'Polar 0-360'!L261 )","v":{"$error":"#VALUE!"}},{"$f":" IF( $A261 < 'Polar 0-360'!S$365, 'Polar 0-360'!S$363 / COS!$B261,'Polar 0-360'!R261 )","v":{"$error":"#VALUE!"}},{"$f":" IF( $A261 < 'Polar 0-360'!Y$365, 'Polar 0-360'!Y$363 / COS!$B261,'Polar 0-360'!X261 )","v":{"$error":"#VALUE!"}},{"$f":" IF( $A261 < 'Polar 0-360'!AE$365, 'Polar 0-360'!AE$363 / COS!$B261,'Polar 0-360'!AD261 )","v":{"$error":"#VALUE!"}},{"$f":" IF( $A261 < 'Polar 0-360'!AK$365, 'Polar 0-360'!AK$363 / COS!$B261,'Polar 0-360'!AJ261 )","v":7.9904391829920387},{"$f":" IF( $A261 < 'Polar 0-360'!AQ$365, 'Polar 0-360'!AQ$363 / COS!$B261,'Polar 0-360'!AP261 )","v":{"$error":"#VALUE!"}}]
[{"$f":"'Polar 0-360'!A262","v":260},0,{"$f":" IF( $A262 < 'Polar 0-360'!G$365, 'Polar 0-360'!G$363 / COS!$B262,'Polar 0-360'!F262 )","v":{"$error":"#VALUE!"}},{"$f":" IF( $A262 < 'Polar 0-360'!M$365, 'Polar 0-360'!M$363 / COS!$B262,'Polar 0-360'!L262 )","v":{"$error":"#VALUE!"}},{"$f":" IF( $A262 < 'Polar 0-360'!S$365, 'Polar 0-360'!S$363 / COS!$B262,'Polar 0-360'!R262 )","v":{"$error":"#VALUE!"}},{"$f":" IF( $A262 < 'Polar 0-360'!Y$365, 'Polar 0-360'!Y$363 / COS!$B262,'Polar 0-360'!X262 )","v":{"$error":"#VALUE!"}},{"$f":" IF( $A262 < 'Polar 0-360'!AE$365, 'Polar 0-360'!AE$363 / COS!$B262,'Polar 0-360'!AD262 )","v":{"$error":"#VALUE!"}},{"$f":" IF( $A262 < 'Polar 0-360'!AK$365, 'Polar 0-360'!AK$363 / COS!$B262,'Polar 0-360'!AJ262 )","v":7.973493083014854},{"$f":" IF( $A262 < 'Polar 0-360'!AQ$365, 'Polar 0-360'!AQ$363 / COS!$B262,'Polar 0-360'!AP262 )","v":{"$error":"#VALUE!"}}]
[{"$f":"'Polar 0-360'!A263","v":261},0,{"$f":" IF( $A263 < 'Polar 0-360'!G$365, 'Polar 0-360'!G$363 / COS!$B263,'Polar 0-360'!F263 )","v":{"$error":"#VALUE!"}},{"$f":" IF( $A263 < 'Polar 0-360'!M$365, 'Polar 0-360'!M$363 / COS!$B263,'Polar 0-360'!L263 )","v":{"$error":"#VALUE!"}},{"$f":" IF( $A263 < 'Polar 0-360'!S$365, 'Polar 0-360'!S$363 / COS!$B263,'Polar 0-360'!R263 )","v":{"$error":"#VALUE!"}},{"$f":" IF( $A263 < 'Polar 0-360'!Y$365, 'Polar 0-360'!Y$363 / COS!$B263,'Polar 0-360'!X263 )","v":{"$error":"#VALUE!"}},{"$f":" IF( $A263 < 'Polar 0-360'!AE$365, 'Polar 0-360'!AE$363 / COS!$B263,'Polar 0-360'!AD263 )","v":{"$error":"#VALUE!"}},{"$f":" IF( $A263 < 'Polar 0-360'!AK$365, 'Polar 0-360'!AK$363 / COS!$B263,'Polar 0-360'!AJ263 )","v":7.9565469830376694},{"$f":" IF( $A263 < 'Polar 0-360'!AQ$365, 'Polar 0-360'!AQ$363 / COS!$B263,'Polar 0-360'!AP263 )","v":{"$error":"#VALUE!"}}]
[{"$f":"'Polar 0-360'!A264","v":262},0,{"$f":" IF( $A264 < 'Polar 0-360'!G$365, 'Polar 0-360'!G$363 / COS!$B264,'Polar 0-360'!F264 )","v":{"$error":"#VALUE!"}},{"$f":" IF( $A264 < 'Polar 0-360'!M$365, 'Polar 0-360'!M$363 / COS!$B264,'Polar 0-360'!L264 )","v":{"$error":"#VALUE!"}},{"$f":" IF( $A264 < 'Polar 0-360'!S$365, 'Polar 0-360'!S$363 / COS!$B264,'Polar 0-360'!R264 )","v":{"$error":"#VALUE!"}},{"$f":" IF( $A264 < 'Polar 0-360'!Y$365, 'Polar 0-360'!Y$363 / COS!$B264,'Polar 0-360'!X264 )","v":{"$error":"#VALUE!"}},{"$f":" IF( $A264 < 'Polar 0-360'!AE$365, 'Polar 0-360'!AE$363 / COS!$B264,'Polar 0-360'!AD264 )","v":{"$error":"#VALUE!"}},{"$f":" IF( $A264 < 'Polar 0-360'!AK$365, 'Polar 0-360'!AK$363 / COS!$B264,'Polar 0-360'!AJ264 )","v":7.9396008830604847},{"$f":" IF( $A264 < 'Polar 0-360'!AQ$365, 'Polar 0-360'!AQ$363 / COS!$B264,'Polar 0-360'!AP264 )","v":{"$error":"#VALUE!"}}]
[{"$f":"'Polar 0-360'!A265","v":263},0,{"$f":" IF( $A265 < 'Polar 0-360'!G$365, 'Polar 0-360'!G$363 / COS!$B265,'Polar 0-360'!F265 )","v":{"$error":"#VALUE!"}},{"$f":" IF( $A265 < 'Polar 0-360'!M$365, 'Polar 0-360'!M$363 / COS!$B265,'Polar 0-360'!L265 )","v":{"$error":"#VALUE!"}},{"$f":" IF( $A265 < 'Polar 0-360'!S$365, 'Polar 0-360'!S$363 / COS!$B265,'Polar 0-360'!R265 )","v":{"$error":"#VALUE!"}},{"$f":" IF( $A265 < 'Polar 0-360'!Y$365, 'Polar 0-360'!Y$363 / COS!$B265,'Polar 0-360'!X265 )","v":{"$error":"#VALUE!"}},{"$f":" IF( $A265 < 'Polar 0-360'!AE$365, 'Polar 0-360'!AE$363 / COS!$B265,'Polar 0-360'!AD265 )","v":{"$error":"#VALUE!"}},{"$f":" IF( $A265 < 'Polar 0-360'!AK$365, 'Polar 0-360'!AK$363 / COS!$B265,'Polar 0-360'!AJ265 )","v":7.9226547830833001},{"$f":" IF( $A265 < 'Polar 0-360'!AQ$365, 'Polar 0-360'!AQ$363 / COS!$B265,'Polar 0-360'!AP265 )","v":{"$error":"#VALUE!"}}]
[{"$f":"'Polar 0-360'!A266","v":264},0,{"$f":" IF( $A266 < 'Polar 0-360'!G$365, 'Polar 0-360'!G$363 / COS!$B266,'Polar 0-360'!F266 )","v":{"$error":"#VALUE!"}},{"$f":" IF( $A266 < 'Polar 0-360'!M$365, 'Polar 0-360'!M$363 / COS!$B266,'Polar 0-360'!L266 )","v":{"$error":"#VALUE!"}},{"$f":" IF( $A266 < 'Polar 0-360'!S$365, 'Polar 0-360'!S$363 / COS!$B266,'Polar 0-360'!R266 )","v":{"$error":"#VALUE!"}},{"$f":" IF( $A266 < 'Polar 0-360'!Y$365, 'Polar 0-360'!Y$363 / COS!$B266,'Polar 0-360'!X266 )","v":{"$error":"#VALUE!"}},{"$f":" IF( $A266 < 'Polar 0-360'!AE$365, 'Polar 0-360'!AE$363 / COS!$B266,'Polar 0-360'!AD266 )","v":{"$error":"#VALUE!"}},{"$f":" IF( $A266 < 'Polar 0-360'!AK$365, 'Polar 0-360'!AK$363 / COS!$B266,'Polar 0-360'!AJ266 )","v":7.9057086831061154},{"$f":" IF( $A266 < 'Polar 0-360'!AQ$365, 'Polar 0-360'!AQ$363 / COS!$B266,'Polar 0-360'!AP266 )","v":{"$error":"#VALUE!"}}]
[{"$f":"'Polar 0-360'!A267","v":265},0,{"$f":" IF( $A267 < 'Polar 0-360'!G$365, 'Polar 0-360'!G$363 / COS!$B267,'Polar 0-360'!F267 )","v":{"$error":"#VALUE!"}},{"$f":" IF( $A267 < 'Polar 0-360'!M$365, 'Polar 0-360'!M$363 / COS!$B267,'Polar 0-360'!L267 )","v":{"$error":"#VALUE!"}},{"$f":" IF( $A267 < 'Polar 0-360'!S$365, 'Polar 0-360'!S$363 / COS!$B267,'Polar 0-360'!R267 )","v":{"$error":"#VALUE!"}},{"$f":" IF( $A267 < 'Polar 0-360'!Y$365, 'Polar 0-360'!Y$363 / COS!$B267,'Polar 0-360'!X267 )","v":{"$error":"#VALUE!"}},{"$f":" IF( $A267 < 'Polar 0-360'!AE$365, 'Polar 0-360'!AE$363 / COS!$B267,'Polar 0-360'!AD267 )","v":{"$error":"#VALUE!"}},{"$f":" IF( $A267 < 'Polar 0-360'!AK$365, 'Polar 0-360'!AK$363 / COS!$B267,'Polar 0-360'!AJ267 )","v":7.8887625831289307},{"$f":" IF( $A267 < 'Polar 0-360'!AQ$365, 'Polar 0-360'!AQ$363 / COS!$B267,'Polar 0-360'!AP267 )","v":{"$error":"#VALUE!"}}]
[{"$f":"'Polar 0-360'!A268","v":266},0,{"$f":" IF( $A268 < 'Polar 0-360'!G$365, 'Polar 0-360'!G$363 / COS!$B268,'Polar 0-360'!F268 )","v":{"$error":"#VALUE!"}},{"$f":" IF( $A268 < 'Polar 0-360'!M$365, 'Polar 0-360'!M$363 / COS!$B268,'Polar 0-360'!L268 )","v":{"$error":"#VALUE!"}},{"$f":" IF( $A268 < 'Polar 0-360'!S$365, 'Polar 0-360'!S$363 / COS!$B268,'Polar 0-360'!R268 )","v":{"$error":"#VALUE!"}},{"$f":" IF( $A268 < 'Polar 0-360'!Y$365, 'Polar 0-360'!Y$363 / COS!$B268,'Polar 0-360'!X268 )","v":{"$error":"#VALUE!"}},{"$f":" IF( $A268 < 'Polar 0-360'!AE$365, 'Polar 0-360'!AE$363 / COS!$B268,'Polar 0-360'!AD268 )","v":{"$error":"#VALUE!"}},{"$f":" IF( $A268 < 'Polar 0-360'!AK$365, 'Polar 0-360'!AK$363 / COS!$B268,'Polar 0-360'!AJ268 )","v":7.871816483151747},{"$f":" IF( $A268 < 'Polar 0-360'!AQ$365, 'Polar 0-360'!AQ$363 / COS!$B268,'Polar 0-360'!AP268 )","v":{"$error":"#VALUE!"}}]
[{"$f":"'Polar 0-360'!A269","v":267},0,{"$f":" IF( $A269 < 'Polar 0-360'!G$365, 'Polar 0-360'!G$363 / COS!$B269,'Polar 0-360'!F269 )","v":{"$error":"#VALUE!"}},{"$f":" IF( $A269 < 'Polar 0-360'!M$365, 'Polar 0-360'!M$363 / COS!$B269,'Polar 0-360'!L269 )","v":{"$error":"#VALUE!"}},{"$f":" IF( $A269 < 'Polar 0-360'!S$365, 'Polar 0-360'!S$363 / COS!$B269,'Polar 0-360'!R269 )","v":{"$error":"#VALUE!"}},{"$f":" IF( $A269 < 'Polar 0-360'!Y$365, 'Polar 0-360'!Y$363 / COS!$B269,'Polar 0-360'!X269 )","v":{"$error":"#VALUE!"}},{"$f":" IF( $A269 < 'Polar 0-360'!AE$365, 'Polar 0-360'!AE$363 / COS!$B269,'Polar 0-360'!AD269 )","v":{"$error":"#VALUE!"}},{"$f":" IF( $A269 < 'Polar 0-360'!AK$365, 'Polar 0-360'!AK$363 / COS!$B269,'Polar 0-360'!AJ269 )","v":7.8548703831745623},{"$f":" IF( $A269 < 'Polar 0-360'!AQ$365, 'Polar 0-360'!AQ$363 / COS!$B269,'Polar 0-360'!AP269 )","v":{"$error":"#VALUE!"}}]
[{"$f":"'Polar 0-360'!A270","v":268},0,{"$f":" IF( $A270 < 'Polar 0-360'!G$365, 'Polar 0-360'!G$363 / COS!$B270,'Polar 0-360'!F270 )","v":{"$error":"#VALUE!"}},{"$f":" IF( $A270 < 'Polar 0-360'!M$365, 'Polar 0-360'!M$363 / COS!$B270,'Polar 0-360'!L270 )","v":{"$error":"#VALUE!"}},{"$f":" IF( $A270 < 'Polar 0-360'!S$365, 'Polar 0-360'!S$363 / COS!$B270,'Polar 0-360'!R270 )","v":{"$error":"#VALUE!"}},{"$f":" IF( $A270 < 'Polar 0-360'!Y$365, 'Polar 0-360'!Y$363 / COS!$B270,'Polar 0-360'!X270 )","v":{"$error":"#VALUE!"}},{"$f":" IF( $A270 < 'Polar 0-360'!AE$365, 'Polar 0-360'!AE$363 / COS!$B270,'Polar 0-360'!AD270 )","v":{"$error":"#VALUE!"}},{"$f":" IF( $A270 < 'Polar 0-360'!AK$365, 'Polar 0-360'!AK$363 / COS!$B270,'Polar 0-360'!AJ270 )","v":7.8379242831973777},{"$f":" IF( $A270 < 'Polar 0-360'!AQ$365, 'Polar 0-360'!AQ$363 / COS!$B270,'Polar 0-360'!AP270 )","v":{"$error":"#VALUE!"}}]
[{"$f":"'Polar 0-360'!A271","v":269},0,{"$f":" IF( $A271 < 'Polar 0-360'!G$365, 'Polar 0-360'!G$363 / COS!$B271,'Polar 0-360'!F271 )","v":{"$error":"#VALUE!"}},{"$f":" IF( $A271 < 'Polar 0-360'!M$365, 'Polar 0-360'!M$363 / COS!$B271,'Polar 0-360'!L271 )","v":{"$error":"#VALUE!"}},{"$f":" IF( $A271 < 'Polar 0-360'!S$365, 'Polar 0-360'!S$363 / COS!$B271,'Polar 0-360'!R271 )","v":{"$error":"#VALUE!"}},{"$f":" IF( $A271 < 'Polar 0-360'!Y$365, 'Polar 0-360'!Y$363 / COS!$B271,'Polar 0-360'!X271 )","v":{"$error":"#VALUE!"}},{"$f":" IF( $A271 < 'Polar 0-360'!AE$365, 'Polar 0-360'!AE$363 / COS!$B271,'Polar 0-360'!AD271 )","v":{"$error":"#VALUE!"}},{"$f":" IF( $A271 < 'Polar 0-360'!AK$365, 'Polar 0-360'!AK$363 / COS!$B271,'Polar 0-360'!AJ271 )","v":7.820978183220193},{"$f":" IF( $A271 < 'Polar 0-360'!AQ$365, 'Polar 0-360'!AQ$363 / COS!$B271,'Polar 0-360'!AP271 )","v":{"$error":"#VALUE!"}}]
[{"$f":"'Polar 0-360'!A272","v":270},0,{"$f":" IF( $A272 < 'Polar 0-360'!G$365, 'Polar 0-360'!G$363 / COS!$B272,'Polar 0-360'!F272 )","v":{"$error":"#VALUE!"}},{"$f":" IF( $A272 < 'Polar 0-360'!M$365, 'Polar 0-360'!M$363 / COS!$B272,'Polar 0-360'!L272 )","v":{"$error":"#VALUE!"}},{"$f":" IF( $A272 < 'Polar 0-360'!S$365, 'Polar 0-360'!S$363 / COS!$B272,'Polar 0-360'!R272 )","v":{"$error":"#VALUE!"}},{"$f":" IF( $A272 < 'Polar 0-360'!Y$365, 'Polar 0-360'!Y$363 / COS!$B272,'Polar 0-360'!X272 )","v":{"$error":"#VALUE!"}},{"$f":" IF( $A272 < 'Polar 0-360'!AE$365, 'Polar 0-360'!AE$363 / COS!$B272,'Polar 0-360'!AD272 )","v":{"$error":"#VALUE!"}},{"$f":" IF( $A272 < 'Polar 0-360'!AK$365, 'Polar 0-360'!AK$363 / COS!$B272,'Polar 0-360'!AJ272 )","v":7.8040320832430083},{"$f":" IF( $A272 < 'Polar 0-360'!AQ$365, 'Polar 0-360'!AQ$363 / COS!$B272,'Polar 0-360'!AP272 )","v":{"$error":"#VALUE!"}}]
[{"$f":"'Polar 0-360'!A273","v":271},0,{"$f":" IF( $A273 < 'Polar 0-360'!G$365, 'Polar 0-360'!G$363 / COS!$B273,'Polar 0-360'!F273 )","v":{"$error":"#VALUE!"}},{"$f":" IF( $A273 < 'Polar 0-360'!M$365, 'Polar 0-360'!M$363 / COS!$B273,'Polar 0-360'!L273 )","v":{"$error":"#VALUE!"}},{"$f":" IF( $A273 < 'Polar 0-360'!S$365, 'Polar 0-360'!S$363 / COS!$B273,'Polar 0-360'!R273 )","v":{"$error":"#VALUE!"}},{"$f":" IF( $A273 < 'Polar 0-360'!Y$365, 'Polar 0-360'!Y$363 / COS!$B273,'Polar 0-360'!X273 )","v":{"$error":"#VALUE!"}},{"$f":" IF( $A273 < 'Polar 0-360'!AE$365, 'Polar 0-360'!AE$363 / COS!$B273,'Polar 0-360'!AD273 )","v":{"$error":"#VALUE!"}},{"$f":" IF( $A273 < 'Polar 0-360'!AK$365, 'Polar 0-360'!AK$363 / COS!$B273,'Polar 0-360'!AJ273 )","v":7.7998923099515389},{"$f":" IF( $A273 < 'Polar 0-360'!AQ$365, 'Polar 0-360'!AQ$363 / COS!$B273,'Polar 0-360'!AP273 )","v":{"$error":"#VALUE!"}}]
[{"$f":"'Polar 0-360'!A274","v":272},0,{"$f":" IF( $A274 < 'Polar 0-360'!G$365, 'Polar 0-360'!G$363 / COS!$B274,'Polar 0-360'!F274 )","v":{"$error":"#VALUE!"}},{"$f":" IF( $A274 < 'Polar 0-360'!M$365, 'Polar 0-360'!M$363 / COS!$B274,'Polar 0-360'!L274 )","v":{"$error":"#VALUE!"}},{"$f":" IF( $A274 < 'Polar 0-360'!S$365, 'Polar 0-360'!S$363 / COS!$B274,'Polar 0-360'!R274 )","v":{"$error":"#VALUE!"}},{"$f":" IF( $A274 < 'Polar 0-360'!Y$365, 'Polar 0-360'!Y$363 / COS!$B274,'Polar 0-360'!X274 )","v":{"$error":"#VALUE!"}},{"$f":" IF( $A274 < 'Polar 0-360'!AE$365, 'Polar 0-360'!AE$363 / COS!$B274,'Polar 0-360'!AD274 )","v":{"$error":"#VALUE!"}},{"$f":" IF( $A274 < 'Polar 0-360'!AK$365, 'Polar 0-360'!AK$363 / COS!$B274,'Polar 0-360'!AJ274 )","v":7.7957525366600695},{"$f":" IF( $A274 < 'Polar 0-360'!AQ$365, 'Polar 0-360'!AQ$363 / COS!$B274,'Polar 0-360'!AP274 )","v":{"$error":"#VALUE!"}}]
[{"$f":"'Polar 0-360'!A275","v":273},0,{"$f":" IF( $A275 < 'Polar 0-360'!G$365, 'Polar 0-360'!G$363 / COS!$B275,'Polar 0-360'!F275 )","v":{"$error":"#VALUE!"}},{"$f":" IF( $A275 < 'Polar 0-360'!M$365, 'Polar 0-360'!M$363 / COS!$B275,'Polar 0-360'!L275 )","v":{"$error":"#VALUE!"}},{"$f":" IF( $A275 < 'Polar 0-360'!S$365, 'Polar 0-360'!S$363 / COS!$B275,'Polar 0-360'!R275 )","v":{"$error":"#VALUE!"}},{"$f":" IF( $A275 < 'Polar 0-360'!Y$365, 'Polar 0-360'!Y$363 / COS!$B275,'Polar 0-360'!X275 )","v":{"$error":"#VALUE!"}},{"$f":" IF( $A275 < 'Polar 0-360'!AE$365, 'Polar 0-360'!AE$363 / COS!$B275,'Polar 0-360'!AD275 )","v":{"$error":"#VALUE!"}},{"$f":" IF( $A275 < 'Polar 0-360'!AK$365, 'Polar 0-360'!AK$363 / COS!$B275,'Polar 0-360'!AJ275 )","v":7.7916127633686001},{"$f":" IF( $A275 < 'Polar 0-360'!AQ$365, 'Polar 0-360'!AQ$363 / COS!$B275,'Polar 0-360'!AP275 )","v":{"$error":"#VALUE!"}}]
[{"$f":"'Polar 0-360'!A276","v":274},0,{"$f":" IF( $A276 < 'Polar 0-360'!G$365, 'Polar 0-360'!G$363 / COS!$B276,'Polar 0-360'!F276 )","v":{"$error":"#VALUE!"}},{"$f":" IF( $A276 < 'Polar 0-360'!M$365, 'Polar 0-360'!M$363 / COS!$B276,'Polar 0-360'!L276 )","v":{"$error":"#VALUE!"}},{"$f":" IF( $A276 < 'Polar 0-360'!S$365, 'Polar 0-360'!S$363 / COS!$B276,'Polar 0-360'!R276 )","v":{"$error":"#VALUE!"}},{"$f":" IF( $A276 < 'Polar 0-360'!Y$365, 'Polar 0-360'!Y$363 / COS!$B276,'Polar 0-360'!X276 )","v":{"$error":"#VALUE!"}},{"$f":" IF( $A276 < 'Polar 0-360'!AE$365, 'Polar 0-360'!AE$363 / COS!$B276,'Polar 0-360'!AD276 )","v":{"$error":"#VALUE!"}},{"$f":" IF( $A276 < 'Polar 0-360'!AK$365, 'Polar 0-360'!AK$363 / COS!$B276,'Polar 0-360'!AJ276 )","v":7.7874729900771307},{"$f":" IF( $A276 < 'Polar 0-360'!AQ$365, 'Polar 0-360'!AQ$363 / COS!$B276,'Polar 0-360'!AP276 )","v":{"$error":"#VALUE!"}}]
[{"$f":"'Polar 0-360'!A277","v":275},0,{"$f":" IF( $A277 < 'Polar 0-360'!G$365, 'Polar 0-360'!G$363 / COS!$B277,'Polar 0-360'!F277 )","v":{"$error":"#VALUE!"}},{"$f":" IF( $A277 < 'Polar 0-360'!M$365, 'Polar 0-360'!M$363 / COS!$B277,'Polar 0-360'!L277 )","v":{"$error":"#VALUE!"}},{"$f":" IF( $A277 < 'Polar 0-360'!S$365, 'Polar 0-360'!S$363 / COS!$B277,'Polar 0-360'!R277 )","v":{"$error":"#VALUE!"}},{"$f":" IF( $A277 < 'Polar 0-360'!Y$365, 'Polar 0-360'!Y$363 / COS!$B277,'Polar 0-360'!X277 )","v":{"$error":"#VALUE!"}},{"$f":" IF( $A277 < 'Polar 0-360'!AE$365, 'Polar 0-360'!AE$363 / COS!$B277,'Polar 0-360'!AD277 )","v":{"$error":"#VALUE!"}},{"$f":" IF( $A277 < 'Polar 0-360'!AK$365, 'Polar 0-360'!AK$363 / COS!$B277,'Polar 0-360'!AJ277 )","v":7.7833332167856613},{"$f":" IF( $A277 < 'Polar 0-360'!AQ$365, 'Polar 0-360'!AQ$363 / COS!$B277,'Polar 0-360'!AP277 )","v":{"$error":"#VALUE!"}}]
[{"$f":"'Polar 0-360'!A278","v":276},0,{"$f":" IF( $A278 < 'Polar 0-360'!G$365, 'Polar 0-360'!G$363 / COS!$B278,'Polar 0-360'!F278 )","v":{"$error":"#VALUE!"}},{"$f":" IF( $A278 < 'Polar 0-360'!M$365, 'Polar 0-360'!M$363 / COS!$B278,'Polar 0-360'!L278 )","v":{"$error":"#VALUE!"}},{"$f":" IF( $A278 < 'Polar 0-360'!S$365, 'Polar 0-360'!S$363 / COS!$B278,'Polar 0-360'!R278 )","v":{"$error":"#VALUE!"}},{"$f":" IF( $A278 < 'Polar 0-360'!Y$365, 'Polar 0-360'!Y$363 / COS!$B278,'Polar 0-360'!X278 )","v":{"$error":"#VALUE!"}},{"$f":" IF( $A278 < 'Polar 0-360'!AE$365, 'Polar 0-360'!AE$363 / COS!$B278,'Polar 0-360'!AD278 )","v":{"$error":"#VALUE!"}},{"$f":" IF( $A278 < 'Polar 0-360'!AK$365, 'Polar 0-360'!AK$363 / COS!$B278,'Polar 0-360'!AJ278 )","v":7.7791934434941918},{"$f":" IF( $A278 < 'Polar 0-360'!AQ$365, 'Polar 0-360'!AQ$363 / COS!$B278,'Polar 0-360'!AP278 )","v":{"$error":"#VALUE!"}}]
[{"$f":"'Polar 0-360'!A279","v":277},0,{"$f":" IF( $A279 < 'Polar 0-360'!G$365, 'Polar 0-360'!G$363 / COS!$B279,'Polar 0-360'!F279 )","v":{"$error":"#VALUE!"}},{"$f":" IF( $A279 < 'Polar 0-360'!M$365, 'Polar 0-360'!M$363 / COS!$B279,'Polar 0-360'!L279 )","v":{"$error":"#VALUE!"}},{"$f":" IF( $A279 < 'Polar 0-360'!S$365, 'Polar 0-360'!S$363 / COS!$B279,'Polar 0-360'!R279 )","v":{"$error":"#VALUE!"}},{"$f":" IF( $A279 < 'Polar 0-360'!Y$365, 'Polar 0-360'!Y$363 / COS!$B279,'Polar 0-360'!X279 )","v":{"$error":"#VALUE!"}},{"$f":" IF( $A279 < 'Polar 0-360'!AE$365, 'Polar 0-360'!AE$363 / COS!$B279,'Polar 0-360'!AD279 )","v":{"$error":"#VALUE!"}},{"$f":" IF( $A279 < 'Polar 0-360'!AK$365, 'Polar 0-360'!AK$363 / COS!$B279,'Polar 0-360'!AJ279 )","v":7.7750536702027224},{"$f":" IF( $A279 < 'Polar 0-360'!AQ$365, 'Polar 0-360'!AQ$363 / COS!$B279,'Polar 0-360'!AP279 )","v":{"$error":"#VALUE!"}}]
[{"$f":"'Polar 0-360'!A280","v":278},0,{"$f":" IF( $A280 < 'Polar 0-360'!G$365, 'Polar 0-360'!G$363 / COS!$B280,'Polar 0-360'!F280 )","v":{"$error":"#VALUE!"}},{"$f":" IF( $A280 < 'Polar 0-360'!M$365, 'Polar 0-360'!M$363 / COS!$B280,'Polar 0-360'!L280 )","v":{"$error":"#VALUE!"}},{"$f":" IF( $A280 < 'Polar 0-360'!S$365, 'Polar 0-360'!S$363 / COS!$B280,'Polar 0-360'!R280 )","v":{"$error":"#VALUE!"}},{"$f":" IF( $A280 < 'Polar 0-360'!Y$365, 'Polar 0-360'!Y$363 / COS!$B280,'Polar 0-360'!X280 )","v":{"$error":"#VALUE!"}},{"$f":" IF( $A280 < 'Polar 0-360'!AE$365, 'Polar 0-360'!AE$363 / COS!$B280,'Polar 0-360'!AD280 )","v":{"$error":"#VALUE!"}},{"$f":" IF( $A280 < 'Polar 0-360'!AK$365, 'Polar 0-360'!AK$363 / COS!$B280,'Polar 0-360'!AJ280 )","v":7.770913896911253},{"$f":" IF( $A280 < 'Polar 0-360'!AQ$365, 'Polar 0-360'!AQ$363 / COS!$B280,'Polar 0-360'!AP280 )","v":{"$error":"#VALUE!"}}]
[{"$f":"'Polar 0-360'!A281","v":279},0,{"$f":" IF( $A281 < 'Polar 0-360'!G$365, 'Polar 0-360'!G$363 / COS!$B281,'Polar 0-360'!F281 )","v":{"$error":"#VALUE!"}},{"$f":" IF( $A281 < 'Polar 0-360'!M$365, 'Polar 0-360'!M$363 / COS!$B281,'Polar 0-360'!L281 )","v":{"$error":"#VALUE!"}},{"$f":" IF( $A281 < 'Polar 0-360'!S$365, 'Polar 0-360'!S$363 / COS!$B281,'Polar 0-360'!R281 )","v":{"$error":"#VALUE!"}},{"$f":" IF( $A281 < 'Polar 0-360'!Y$365, 'Polar 0-360'!Y$363 / COS!$B281,'Polar 0-360'!X281 )","v":{"$error":"#VALUE!"}},{"$f":" IF( $A281 < 'Polar 0-360'!AE$365, 'Polar 0-360'!AE$363 / COS!$B281,'Polar 0-360'!AD281 )","v":{"$error":"#VALUE!"}},{"$f":" IF( $A281 < 'Polar 0-360'!AK$365, 'Polar 0-360'!AK$363 / COS!$B281,'Polar 0-360'!AJ281 )","v":7.7667741236197836},{"$f":" IF( $A281 < 'Polar 0-360'!AQ$365, 'Polar 0-360'!AQ$363 / COS!$B281,'Polar 0-360'!AP281 )","v":{"$error":"#VALUE!"}}]
[{"$f":"'Polar 0-360'!A282","v":280},0,{"$f":" IF( $A282 < 'Polar 0-360'!G$365, 'Polar 0-360'!G$363 / COS!$B282,'Polar 0-360'!F282 )","v":{"$error":"#VALUE!"}},{"$f":" IF( $A282 < 'Polar 0-360'!M$365, 'Polar 0-360'!M$363 / COS!$B282,'Polar 0-360'!L282 )","v":{"$error":"#VALUE!"}},{"$f":" IF( $A282 < 'Polar 0-360'!S$365, 'Polar 0-360'!S$363 / COS!$B282,'Polar 0-360'!R282 )","v":{"$error":"#VALUE!"}},{"$f":" IF( $A282 < 'Polar 0-360'!Y$365, 'Polar 0-360'!Y$363 / COS!$B282,'Polar 0-360'!X282 )","v":{"$error":"#VALUE!"}},{"$f":" IF( $A282 < 'Polar 0-360'!AE$365, 'Polar 0-360'!AE$363 / COS!$B282,'Polar 0-360'!AD282 )","v":{"$error":"#VALUE!"}},{"$f":" IF( $A282 < 'Polar 0-360'!AK$365, 'Polar 0-360'!AK$363 / COS!$B282,'Polar 0-360'!AJ282 )","v":7.7626343503283142},{"$f":" IF( $A282 < 'Polar 0-360'!AQ$365, 'Polar 0-360'!AQ$363 / COS!$B282,'Polar 0-360'!AP282 )","v":{"$error":"#VALUE!"}}]
[{"$f":"'Polar 0-360'!A283","v":281},0,{"$f":" IF( $A283 < 'Polar 0-360'!G$365, 'Polar 0-360'!G$363 / COS!$B283,'Polar 0-360'!F283 )","v":{"$error":"#VALUE!"}},{"$f":" IF( $A283 < 'Polar 0-360'!M$365, 'Polar 0-360'!M$363 / COS!$B283,'Polar 0-360'!L283 )","v":{"$error":"#VALUE!"}},{"$f":" IF( $A283 < 'Polar 0-360'!S$365, 'Polar 0-360'!S$363 / COS!$B283,'Polar 0-360'!R283 )","v":{"$error":"#VALUE!"}},{"$f":" IF( $A283 < 'Polar 0-360'!Y$365, 'Polar 0-360'!Y$363 / COS!$B283,'Polar 0-360'!X283 )","v":{"$error":"#VALUE!"}},{"$f":" IF( $A283 < 'Polar 0-360'!AE$365, 'Polar 0-360'!AE$363 / COS!$B283,'Polar 0-360'!AD283 )","v":{"$error":"#VALUE!"}},{"$f":" IF( $A283 < 'Polar 0-360'!AK$365, 'Polar 0-360'!AK$363 / COS!$B283,'Polar 0-360'!AJ283 )","v":7.7584945770368456},{"$f":" IF( $A283 < 'Polar 0-360'!AQ$365, 'Polar 0-360'!AQ$363 / COS!$B283,'Polar 0-360'!AP283 )","v":{"$error":"#VALUE!"}}]
[{"$f":"'Polar 0-360'!A284","v":282},0,{"$f":" IF( $A284 < 'Polar 0-360'!G$365, 'Polar 0-360'!G$363 / COS!$B284,'Polar 0-360'!F284 )","v":{"$error":"#VALUE!"}},{"$f":" IF( $A284 < 'Polar 0-360'!M$365, 'Polar 0-360'!M$363 / COS!$B284,'Polar 0-360'!L284 )","v":{"$error":"#VALUE!"}},{"$f":" IF( $A284 < 'Polar 0-360'!S$365, 'Polar 0-360'!S$363 / COS!$B284,'Polar 0-360'!R284 )","v":{"$error":"#VALUE!"}},{"$f":" IF( $A284 < 'Polar 0-360'!Y$365, 'Polar 0-360'!Y$363 / COS!$B284,'Polar 0-360'!X284 )","v":{"$error":"#VALUE!"}},{"$f":" IF( $A284 < 'Polar 0-360'!AE$365, 'Polar 0-360'!AE$363 / COS!$B284,'Polar 0-360'!AD284 )","v":{"$error":"#VALUE!"}},{"$f":" IF( $A284 < 'Polar 0-360'!AK$365, 'Polar 0-360'!AK$363 / COS!$B284,'Polar 0-360'!AJ284 )","v":7.7543548037453762},{"$f":" IF( $A284 < 'Polar 0-360'!AQ$365, 'Polar 0-360'!AQ$363 / COS!$B284,'Polar 0-360'!AP284 )","v":{"$error":"#VALUE!"}}]
[{"$f":"'Polar 0-360'!A285","v":283},0,{"$f":" IF( $A285 < 'Polar 0-360'!G$365, 'Polar 0-360'!G$363 / COS!$B285,'Polar 0-360'!F285 )","v":{"$error":"#VALUE!"}},{"$f":" IF( $A285 < 'Polar 0-360'!M$365, 'Polar 0-360'!M$363 / COS!$B285,'Polar 0-360'!L285 )","v":{"$error":"#VALUE!"}},{"$f":" IF( $A285 < 'Polar 0-360'!S$365, 'Polar 0-360'!S$363 / COS!$B285,'Polar 0-360'!R285 )","v":{"$error":"#VALUE!"}},{"$f":" IF( $A285 < 'Polar 0-360'!Y$365, 'Polar 0-360'!Y$363 / COS!$B285,'Polar 0-360'!X285 )","v":{"$error":"#VALUE!"}},{"$f":" IF( $A285 < 'Polar 0-360'!AE$365, 'Polar 0-360'!AE$363 / COS!$B285,'Polar 0-360'!AD285 )","v":{"$error":"#VALUE!"}},{"$f":" IF( $A285 < 'Polar 0-360'!AK$365, 'Polar 0-360'!AK$363 / COS!$B285,'Polar 0-360'!AJ285 )","v":7.7502150304539068},{"$f":" IF( $A285 < 'Polar 0-360'!AQ$365, 'Polar 0-360'!AQ$363 / COS!$B285,'Polar 0-360'!AP285 )","v":{"$error":"#VALUE!"}}]
[{"$f":"'Polar 0-360'!A286","v":284},0,{"$f":" IF( $A286 < 'Polar 0-360'!G$365, 'Polar 0-360'!G$363 / COS!$B286,'Polar 0-360'!F286 )","v":{"$error":"#VALUE!"}},{"$f":" IF( $A286 < 'Polar 0-360'!M$365, 'Polar 0-360'!M$363 / COS!$B286,'Polar 0-360'!L286 )","v":{"$error":"#VALUE!"}},{"$f":" IF( $A286 < 'Polar 0-360'!S$365, 'Polar 0-360'!S$363 / COS!$B286,'Polar 0-360'!R286 )","v":{"$error":"#VALUE!"}},{"$f":" IF( $A286 < 'Polar 0-360'!Y$365, 'Polar 0-360'!Y$363 / COS!$B286,'Polar 0-360'!X286 )","v":{"$error":"#VALUE!"}},{"$f":" IF( $A286 < 'Polar 0-360'!AE$365, 'Polar 0-360'!AE$363 / COS!$B286,'Polar 0-360'!AD286 )","v":{"$error":"#VALUE!"}},{"$f":" IF( $A286 < 'Polar 0-360'!AK$365, 'Polar 0-360'!AK$363 / COS!$B286,'Polar 0-360'!AJ286 )","v":7.7460752571624374},{"$f":" IF( $A286 < 'Polar 0-360'!AQ$365, 'Polar 0-360'!AQ$363 / COS!$B286,'Polar 0-360'!AP286 )","v":{"$error":"#VALUE!"}}]
[{"$f":"'Polar 0-360'!A287","v":285},0,{"$f":" IF( $A287 < 'Polar 0-360'!G$365, 'Polar 0-360'!G$363 / COS!$B287,'Polar 0-360'!F287 )","v":{"$error":"#VALUE!"}},{"$f":" IF( $A287 < 'Polar 0-360'!M$365, 'Polar 0-360'!M$363 / COS!$B287,'Polar 0-360'!L287 )","v":{"$error":"#VALUE!"}},{"$f":" IF( $A287 < 'Polar 0-360'!S$365, 'Polar 0-360'!S$363 / COS!$B287,'Polar 0-360'!R287 )","v":{"$error":"#VALUE!"}},{"$f":" IF( $A287 < 'Polar 0-360'!Y$365, 'Polar 0-360'!Y$363 / COS!$B287,'Polar 0-360'!X287 )","v":{"$error":"#VALUE!"}},{"$f":" IF( $A287 < 'Polar 0-360'!AE$365, 'Polar 0-360'!AE$363 / COS!$B287,'Polar 0-360'!AD287 )","v":{"$error":"#VALUE!"}},{"$f":" IF( $A287 < 'Polar 0-360'!AK$365, 'Polar 0-360'!AK$363 / COS!$B287,'Polar 0-360'!AJ287 )","v":7.741935483870968},{"$f":" IF( $A287 < 'Polar 0-360'!AQ$365, 'Polar 0-360'!AQ$363 / COS!$B287,'Polar 0-360'!AP287 )","v":{"$error":"#VALUE!"}}]
[{"$f":"'Polar 0-360'!A288","v":286},0,{"$f":" IF( $A288 < 'Polar 0-360'!G$365, 'Polar 0-360'!G$363 / COS!$B288,'Polar 0-360'!F288 )","v":{"$error":"#VALUE!"}},{"$f":" IF( $A288 < 'Polar 0-360'!M$365, 'Polar 0-360'!M$363 / COS!$B288,'Polar 0-360'!L288 )","v":{"$error":"#VALUE!"}},{"$f":" IF( $A288 < 'Polar 0-360'!S$365, 'Polar 0-360'!S$363 / COS!$B288,'Polar 0-360'!R288 )","v":{"$error":"#VALUE!"}},{"$f":" IF( $A288 < 'Polar 0-360'!Y$365, 'Polar 0-360'!Y$363 / COS!$B288,'Polar 0-360'!X288 )","v":{"$error":"#VALUE!"}},{"$f":" IF( $A288 < 'Polar 0-360'!AE$365, 'Polar 0-360'!AE$363 / COS!$B288,'Polar 0-360'!AD288 )","v":{"$error":"#VALUE!"}},{"$f":" IF( $A288 < 'Polar 0-360'!AK$365, 'Polar 0-360'!AK$363 / COS!$B288,'Polar 0-360'!AJ288 )","v":7.7192275042444818},{"$f":" IF( $A288 < 'Polar 0-360'!AQ$365, 'Polar 0-360'!AQ$363 / COS!$B288,'Polar 0-360'!AP288 )","v":{"$error":"#VALUE!"}}]
[{"$f":"'Polar 0-360'!A289","v":287},0,{"$f":" IF( $A289 < 'Polar 0-360'!G$365, 'Polar 0-360'!G$363 / COS!$B289,'Polar 0-360'!F289 )","v":{"$error":"#VALUE!"}},{"$f":" IF( $A289 < 'Polar 0-360'!M$365, 'Polar 0-360'!M$363 / COS!$B289,'Polar 0-360'!L289 )","v":{"$error":"#VALUE!"}},{"$f":" IF( $A289 < 'Polar 0-360'!S$365, 'Polar 0-360'!S$363 / COS!$B289,'Polar 0-360'!R289 )","v":{"$error":"#VALUE!"}},{"$f":" IF( $A289 < 'Polar 0-360'!Y$365, 'Polar 0-360'!Y$363 / COS!$B289,'Polar 0-360'!X289 )","v":{"$error":"#VALUE!"}},{"$f":" IF( $A289 < 'Polar 0-360'!AE$365, 'Polar 0-360'!AE$363 / COS!$B289,'Polar 0-360'!AD289 )","v":{"$error":"#VALUE!"}},{"$f":" IF( $A289 < 'Polar 0-360'!AK$365, 'Polar 0-360'!AK$363 / COS!$B289,'Polar 0-360'!AJ289 )","v":7.6965195246179965},{"$f":" IF( $A289 < 'Polar 0-360'!AQ$365, 'Polar 0-360'!AQ$363 / COS!$B289,'Polar 0-360'!AP289 )","v":{"$error":"#VALUE!"}}]
[{"$f":"'Polar 0-360'!A290","v":288},0,{"$f":" IF( $A290 < 'Polar 0-360'!G$365, 'Polar 0-360'!G$363 / COS!$B290,'Polar 0-360'!F290 )","v":{"$error":"#VALUE!"}},{"$f":" IF( $A290 < 'Polar 0-360'!M$365, 'Polar 0-360'!M$363 / COS!$B290,'Polar 0-360'!L290 )","v":{"$error":"#VALUE!"}},{"$f":" IF( $A290 < 'Polar 0-360'!S$365, 'Polar 0-360'!S$363 / COS!$B290,'Polar 0-360'!R290 )","v":{"$error":"#VALUE!"}},{"$f":" IF( $A290 < 'Polar 0-360'!Y$365, 'Polar 0-360'!Y$363 / COS!$B290,'Polar 0-360'!X290 )","v":{"$error":"#VALUE!"}},{"$f":" IF( $A290 < 'Polar 0-360'!AE$365, 'Polar 0-360'!AE$363 / COS!$B290,'Polar 0-360'!AD290 )","v":{"$error":"#VALUE!"}},{"$f":" IF( $A290 < 'Polar 0-360'!AK$365, 'Polar 0-360'!AK$363 / COS!$B290,'Polar 0-360'!AJ290 )","v":7.6738115449915103},{"$f":" IF( $A290 < 'Polar 0-360'!AQ$365, 'Polar 0-360'!AQ$363 / COS!$B290,'Polar 0-360'!AP290 )","v":{"$error":"#VALUE!"}}]
[{"$f":"'Polar 0-360'!A291","v":289},0,{"$f":" IF( $A291 < 'Polar 0-360'!G$365, 'Polar 0-360'!G$363 / COS!$B291,'Polar 0-360'!F291 )","v":{"$error":"#VALUE!"}},{"$f":" IF( $A291 < 'Polar 0-360'!M$365, 'Polar 0-360'!M$363 / COS!$B291,'Polar 0-360'!L291 )","v":{"$error":"#VALUE!"}},{"$f":" IF( $A291 < 'Polar 0-360'!S$365, 'Polar 0-360'!S$363 / COS!$B291,'Polar 0-360'!R291 )","v":{"$error":"#VALUE!"}},{"$f":" IF( $A291 < 'Polar 0-360'!Y$365, 'Polar 0-360'!Y$363 / COS!$B291,'Polar 0-360'!X291 )","v":{"$error":"#VALUE!"}},{"$f":" IF( $A291 < 'Polar 0-360'!AE$365, 'Polar 0-360'!AE$363 / COS!$B291,'Polar 0-360'!AD291 )","v":{"$error":"#VALUE!"}},{"$f":" IF( $A291 < 'Polar 0-360'!AK$365, 'Polar 0-360'!AK$363 / COS!$B291,'Polar 0-360'!AJ291 )","v":7.651103565365025},{"$f":" IF( $A291 < 'Polar 0-360'!AQ$365, 'Polar 0-360'!AQ$363 / COS!$B291,'Polar 0-360'!AP291 )","v":{"$error":"#VALUE!"}}]
[{"$f":"'Polar 0-360'!A292","v":290},0,{"$f":" IF( $A292 < 'Polar 0-360'!G$365, 'Polar 0-360'!G$363 / COS!$B292,'Polar 0-360'!F292 )","v":{"$error":"#VALUE!"}},{"$f":" IF( $A292 < 'Polar 0-360'!M$365, 'Polar 0-360'!M$363 / COS!$B292,'Polar 0-360'!L292 )","v":{"$error":"#VALUE!"}},{"$f":" IF( $A292 < 'Polar 0-360'!S$365, 'Polar 0-360'!S$363 / COS!$B292,'Polar 0-360'!R292 )","v":{"$error":"#VALUE!"}},{"$f":" IF( $A292 < 'Polar 0-360'!Y$365, 'Polar 0-360'!Y$363 / COS!$B292,'Polar 0-360'!X292 )","v":{"$error":"#VALUE!"}},{"$f":" IF( $A292 < 'Polar 0-360'!AE$365, 'Polar 0-360'!AE$363 / COS!$B292,'Polar 0-360'!AD292 )","v":{"$error":"#VALUE!"}},{"$f":" IF( $A292 < 'Polar 0-360'!AK$365, 'Polar 0-360'!AK$363 / COS!$B292,'Polar 0-360'!AJ292 )","v":7.6283955857385397},{"$f":" IF( $A292 < 'Polar 0-360'!AQ$365, 'Polar 0-360'!AQ$363 / COS!$B292,'Polar 0-360'!AP292 )","v":{"$error":"#VALUE!"}}]
[{"$f":"'Polar 0-360'!A293","v":291},0,{"$f":" IF( $A293 < 'Polar 0-360'!G$365, 'Polar 0-360'!G$363 / COS!$B293,'Polar 0-360'!F293 )","v":{"$error":"#VALUE!"}},{"$f":" IF( $A293 < 'Polar 0-360'!M$365, 'Polar 0-360'!M$363 / COS!$B293,'Polar 0-360'!L293 )","v":{"$error":"#VALUE!"}},{"$f":" IF( $A293 < 'Polar 0-360'!S$365, 'Polar 0-360'!S$363 / COS!$B293,'Polar 0-360'!R293 )","v":{"$error":"#VALUE!"}},{"$f":" IF( $A293 < 'Polar 0-360'!Y$365, 'Polar 0-360'!Y$363 / COS!$B293,'Polar 0-360'!X293 )","v":{"$error":"#VALUE!"}},{"$f":" IF( $A293 < 'Polar 0-360'!AE$365, 'Polar 0-360'!AE$363 / COS!$B293,'Polar 0-360'!AD293 )","v":{"$error":"#VALUE!"}},{"$f":" IF( $A293 < 'Polar 0-360'!AK$365, 'Polar 0-360'!AK$363 / COS!$B293,'Polar 0-360'!AJ293 )","v":7.6056876061120544},{"$f":" IF( $A293 < 'Polar 0-360'!AQ$365, 'Polar 0-360'!AQ$363 / COS!$B293,'Polar 0-360'!AP293 )","v":{"$error":"#VALUE!"}}]
[{"$f":"'Polar 0-360'!A294","v":292},0,{"$f":" IF( $A294 < 'Polar 0-360'!G$365, 'Polar 0-360'!G$363 / COS!$B294,'Polar 0-360'!F294 )","v":{"$error":"#VALUE!"}},{"$f":" IF( $A294 < 'Polar 0-360'!M$365, 'Polar 0-360'!M$363 / COS!$B294,'Polar 0-360'!L294 )","v":{"$error":"#VALUE!"}},{"$f":" IF( $A294 < 'Polar 0-360'!S$365, 'Polar 0-360'!S$363 / COS!$B294,'Polar 0-360'!R294 )","v":{"$error":"#VALUE!"}},{"$f":" IF( $A294 < 'Polar 0-360'!Y$365, 'Polar 0-360'!Y$363 / COS!$B294,'Polar 0-360'!X294 )","v":{"$error":"#VALUE!"}},{"$f":" IF( $A294 < 'Polar 0-360'!AE$365, 'Polar 0-360'!AE$363 / COS!$B294,'Polar 0-360'!AD294 )","v":{"$error":"#VALUE!"}},{"$f":" IF( $A294 < 'Polar 0-360'!AK$365, 'Polar 0-360'!AK$363 / COS!$B294,'Polar 0-360'!AJ294 )","v":7.5829796264855691},{"$f":" IF( $A294 < 'Polar 0-360'!AQ$365, 'Polar 0-360'!AQ$363 / COS!$B294,'Polar 0-360'!AP294 )","v":{"$error":"#VALUE!"}}]
[{"$f":"'Polar 0-360'!A295","v":293},0,{"$f":" IF( $A295 < 'Polar 0-360'!G$365, 'Polar 0-360'!G$363 / COS!$B295,'Polar 0-360'!F295 )","v":{"$error":"#VALUE!"}},{"$f":" IF( $A295 < 'Polar 0-360'!M$365, 'Polar 0-360'!M$363 / COS!$B295,'Polar 0-360'!L295 )","v":{"$error":"#VALUE!"}},{"$f":" IF( $A295 < 'Polar 0-360'!S$365, 'Polar 0-360'!S$363 / COS!$B295,'Polar 0-360'!R295 )","v":{"$error":"#VALUE!"}},{"$f":" IF( $A295 < 'Polar 0-360'!Y$365, 'Polar 0-360'!Y$363 / COS!$B295,'Polar 0-360'!X295 )","v":{"$error":"#VALUE!"}},{"$f":" IF( $A295 < 'Polar 0-360'!AE$365, 'Polar 0-360'!AE$363 / COS!$B295,'Polar 0-360'!AD295 )","v":{"$error":"#VALUE!"}},{"$f":" IF( $A295 < 'Polar 0-360'!AK$365, 'Polar 0-360'!AK$363 / COS!$B295,'Polar 0-360'!AJ295 )","v":7.5602716468590829},{"$f":" IF( $A295 < 'Polar 0-360'!AQ$365, 'Polar 0-360'!AQ$363 / COS!$B295,'Polar 0-360'!AP295 )","v":{"$error":"#VALUE!"}}]
[{"$f":"'Polar 0-360'!A296","v":294},0,{"$f":" IF( $A296 < 'Polar 0-360'!G$365, 'Polar 0-360'!G$363 / COS!$B296,'Polar 0-360'!F296 )","v":{"$error":"#VALUE!"}},{"$f":" IF( $A296 < 'Polar 0-360'!M$365, 'Polar 0-360'!M$363 / COS!$B296,'Polar 0-360'!L296 )","v":{"$error":"#VALUE!"}},{"$f":" IF( $A296 < 'Polar 0-360'!S$365, 'Polar 0-360'!S$363 / COS!$B296,'Polar 0-360'!R296 )","v":{"$error":"#VALUE!"}},{"$f":" IF( $A296 < 'Polar 0-360'!Y$365, 'Polar 0-360'!Y$363 / COS!$B296,'Polar 0-360'!X296 )","v":{"$error":"#VALUE!"}},{"$f":" IF( $A296 < 'Polar 0-360'!AE$365, 'Polar 0-360'!AE$363 / COS!$B296,'Polar 0-360'!AD296 )","v":{"$error":"#VALUE!"}},{"$f":" IF( $A296 < 'Polar 0-360'!AK$365, 'Polar 0-360'!AK$363 / COS!$B296,'Polar 0-360'!AJ296 )","v":7.5375636672325976},{"$f":" IF( $A296 < 'Polar 0-360'!AQ$365, 'Polar 0-360'!AQ$363 / COS!$B296,'Polar 0-360'!AP296 )","v":{"$error":"#VALUE!"}}]
[{"$f":"'Polar 0-360'!A297","v":295},0,{"$f":" IF( $A297 < 'Polar 0-360'!G$365, 'Polar 0-360'!G$363 / COS!$B297,'Polar 0-360'!F297 )","v":{"$error":"#VALUE!"}},{"$f":" IF( $A297 < 'Polar 0-360'!M$365, 'Polar 0-360'!M$363 / COS!$B297,'Polar 0-360'!L297 )","v":{"$error":"#VALUE!"}},{"$f":" IF( $A297 < 'Polar 0-360'!S$365, 'Polar 0-360'!S$363 / COS!$B297,'Polar 0-360'!R297 )","v":{"$error":"#VALUE!"}},{"$f":" IF( $A297 < 'Polar 0-360'!Y$365, 'Polar 0-360'!Y$363 / COS!$B297,'Polar 0-360'!X297 )","v":{"$error":"#VALUE!"}},{"$f":" IF( $A297 < 'Polar 0-360'!AE$365, 'Polar 0-360'!AE$363 / COS!$B297,'Polar 0-360'!AD297 )","v":{"$error":"#VALUE!"}},{"$f":" IF( $A297 < 'Polar 0-360'!AK$365, 'Polar 0-360'!AK$363 / COS!$B297,'Polar 0-360'!AJ297 )","v":7.5148556876061123},{"$f":" IF( $A297 < 'Polar 0-360'!AQ$365, 'Polar 0-360'!AQ$363 / COS!$B297,'Polar 0-360'!AP297 )","v":{"$error":"#VALUE!"}}]
[{"$f":"'Polar 0-360'!A298","v":296},0,{"$f":" IF( $A298 < 'Polar 0-360'!G$365, 'Polar 0-360'!G$363 / COS!$B298,'Polar 0-360'!F298 )","v":{"$error":"#VALUE!"}},{"$f":" IF( $A298 < 'Polar 0-360'!M$365, 'Polar 0-360'!M$363 / COS!$B298,'Polar 0-360'!L298 )","v":{"$error":"#VALUE!"}},{"$f":" IF( $A298 < 'Polar 0-360'!S$365, 'Polar 0-360'!S$363 / COS!$B298,'Polar 0-360'!R298 )","v":{"$error":"#VALUE!"}},{"$f":" IF( $A298 < 'Polar 0-360'!Y$365, 'Polar 0-360'!Y$363 / COS!$B298,'Polar 0-360'!X298 )","v":{"$error":"#VALUE!"}},{"$f":" IF( $A298 < 'Polar 0-360'!AE$365, 'Polar 0-360'!AE$363 / COS!$B298,'Polar 0-360'!AD298 )","v":{"$error":"#VALUE!"}},{"$f":" IF( $A298 < 'Polar 0-360'!AK$365, 'Polar 0-360'!AK$363 / COS!$B298,'Polar 0-360'!AJ298 )","v":7.4921477079796261},{"$f":" IF( $A298 < 'Polar 0-360'!AQ$365, 'Polar 0-360'!AQ$363 / COS!$B298,'Polar 0-360'!AP298 )","v":{"$error":"#VALUE!"}}]
[{"$f":"'Polar 0-360'!A299","v":297},0,{"$f":" IF( $A299 < 'Polar 0-360'!G$365, 'Polar 0-360'!G$363 / COS!$B299,'Polar 0-360'!F299 )","v":{"$error":"#VALUE!"}},{"$f":" IF( $A299 < 'Polar 0-360'!M$365, 'Polar 0-360'!M$363 / COS!$B299,'Polar 0-360'!L299 )","v":{"$error":"#VALUE!"}},{"$f":" IF( $A299 < 'Polar 0-360'!S$365, 'Polar 0-360'!S$363 / COS!$B299,'Polar 0-360'!R299 )","v":{"$error":"#VALUE!"}},{"$f":" IF( $A299 < 'Polar 0-360'!Y$365, 'Polar 0-360'!Y$363 / COS!$B299,'Polar 0-360'!X299 )","v":{"$error":"#VALUE!"}},{"$f":" IF( $A299 < 'Polar 0-360'!AE$365, 'Polar 0-360'!AE$363 / COS!$B299,'Polar 0-360'!AD299 )","v":{"$error":"#VALUE!"}},{"$f":" IF( $A299 < 'Polar 0-360'!AK$365, 'Polar 0-360'!AK$363 / COS!$B299,'Polar 0-360'!AJ299 )","v":7.4694397283531409},{"$f":" IF( $A299 < 'Polar 0-360'!AQ$365, 'Polar 0-360'!AQ$363 / COS!$B299,'Polar 0-360'!AP299 )","v":{"$error":"#VALUE!"}}]
[{"$f":"'Polar 0-360'!A300","v":298},0,{"$f":" IF( $A300 < 'Polar 0-360'!G$365, 'Polar 0-360'!G$363 / COS!$B300,'Polar 0-360'!F300 )","v":{"$error":"#VALUE!"}},{"$f":" IF( $A300 < 'Polar 0-360'!M$365, 'Polar 0-360'!M$363 / COS!$B300,'Polar 0-360'!L300 )","v":{"$error":"#VALUE!"}},{"$f":" IF( $A300 < 'Polar 0-360'!S$365, 'Polar 0-360'!S$363 / COS!$B300,'Polar 0-360'!R300 )","v":{"$error":"#VALUE!"}},{"$f":" IF( $A300 < 'Polar 0-360'!Y$365, 'Polar 0-360'!Y$363 / COS!$B300,'Polar 0-360'!X300 )","v":{"$error":"#VALUE!"}},{"$f":" IF( $A300 < 'Polar 0-360'!AE$365, 'Polar 0-360'!AE$363 / COS!$B300,'Polar 0-360'!AD300 )","v":{"$error":"#VALUE!"}},{"$f":" IF( $A300 < 'Polar 0-360'!AK$365, 'Polar 0-360'!AK$363 / COS!$B300,'Polar 0-360'!AJ300 )","v":7.4467317487266556},{"$f":" IF( $A300 < 'Polar 0-360'!AQ$365, 'Polar 0-360'!AQ$363 / COS!$B300,'Polar 0-360'!AP300 )","v":{"$error":"#VALUE!"}}]
[{"$f":"'Polar 0-360'!A301","v":299},0,{"$f":" IF( $A301 < 'Polar 0-360'!G$365, 'Polar 0-360'!G$363 / COS!$B301,'Polar 0-360'!F301 )","v":{"$error":"#VALUE!"}},{"$f":" IF( $A301 < 'Polar 0-360'!M$365, 'Polar 0-360'!M$363 / COS!$B301,'Polar 0-360'!L301 )","v":{"$error":"#VALUE!"}},{"$f":" IF( $A301 < 'Polar 0-360'!S$365, 'Polar 0-360'!S$363 / COS!$B301,'Polar 0-360'!R301 )","v":{"$error":"#VALUE!"}},{"$f":" IF( $A301 < 'Polar 0-360'!Y$365, 'Polar 0-360'!Y$363 / COS!$B301,'Polar 0-360'!X301 )","v":{"$error":"#VALUE!"}},{"$f":" IF( $A301 < 'Polar 0-360'!AE$365, 'Polar 0-360'!AE$363 / COS!$B301,'Polar 0-360'!AD301 )","v":{"$error":"#VALUE!"}},{"$f":" IF( $A301 < 'Polar 0-360'!AK$365, 'Polar 0-360'!AK$363 / COS!$B301,'Polar 0-360'!AJ301 )","v":7.4240237691001703},{"$f":" IF( $A301 < 'Polar 0-360'!AQ$365, 'Polar 0-360'!AQ$363 / COS!$B301,'Polar 0-360'!AP301 )","v":{"$error":"#VALUE!"}}]
[{"$f":"'Polar 0-360'!A302","v":300},0,{"$f":" IF( $A302 < 'Polar 0-360'!G$365, 'Polar 0-360'!G$363 / COS!$B302,'Polar 0-360'!F302 )","v":{"$error":"#VALUE!"}},{"$f":" IF( $A302 < 'Polar 0-360'!M$365, 'Polar 0-360'!M$363 / COS!$B302,'Polar 0-360'!L302 )","v":{"$error":"#VALUE!"}},{"$f":" IF( $A302 < 'Polar 0-360'!S$365, 'Polar 0-360'!S$363 / COS!$B302,'Polar 0-360'!R302 )","v":{"$error":"#VALUE!"}},{"$f":" IF( $A302 < 'Polar 0-360'!Y$365, 'Polar 0-360'!Y$363 / COS!$B302,'Polar 0-360'!X302 )","v":{"$error":"#VALUE!"}},{"$f":" IF( $A302 < 'Polar 0-360'!AE$365, 'Polar 0-360'!AE$363 / COS!$B302,'Polar 0-360'!AD302 )","v":{"$error":"#VALUE!"}},{"$f":" IF( $A302 < 'Polar 0-360'!AK$365, 'Polar 0-360'!AK$363 / COS!$B302,'Polar 0-360'!AJ302 )","v":7.401315789473685},{"$f":" IF( $A302 < 'Polar 0-360'!AQ$365, 'Polar 0-360'!AQ$363 / COS!$B302,'Polar 0-360'!AP302 )","v":{"$error":"#VALUE!"}}]
[{"$f":"'Polar 0-360'!A303","v":301},0,{"$f":" IF( $A303 < 'Polar 0-360'!G$365, 'Polar 0-360'!G$363 / COS!$B303,'Polar 0-360'!F303 )","v":{"$error":"#VALUE!"}},{"$f":" IF( $A303 < 'Polar 0-360'!M$365, 'Polar 0-360'!M$363 / COS!$B303,'Polar 0-360'!L303 )","v":{"$error":"#VALUE!"}},{"$f":" IF( $A303 < 'Polar 0-360'!S$365, 'Polar 0-360'!S$363 / COS!$B303,'Polar 0-360'!R303 )","v":{"$error":"#VALUE!"}},{"$f":" IF( $A303 < 'Polar 0-360'!Y$365, 'Polar 0-360'!Y$363 / COS!$B303,'Polar 0-360'!X303 )","v":{"$error":"#VALUE!"}},{"$f":" IF( $A303 < 'Polar 0-360'!AE$365, 'Polar 0-360'!AE$363 / COS!$B303,'Polar 0-360'!AD303 )","v":{"$error":"#VALUE!"}},{"$f":" IF( $A303 < 'Polar 0-360'!AK$365, 'Polar 0-360'!AK$363 / COS!$B303,'Polar 0-360'!AJ303 )","v":7.3741756622273105},{"$f":" IF( $A303 < 'Polar 0-360'!AQ$365, 'Polar 0-360'!AQ$363 / COS!$B303,'Polar 0-360'!AP303 )","v":{"$error":"#VALUE!"}}]
[{"$f":"'Polar 0-360'!A304","v":302},0,{"$f":" IF( $A304 < 'Polar 0-360'!G$365, 'Polar 0-360'!G$363 / COS!$B304,'Polar 0-360'!F304 )","v":{"$error":"#VALUE!"}},{"$f":" IF( $A304 < 'Polar 0-360'!M$365, 'Polar 0-360'!M$363 / COS!$B304,'Polar 0-360'!L304 )","v":{"$error":"#VALUE!"}},{"$f":" IF( $A304 < 'Polar 0-360'!S$365, 'Polar 0-360'!S$363 / COS!$B304,'Polar 0-360'!R304 )","v":{"$error":"#VALUE!"}},{"$f":" IF( $A304 < 'Polar 0-360'!Y$365, 'Polar 0-360'!Y$363 / COS!$B304,'Polar 0-360'!X304 )","v":{"$error":"#VALUE!"}},{"$f":" IF( $A304 < 'Polar 0-360'!AE$365, 'Polar 0-360'!AE$363 / COS!$B304,'Polar 0-360'!AD304 )","v":{"$error":"#VALUE!"}},{"$f":" IF( $A304 < 'Polar 0-360'!AK$365, 'Polar 0-360'!AK$363 / COS!$B304,'Polar 0-360'!AJ304 )","v":7.347035534980936},{"$f":" IF( $A304 < 'Polar 0-360'!AQ$365, 'Polar 0-360'!AQ$363 / COS!$B304,'Polar 0-360'!AP304 )","v":{"$error":"#VALUE!"}}]
[{"$f":"'Polar 0-360'!A305","v":303},0,{"$f":" IF( $A305 < 'Polar 0-360'!G$365, 'Polar 0-360'!G$363 / COS!$B305,'Polar 0-360'!F305 )","v":{"$error":"#VALUE!"}},{"$f":" IF( $A305 < 'Polar 0-360'!M$365, 'Polar 0-360'!M$363 / COS!$B305,'Polar 0-360'!L305 )","v":{"$error":"#VALUE!"}},{"$f":" IF( $A305 < 'Polar 0-360'!S$365, 'Polar 0-360'!S$363 / COS!$B305,'Polar 0-360'!R305 )","v":{"$error":"#VALUE!"}},{"$f":" IF( $A305 < 'Polar 0-360'!Y$365, 'Polar 0-360'!Y$363 / COS!$B305,'Polar 0-360'!X305 )","v":{"$error":"#VALUE!"}},{"$f":" IF( $A305 < 'Polar 0-360'!AE$365, 'Polar 0-360'!AE$363 / COS!$B305,'Polar 0-360'!AD305 )","v":{"$error":"#VALUE!"}},{"$f":" IF( $A305 < 'Polar 0-360'!AK$365, 'Polar 0-360'!AK$363 / COS!$B305,'Polar 0-360'!AJ305 )","v":7.3198954077345624},{"$f":" IF( $A305 < 'Polar 0-360'!AQ$365, 'Polar 0-360'!AQ$363 / COS!$B305,'Polar 0-360'!AP305 )","v":{"$error":"#VALUE!"}}]
[{"$f":"'Polar 0-360'!A306","v":304},0,{"$f":" IF( $A306 < 'Polar 0-360'!G$365, 'Polar 0-360'!G$363 / COS!$B306,'Polar 0-360'!F306 )","v":{"$error":"#VALUE!"}},{"$f":" IF( $A306 < 'Polar 0-360'!M$365, 'Polar 0-360'!M$363 / COS!$B306,'Polar 0-360'!L306 )","v":{"$error":"#VALUE!"}},{"$f":" IF( $A306 < 'Polar 0-360'!S$365, 'Polar 0-360'!S$363 / COS!$B306,'Polar 0-360'!R306 )","v":{"$error":"#VALUE!"}},{"$f":" IF( $A306 < 'Polar 0-360'!Y$365, 'Polar 0-360'!Y$363 / COS!$B306,'Polar 0-360'!X306 )","v":{"$error":"#VALUE!"}},{"$f":" IF( $A306 < 'Polar 0-360'!AE$365, 'Polar 0-360'!AE$363 / COS!$B306,'Polar 0-360'!AD306 )","v":{"$error":"#VALUE!"}},{"$f":" IF( $A306 < 'Polar 0-360'!AK$365, 'Polar 0-360'!AK$363 / COS!$B306,'Polar 0-360'!AJ306 )","v":7.2927552804881888},{"$f":" IF( $A306 < 'Polar 0-360'!AQ$365, 'Polar 0-360'!AQ$363 / COS!$B306,'Polar 0-360'!AP306 )","v":{"$error":"#VALUE!"}}]
[{"$f":"'Polar 0-360'!A307","v":305},0,{"$f":" IF( $A307 < 'Polar 0-360'!G$365, 'Polar 0-360'!G$363 / COS!$B307,'Polar 0-360'!F307 )","v":{"$error":"#VALUE!"}},{"$f":" IF( $A307 < 'Polar 0-360'!M$365, 'Polar 0-360'!M$363 / COS!$B307,'Polar 0-360'!L307 )","v":{"$error":"#VALUE!"}},{"$f":" IF( $A307 < 'Polar 0-360'!S$365, 'Polar 0-360'!S$363 / COS!$B307,'Polar 0-360'!R307 )","v":{"$error":"#VALUE!"}},{"$f":" IF( $A307 < 'Polar 0-360'!Y$365, 'Polar 0-360'!Y$363 / COS!$B307,'Polar 0-360'!X307 )","v":{"$error":"#VALUE!"}},{"$f":" IF( $A307 < 'Polar 0-360'!AE$365, 'Polar 0-360'!AE$363 / COS!$B307,'Polar 0-360'!AD307 )","v":{"$error":"#VALUE!"}},{"$f":" IF( $A307 < 'Polar 0-360'!AK$365, 'Polar 0-360'!AK$363 / COS!$B307,'Polar 0-360'!AJ307 )","v":7.2656151532418143},{"$f":" IF( $A307 < 'Polar 0-360'!AQ$365, 'Polar 0-360'!AQ$363 / COS!$B307,'Polar 0-360'!AP307 )","v":{"$error":"#VALUE!"}}]
[{"$f":"'Polar 0-360'!A308","v":306},0,{"$f":" IF( $A308 < 'Polar 0-360'!G$365, 'Polar 0-360'!G$363 / COS!$B308,'Polar 0-360'!F308 )","v":{"$error":"#VALUE!"}},{"$f":" IF( $A308 < 'Polar 0-360'!M$365, 'Polar 0-360'!M$363 / COS!$B308,'Polar 0-360'!L308 )","v":{"$error":"#VALUE!"}},{"$f":" IF( $A308 < 'Polar 0-360'!S$365, 'Polar 0-360'!S$363 / COS!$B308,'Polar 0-360'!R308 )","v":{"$error":"#VALUE!"}},{"$f":" IF( $A308 < 'Polar 0-360'!Y$365, 'Polar 0-360'!Y$363 / COS!$B308,'Polar 0-360'!X308 )","v":{"$error":"#VALUE!"}},{"$f":" IF( $A308 < 'Polar 0-360'!AE$365, 'Polar 0-360'!AE$363 / COS!$B308,'Polar 0-360'!AD308 )","v":{"$error":"#VALUE!"}},{"$f":" IF( $A308 < 'Polar 0-360'!AK$365, 'Polar 0-360'!AK$363 / COS!$B308,'Polar 0-360'!AJ308 )","v":7.2384750259954407},{"$f":" IF( $A308 < 'Polar 0-360'!AQ$365, 'Polar 0-360'!AQ$363 / COS!$B308,'Polar 0-360'!AP308 )","v":{"$error":"#VALUE!"}}]
[{"$f":"'Polar 0-360'!A309","v":307},0,{"$f":" IF( $A309 < 'Polar 0-360'!G$365, 'Polar 0-360'!G$363 / COS!$B309,'Polar 0-360'!F309 )","v":{"$error":"#VALUE!"}},{"$f":" IF( $A309 < 'Polar 0-360'!M$365, 'Polar 0-360'!M$363 / COS!$B309,'Polar 0-360'!L309 )","v":{"$error":"#VALUE!"}},{"$f":" IF( $A309 < 'Polar 0-360'!S$365, 'Polar 0-360'!S$363 / COS!$B309,'Polar 0-360'!R309 )","v":{"$error":"#VALUE!"}},{"$f":" IF( $A309 < 'Polar 0-360'!Y$365, 'Polar 0-360'!Y$363 / COS!$B309,'Polar 0-360'!X309 )","v":{"$error":"#VALUE!"}},{"$f":" IF( $A309 < 'Polar 0-360'!AE$365, 'Polar 0-360'!AE$363 / COS!$B309,'Polar 0-360'!AD309 )","v":{"$error":"#VALUE!"}},{"$f":" IF( $A309 < 'Polar 0-360'!AK$365, 'Polar 0-360'!AK$363 / COS!$B309,'Polar 0-360'!AJ309 )","v":7.2113348987490671},{"$f":" IF( $A309 < 'Polar 0-360'!AQ$365, 'Polar 0-360'!AQ$363 / COS!$B309,'Polar 0-360'!AP309 )","v":{"$error":"#VALUE!"}}]
[{"$f":"'Polar 0-360'!A310","v":308},0,{"$f":" IF( $A310 < 'Polar 0-360'!G$365, 'Polar 0-360'!G$363 / COS!$B310,'Polar 0-360'!F310 )","v":{"$error":"#VALUE!"}},{"$f":" IF( $A310 < 'Polar 0-360'!M$365, 'Polar 0-360'!M$363 / COS!$B310,'Polar 0-360'!L310 )","v":{"$error":"#VALUE!"}},{"$f":" IF( $A310 < 'Polar 0-360'!S$365, 'Polar 0-360'!S$363 / COS!$B310,'Polar 0-360'!R310 )","v":{"$error":"#VALUE!"}},{"$f":" IF( $A310 < 'Polar 0-360'!Y$365, 'Polar 0-360'!Y$363 / COS!$B310,'Polar 0-360'!X310 )","v":{"$error":"#VALUE!"}},{"$f":" IF( $A310 < 'Polar 0-360'!AE$365, 'Polar 0-360'!AE$363 / COS!$B310,'Polar 0-360'!AD310 )","v":{"$error":"#VALUE!"}},{"$f":" IF( $A310 < 'Polar 0-360'!AK$365, 'Polar 0-360'!AK$363 / COS!$B310,'Polar 0-360'!AJ310 )","v":7.1841947715026926},{"$f":" IF( $A310 < 'Polar 0-360'!AQ$365, 'Polar 0-360'!AQ$363 / COS!$B310,'Polar 0-360'!AP310 )","v":{"$error":"#VALUE!"}}]
[{"$f":"'Polar 0-360'!A311","v":309},0,{"$f":" IF( $A311 < 'Polar 0-360'!G$365, 'Polar 0-360'!G$363 / COS!$B311,'Polar 0-360'!F311 )","v":{"$error":"#VALUE!"}},{"$f":" IF( $A311 < 'Polar 0-360'!M$365, 'Polar 0-360'!M$363 / COS!$B311,'Polar 0-360'!L311 )","v":{"$error":"#VALUE!"}},{"$f":" IF( $A311 < 'Polar 0-360'!S$365, 'Polar 0-360'!S$363 / COS!$B311,'Polar 0-360'!R311 )","v":{"$error":"#VALUE!"}},{"$f":" IF( $A311 < 'Polar 0-360'!Y$365, 'Polar 0-360'!Y$363 / COS!$B311,'Polar 0-360'!X311 )","v":{"$error":"#VALUE!"}},{"$f":" IF( $A311 < 'Polar 0-360'!AE$365, 'Polar 0-360'!AE$363 / COS!$B311,'Polar 0-360'!AD311 )","v":{"$error":"#VALUE!"}},{"$f":" IF( $A311 < 'Polar 0-360'!AK$365, 'Polar 0-360'!AK$363 / COS!$B311,'Polar 0-360'!AJ311 )","v":7.1363824177910882},{"$f":" IF( $A311 < 'Polar 0-360'!AQ$365, 'Polar 0-360'!AQ$363 / COS!$B311,'Polar 0-360'!AP311 )","v":{"$error":"#VALUE!"}}]
[{"$f":"'Polar 0-360'!A312","v":310},0,{"$f":" IF( $A312 < 'Polar 0-360'!G$365, 'Polar 0-360'!G$363 / COS!$B312,'Polar 0-360'!F312 )","v":{"$error":"#VALUE!"}},{"$f":" IF( $A312 < 'Polar 0-360'!M$365, 'Polar 0-360'!M$363 / COS!$B312,'Polar 0-360'!L312 )","v":{"$error":"#VALUE!"}},{"$f":" IF( $A312 < 'Polar 0-360'!S$365, 'Polar 0-360'!S$363 / COS!$B312,'Polar 0-360'!R312 )","v":{"$error":"#VALUE!"}},{"$f":" IF( $A312 < 'Polar 0-360'!Y$365, 'Polar 0-360'!Y$363 / COS!$B312,'Polar 0-360'!X312 )","v":{"$error":"#VALUE!"}},{"$f":" IF( $A312 < 'Polar 0-360'!AE$365, 'Polar 0-360'!AE$363 / COS!$B312,'Polar 0-360'!AD312 )","v":{"$error":"#VALUE!"}},{"$f":" IF( $A312 < 'Polar 0-360'!AK$365, 'Polar 0-360'!AK$363 / COS!$B312,'Polar 0-360'!AJ312 )","v":7.088570064079482},{"$f":" IF( $A312 < 'Polar 0-360'!AQ$365, 'Polar 0-360'!AQ$363 / COS!$B312,'Polar 0-360'!AP312 )","v":{"$error":"#VALUE!"}}]
[{"$f":"'Polar 0-360'!A313","v":311},0,{"$f":" IF( $A313 < 'Polar 0-360'!G$365, 'Polar 0-360'!G$363 / COS!$B313,'Polar 0-360'!F313 )","v":{"$error":"#VALUE!"}},{"$f":" IF( $A313 < 'Polar 0-360'!M$365, 'Polar 0-360'!M$363 / COS!$B313,'Polar 0-360'!L313 )","v":{"$error":"#VALUE!"}},{"$f":" IF( $A313 < 'Polar 0-360'!S$365, 'Polar 0-360'!S$363 / COS!$B313,'Polar 0-360'!R313 )","v":{"$error":"#VALUE!"}},{"$f":" IF( $A313 < 'Polar 0-360'!Y$365, 'Polar 0-360'!Y$363 / COS!$B313,'Polar 0-360'!X313 )","v":{"$error":"#VALUE!"}},{"$f":" IF( $A313 < 'Polar 0-360'!AE$365, 'Polar 0-360'!AE$363 / COS!$B313,'Polar 0-360'!AD313 )","v":{"$error":"#VALUE!"}},{"$f":" IF( $A313 < 'Polar 0-360'!AK$365, 'Polar 0-360'!AK$363 / COS!$B313,'Polar 0-360'!AJ313 )","v":7.0407577103678776},{"$f":" IF( $A313 < 'Polar 0-360'!AQ$365, 'Polar 0-360'!AQ$363 / COS!$B313,'Polar 0-360'!AP313 )","v":{"$error":"#VALUE!"}}]
[{"$f":"'Polar 0-360'!A314","v":312},0,{"$f":" IF( $A314 < 'Polar 0-360'!G$365, 'Polar 0-360'!G$363 / COS!$B314,'Polar 0-360'!F314 )","v":{"$error":"#VALUE!"}},{"$f":" IF( $A314 < 'Polar 0-360'!M$365, 'Polar 0-360'!M$363 / COS!$B314,'Polar 0-360'!L314 )","v":{"$error":"#VALUE!"}},{"$f":" IF( $A314 < 'Polar 0-360'!S$365, 'Polar 0-360'!S$363 / COS!$B314,'Polar 0-360'!R314 )","v":{"$error":"#VALUE!"}},{"$f":" IF( $A314 < 'Polar 0-360'!Y$365, 'Polar 0-360'!Y$363 / COS!$B314,'Polar 0-360'!X314 )","v":{"$error":"#VALUE!"}},{"$f":" IF( $A314 < 'Polar 0-360'!AE$365, 'Polar 0-360'!AE$363 / COS!$B314,'Polar 0-360'!AD314 )","v":{"$error":"#VALUE!"}},{"$f":" IF( $A314 < 'Polar 0-360'!AK$365, 'Polar 0-360'!AK$363 / COS!$B314,'Polar 0-360'!AJ314 )","v":6.9929453566562714},{"$f":" IF( $A314 < 'Polar 0-360'!AQ$365, 'Polar 0-360'!AQ$363 / COS!$B314,'Polar 0-360'!AP314 )","v":{"$error":"#VALUE!"}}]
[{"$f":"'Polar 0-360'!A315","v":313},0,{"$f":" IF( $A315 < 'Polar 0-360'!G$365, 'Polar 0-360'!G$363 / COS!$B315,'Polar 0-360'!F315 )","v":{"$error":"#VALUE!"}},{"$f":" IF( $A315 < 'Polar 0-360'!M$365, 'Polar 0-360'!M$363 / COS!$B315,'Polar 0-360'!L315 )","v":{"$error":"#VALUE!"}},{"$f":" IF( $A315 < 'Polar 0-360'!S$365, 'Polar 0-360'!S$363 / COS!$B315,'Polar 0-360'!R315 )","v":{"$error":"#VALUE!"}},{"$f":" IF( $A315 < 'Polar 0-360'!Y$365, 'Polar 0-360'!Y$363 / COS!$B315,'Polar 0-360'!X315 )","v":{"$error":"#VALUE!"}},{"$f":" IF( $A315 < 'Polar 0-360'!AE$365, 'Polar 0-360'!AE$363 / COS!$B315,'Polar 0-360'!AD315 )","v":{"$error":"#VALUE!"}},{"$f":" IF( $A315 < 'Polar 0-360'!AK$365, 'Polar 0-360'!AK$363 / COS!$B315,'Polar 0-360'!AJ315 )","v":6.9451330029446652},{"$f":" IF( $A315 < 'Polar 0-360'!AQ$365, 'Polar 0-360'!AQ$363 / COS!$B315,'Polar 0-360'!AP315 )","v":{"$error":"#VALUE!"}}]
[{"$f":"'Polar 0-360'!A316","v":314},0,{"$f":" IF( $A316 < 'Polar 0-360'!G$365, 'Polar 0-360'!G$363 / COS!$B316,'Polar 0-360'!F316 )","v":{"$error":"#VALUE!"}},{"$f":" IF( $A316 < 'Polar 0-360'!M$365, 'Polar 0-360'!M$363 / COS!$B316,'Polar 0-360'!L316 )","v":{"$error":"#VALUE!"}},{"$f":" IF( $A316 < 'Polar 0-360'!S$365, 'Polar 0-360'!S$363 / COS!$B316,'Polar 0-360'!R316 )","v":{"$error":"#VALUE!"}},{"$f":" IF( $A316 < 'Polar 0-360'!Y$365, 'Polar 0-360'!Y$363 / COS!$B316,'Polar 0-360'!X316 )","v":{"$error":"#VALUE!"}},{"$f":" IF( $A316 < 'Polar 0-360'!AE$365, 'Polar 0-360'!AE$363 / COS!$B316,'Polar 0-360'!AD316 )","v":{"$error":"#VALUE!"}},{"$f":" IF( $A316 < 'Polar 0-360'!AK$365, 'Polar 0-360'!AK$363 / COS!$B316,'Polar 0-360'!AJ316 )","v":6.8973206492330599},{"$f":" IF( $A316 < 'Polar 0-360'!AQ$365, 'Polar 0-360'!AQ$363 / COS!$B316,'Polar 0-360'!AP316 )","v":{"$error":"#VALUE!"}}]
[{"$f":"'Polar 0-360'!A317","v":315},0,{"$f":" IF( $A317 < 'Polar 0-360'!G$365, 'Polar 0-360'!G$363 / COS!$B317,'Polar 0-360'!F317 )","v":{"$error":"#VALUE!"}},{"$f":" IF( $A317 < 'Polar 0-360'!M$365, 'Polar 0-360'!M$363 / COS!$B317,'Polar 0-360'!L317 )","v":{"$error":"#VALUE!"}},{"$f":" IF( $A317 < 'Polar 0-360'!S$365, 'Polar 0-360'!S$363 / COS!$B317,'Polar 0-360'!R317 )","v":{"$error":"#VALUE!"}},{"$f":" IF( $A317 < 'Polar 0-360'!Y$365, 'Polar 0-360'!Y$363 / COS!$B317,'Polar 0-360'!X317 )","v":{"$error":"#VALUE!"}},{"$f":" IF( $A317 < 'Polar 0-360'!AE$365, 'Polar 0-360'!AE$363 / COS!$B317,'Polar 0-360'!AD317 )","v":{"$error":"#VALUE!"}},{"$f":" IF( $A317 < 'Polar 0-360'!AK$365, 'Polar 0-360'!AK$363 / COS!$B317,'Polar 0-360'!AJ317 )","v":6.8495082955214546},{"$f":" IF( $A317 < 'Polar 0-360'!AQ$365, 'Polar 0-360'!AQ$363 / COS!$B317,'Polar 0-360'!AP317 )","v":{"$error":"#VALUE!"}}]
[{"$f":"'Polar 0-360'!A318","v":316},0,{"$f":" IF( $A318 < 'Polar 0-360'!G$365, 'Polar 0-360'!G$363 / COS!$B318,'Polar 0-360'!F318 )","v":{"$error":"#VALUE!"}},{"$f":" IF( $A318 < 'Polar 0-360'!M$365, 'Polar 0-360'!M$363 / COS!$B318,'Polar 0-360'!L318 )","v":{"$error":"#VALUE!"}},{"$f":" IF( $A318 < 'Polar 0-360'!S$365, 'Polar 0-360'!S$363 / COS!$B318,'Polar 0-360'!R318 )","v":{"$error":"#VALUE!"}},{"$f":" IF( $A318 < 'Polar 0-360'!Y$365, 'Polar 0-360'!Y$363 / COS!$B318,'Polar 0-360'!X318 )","v":{"$error":"#VALUE!"}},{"$f":" IF( $A318 < 'Polar 0-360'!AE$365, 'Polar 0-360'!AE$363 / COS!$B318,'Polar 0-360'!AD318 )","v":{"$error":"#VALUE!"}},{"$f":" IF( $A318 < 'Polar 0-360'!AK$365, 'Polar 0-360'!AK$363 / COS!$B318,'Polar 0-360'!AJ318 )","v":6.8016959418098484},{"$f":" IF( $A318 < 'Polar 0-360'!AQ$365, 'Polar 0-360'!AQ$363 / COS!$B318,'Polar 0-360'!AP318 )","v":{"$error":"#VALUE!"}}]
[{"$f":"'Polar 0-360'!A319","v":317},0,{"$f":" IF( $A319 < 'Polar 0-360'!G$365, 'Polar 0-360'!G$363 / COS!$B319,'Polar 0-360'!F319 )","v":{"$error":"#VALUE!"}},{"$f":" IF( $A319 < 'Polar 0-360'!M$365, 'Polar 0-360'!M$363 / COS!$B319,'Polar 0-360'!L319 )","v":{"$error":"#VALUE!"}},{"$f":" IF( $A319 < 'Polar 0-360'!S$365, 'Polar 0-360'!S$363 / COS!$B319,'Polar 0-360'!R319 )","v":{"$error":"#VALUE!"}},{"$f":" IF( $A319 < 'Polar 0-360'!Y$365, 'Polar 0-360'!Y$363 / COS!$B319,'Polar 0-360'!X319 )","v":{"$error":"#VALUE!"}},{"$f":" IF( $A319 < 'Polar 0-360'!AE$365, 'Polar 0-360'!AE$363 / COS!$B319,'Polar 0-360'!AD319 )","v":{"$error":"#VALUE!"}},{"$f":" IF( $A319 < 'Polar 0-360'!AK$365, 'Polar 0-360'!AK$363 / COS!$B319,'Polar 0-360'!AJ319 )","v":6.7460393738174318},{"$f":" IF( $A319 < 'Polar 0-360'!AQ$365, 'Polar 0-360'!AQ$363 / COS!$B319,'Polar 0-360'!AP319 )","v":{"$error":"#VALUE!"}}]
[{"$f":"'Polar 0-360'!A320","v":318},0,{"$f":" IF( $A320 < 'Polar 0-360'!G$365, 'Polar 0-360'!G$363 / COS!$B320,'Polar 0-360'!F320 )","v":{"$error":"#VALUE!"}},{"$f":" IF( $A320 < 'Polar 0-360'!M$365, 'Polar 0-360'!M$363 / COS!$B320,'Polar 0-360'!L320 )","v":{"$error":"#VALUE!"}},{"$f":" IF( $A320 < 'Polar 0-360'!S$365, 'Polar 0-360'!S$363 / COS!$B320,'Polar 0-360'!R320 )","v":{"$error":"#VALUE!"}},{"$f":" IF( $A320 < 'Polar 0-360'!Y$365, 'Polar 0-360'!Y$363 / COS!$B320,'Polar 0-360'!X320 )","v":{"$error":"#VALUE!"}},{"$f":" IF( $A320 < 'Polar 0-360'!AE$365, 'Polar 0-360'!AE$363 / COS!$B320,'Polar 0-360'!AD320 )","v":{"$error":"#VALUE!"}},{"$f":" IF( $A320 < 'Polar 0-360'!AK$365, 'Polar 0-360'!AK$363 / COS!$B320,'Polar 0-360'!AJ320 )","v":6.6825385915442066},{"$f":" IF( $A320 < 'Polar 0-360'!AQ$365, 'Polar 0-360'!AQ$363 / COS!$B320,'Polar 0-360'!AP320 )","v":{"$error":"#VALUE!"}}]
[{"$f":"'Polar 0-360'!A321","v":319},0,{"$f":" IF( $A321 < 'Polar 0-360'!G$365, 'Polar 0-360'!G$363 / COS!$B321,'Polar 0-360'!F321 )","v":{"$error":"#VALUE!"}},{"$f":" IF( $A321 < 'Polar 0-360'!M$365, 'Polar 0-360'!M$363 / COS!$B321,'Polar 0-360'!L321 )","v":{"$error":"#VALUE!"}},{"$f":" IF( $A321 < 'Polar 0-360'!S$365, 'Polar 0-360'!S$363 / COS!$B321,'Polar 0-360'!R321 )","v":{"$error":"#VALUE!"}},{"$f":" IF( $A321 < 'Polar 0-360'!Y$365, 'Polar 0-360'!Y$363 / COS!$B321,'Polar 0-360'!X321 )","v":{"$error":"#VALUE!"}},{"$f":" IF( $A321 < 'Polar 0-360'!AE$365, 'Polar 0-360'!AE$363 / COS!$B321,'Polar 0-360'!AD321 )","v":{"$error":"#VALUE!"}},{"$f":" IF( $A321 < 'Polar 0-360'!AK$365, 'Polar 0-360'!AK$363 / COS!$B321,'Polar 0-360'!AJ321 )","v":6.6136646661555556},{"$f":" IF( $A321 < 'Polar 0-360'!AQ$365, 'Polar 0-360'!AQ$363 / COS!$B321,'Polar 0-360'!AP321 )","v":{"$error":"#VALUE!"}}]
[{"$f":"'Polar 0-360'!A322","v":320},0,{"$f":" IF( $A322 < 'Polar 0-360'!G$365, 'Polar 0-360'!G$363 / COS!$B322,'Polar 0-360'!F322 )","v":{"$error":"#VALUE!"}},{"$f":" IF( $A322 < 'Polar 0-360'!M$365, 'Polar 0-360'!M$363 / COS!$B322,'Polar 0-360'!L322 )","v":{"$error":"#VALUE!"}},{"$f":" IF( $A322 < 'Polar 0-360'!S$365, 'Polar 0-360'!S$363 / COS!$B322,'Polar 0-360'!R322 )","v":{"$error":"#VALUE!"}},{"$f":" IF( $A322 < 'Polar 0-360'!Y$365, 'Polar 0-360'!Y$363 / COS!$B322,'Polar 0-360'!X322 )","v":{"$error":"#VALUE!"}},{"$f":" IF( $A322 < 'Polar 0-360'!AE$365, 'Polar 0-360'!AE$363 / COS!$B322,'Polar 0-360'!AD322 )","v":{"$error":"#VALUE!"}},{"$f":" IF( $A322 < 'Polar 0-360'!AK$365, 'Polar 0-360'!AK$363 / COS!$B322,'Polar 0-360'!AJ322 )","v":6.5550485594418078},{"$f":" IF( $A322 < 'Polar 0-360'!AQ$365, 'Polar 0-360'!AQ$363 / COS!$B322,'Polar 0-360'!AP322 )","v":{"$error":"#VALUE!"}}]
[{"$f":"'Polar 0-360'!A323","v":321},0,{"$f":" IF( $A323 < 'Polar 0-360'!G$365, 'Polar 0-360'!G$363 / COS!$B323,'Polar 0-360'!F323 )","v":{"$error":"#VALUE!"}},{"$f":" IF( $A323 < 'Polar 0-360'!M$365, 'Polar 0-360'!M$363 / COS!$B323,'Polar 0-360'!L323 )","v":{"$error":"#VALUE!"}},{"$f":" IF( $A323 < 'Polar 0-360'!S$365, 'Polar 0-360'!S$363 / COS!$B323,'Polar 0-360'!R323 )","v":{"$error":"#VALUE!"}},{"$f":" IF( $A323 < 'Polar 0-360'!Y$365, 'Polar 0-360'!Y$363 / COS!$B323,'Polar 0-360'!X323 )","v":{"$error":"#VALUE!"}},{"$f":" IF( $A323 < 'Polar 0-360'!AE$365, 'Polar 0-360'!AE$363 / COS!$B323,'Polar 0-360'!AD323 )","v":{"$error":"#VALUE!"}},{"$f":" IF( $A323 < 'Polar 0-360'!AK$365, 'Polar 0-360'!AK$363 / COS!$B323,'Polar 0-360'!AJ323 )","v":6.5237866358611427},{"$f":" IF( $A323 < 'Polar 0-360'!AQ$365, 'Polar 0-360'!AQ$363 / COS!$B323,'Polar 0-360'!AP323 )","v":{"$error":"#VALUE!"}}]
[{"$f":"'Polar 0-360'!A324","v":322},0,{"$f":" IF( $A324 < 'Polar 0-360'!G$365, 'Polar 0-360'!G$363 / COS!$B324,'Polar 0-360'!F324 )","v":{"$error":"#VALUE!"}},{"$f":" IF( $A324 < 'Polar 0-360'!M$365, 'Polar 0-360'!M$363 / COS!$B324,'Polar 0-360'!L324 )","v":{"$error":"#VALUE!"}},{"$f":" IF( $A324 < 'Polar 0-360'!S$365, 'Polar 0-360'!S$363 / COS!$B324,'Polar 0-360'!R324 )","v":{"$error":"#VALUE!"}},{"$f":" IF( $A324 < 'Polar 0-360'!Y$365, 'Polar 0-360'!Y$363 / COS!$B324,'Polar 0-360'!X324 )","v":{"$error":"#VALUE!"}},{"$f":" IF( $A324 < 'Polar 0-360'!AE$365, 'Polar 0-360'!AE$363 / COS!$B324,'Polar 0-360'!AD324 )","v":{"$error":"#VALUE!"}},{"$f":" IF( $A324 < 'Polar 0-360'!AK$365, 'Polar 0-360'!AK$363 / COS!$B324,'Polar 0-360'!AJ324 )","v":6.4023762344632367},{"$f":" IF( $A324 < 'Polar 0-360'!AQ$365, 'Polar 0-360'!AQ$363 / COS!$B324,'Polar 0-360'!AP324 )","v":{"$error":"#VALUE!"}}]
[{"$f":"'Polar 0-360'!A325","v":323},0,{"$f":" IF( $A325 < 'Polar 0-360'!G$365, 'Polar 0-360'!G$363 / COS!$B325,'Polar 0-360'!F325 )","v":{"$error":"#VALUE!"}},{"$f":" IF( $A325 < 'Polar 0-360'!M$365, 'Polar 0-360'!M$363 / COS!$B325,'Polar 0-360'!L325 )","v":{"$error":"#VALUE!"}},{"$f":" IF( $A325 < 'Polar 0-360'!S$365, 'Polar 0-360'!S$363 / COS!$B325,'Polar 0-360'!R325 )","v":{"$error":"#VALUE!"}},{"$f":" IF( $A325 < 'Polar 0-360'!Y$365, 'Polar 0-360'!Y$363 / COS!$B325,'Polar 0-360'!X325 )","v":{"$error":"#VALUE!"}},{"$f":" IF( $A325 < 'Polar 0-360'!AE$365, 'Polar 0-360'!AE$363 / COS!$B325,'Polar 0-360'!AD325 )","v":{"$error":"#VALUE!"}},{"$f":" IF( $A325 < 'Polar 0-360'!AK$365, 'Polar 0-360'!AK$363 / COS!$B325,'Polar 0-360'!AJ325 )","v":6.2338926493457834},{"$f":" IF( $A325 < 'Polar 0-360'!AQ$365, 'Polar 0-360'!AQ$363 / COS!$B325,'Polar 0-360'!AP325 )","v":{"$error":"#VALUE!"}}]
[{"$f":"'Polar 0-360'!A326","v":324},0,{"$f":" IF( $A326 < 'Polar 0-360'!G$365, 'Polar 0-360'!G$363 / COS!$B326,'Polar 0-360'!F326 )","v":{"$error":"#VALUE!"}},{"$f":" IF( $A326 < 'Polar 0-360'!M$365, 'Polar 0-360'!M$363 / COS!$B326,'Polar 0-360'!L326 )","v":{"$error":"#VALUE!"}},{"$f":" IF( $A326 < 'Polar 0-360'!S$365, 'Polar 0-360'!S$363 / COS!$B326,'Polar 0-360'!R326 )","v":{"$error":"#VALUE!"}},{"$f":" IF( $A326 < 'Polar 0-360'!Y$365, 'Polar 0-360'!Y$363 / COS!$B326,'Polar 0-360'!X326 )","v":{"$error":"#VALUE!"}},{"$f":" IF( $A326 < 'Polar 0-360'!AE$365, 'Polar 0-360'!AE$363 / COS!$B326,'Polar 0-360'!AD326 )","v":{"$error":"#VALUE!"}},{"$f":" IF( $A326 < 'Polar 0-360'!AK$365, 'Polar 0-360'!AK$363 / COS!$B326,'Polar 0-360'!AJ326 )","v":6.06540906422833},{"$f":" IF( $A326 < 'Polar 0-360'!AQ$365, 'Polar 0-360'!AQ$363 / COS!$B326,'Polar 0-360'!AP326 )","v":{"$error":"#VALUE!"}}]
[{"$f":"'Polar 0-360'!A327","v":325},0,{"$f":" IF( $A327 < 'Polar 0-360'!G$365, 'Polar 0-360'!G$363 / COS!$B327,'Polar 0-360'!F327 )","v":{"$error":"#VALUE!"}},{"$f":" IF( $A327 < 'Polar 0-360'!M$365, 'Polar 0-360'!M$363 / COS!$B327,'Polar 0-360'!L327 )","v":{"$error":"#VALUE!"}},{"$f":" IF( $A327 < 'Polar 0-360'!S$365, 'Polar 0-360'!S$363 / COS!$B327,'Polar 0-360'!R327 )","v":{"$error":"#VALUE!"}},{"$f":" IF( $A327 < 'Polar 0-360'!Y$365, 'Polar 0-360'!Y$363 / COS!$B327,'Polar 0-360'!X327 )","v":{"$error":"#VALUE!"}},{"$f":" IF( $A327 < 'Polar 0-360'!AE$365, 'Polar 0-360'!AE$363 / COS!$B327,'Polar 0-360'!AD327 )","v":{"$error":"#VALUE!"}},{"$f":" IF( $A327 < 'Polar 0-360'!AK$365, 'Polar 0-360'!AK$363 / COS!$B327,'Polar 0-360'!AJ327 )","v":5.8969254791108767},{"$f":" IF( $A327 < 'Polar 0-360'!AQ$365, 'Polar 0-360'!AQ$363 / COS!$B327,'Polar 0-360'!AP327 )","v":{"$error":"#VALUE!"}}]
[{"$f":"'Polar 0-360'!A328","v":326},0,{"$f":" IF( $A328 < 'Polar 0-360'!G$365, 'Polar 0-360'!G$363 / COS!$B328,'Polar 0-360'!F328 )","v":{"$error":"#VALUE!"}},{"$f":" IF( $A328 < 'Polar 0-360'!M$365, 'Polar 0-360'!M$363 / COS!$B328,'Polar 0-360'!L328 )","v":{"$error":"#VALUE!"}},{"$f":" IF( $A328 < 'Polar 0-360'!S$365, 'Polar 0-360'!S$363 / COS!$B328,'Polar 0-360'!R328 )","v":{"$error":"#VALUE!"}},{"$f":" IF( $A328 < 'Polar 0-360'!Y$365, 'Polar 0-360'!Y$363 / COS!$B328,'Polar 0-360'!X328 )","v":{"$error":"#VALUE!"}},{"$f":" IF( $A328 < 'Polar 0-360'!AE$365, 'Polar 0-360'!AE$363 / COS!$B328,'Polar 0-360'!AD328 )","v":{"$error":"#VALUE!"}},{"$f":" IF( $A328 < 'Polar 0-360'!AK$365, 'Polar 0-360'!AK$363 / COS!$B328,'Polar 0-360'!AJ328 )","v":5.7284418939934234},{"$f":" IF( $A328 < 'Polar 0-360'!AQ$365, 'Polar 0-360'!AQ$363 / COS!$B328,'Polar 0-360'!AP328 )","v":{"$error":"#VALUE!"}}]
[{"$f":"'Polar 0-360'!A329","v":327},0,{"$f":" IF( $A329 < 'Polar 0-360'!G$365, 'Polar 0-360'!G$363 / COS!$B329,'Polar 0-360'!F329 )","v":{"$error":"#VALUE!"}},{"$f":" IF( $A329 < 'Polar 0-360'!M$365, 'Polar 0-360'!M$363 / COS!$B329,'Polar 0-360'!L329 )","v":{"$error":"#VALUE!"}},{"$f":" IF( $A329 < 'Polar 0-360'!S$365, 'Polar 0-360'!S$363 / COS!$B329,'Polar 0-360'!R329 )","v":{"$error":"#VALUE!"}},{"$f":" IF( $A329 < 'Polar 0-360'!Y$365, 'Polar 0-360'!Y$363 / COS!$B329,'Polar 0-360'!X329 )","v":{"$error":"#VALUE!"}},{"$f":" IF( $A329 < 'Polar 0-360'!AE$365, 'Polar 0-360'!AE$363 / COS!$B329,'Polar 0-360'!AD329 )","v":{"$error":"#VALUE!"}},{"$f":" IF( $A329 < 'Polar 0-360'!AK$365, 'Polar 0-360'!AK$363 / COS!$B329,'Polar 0-360'!AJ329 )","v":5.5599583088759683},{"$f":" IF( $A329 < 'Polar 0-360'!AQ$365, 'Polar 0-360'!AQ$363 / COS!$B329,'Polar 0-360'!AP329 )","v":{"$error":"#VALUE!"}}]
[{"$f":"'Polar 0-360'!A330","v":328},0,{"$f":" IF( $A330 < 'Polar 0-360'!G$365, 'Polar 0-360'!G$363 / COS!$B330,'Polar 0-360'!F330 )","v":{"$error":"#VALUE!"}},{"$f":" IF( $A330 < 'Polar 0-360'!M$365, 'Polar 0-360'!M$363 / COS!$B330,'Polar 0-360'!L330 )","v":{"$error":"#VALUE!"}},{"$f":" IF( $A330 < 'Polar 0-360'!S$365, 'Polar 0-360'!S$363 / COS!$B330,'Polar 0-360'!R330 )","v":{"$error":"#VALUE!"}},{"$f":" IF( $A330 < 'Polar 0-360'!Y$365, 'Polar 0-360'!Y$363 / COS!$B330,'Polar 0-360'!X330 )","v":{"$error":"#VALUE!"}},{"$f":" IF( $A330 < 'Polar 0-360'!AE$365, 'Polar 0-360'!AE$363 / COS!$B330,'Polar 0-360'!AD330 )","v":{"$error":"#VALUE!"}},{"$f":" IF( $A330 < 'Polar 0-360'!AK$365, 'Polar 0-360'!AK$363 / COS!$B330,'Polar 0-360'!AJ330 )","v":5.391474723758515},{"$f":" IF( $A330 < 'Polar 0-360'!AQ$365, 'Polar 0-360'!AQ$363 / COS!$B330,'Polar 0-360'!AP330 )","v":{"$error":"#VALUE!"}}]
[{"$f":"'Polar 0-360'!A331","v":329},0,{"$f":" IF( $A331 < 'Polar 0-360'!G$365, 'Polar 0-360'!G$363 / COS!$B331,'Polar 0-360'!F331 )","v":{"$error":"#VALUE!"}},{"$f":" IF( $A331 < 'Polar 0-360'!M$365, 'Polar 0-360'!M$363 / COS!$B331,'Polar 0-360'!L331 )","v":{"$error":"#VALUE!"}},{"$f":" IF( $A331 < 'Polar 0-360'!S$365, 'Polar 0-360'!S$363 / COS!$B331,'Polar 0-360'!R331 )","v":{"$error":"#VALUE!"}},{"$f":" IF( $A331 < 'Polar 0-360'!Y$365, 'Polar 0-360'!Y$363 / COS!$B331,'Polar 0-360'!X331 )","v":{"$error":"#VALUE!"}},{"$f":" IF( $A331 < 'Polar 0-360'!AE$365, 'Polar 0-360'!AE$363 / COS!$B331,'Polar 0-360'!AD331 )","v":{"$error":"#VALUE!"}},{"$f":" IF( $A331 < 'Polar 0-360'!AK$365, 'Polar 0-360'!AK$363 / COS!$B331,'Polar 0-360'!AJ331 )","v":5.2229911386410617},{"$f":" IF( $A331 < 'Polar 0-360'!AQ$365, 'Polar 0-360'!AQ$363 / COS!$B331,'Polar 0-360'!AP331 )","v":{"$error":"#VALUE!"}}]
[{"$f":"'Polar 0-360'!A332","v":330},0,{"$f":" IF( $A332 < 'Polar 0-360'!G$365, 'Polar 0-360'!G$363 / COS!$B332,'Polar 0-360'!F332 )","v":{"$error":"#VALUE!"}},{"$f":" IF( $A332 < 'Polar 0-360'!M$365, 'Polar 0-360'!M$363 / COS!$B332,'Polar 0-360'!L332 )","v":{"$error":"#VALUE!"}},{"$f":" IF( $A332 < 'Polar 0-360'!S$365, 'Polar 0-360'!S$363 / COS!$B332,'Polar 0-360'!R332 )","v":{"$error":"#VALUE!"}},{"$f":" IF( $A332 < 'Polar 0-360'!Y$365, 'Polar 0-360'!Y$363 / COS!$B332,'Polar 0-360'!X332 )","v":{"$error":"#VALUE!"}},{"$f":" IF( $A332 < 'Polar 0-360'!AE$365, 'Polar 0-360'!AE$363 / COS!$B332,'Polar 0-360'!AD332 )","v":{"$error":"#VALUE!"}},{"$f":" IF( $A332 < 'Polar 0-360'!AK$365, 'Polar 0-360'!AK$363 / COS!$B332,'Polar 0-360'!AJ332 )","v":5.0545075535236084},{"$f":" IF( $A332 < 'Polar 0-360'!AQ$365, 'Polar 0-360'!AQ$363 / COS!$B332,'Polar 0-360'!AP332 )","v":{"$error":"#VALUE!"}}]
[{"$f":"'Polar 0-360'!A333","v":331},0,{"$f":" IF( $A333 < 'Polar 0-360'!G$365, 'Polar 0-360'!G$363 / COS!$B333,'Polar 0-360'!F333 )","v":{"$error":"#VALUE!"}},{"$f":" IF( $A333 < 'Polar 0-360'!M$365, 'Polar 0-360'!M$363 / COS!$B333,'Polar 0-360'!L333 )","v":{"$error":"#VALUE!"}},{"$f":" IF( $A333 < 'Polar 0-360'!S$365, 'Polar 0-360'!S$363 / COS!$B333,'Polar 0-360'!R333 )","v":{"$error":"#VALUE!"}},{"$f":" IF( $A333 < 'Polar 0-360'!Y$365, 'Polar 0-360'!Y$363 / COS!$B333,'Polar 0-360'!X333 )","v":{"$error":"#VALUE!"}},{"$f":" IF( $A333 < 'Polar 0-360'!AE$365, 'Polar 0-360'!AE$363 / COS!$B333,'Polar 0-360'!AD333 )","v":{"$error":"#VALUE!"}},{"$f":" IF( $A333 < 'Polar 0-360'!AK$365, 'Polar 0-360'!AK$363 / COS!$B333,'Polar 0-360'!AJ333 )","v":4.886023968406155},{"$f":" IF( $A333 < 'Polar 0-360'!AQ$365, 'Polar 0-360'!AQ$363 / COS!$B333,'Polar 0-360'!AP333 )","v":{"$error":"#VALUE!"}}]
[{"$f":"'Polar 0-360'!A334","v":332},0,{"$f":" IF( $A334 < 'Polar 0-360'!G$365, 'Polar 0-360'!G$363 / COS!$B334,'Polar 0-360'!F334 )","v":{"$error":"#VALUE!"}},{"$f":" IF( $A334 < 'Polar 0-360'!M$365, 'Polar 0-360'!M$363 / COS!$B334,'Polar 0-360'!L334 )","v":{"$error":"#VALUE!"}},{"$f":" IF( $A334 < 'Polar 0-360'!S$365, 'Polar 0-360'!S$363 / COS!$B334,'Polar 0-360'!R334 )","v":{"$error":"#VALUE!"}},{"$f":" IF( $A334 < 'Polar 0-360'!Y$365, 'Polar 0-360'!Y$363 / COS!$B334,'Polar 0-360'!X334 )","v":{"$error":"#VALUE!"}},{"$f":" IF( $A334 < 'Polar 0-360'!AE$365, 'Polar 0-360'!AE$363 / COS!$B334,'Polar 0-360'!AD334 )","v":{"$error":"#VALUE!"}},{"$f":" IF( $A334 < 'Polar 0-360'!AK$365, 'Polar 0-360'!AK$363 / COS!$B334,'Polar 0-360'!AJ334 )","v":4.7175403832887},{"$f":" IF( $A334 < 'Polar 0-360'!AQ$365, 'Polar 0-360'!AQ$363 / COS!$B334,'Polar 0-360'!AP334 )","v":{"$error":"#VALUE!"}}]
[{"$f":"'Polar 0-360'!A335","v":333},0,{"$f":" IF( $A335 < 'Polar 0-360'!G$365, 'Polar 0-360'!G$363 / COS!$B335,'Polar 0-360'!F335 )","v":{"$error":"#VALUE!"}},{"$f":" IF( $A335 < 'Polar 0-360'!M$365, 'Polar 0-360'!M$363 / COS!$B335,'Polar 0-360'!L335 )","v":{"$error":"#VALUE!"}},{"$f":" IF( $A335 < 'Polar 0-360'!S$365, 'Polar 0-360'!S$363 / COS!$B335,'Polar 0-360'!R335 )","v":{"$error":"#VALUE!"}},{"$f":" IF( $A335 < 'Polar 0-360'!Y$365, 'Polar 0-360'!Y$363 / COS!$B335,'Polar 0-360'!X335 )","v":{"$error":"#VALUE!"}},{"$f":" IF( $A335 < 'Polar 0-360'!AE$365, 'Polar 0-360'!AE$363 / COS!$B335,'Polar 0-360'!AD335 )","v":{"$error":"#VALUE!"}},{"$f":" IF( $A335 < 'Polar 0-360'!AK$365, 'Polar 0-360'!AK$363 / COS!$B335,'Polar 0-360'!AJ335 )","v":4.5490567981712466},{"$f":" IF( $A335 < 'Polar 0-360'!AQ$365, 'Polar 0-360'!AQ$363 / COS!$B335,'Polar 0-360'!AP335 )","v":{"$error":"#VALUE!"}}]
[{"$f":"'Polar 0-360'!A336","v":334},0,{"$f":" IF( $A336 < 'Polar 0-360'!G$365, 'Polar 0-360'!G$363 / COS!$B336,'Polar 0-360'!F336 )","v":{"$error":"#VALUE!"}},{"$f":" IF( $A336 < 'Polar 0-360'!M$365, 'Polar 0-360'!M$363 / COS!$B336,'Polar 0-360'!L336 )","v":{"$error":"#VALUE!"}},{"$f":" IF( $A336 < 'Polar 0-360'!S$365, 'Polar 0-360'!S$363 / COS!$B336,'Polar 0-360'!R336 )","v":{"$error":"#VALUE!"}},{"$f":" IF( $A336 < 'Polar 0-360'!Y$365, 'Polar 0-360'!Y$363 / COS!$B336,'Polar 0-360'!X336 )","v":{"$error":"#VALUE!"}},{"$f":" IF( $A336 < 'Polar 0-360'!AE$365, 'Polar 0-360'!AE$363 / COS!$B336,'Polar 0-360'!AD336 )","v":{"$error":"#VALUE!"}},{"$f":" IF( $A336 < 'Polar 0-360'!AK$365, 'Polar 0-360'!AK$363 / COS!$B336,'Polar 0-360'!AJ336 )","v":4.3805732130537933},{"$f":" IF( $A336 < 'Polar 0-360'!AQ$365, 'Polar 0-360'!AQ$363 / COS!$B336,'Polar 0-360'!AP336 )","v":{"$error":"#VALUE!"}}]
[{"$f":"'Polar 0-360'!A337","v":335},0,{"$f":" IF( $A337 < 'Polar 0-360'!G$365, 'Polar 0-360'!G$363 / COS!$B337,'Polar 0-360'!F337 )","v":{"$error":"#VALUE!"}},{"$f":" IF( $A337 < 'Polar 0-360'!M$365, 'Polar 0-360'!M$363 / COS!$B337,'Polar 0-360'!L337 )","v":{"$error":"#VALUE!"}},{"$f":" IF( $A337 < 'Polar 0-360'!S$365, 'Polar 0-360'!S$363 / COS!$B337,'Polar 0-360'!R337 )","v":{"$error":"#VALUE!"}},{"$f":" IF( $A337 < 'Polar 0-360'!Y$365, 'Polar 0-360'!Y$363 / COS!$B337,'Polar 0-360'!X337 )","v":{"$error":"#VALUE!"}},{"$f":" IF( $A337 < 'Polar 0-360'!AE$365, 'Polar 0-360'!AE$363 / COS!$B337,'Polar 0-360'!AD337 )","v":{"$error":"#VALUE!"}},{"$f":" IF( $A337 < 'Polar 0-360'!AK$365, 'Polar 0-360'!AK$363 / COS!$B337,'Polar 0-360'!AJ337 )","v":4.21208962793634},{"$f":" IF( $A337 < 'Polar 0-360'!AQ$365, 'Polar 0-360'!AQ$363 / COS!$B337,'Polar 0-360'!AP337 )","v":{"$error":"#VALUE!"}}]
[{"$f":"'Polar 0-360'!A338","v":336},0,{"$f":" IF( $A338 < 'Polar 0-360'!G$365, 'Polar 0-360'!G$363 / COS!$B338,'Polar 0-360'!F338 )","v":{"$error":"#VALUE!"}},{"$f":" IF( $A338 < 'Polar 0-360'!M$365, 'Polar 0-360'!M$363 / COS!$B338,'Polar 0-360'!L338 )","v":{"$error":"#VALUE!"}},{"$f":" IF( $A338 < 'Polar 0-360'!S$365, 'Polar 0-360'!S$363 / COS!$B338,'Polar 0-360'!R338 )","v":{"$error":"#VALUE!"}},{"$f":" IF( $A338 < 'Polar 0-360'!Y$365, 'Polar 0-360'!Y$363 / COS!$B338,'Polar 0-360'!X338 )","v":{"$error":"#VALUE!"}},{"$f":" IF( $A338 < 'Polar 0-360'!AE$365, 'Polar 0-360'!AE$363 / COS!$B338,'Polar 0-360'!AD338 )","v":{"$error":"#VALUE!"}},{"$f":" IF( $A338 < 'Polar 0-360'!AK$365, 'Polar 0-360'!AK$363 / COS!$B338,'Polar 0-360'!AJ338 )","v":4.0436060428188867},{"$f":" IF( $A338 < 'Polar 0-360'!AQ$365, 'Polar 0-360'!AQ$363 / COS!$B338,'Polar 0-360'!AP338 )","v":{"$error":"#VALUE!"}}]
[{"$f":"'Polar 0-360'!A339","v":337},0,{"$f":" IF( $A339 < 'Polar 0-360'!G$365, 'Polar 0-360'!G$363 / COS!$B339,'Polar 0-360'!F339 )","v":{"$error":"#VALUE!"}},{"$f":" IF( $A339 < 'Polar 0-360'!M$365, 'Polar 0-360'!M$363 / COS!$B339,'Polar 0-360'!L339 )","v":{"$error":"#VALUE!"}},{"$f":" IF( $A339 < 'Polar 0-360'!S$365, 'Polar 0-360'!S$363 / COS!$B339,'Polar 0-360'!R339 )","v":{"$error":"#VALUE!"}},{"$f":" IF( $A339 < 'Polar 0-360'!Y$365, 'Polar 0-360'!Y$363 / COS!$B339,'Polar 0-360'!X339 )","v":{"$error":"#VALUE!"}},{"$f":" IF( $A339 < 'Polar 0-360'!AE$365, 'Polar 0-360'!AE$363 / COS!$B339,'Polar 0-360'!AD339 )","v":{"$error":"#VALUE!"}},{"$f":" IF( $A339 < 'Polar 0-360'!AK$365, 'Polar 0-360'!AK$363 / COS!$B339,'Polar 0-360'!AJ339 )","v":3.8751224577014325},{"$f":" IF( $A339 < 'Polar 0-360'!AQ$365, 'Polar 0-360'!AQ$363 / COS!$B339,'Polar 0-360'!AP339 )","v":{"$error":"#VALUE!"}}]
[{"$f":"'Polar 0-360'!A340","v":338},0,{"$f":" IF( $A340 < 'Polar 0-360'!G$365, 'Polar 0-360'!G$363 / COS!$B340,'Polar 0-360'!F340 )","v":{"$error":"#VALUE!"}},{"$f":" IF( $A340 < 'Polar 0-360'!M$365, 'Polar 0-360'!M$363 / COS!$B340,'Polar 0-360'!L340 )","v":{"$error":"#VALUE!"}},{"$f":" IF( $A340 < 'Polar 0-360'!S$365, 'Polar 0-360'!S$363 / COS!$B340,'Polar 0-360'!R340 )","v":{"$error":"#VALUE!"}},{"$f":" IF( $A340 < 'Polar 0-360'!Y$365, 'Polar 0-360'!Y$363 / COS!$B340,'Polar 0-360'!X340 )","v":{"$error":"#VALUE!"}},{"$f":" IF( $A340 < 'Polar 0-360'!AE$365, 'Polar 0-360'!AE$363 / COS!$B340,'Polar 0-360'!AD340 )","v":{"$error":"#VALUE!"}},{"$f":" IF( $A340 < 'Polar 0-360'!AK$365, 'Polar 0-360'!AK$363 / COS!$B340,'Polar 0-360'!AJ340 )","v":3.7066388725839787},{"$f":" IF( $A340 < 'Polar 0-360'!AQ$365, 'Polar 0-360'!AQ$363 / COS!$B340,'Polar 0-360'!AP340 )","v":{"$error":"#VALUE!"}}]
[{"$f":"'Polar 0-360'!A341","v":339},0,{"$f":" IF( $A341 < 'Polar 0-360'!G$365, 'Polar 0-360'!G$363 / COS!$B341,'Polar 0-360'!F341 )","v":{"$error":"#VALUE!"}},{"$f":" IF( $A341 < 'Polar 0-360'!M$365, 'Polar 0-360'!M$363 / COS!$B341,'Polar 0-360'!L341 )","v":{"$error":"#VALUE!"}},{"$f":" IF( $A341 < 'Polar 0-360'!S$365, 'Polar 0-360'!S$363 / COS!$B341,'Polar 0-360'!R341 )","v":{"$error":"#VALUE!"}},{"$f":" IF( $A341 < 'Polar 0-360'!Y$365, 'Polar 0-360'!Y$363 / COS!$B341,'Polar 0-360'!X341 )","v":{"$error":"#VALUE!"}},{"$f":" IF( $A341 < 'Polar 0-360'!AE$365, 'Polar 0-360'!AE$363 / COS!$B341,'Polar 0-360'!AD341 )","v":{"$error":"#VALUE!"}},{"$f":" IF( $A341 < 'Polar 0-360'!AK$365, 'Polar 0-360'!AK$363 / COS!$B341,'Polar 0-360'!AJ341 )","v":3.5381552874665254},{"$f":" IF( $A341 < 'Polar 0-360'!AQ$365, 'Polar 0-360'!AQ$363 / COS!$B341,'Polar 0-360'!AP341 )","v":{"$error":"#VALUE!"}}]
[{"$f":"'Polar 0-360'!A342","v":340},0,{"$f":" IF( $A342 < 'Polar 0-360'!G$365, 'Polar 0-360'!G$363 / COS!$B342,'Polar 0-360'!F342 )","v":{"$error":"#VALUE!"}},{"$f":" IF( $A342 < 'Polar 0-360'!M$365, 'Polar 0-360'!M$363 / COS!$B342,'Polar 0-360'!L342 )","v":{"$error":"#VALUE!"}},{"$f":" IF( $A342 < 'Polar 0-360'!S$365, 'Polar 0-360'!S$363 / COS!$B342,'Polar 0-360'!R342 )","v":{"$error":"#VALUE!"}},{"$f":" IF( $A342 < 'Polar 0-360'!Y$365, 'Polar 0-360'!Y$363 / COS!$B342,'Polar 0-360'!X342 )","v":{"$error":"#VALUE!"}},{"$f":" IF( $A342 < 'Polar 0-360'!AE$365, 'Polar 0-360'!AE$363 / COS!$B342,'Polar 0-360'!AD342 )","v":{"$error":"#VALUE!"}},{"$f":" IF( $A342 < 'Polar 0-360'!AK$365, 'Polar 0-360'!AK$363 / COS!$B342,'Polar 0-360'!AJ342 )","v":3.3696717023490717},{"$f":" IF( $A342 < 'Polar 0-360'!AQ$365, 'Polar 0-360'!AQ$363 / COS!$B342,'Polar 0-360'!AP342 )","v":{"$error":"#VALUE!"}}]
[{"$f":"'Polar 0-360'!A343","v":341},0,{"$f":" IF( $A343 < 'Polar 0-360'!G$365, 'Polar 0-360'!G$363 / COS!$B343,'Polar 0-360'!F343 )","v":{"$error":"#VALUE!"}},{"$f":" IF( $A343 < 'Polar 0-360'!M$365, 'Polar 0-360'!M$363 / COS!$B343,'Polar 0-360'!L343 )","v":{"$error":"#VALUE!"}},{"$f":" IF( $A343 < 'Polar 0-360'!S$365, 'Polar 0-360'!S$363 / COS!$B343,'Polar 0-360'!R343 )","v":{"$error":"#VALUE!"}},{"$f":" IF( $A343 < 'Polar 0-360'!Y$365, 'Polar 0-360'!Y$363 / COS!$B343,'Polar 0-360'!X343 )","v":{"$error":"#VALUE!"}},{"$f":" IF( $A343 < 'Polar 0-360'!AE$365, 'Polar 0-360'!AE$363 / COS!$B343,'Polar 0-360'!AD343 )","v":{"$error":"#VALUE!"}},{"$f":" IF( $A343 < 'Polar 0-360'!AK$365, 'Polar 0-360'!AK$363 / COS!$B343,'Polar 0-360'!AJ343 )","v":3.2011881172316179},{"$f":" IF( $A343 < 'Polar 0-360'!AQ$365, 'Polar 0-360'!AQ$363 / COS!$B343,'Polar 0-360'!AP343 )","v":{"$error":"#VALUE!"}}]
[{"$f":"'Polar 0-360'!A344","v":342},0,{"$f":" IF( $A344 < 'Polar 0-360'!G$365, 'Polar 0-360'!G$363 / COS!$B344,'Polar 0-360'!F344 )","v":{"$error":"#VALUE!"}},{"$f":" IF( $A344 < 'Polar 0-360'!M$365, 'Polar 0-360'!M$363 / COS!$B344,'Polar 0-360'!L344 )","v":{"$error":"#VALUE!"}},{"$f":" IF( $A344 < 'Polar 0-360'!S$365, 'Polar 0-360'!S$363 / COS!$B344,'Polar 0-360'!R344 )","v":{"$error":"#VALUE!"}},{"$f":" IF( $A344 < 'Polar 0-360'!Y$365, 'Polar 0-360'!Y$363 / COS!$B344,'Polar 0-360'!X344 )","v":{"$error":"#VALUE!"}},{"$f":" IF( $A344 < 'Polar 0-360'!AE$365, 'Polar 0-360'!AE$363 / COS!$B344,'Polar 0-360'!AD344 )","v":{"$error":"#VALUE!"}},{"$f":" IF( $A344 < 'Polar 0-360'!AK$365, 'Polar 0-360'!AK$363 / COS!$B344,'Polar 0-360'!AJ344 )","v":3.0327045321141646},{"$f":" IF( $A344 < 'Polar 0-360'!AQ$365, 'Polar 0-360'!AQ$363 / COS!$B344,'Polar 0-360'!AP344 )","v":{"$error":"#VALUE!"}}]
[{"$f":"'Polar 0-360'!A345","v":343},0,{"$f":" IF( $A345 < 'Polar 0-360'!G$365, 'Polar 0-360'!G$363 / COS!$B345,'Polar 0-360'!F345 )","v":{"$error":"#VALUE!"}},{"$f":" IF( $A345 < 'Polar 0-360'!M$365, 'Polar 0-360'!M$363 / COS!$B345,'Polar 0-360'!L345 )","v":{"$error":"#VALUE!"}},{"$f":" IF( $A345 < 'Polar 0-360'!S$365, 'Polar 0-360'!S$363 / COS!$B345,'Polar 0-360'!R345 )","v":{"$error":"#VALUE!"}},{"$f":" IF( $A345 < 'Polar 0-360'!Y$365, 'Polar 0-360'!Y$363 / COS!$B345,'Polar 0-360'!X345 )","v":{"$error":"#VALUE!"}},{"$f":" IF( $A345 < 'Polar 0-360'!AE$365, 'Polar 0-360'!AE$363 / COS!$B345,'Polar 0-360'!AD345 )","v":{"$error":"#VALUE!"}},{"$f":" IF( $A345 < 'Polar 0-360'!AK$365, 'Polar 0-360'!AK$363 / COS!$B345,'Polar 0-360'!AJ345 )","v":2.8642209469967108},{"$f":" IF( $A345 < 'Polar 0-360'!AQ$365, 'Polar 0-360'!AQ$363 / COS!$B345,'Polar 0-360'!AP345 )","v":{"$error":"#VALUE!"}}]
[{"$f":"'Polar 0-360'!A346","v":344},0,{"$f":" IF( $A346 < 'Polar 0-360'!G$365, 'Polar 0-360'!G$363 / COS!$B346,'Polar 0-360'!F346 )","v":{"$error":"#VALUE!"}},{"$f":" IF( $A346 < 'Polar 0-360'!M$365, 'Polar 0-360'!M$363 / COS!$B346,'Polar 0-360'!L346 )","v":{"$error":"#VALUE!"}},{"$f":" IF( $A346 < 'Polar 0-360'!S$365, 'Polar 0-360'!S$363 / COS!$B346,'Polar 0-360'!R346 )","v":{"$error":"#VALUE!"}},{"$f":" IF( $A346 < 'Polar 0-360'!Y$365, 'Polar 0-360'!Y$363 / COS!$B346,'Polar 0-360'!X346 )","v":{"$error":"#VALUE!"}},{"$f":" IF( $A346 < 'Polar 0-360'!AE$365, 'Polar 0-360'!AE$363 / COS!$B346,'Polar 0-360'!AD346 )","v":{"$error":"#VALUE!"}},{"$f":" IF( $A346 < 'Polar 0-360'!AK$365, 'Polar 0-360'!AK$363 / COS!$B346,'Polar 0-360'!AJ346 )","v":2.6957373618792571},{"$f":" IF( $A346 < 'Polar 0-360'!AQ$365, 'Polar 0-360'!AQ$363 / COS!$B346,'Polar 0-360'!AP346 )","v":{"$error":"#VALUE!"}}]
[{"$f":"'Polar 0-360'!A347","v":345},0,{"$f":" IF( $A347 < 'Polar 0-360'!G$365, 'Polar 0-360'!G$363 / COS!$B347,'Polar 0-360'!F347 )","v":{"$error":"#VALUE!"}},{"$f":" IF( $A347 < 'Polar 0-360'!M$365, 'Polar 0-360'!M$363 / COS!$B347,'Polar 0-360'!L347 )","v":{"$error":"#VALUE!"}},{"$f":" IF( $A347 < 'Polar 0-360'!S$365, 'Polar 0-360'!S$363 / COS!$B347,'Polar 0-360'!R347 )","v":{"$error":"#VALUE!"}},{"$f":" IF( $A347 < 'Polar 0-360'!Y$365, 'Polar 0-360'!Y$363 / COS!$B347,'Polar 0-360'!X347 )","v":{"$error":"#VALUE!"}},{"$f":" IF( $A347 < 'Polar 0-360'!AE$365, 'Polar 0-360'!AE$363 / COS!$B347,'Polar 0-360'!AD347 )","v":{"$error":"#VALUE!"}},{"$f":" IF( $A347 < 'Polar 0-360'!AK$365, 'Polar 0-360'!AK$363 / COS!$B347,'Polar 0-360'!AJ347 )","v":2.5272537767618033},{"$f":" IF( $A347 < 'Polar 0-360'!AQ$365, 'Polar 0-360'!AQ$363 / COS!$B347,'Polar 0-360'!AP347 )","v":{"$error":"#VALUE!"}}]
[{"$f":"'Polar 0-360'!A348","v":346},0,{"$f":" IF( $A348 < 'Polar 0-360'!G$365, 'Polar 0-360'!G$363 / COS!$B348,'Polar 0-360'!F348 )","v":{"$error":"#VALUE!"}},{"$f":" IF( $A348 < 'Polar 0-360'!M$365, 'Polar 0-360'!M$363 / COS!$B348,'Polar 0-360'!L348 )","v":{"$error":"#VALUE!"}},{"$f":" IF( $A348 < 'Polar 0-360'!S$365, 'Polar 0-360'!S$363 / COS!$B348,'Polar 0-360'!R348 )","v":{"$error":"#VALUE!"}},{"$f":" IF( $A348 < 'Polar 0-360'!Y$365, 'Polar 0-360'!Y$363 / COS!$B348,'Polar 0-360'!X348 )","v":{"$error":"#VALUE!"}},{"$f":" IF( $A348 < 'Polar 0-360'!AE$365, 'Polar 0-360'!AE$363 / COS!$B348,'Polar 0-360'!AD348 )","v":{"$error":"#VALUE!"}},{"$f":" IF( $A348 < 'Polar 0-360'!AK$365, 'Polar 0-360'!AK$363 / COS!$B348,'Polar 0-360'!AJ348 )","v":2.3587701916443495},{"$f":" IF( $A348 < 'Polar 0-360'!AQ$365, 'Polar 0-360'!AQ$363 / COS!$B348,'Polar 0-360'!AP348 )","v":{"$error":"#VALUE!"}}]
[{"$f":"'Polar 0-360'!A349","v":347},0,{"$f":" IF( $A349 < 'Polar 0-360'!G$365, 'Polar 0-360'!G$363 / COS!$B349,'Polar 0-360'!F349 )","v":{"$error":"#VALUE!"}},{"$f":" IF( $A349 < 'Polar 0-360'!M$365, 'Polar 0-360'!M$363 / COS!$B349,'Polar 0-360'!L349 )","v":{"$error":"#VALUE!"}},{"$f":" IF( $A349 < 'Polar 0-360'!S$365, 'Polar 0-360'!S$363 / COS!$B349,'Polar 0-360'!R349 )","v":{"$error":"#VALUE!"}},{"$f":" IF( $A349 < 'Polar 0-360'!Y$365, 'Polar 0-360'!Y$363 / COS!$B349,'Polar 0-360'!X349 )","v":{"$error":"#VALUE!"}},{"$f":" IF( $A349 < 'Polar 0-360'!AE$365, 'Polar 0-360'!AE$363 / COS!$B349,'Polar 0-360'!AD349 )","v":{"$error":"#VALUE!"}},{"$f":" IF( $A349 < 'Polar 0-360'!AK$365, 'Polar 0-360'!AK$363 / COS!$B349,'Polar 0-360'!AJ349 )","v":2.1902866065268962},{"$f":" IF( $A349 < 'Polar 0-360'!AQ$365, 'Polar 0-360'!AQ$363 / COS!$B349,'Polar 0-360'!AP349 )","v":{"$error":"#VALUE!"}}]
[{"$f":"'Polar 0-360'!A350","v":348},0,{"$f":" IF( $A350 < 'Polar 0-360'!G$365, 'Polar 0-360'!G$363 / COS!$B350,'Polar 0-360'!F350 )","v":{"$error":"#VALUE!"}},{"$f":" IF( $A350 < 'Polar 0-360'!M$365, 'Polar 0-360'!M$363 / COS!$B350,'Polar 0-360'!L350 )","v":{"$error":"#VALUE!"}},{"$f":" IF( $A350 < 'Polar 0-360'!S$365, 'Polar 0-360'!S$363 / COS!$B350,'Polar 0-360'!R350 )","v":{"$error":"#VALUE!"}},{"$f":" IF( $A350 < 'Polar 0-360'!Y$365, 'Polar 0-360'!Y$363 / COS!$B350,'Polar 0-360'!X350 )","v":{"$error":"#VALUE!"}},{"$f":" IF( $A350 < 'Polar 0-360'!AE$365, 'Polar 0-360'!AE$363 / COS!$B350,'Polar 0-360'!AD350 )","v":{"$error":"#VALUE!"}},{"$f":" IF( $A350 < 'Polar 0-360'!AK$365, 'Polar 0-360'!AK$363 / COS!$B350,'Polar 0-360'!AJ350 )","v":2.0218030214094425},{"$f":" IF( $A350 < 'Polar 0-360'!AQ$365, 'Polar 0-360'!AQ$363 / COS!$B350,'Polar 0-360'!AP350 )","v":{"$error":"#VALUE!"}}]
[{"$f":"'Polar 0-360'!A351","v":349},0,{"$f":" IF( $A351 < 'Polar 0-360'!G$365, 'Polar 0-360'!G$363 / COS!$B351,'Polar 0-360'!F351 )","v":{"$error":"#VALUE!"}},{"$f":" IF( $A351 < 'Polar 0-360'!M$365, 'Polar 0-360'!M$363 / COS!$B351,'Polar 0-360'!L351 )","v":{"$error":"#VALUE!"}},{"$f":" IF( $A351 < 'Polar 0-360'!S$365, 'Polar 0-360'!S$363 / COS!$B351,'Polar 0-360'!R351 )","v":{"$error":"#VALUE!"}},{"$f":" IF( $A351 < 'Polar 0-360'!Y$365, 'Polar 0-360'!Y$363 / COS!$B351,'Polar 0-360'!X351 )","v":{"$error":"#VALUE!"}},{"$f":" IF( $A351 < 'Polar 0-360'!AE$365, 'Polar 0-360'!AE$363 / COS!$B351,'Polar 0-360'!AD351 )","v":{"$error":"#VALUE!"}},{"$f":" IF( $A351 < 'Polar 0-360'!AK$365, 'Polar 0-360'!AK$363 / COS!$B351,'Polar 0-360'!AJ351 )","v":1.8533194362919887},{"$f":" IF( $A351 < 'Polar 0-360'!AQ$365, 'Polar 0-360'!AQ$363 / COS!$B351,'Polar 0-360'!AP351 )","v":{"$error":"#VALUE!"}}]
[{"$f":"'Polar 0-360'!A352","v":350},0,{"$f":" IF( $A352 < 'Polar 0-360'!G$365, 'Polar 0-360'!G$363 / COS!$B352,'Polar 0-360'!F352 )","v":{"$error":"#VALUE!"}},{"$f":" IF( $A352 < 'Polar 0-360'!M$365, 'Polar 0-360'!M$363 / COS!$B352,'Polar 0-360'!L352 )","v":{"$error":"#VALUE!"}},{"$f":" IF( $A352 < 'Polar 0-360'!S$365, 'Polar 0-360'!S$363 / COS!$B352,'Polar 0-360'!R352 )","v":{"$error":"#VALUE!"}},{"$f":" IF( $A352 < 'Polar 0-360'!Y$365, 'Polar 0-360'!Y$363 / COS!$B352,'Polar 0-360'!X352 )","v":{"$error":"#VALUE!"}},{"$f":" IF( $A352 < 'Polar 0-360'!AE$365, 'Polar 0-360'!AE$363 / COS!$B352,'Polar 0-360'!AD352 )","v":{"$error":"#VALUE!"}},{"$f":" IF( $A352 < 'Polar 0-360'!AK$365, 'Polar 0-360'!AK$363 / COS!$B352,'Polar 0-360'!AJ352 )","v":1.6848358511745352},{"$f":" IF( $A352 < 'Polar 0-360'!AQ$365, 'Polar 0-360'!AQ$363 / COS!$B352,'Polar 0-360'!AP352 )","v":{"$error":"#VALUE!"}}]
[{"$f":"'Polar 0-360'!A353","v":351},0,{"$f":" IF( $A353 < 'Polar 0-360'!G$365, 'Polar 0-360'!G$363 / COS!$B353,'Polar 0-360'!F353 )","v":{"$error":"#VALUE!"}},{"$f":" IF( $A353 < 'Polar 0-360'!M$365, 'Polar 0-360'!M$363 / COS!$B353,'Polar 0-360'!L353 )","v":{"$error":"#VALUE!"}},{"$f":" IF( $A353 < 'Polar 0-360'!S$365, 'Polar 0-360'!S$363 / COS!$B353,'Polar 0-360'!R353 )","v":{"$error":"#VALUE!"}},{"$f":" IF( $A353 < 'Polar 0-360'!Y$365, 'Polar 0-360'!Y$363 / COS!$B353,'Polar 0-360'!X353 )","v":{"$error":"#VALUE!"}},{"$f":" IF( $A353 < 'Polar 0-360'!AE$365, 'Polar 0-360'!AE$363 / COS!$B353,'Polar 0-360'!AD353 )","v":{"$error":"#VALUE!"}},{"$f":" IF( $A353 < 'Polar 0-360'!AK$365, 'Polar 0-360'!AK$363 / COS!$B353,'Polar 0-360'!AJ353 )","v":1.5163522660570816},{"$f":" IF( $A353 < 'Polar 0-360'!AQ$365, 'Polar 0-360'!AQ$363 / COS!$B353,'Polar 0-360'!AP353 )","v":{"$error":"#VALUE!"}}]
[{"$f":"'Polar 0-360'!A354","v":352},0,{"$f":" IF( $A354 < 'Polar 0-360'!G$365, 'Polar 0-360'!G$363 / COS!$B354,'Polar 0-360'!F354 )","v":{"$error":"#VALUE!"}},{"$f":" IF( $A354 < 'Polar 0-360'!M$365, 'Polar 0-360'!M$363 / COS!$B354,'Polar 0-360'!L354 )","v":{"$error":"#VALUE!"}},{"$f":" IF( $A354 < 'Polar 0-360'!S$365, 'Polar 0-360'!S$363 / COS!$B354,'Polar 0-360'!R354 )","v":{"$error":"#VALUE!"}},{"$f":" IF( $A354 < 'Polar 0-360'!Y$365, 'Polar 0-360'!Y$363 / COS!$B354,'Polar 0-360'!X354 )","v":{"$error":"#VALUE!"}},{"$f":" IF( $A354 < 'Polar 0-360'!AE$365, 'Polar 0-360'!AE$363 / COS!$B354,'Polar 0-360'!AD354 )","v":{"$error":"#VALUE!"}},{"$f":" IF( $A354 < 'Polar 0-360'!AK$365, 'Polar 0-360'!AK$363 / COS!$B354,'Polar 0-360'!AJ354 )","v":1.3478686809396279},{"$f":" IF( $A354 < 'Polar 0-360'!AQ$365, 'Polar 0-360'!AQ$363 / COS!$B354,'Polar 0-360'!AP354 )","v":{"$error":"#VALUE!"}}]
[{"$f":"'Polar 0-360'!A355","v":353},0,{"$f":" IF( $A355 < 'Polar 0-360'!G$365, 'Polar 0-360'!G$363 / COS!$B355,'Polar 0-360'!F355 )","v":{"$error":"#VALUE!"}},{"$f":" IF( $A355 < 'Polar 0-360'!M$365, 'Polar 0-360'!M$363 / COS!$B355,'Polar 0-360'!L355 )","v":{"$error":"#VALUE!"}},{"$f":" IF( $A355 < 'Polar 0-360'!S$365, 'Polar 0-360'!S$363 / COS!$B355,'Polar 0-360'!R355 )","v":{"$error":"#VALUE!"}},{"$f":" IF( $A355 < 'Polar 0-360'!Y$365, 'Polar 0-360'!Y$363 / COS!$B355,'Polar 0-360'!X355 )","v":{"$error":"#VALUE!"}},{"$f":" IF( $A355 < 'Polar 0-360'!AE$365, 'Polar 0-360'!AE$363 / COS!$B355,'Polar 0-360'!AD355 )","v":{"$error":"#VALUE!"}},{"$f":" IF( $A355 < 'Polar 0-360'!AK$365, 'Polar 0-360'!AK$363 / COS!$B355,'Polar 0-360'!AJ355 )","v":1.1793850958221741},{"$f":" IF( $A355 < 'Polar 0-360'!AQ$365, 'Polar 0-360'!AQ$363 / COS!$B355,'Polar 0-360'!AP355 )","v":{"$error":"#VALUE!"}}]
[{"$f":"'Polar 0-360'!A356","v":354},0,{"$f":" IF( $A356 < 'Polar 0-360'!G$365, 'Polar 0-360'!G$363 / COS!$B356,'Polar 0-360'!F356 )","v":{"$error":"#VALUE!"}},{"$f":" IF( $A356 < 'Polar 0-360'!M$365, 'Polar 0-360'!M$363 / COS!$B356,'Polar 0-360'!L356 )","v":{"$error":"#VALUE!"}},{"$f":" IF( $A356 < 'Polar 0-360'!S$365, 'Polar 0-360'!S$363 / COS!$B356,'Polar 0-360'!R356 )","v":{"$error":"#VALUE!"}},{"$f":" IF( $A356 < 'Polar 0-360'!Y$365, 'Polar 0-360'!Y$363 / COS!$B356,'Polar 0-360'!X356 )","v":{"$error":"#VALUE!"}},{"$f":" IF( $A356 < 'Polar 0-360'!AE$365, 'Polar 0-360'!AE$363 / COS!$B356,'Polar 0-360'!AD356 )","v":{"$error":"#VALUE!"}},{"$f":" IF( $A356 < 'Polar 0-360'!AK$365, 'Polar 0-360'!AK$363 / COS!$B356,'Polar 0-360'!AJ356 )","v":1.0109015107047206},{"$f":" IF( $A356 < 'Polar 0-360'!AQ$365, 'Polar 0-360'!AQ$363 / COS!$B356,'Polar 0-360'!AP356 )","v":{"$error":"#VALUE!"}}]
[{"$f":"'Polar 0-360'!A357","v":355},0,{"$f":" IF( $A357 < 'Polar 0-360'!G$365, 'Polar 0-360'!G$363 / COS!$B357,'Polar 0-360'!F357 )","v":{"$error":"#VALUE!"}},{"$f":" IF( $A357 < 'Polar 0-360'!M$365, 'Polar 0-360'!M$363 / COS!$B357,'Polar 0-360'!L357 )","v":{"$error":"#VALUE!"}},{"$f":" IF( $A357 < 'Polar 0-360'!S$365, 'Polar 0-360'!S$363 / COS!$B357,'Polar 0-360'!R357 )","v":{"$error":"#VALUE!"}},{"$f":" IF( $A357 < 'Polar 0-360'!Y$365, 'Polar 0-360'!Y$363 / COS!$B357,'Polar 0-360'!X357 )","v":{"$error":"#VALUE!"}},{"$f":" IF( $A357 < 'Polar 0-360'!AE$365, 'Polar 0-360'!AE$363 / COS!$B357,'Polar 0-360'!AD357 )","v":{"$error":"#VALUE!"}},{"$f":" IF( $A357 < 'Polar 0-360'!AK$365, 'Polar 0-360'!AK$363 / COS!$B357,'Polar 0-360'!AJ357 )","v":0.84241792558726691},{"$f":" IF( $A357 < 'Polar 0-360'!AQ$365, 'Polar 0-360'!AQ$363 / COS!$B357,'Polar 0-360'!AP357 )","v":{"$error":"#VALUE!"}}]
[{"$f":"'Polar 0-360'!A358","v":356},0,{"$f":" IF( $A358 < 'Polar 0-360'!G$365, 'Polar 0-360'!G$363 / COS!$B358,'Polar 0-360'!F358 )","v":{"$error":"#VALUE!"}},{"$f":" IF( $A358 < 'Polar 0-360'!M$365, 'Polar 0-360'!M$363 / COS!$B358,'Polar 0-360'!L358 )","v":{"$error":"#VALUE!"}},{"$f":" IF( $A358 < 'Polar 0-360'!S$365, 'Polar 0-360'!S$363 / COS!$B358,'Polar 0-360'!R358 )","v":{"$error":"#VALUE!"}},{"$f":" IF( $A358 < 'Polar 0-360'!Y$365, 'Polar 0-360'!Y$363 / COS!$B358,'Polar 0-360'!X358 )","v":{"$error":"#VALUE!"}},{"$f":" IF( $A358 < 'Polar 0-360'!AE$365, 'Polar 0-360'!AE$363 / COS!$B358,'Polar 0-360'!AD358 )","v":{"$error":"#VALUE!"}},{"$f":" IF( $A358 < 'Polar 0-360'!AK$365, 'Polar 0-360'!AK$363 / COS!$B358,'Polar 0-360'!AJ358 )","v":0.67393434046981326},{"$f":" IF( $A358 < 'Polar 0-360'!AQ$365, 'Polar 0-360'!AQ$363 / COS!$B358,'Polar 0-360'!AP358 )","v":{"$error":"#VALUE!"}}]
[{"$f":"'Polar 0-360'!A359","v":357},0,{"$f":" IF( $A359 < 'Polar 0-360'!G$365, 'Polar 0-360'!G$363 / COS!$B359,'Polar 0-360'!F359 )","v":{"$error":"#VALUE!"}},{"$f":" IF( $A359 < 'Polar 0-360'!M$365, 'Polar 0-360'!M$363 / COS!$B359,'Polar 0-360'!L359 )","v":{"$error":"#VALUE!"}},{"$f":" IF( $A359 < 'Polar 0-360'!S$365, 'Polar 0-360'!S$363 / COS!$B359,'Polar 0-360'!R359 )","v":{"$error":"#VALUE!"}},{"$f":" IF( $A359 < 'Polar 0-360'!Y$365, 'Polar 0-360'!Y$363 / COS!$B359,'Polar 0-360'!X359 )","v":{"$error":"#VALUE!"}},{"$f":" IF( $A359 < 'Polar 0-360'!AE$365, 'Polar 0-360'!AE$363 / COS!$B359,'Polar 0-360'!AD359 )","v":{"$error":"#VALUE!"}},{"$f":" IF( $A359 < 'Polar 0-360'!AK$365, 'Polar 0-360'!AK$363 / COS!$B359,'Polar 0-360'!AJ359 )","v":0.50545075535235962},{"$f":" IF( $A359 < 'Polar 0-360'!AQ$365, 'Polar 0-360'!AQ$363 / COS!$B359,'Polar 0-360'!AP359 )","v":{"$error":"#VALUE!"}}]
[{"$f":"'Polar 0-360'!A360","v":358},0,{"$f":" IF( $A360 < 'Polar 0-360'!G$365, 'Polar 0-360'!G$363 / COS!$B360,'Polar 0-360'!F360 )","v":{"$error":"#VALUE!"}},{"$f":" IF( $A360 < 'Polar 0-360'!M$365, 'Polar 0-360'!M$363 / COS!$B360,'Polar 0-360'!L360 )","v":{"$error":"#VALUE!"}},{"$f":" IF( $A360 < 'Polar 0-360'!S$365, 'Polar 0-360'!S$363 / COS!$B360,'Polar 0-360'!R360 )","v":{"$error":"#VALUE!"}},{"$f":" IF( $A360 < 'Polar 0-360'!Y$365, 'Polar 0-360'!Y$363 / COS!$B360,'Polar 0-360'!X360 )","v":{"$error":"#VALUE!"}},{"$f":" IF( $A360 < 'Polar 0-360'!AE$365, 'Polar 0-360'!AE$363 / COS!$B360,'Polar 0-360'!AD360 )","v":{"$error":"#VALUE!"}},{"$f":" IF( $A360 < 'Polar 0-360'!AK$365, 'Polar 0-360'!AK$363 / COS!$B360,'Polar 0-360'!AJ360 )","v":0.33696717023490597},{"$f":" IF( $A360 < 'Polar 0-360'!AQ$365, 'Polar 0-360'!AQ$363 / COS!$B360,'Polar 0-360'!AP360 )","v":{"$error":"#VALUE!"}}]
[{"$f":"'Polar 0-360'!A361","v":359},0,{"$f":" IF( $A361 < 'Polar 0-360'!G$365, 'Polar 0-360'!G$363 / COS!$B361,'Polar 0-360'!F361 )","v":{"$error":"#VALUE!"}},{"$f":" IF( $A361 < 'Polar 0-360'!M$365, 'Polar 0-360'!M$363 / COS!$B361,'Polar 0-360'!L361 )","v":{"$error":"#VALUE!"}},{"$f":" IF( $A361 < 'Polar 0-360'!S$365, 'Polar 0-360'!S$363 / COS!$B361,'Polar 0-360'!R361 )","v":{"$error":"#VALUE!"}},{"$f":" IF( $A361 < 'Polar 0-360'!Y$365, 'Polar 0-360'!Y$363 / COS!$B361,'Polar 0-360'!X361 )","v":{"$error":"#VALUE!"}},{"$f":" IF( $A361 < 'Polar 0-360'!AE$365, 'Polar 0-360'!AE$363 / COS!$B361,'Polar 0-360'!AD361 )","v":{"$error":"#VALUE!"}},{"$f":" IF( $A361 < 'Polar 0-360'!AK$365, 'Polar 0-360'!AK$363 / COS!$B361,'Polar 0-360'!AJ361 )","v":0.16848358511745232},{"$f":" IF( $A361 < 'Polar 0-360'!AQ$365, 'Polar 0-360'!AQ$363 / COS!$B361,'Polar 0-360'!AP361 )","v":{"$error":"#VALUE!"}}]

{"sheet":"COS","index":13,"n_rows":361,"n_cols":2,"rows_kept":361,"cut":false,"hidden":true,"merged":[]}
[null,"COS"]
[{"$f":"'Polar 0-360'!A2","v":0},1]
[{"$f":"'Polar 0-360'!A3","v":1},0.99984769515639127]
[{"$f":"'Polar 0-360'!A4","v":2},0.99939082701909576]
[{"$f":"'Polar 0-360'!A5","v":3},0.99862953475457383]
[{"$f":"'Polar 0-360'!A6","v":4},0.9975640502598242]
[{"$f":"'Polar 0-360'!A7","v":5},0.99619469809174555]
[{"$f":"'Polar 0-360'!A8","v":6},0.99452189536827329]
[{"$f":"'Polar 0-360'!A9","v":7},0.99254615164132198]
[{"$f":"'Polar 0-360'!A10","v":8},0.99026806874157036]
[{"$f":"'Polar 0-360'!A11","v":9},0.98768834059513777]
[{"$f":"'Polar 0-360'!A12","v":10},0.98480775301220802]
[{"$f":"'Polar 0-360'!A13","v":11},0.98162718344766398]
[{"$f":"'Polar 0-360'!A14","v":12},0.97814760073380569]
[{"$f":"'Polar 0-360'!A15","v":13},0.97437006478523525]
[{"$f":"'Polar 0-360'!A16","v":14},0.97029572627599647]
[{"$f":"'Polar 0-360'!A17","v":15},0.96592582628906831]
[{"$f":"'Polar 0-360'!A18","v":16},0.96126169593831889]
[{"$f":"'Polar 0-360'!A19","v":17},0.95630475596303544]
[{"$f":"'Polar 0-360'!A20","v":18},0.95105651629515353]
[{"$f":"'Polar 0-360'!A21","v":19},0.94551857559931685]
[{"$f":"'Polar 0-360'!A22","v":20},0.93969262078590843]
[{"$f":"'Polar 0-360'!A23","v":21},0.93358042649720174]
[{"$f":"'Polar 0-360'!A24","v":22},0.92718385456678742]
[{"$f":"'Polar 0-360'!A25","v":23},0.92050485345244037]
[{"$f":"'Polar 0-360'!A26","v":24},0.91354545764260087]
[{"$f":"'Polar 0-360'!A27","v":25},0.90630778703664994]
[{"$f":"'Polar 0-360'!A28","v":26},0.89879404629916704]
[{"$f":"'Polar 0-360'!A29","v":27},0.8910065241883679]
[{"$f":"'Polar 0-360'!A30","v":28},0.88294759285892699]
[{"$f":"'Polar 0-360'!A31","v":29},0.87461970713939574]
[{"$f":"'Polar 0-360'!A32","v":30},0.86602540378443871]
[{"$f":"'Polar 0-360'!A33","v":31},0.85716730070211233]
[{"$f":"'Polar 0-360'!A34","v":32},0.84804809615642596]
[{"$f":"'Polar 0-360'!A35","v":33},0.83867056794542405]
[{"$f":"'Polar 0-360'!A36","v":34},0.82903757255504162]
[{"$f":"'Polar 0-360'!A37","v":35},0.8191520442889918]
[{"$f":"'Polar 0-360'!A38","v":36},0.80901699437494745]
[{"$f":"'Polar 0-360'!A39","v":37},0.79863551004729283]
[{"$f":"'Polar 0-360'!A40","v":38},0.78801075360672201]
[{"$f":"'Polar 0-360'!A41","v":39},0.7771459614569709]
[{"$f":"'Polar 0-360'!A42","v":40},0.76604444311897801]
[{"$f":"'Polar 0-360'!A43","v":41},0.75470958022277213]
[{"$f":"'Polar 0-360'!A44","v":42},0.74314482547739424]
[{"$f":"'Polar 0-360'!A45","v":43},0.73135370161917057]
[{"$f":"'Polar 0-360'!A46","v":44},0.71933980033865119]
[{"$f":"'Polar 0-360'!A47","v":45},0.70710678118654757]
[{"$f":"'Polar 0-360'!A48","v":46},0.69465837045899737]
[{"$f":"'Polar 0-360'!A49","v":47},0.68199836006249848]
[{"$f":"'Polar 0-360'!A50","v":48},0.66913060635885824]
[{"$f":"'Polar 0-360'!A51","v":49},0.65605902899050728]
[{"$f":"'Polar 0-360'!A52","v":50},0.64278760968653936]
[{"$f":"'Polar 0-360'!A53","v":51},0.6293203910498375]
[{"$f":"'Polar 0-360'!A54","v":52},0.61566147532565829]
[{"$f":"'Polar 0-360'!A55","v":53},0.60181502315204838]
[{"$f":"'Polar 0-360'!A56","v":54},0.58778525229247314]
[{"$f":"'Polar 0-360'!A57","v":55},0.57357643635104616]
[{"$f":"'Polar 0-360'!A58","v":56},0.55919290347074679]
[{"$f":"'Polar 0-360'!A59","v":57},0.5446390350150272]
[{"$f":"'Polar 0-360'!A60","v":58},0.5299192642332049]
[{"$f":"'Polar 0-360'!A61","v":59},0.51503807491005438]
[{"$f":"'Polar 0-360'!A62","v":60},0.5]
[{"$f":"'Polar 0-360'!A63","v":61},0.48480962024633711]
[{"$f":"'Polar 0-360'!A64","v":62},0.46947156278589086]
[{"$f":"'Polar 0-360'!A65","v":63},0.4539904997395468]
[{"$f":"'Polar 0-360'!A66","v":64},0.43837114678907746]
[{"$f":"'Polar 0-360'!A67","v":65},0.42261826174069944]
[{"$f":"'Polar 0-360'!A68","v":66},0.40673664307580021]
[{"$f":"'Polar 0-360'!A69","v":67},0.39073112848927394]
[{"$f":"'Polar 0-360'!A70","v":68},0.37460659341591196]
[{"$f":"'Polar 0-360'!A71","v":69},0.35836794954530038]
[{"$f":"'Polar 0-360'!A72","v":70},0.34202014332566882]
[{"$f":"'Polar 0-360'!A73","v":71},0.32556815445715676]
[{"$f":"'Polar 0-360'!A74","v":72},0.30901699437494745]
[{"$f":"'Polar 0-360'!A75","v":73},0.29237170472273677]
[{"$f":"'Polar 0-360'!A76","v":74},0.27563735581699916]
[{"$f":"'Polar 0-360'!A77","v":75},0.25881904510252074]
[{"$f":"'Polar 0-360'!A78","v":76},0.2419218955996679]
[{"$f":"'Polar 0-360'!A79","v":77},0.22495105434386492]
[{"$f":"'Polar 0-360'!A80","v":78},0.20791169081775945]
[{"$f":"'Polar 0-360'!A81","v":79},0.19080899537654492]
[{"$f":"'Polar 0-360'!A82","v":80},0.17364817766693041]
[{"$f":"'Polar 0-360'!A83","v":81},0.15643446504023092]
[{"$f":"'Polar 0-360'!A84","v":82},0.13917310096006569]
[{"$f":"'Polar 0-360'!A85","v":83},0.12186934340514749]
[{"$f":"'Polar 0-360'!A86","v":84},0.10452846326765346]
[{"$f":"'Polar 0-360'!A87","v":85},8.7155742747658138E-2]
[{"$f":"'Polar 0-360'!A88","v":86},6.9756473744125455E-2]
[{"$f":"'Polar 0-360'!A89","v":87},5.2335956242943966E-2]
[{"$f":"'Polar 0-360'!A90","v":88},3.489949670250108E-2]
[{"$f":"'Polar 0-360'!A91","v":89},1.7452406437283376E-2]
[{"$f":"'Polar 0-360'!A92","v":90},6.1257422745431001E-17]
[{"$f":"'Polar 0-360'!A93","v":91},-1.7452406437283477E-2]
[{"$f":"'Polar 0-360'!A94","v":92},-3.4899496702500733E-2]
[{"$f":"'Polar 0-360'!A95","v":93},-5.233595624294362E-2]
[{"$f":"'Polar 0-360'!A96","v":94},-6.975647374412533E-2]
[{"$f":"'Polar 0-360'!A97","v":95},-8.7155742747658235E-2]
[{"$f":"'Polar 0-360'!A98","v":96},-0.10452846326765333]
[{"$f":"'Polar 0-360'!A99","v":97},-0.12186934340514737]
[{"$f":"'Polar 0-360'!A100","v":98},-0.13917310096006535]
[{"$f":"'Polar 0-360'!A101","v":99},-0.15643446504023104]
[{"$f":"'Polar 0-360'!A102","v":100},-0.1736481776669303]
[{"$f":"'Polar 0-360'!A103","v":101},-0.1908089953765448]
[{"$f":"'Polar 0-360'!A104","v":102},-0.20791169081775912]
[{"$f":"'Polar 0-360'!A105","v":103},-0.22495105434386481]
[{"$f":"'Polar 0-360'!A106","v":104},-0.24192189559966779]
[{"$f":"'Polar 0-360'!A107","v":105},-0.25881904510252085]
[{"$f":"'Polar 0-360'!A108","v":106},-0.27563735581699905]
[{"$f":"'Polar 0-360'!A109","v":107},-0.29237170472273666]
[{"$f":"'Polar 0-360'!A110","v":108},-0.30901699437494734]
[{"$f":"'Polar 0-360'!A111","v":109},-0.32556815445715642]
[{"$f":"'Polar 0-360'!A112","v":110},-0.34202014332566871]
[{"$f":"'Polar 0-360'!A113","v":111},-0.35836794954530027]
[{"$f":"'Polar 0-360'!A114","v":112},-0.37460659341591207]
[{"$f":"'Polar 0-360'!A115","v":113},-0.3907311284892736]
[{"$f":"'Polar 0-360'!A116","v":114},-0.40673664307580004]
[{"$f":"'Polar 0-360'!A117","v":115},-0.42261826174069933]
[{"$f":"'Polar 0-360'!A118","v":116},-0.43837114678907751]
[{"$f":"'Polar 0-360'!A119","v":117},-0.45399049973954669]
[{"$f":"'Polar 0-360'!A120","v":118},-0.46947156278589053]
[{"$f":"'Polar 0-360'!A121","v":119},-0.484809620246337]
[{"$f":"'Polar 0-360'!A122","v":120},-0.5]
[{"$f":"'Polar 0-360'!A123","v":121},-0.51503807491005427]
[{"$f":"'Polar 0-360'!A124","v":122},-0.52991926423320479]
[{"$f":"'Polar 0-360'!A125","v":123},-0.54463903501502708]
[{"$f":"'Polar 0-360'!A126","v":124},-0.55919290347074668]
[{"$f":"'Polar 0-360'!A127","v":125},-0.57357643635104583]
[{"$f":"'Polar 0-360'!A128","v":126},-0.58778525229247303]
[{"$f":"'Polar 0-360'!A129","v":127},-0.60181502315204838]
[{"$f":"'Polar 0-360'!A130","v":128},-0.61566147532565829]
[{"$f":"'Polar 0-360'!A131","v":129},-0.62932039104983728]
[{"$f":"'Polar 0-360'!A132","v":130},-0.64278760968653936]
[{"$f":"'Polar 0-360'!A133","v":131},-0.6560590289905075]
[{"$f":"'Polar 0-360'!A134","v":132},-0.66913060635885824]
[{"$f":"'Polar 0-360'!A135","v":133},-0.68199836006249837]
[{"$f":"'Polar 0-360'!A136","v":134},-0.69465837045899703]
[{"$f":"'Polar 0-360'!A137","v":135},-0.70710678118654746]
[{"$f":"'Polar 0-360'!A138","v":136},-0.71933980033865119]
[{"$f":"'Polar 0-360'!A139","v":137},-0.73135370161917046]
[{"$f":"'Polar 0-360'!A140","v":138},-0.74314482547739402]
[{"$f":"'Polar 0-360'!A141","v":139},-0.75470958022277201]
[{"$f":"'Polar 0-360'!A142","v":140},-0.7660444431189779]
[{"$f":"'Polar 0-360'!A143","v":141},-0.77714596145697068]
[{"$f":"'Polar 0-360'!A144","v":142},-0.7880107536067219]
[{"$f":"'Polar 0-360'!A145","v":143},-0.79863551004729294]
[{"$f":"'Polar 0-360'!A146","v":144},-0.80901699437494734]
[{"$f":"'Polar 0-360'!A147","v":145},-0.81915204428899158]
[{"$f":"'Polar 0-360'!A148","v":146},-0.82903757255504162]
[{"$f":"'Polar 0-360'!A149","v":147},-0.83867056794542416]
[{"$f":"'Polar 0-360'!A150","v":148},-0.84804809615642596]
[{"$f":"'Polar 0-360'!A151","v":149},-0.85716730070211222]
[{"$f":"'Polar 0-360'!A152","v":150},-0.86602540378443871]
[{"$f":"'Polar 0-360'!A153","v":151},-0.87461970713939574]
[{"$f":"'Polar 0-360'!A154","v":152},-0.88294759285892677]
[{"$f":"'Polar 0-360'!A155","v":153},-0.89100652418836779]
[{"$f":"'Polar 0-360'!A156","v":154},-0.89879404629916704]
[{"$f":"'Polar 0-360'!A157","v":155},-0.90630778703664994]
[{"$f":"'Polar 0-360'!A158","v":156},-0.91354545764260076]
[{"$f":"'Polar 0-360'!A159","v":157},-0.92050485345244015]
[{"$f":"'Polar 0-360'!A160","v":158},-0.92718385456678731]
[{"$f":"'Polar 0-360'!A161","v":159},-0.93358042649720174]
[{"$f":"'Polar 0-360'!A162","v":160},-0.93969262078590832]
[{"$f":"'Polar 0-360'!A163","v":161},-0.94551857559931674]
[{"$f":"'Polar 0-360'!A164","v":162},-0.95105651629515353]
[{"$f":"'Polar 0-360'!A165","v":163},-0.95630475596303544]
[{"$f":"'Polar 0-360'!A166","v":164},-0.96126169593831867]
[{"$f":"'Polar 0-360'!A167","v":165},-0.9659258262890682]
[{"$f":"'Polar 0-360'!A168","v":166},-0.97029572627599647]
[{"$f":"'Polar 0-360'!A169","v":167},-0.97437006478523525]
[{"$f":"'Polar 0-360'!A170","v":168},-0.97814760073380569]
[{"$f":"'Polar 0-360'!A171","v":169},-0.98162718344766398]
[{"$f":"'Polar 0-360'!A172","v":170},-0.98480775301220802]
[{"$f":"'Polar 0-360'!A173","v":171},-0.98768834059513766]
[{"$f":"'Polar 0-360'!A174","v":172},-0.99026806874157025]
[{"$f":"'Polar 0-360'!A175","v":173},-0.99254615164132198]
[{"$f":"'Polar 0-360'!A176","v":174},-0.99452189536827329]
[{"$f":"'Polar 0-360'!A177","v":175},-0.99619469809174555]
[{"$f":"'Polar 0-360'!A178","v":176},-0.9975640502598242]
[{"$f":"'Polar 0-360'!A179","v":177},-0.99862953475457383]
[{"$f":"'Polar 0-360'!A180","v":178},-0.99939082701909576]
[{"$f":"'Polar 0-360'!A181","v":179},-0.99984769515639127]
[{"$f":"'Polar 0-360'!A182","v":180},-1]
[{"$f":"'Polar 0-360'!A183","v":181},-0.99984769515639127]
[{"$f":"'Polar 0-360'!A184","v":182},-0.99939082701909576]
[{"$f":"'Polar 0-360'!A185","v":183},-0.99862953475457383]
[{"$f":"'Polar 0-360'!A186","v":184},-0.9975640502598242]
[{"$f":"'Polar 0-360'!A187","v":185},-0.99619469809174555]
[{"$f":"'Polar 0-360'!A188","v":186},-0.99452189536827329]
[{"$f":"'Polar 0-360'!A189","v":187},-0.99254615164132198]
[{"$f":"'Polar 0-360'!A190","v":188},-0.99026806874157025]
[{"$f":"'Polar 0-360'!A191","v":189},-0.98768834059513766]
[{"$f":"'Polar 0-360'!A192","v":190},-0.98480775301220802]
[{"$f":"'Polar 0-360'!A193","v":191},-0.98162718344766398]
[{"$f":"'Polar 0-360'!A194","v":192},-0.97814760073380569]
[{"$f":"'Polar 0-360'!A195","v":193},-0.97437006478523525]
[{"$f":"'Polar 0-360'!A196","v":194},-0.97029572627599647]
[{"$f":"'Polar 0-360'!A197","v":195},-0.9659258262890682]
[{"$f":"'Polar 0-360'!A198","v":196},-0.96126169593831867]
[{"$f":"'Polar 0-360'!A199","v":197},-0.95630475596303544]
[{"$f":"'Polar 0-360'!A200","v":198},-0.95105651629515353]
[{"$f":"'Polar 0-360'!A201","v":199},-0.94551857559931674]
[{"$f":"'Polar 0-360'!A202","v":200},-0.93969262078590832]
[{"$f":"'Polar 0-360'!A203","v":201},-0.93358042649720174]
[{"$f":"'Polar 0-360'!A204","v":202},-0.92718385456678731]
[{"$f":"'Polar 0-360'!A205","v":203},-0.92050485345244015]
[{"$f":"'Polar 0-360'!A206","v":204},-0.91354545764260076]
[{"$f":"'Polar 0-360'!A207","v":205},-0.90630778703664994]
[{"$f":"'Polar 0-360'!A208","v":206},-0.89879404629916704]
[{"$f":"'Polar 0-360'!A209","v":207},-0.89100652418836779]
[{"$f":"'Polar 0-360'!A210","v":208},-0.88294759285892677]
[{"$f":"'Polar 0-360'!A211","v":209},-0.87461970713939574]
[{"$f":"'Polar 0-360'!A212","v":210},-0.86602540378443871]
[{"$f":"'Polar 0-360'!A213","v":211},-0.85716730070211222]
[{"$f":"'Polar 0-360'!A214","v":212},-0.84804809615642596]
[{"$f":"'Polar 0-360'!A215","v":213},-0.83867056794542416]
[{"$f":"'Polar 0-360'!A216","v":214},-0.82903757255504162]
[{"$f":"'Polar 0-360'!A217","v":215},-0.81915204428899158]
[{"$f":"'Polar 0-360'!A218","v":216},-0.80901699437494734]
[{"$f":"'Polar 0-360'!A219","v":217},-0.79863551004729294]
[{"$f":"'Polar 0-360'!A220","v":218},-0.7880107536067219]
[{"$f":"'Polar 0-360'!A221","v":219},-0.77714596145697068]
[{"$f":"'Polar 0-360'!A222","v":220},-0.7660444431189779]
[{"$f":"'Polar 0-360'!A223","v":221},-0.75470958022277201]
[{"$f":"'Polar 0-360'!A224","v":222},-0.74314482547739402]
[{"$f":"'Polar 0-360'!A225","v":223},-0.73135370161917046]
[{"$f":"'Polar 0-360'!A226","v":224},-0.71933980033865119]
[{"$f":"'Polar 0-360'!A227","v":225},-0.70710678118654746]
[{"$f":"'Polar 0-360'!A228","v":226},-0.69465837045899703]
[{"$f":"'Polar 0-360'!A229","v":227},-0.68199836006249837]
[{"$f":"'Polar 0-360'!A230","v":228},-0.66913060635885824]
[{"$f":"'Polar 0-360'!A231","v":229},-0.6560590289905075]
[{"$f":"'Polar 0-360'!A232","v":230},-0.64278760968653936]
[{"$f":"'Polar 0-360'!A233","v":231},-0.62932039104983728]
[{"$f":"'Polar 0-360'!A234","v":232},-0.61566147532565829]
[{"$f":"'Polar 0-360'!A235","v":233},-0.60181502315204838]
[{"$f":"'Polar 0-360'!A236","v":234},-0.58778525229247303]
[{"$f":"'Polar 0-360'!A237","v":235},-0.57357643635104583]
[{"$f":"'Polar 0-360'!A238","v":236},-0.55919290347074668]
[{"$f":"'Polar 0-360'!A239","v":237},-0.54463903501502708]
[{"$f":"'Polar 0-360'!A240","v":238},-0.52991926423320479]
[{"$f":"'Polar 0-360'!A241","v":239},-0.51503807491005427]
[{"$f":"'Polar 0-360'!A242","v":240},-0.5]
[{"$f":"'Polar 0-360'!A243","v":241},-0.484809620246337]
[{"$f":"'Polar 0-360'!A244","v":242},-0.46947156278589053]
[{"$f":"'Polar 0-360'!A245","v":243},-0.45399049973954669]
[{"$f":"'Polar 0-360'!A246","v":244},-0.43837114678907751]
[{"$f":"'Polar 0-360'!A247","v":245},-0.42261826174069933]
[{"$f":"'Polar 0-360'!A248","v":246},-0.40673664307580004]
[{"$f":"'Polar 0-360'!A249","v":247},-0.3907311284892736]
[{"$f":"'Polar 0-360'!A250","v":248},-0.37460659341591207]
[{"$f":"'Polar 0-360'!A251","v":249},-0.35836794954530027]
[{"$f":"'Polar 0-360'!A252","v":250},-0.34202014332566871]
[{"$f":"'Polar 0-360'!A253","v":251},-0.32556815445715642]
[{"$f":"'Polar 0-360'!A254","v":252},-0.30901699437494734]
[{"$f":"'Polar 0-360'!A255","v":253},-0.29237170472273666]
[{"$f":"'Polar 0-360'!A256","v":254},-0.27563735581699905]
[{"$f":"'Polar 0-360'!A257","v":255},-0.25881904510252085]
[{"$f":"'Polar 0-360'!A258","v":256},-0.24192189559966779]
[{"$f":"'Polar 0-360'!A259","v":257},-0.22495105434386481]
[{"$f":"'Polar 0-360'!A260","v":258},-0.20791169081775912]
[{"$f":"'Polar 0-360'!A261","v":259},-0.1908089953765448]
[{"$f":"'Polar 0-360'!A262","v":260},-0.1736481776669303]
[{"$f":"'Polar 0-360'!A263","v":261},-0.15643446504023104]
[{"$f":"'Polar 0-360'!A264","v":262},-0.13917310096006535]
[{"$f":"'Polar 0-360'!A265","v":263},-0.12186934340514737]
[{"$f":"'Polar 0-360'!A266","v":264},-0.10452846326765333]
[{"$f":"'Polar 0-360'!A267","v":265},-8.7155742747658235E-2]
[{"$f":"'Polar 0-360'!A268","v":266},-6.975647374412533E-2]
[{"$f":"'Polar 0-360'!A269","v":267},-5.233595624294362E-2]
[{"$f":"'Polar 0-360'!A270","v":268},-3.4899496702500733E-2]
[{"$f":"'Polar 0-360'!A271","v":269},-1.7452406437283477E-2]
[{"$f":"'Polar 0-360'!A272","v":270},6.1257422745431001E-17]
[{"$f":"'Polar 0-360'!A273","v":271},1.7452406437283376E-2]
[{"$f":"'Polar 0-360'!A274","v":272},3.489949670250108E-2]
[{"$f":"'Polar 0-360'!A275","v":273},5.2335956242943966E-2]
[{"$f":"'Polar 0-360'!A276","v":274},6.9756473744125455E-2]
[{"$f":"'Polar 0-360'!A277","v":275},8.7155742747658138E-2]
[{"$f":"'Polar 0-360'!A278","v":276},0.10452846326765346]
[{"$f":"'Polar 0-360'!A279","v":277},0.12186934340514749]
[{"$f":"'Polar 0-360'!A280","v":278},0.13917310096006569]
[{"$f":"'Polar 0-360'!A281","v":279},0.15643446504023092]
[{"$f":"'Polar 0-360'!A282","v":280},0.17364817766693041]
[{"$f":"'Polar 0-360'!A283","v":281},0.19080899537654492]
[{"$f":"'Polar 0-360'!A284","v":282},0.20791169081775945]
[{"$f":"'Polar 0-360'!A285","v":283},0.22495105434386492]
[{"$f":"'Polar 0-360'!A286","v":284},0.2419218955996679]
[{"$f":"'Polar 0-360'!A287","v":285},0.25881904510252074]
[{"$f":"'Polar 0-360'!A288","v":286},0.27563735581699916]
[{"$f":"'Polar 0-360'!A289","v":287},0.29237170472273677]
[{"$f":"'Polar 0-360'!A290","v":288},0.30901699437494745]
[{"$f":"'Polar 0-360'!A291","v":289},0.32556815445715676]
[{"$f":"'Polar 0-360'!A292","v":290},0.34202014332566882]
[{"$f":"'Polar 0-360'!A293","v":291},0.35836794954530038]
[{"$f":"'Polar 0-360'!A294","v":292},0.37460659341591196]
[{"$f":"'Polar 0-360'!A295","v":293},0.39073112848927394]
[{"$f":"'Polar 0-360'!A296","v":294},0.40673664307580021]
[{"$f":"'Polar 0-360'!A297","v":295},0.42261826174069944]
[{"$f":"'Polar 0-360'!A298","v":296},0.43837114678907746]
[{"$f":"'Polar 0-360'!A299","v":297},0.4539904997395468]
[{"$f":"'Polar 0-360'!A300","v":298},0.46947156278589086]
[{"$f":"'Polar 0-360'!A301","v":299},0.48480962024633711]
[{"$f":"'Polar 0-360'!A302","v":300},0.5]
[{"$f":"'Polar 0-360'!A303","v":301},0.51503807491005438]
[{"$f":"'Polar 0-360'!A304","v":302},0.5299192642332049]
[{"$f":"'Polar 0-360'!A305","v":303},0.5446390350150272]
[{"$f":"'Polar 0-360'!A306","v":304},0.55919290347074679]
[{"$f":"'Polar 0-360'!A307","v":305},0.57357643635104616]
[{"$f":"'Polar 0-360'!A308","v":306},0.58778525229247314]
[{"$f":"'Polar 0-360'!A309","v":307},0.60181502315204838]
[{"$f":"'Polar 0-360'!A310","v":308},0.61566147532565829]
[{"$f":"'Polar 0-360'!A311","v":309},0.6293203910498375]
[{"$f":"'Polar 0-360'!A312","v":310},0.64278760968653936]
[{"$f":"'Polar 0-360'!A313","v":311},0.65605902899050728]
[{"$f":"'Polar 0-360'!A314","v":312},0.66913060635885824]
[{"$f":"'Polar 0-360'!A315","v":313},0.68199836006249848]
[{"$f":"'Polar 0-360'!A316","v":314},0.69465837045899737]
[{"$f":"'Polar 0-360'!A317","v":315},0.70710678118654757]
[{"$f":"'Polar 0-360'!A318","v":316},0.71933980033865119]
[{"$f":"'Polar 0-360'!A319","v":317},0.73135370161917057]
[{"$f":"'Polar 0-360'!A320","v":318},0.74314482547739424]
[{"$f":"'Polar 0-360'!A321","v":319},0.75470958022277213]
[{"$f":"'Polar 0-360'!A322","v":320},0.76604444311897801]
[{"$f":"'Polar 0-360'!A323","v":321},0.7771459614569709]
[{"$f":"'Polar 0-360'!A324","v":322},0.78801075360672201]
[{"$f":"'Polar 0-360'!A325","v":323},0.79863551004729283]
[{"$f":"'Polar 0-360'!A326","v":324},0.80901699437494745]
[{"$f":"'Polar 0-360'!A327","v":325},0.8191520442889918]
[{"$f":"'Polar 0-360'!A328","v":326},0.82903757255504162]
[{"$f":"'Polar 0-360'!A329","v":327},0.83867056794542405]
[{"$f":"'Polar 0-360'!A330","v":328},0.84804809615642596]
[{"$f":"'Polar 0-360'!A331","v":329},0.85716730070211233]
[{"$f":"'Polar 0-360'!A332","v":330},0.86602540378443871]
[{"$f":"'Polar 0-360'!A333","v":331},0.87461970713939574]
[{"$f":"'Polar 0-360'!A334","v":332},0.88294759285892699]
[{"$f":"'Polar 0-360'!A335","v":333},0.8910065241883679]
[{"$f":"'Polar 0-360'!A336","v":334},0.89879404629916704]
[{"$f":"'Polar 0-360'!A337","v":335},0.90630778703664994]
[{"$f":"'Polar 0-360'!A338","v":336},0.91354545764260087]
[{"$f":"'Polar 0-360'!A339","v":337},0.92050485345244037]
[{"$f":"'Polar 0-360'!A340","v":338},0.92718385456678742]
[{"$f":"'Polar 0-360'!A341","v":339},0.93358042649720174]
[{"$f":"'Polar 0-360'!A342","v":340},0.93969262078590843]
[{"$f":"'Polar 0-360'!A343","v":341},0.94551857559931685]
[{"$f":"'Polar 0-360'!A344","v":342},0.95105651629515353]
[{"$f":"'Polar 0-360'!A345","v":343},0.95630475596303544]
[{"$f":"'Polar 0-360'!A346","v":344},0.96126169593831889]
[{"$f":"'Polar 0-360'!A347","v":345},0.96592582628906831]
[{"$f":"'Polar 0-360'!A348","v":346},0.97029572627599647]
[{"$f":"'Polar 0-360'!A349","v":347},0.97437006478523525]
[{"$f":"'Polar 0-360'!A350","v":348},0.97814760073380569]
[{"$f":"'Polar 0-360'!A351","v":349},0.98162718344766398]
[{"$f":"'Polar 0-360'!A352","v":350},0.98480775301220802]
[{"$f":"'Polar 0-360'!A353","v":351},0.98768834059513777]
[{"$f":"'Polar 0-360'!A354","v":352},0.99026806874157036]
[{"$f":"'Polar 0-360'!A355","v":353},0.99254615164132198]
[{"$f":"'Polar 0-360'!A356","v":354},0.99452189536827329]
[{"$f":"'Polar 0-360'!A357","v":355},0.99619469809174555]
[{"$f":"'Polar 0-360'!A358","v":356},0.9975640502598242]
[{"$f":"'Polar 0-360'!A359","v":357},0.99862953475457383]
[{"$f":"'Polar 0-360'!A360","v":358},0.99939082701909576]
[{"$f":"'Polar 0-360'!A361","v":359},0.99984769515639127]